{"text_format":"1","workbook":"xlsx","n_sheets":4,"sheets":["Model","M-Q-Y","Lists","Аннуитет"],"not_rendered":{"charts":0,"images":0,"macros":1,"external_links":0,"defined_names":0,"comments":0,"pivot_tables":0},"unopened":[],"bounds":{"document_bytes":16777216,"sheet_cells":100000,"rows_first":2000,"rows_last":500,"rows_between":2000,"halvings":0,"cell_chars":16384,"cell_head_chars":4096},"cells_cut":0,"cells_raw":0,"read":"whole","date_system":"1900"}

{"sheet":"Model","index":0,"n_rows":49,"n_cols":204,"rows_kept":49,"cut":false,"hidden":false,"merged":[]}
[null,null,null,null,null,null,null,null,null,null,null,null,null,null,null,null,null,null,null,null,null,null,null,{"$f":"MAX($W1:W1)+1","v":1},{"$f":"MAX($W1:X1)+1","v":2},{"$f":"MAX($W1:Y1)+1","v":3},{"$f":"MAX($W1:Z1)+1","v":4},{"$f":"MAX($W1:AA1)+1","v":5},{"$f":"MAX($W1:AB1)+1","v":6},{"$f":"MAX($W1:AC1)+1","v":7},{"$f":"MAX($W1:AD1)+1","v":8},{"$f":"MAX($W1:AE1)+1","v":9},{"$f":"MAX($W1:AF1)+1","v":10},{"$f":"MAX($W1:AG1)+1","v":11},{"$f":"MAX($W1:AH1)+1","v":12},{"$f":"MAX($W1:AI1)+1","v":13},{"$f":"MAX($W1:AJ1)+1","v":14},{"$f":"MAX($W1:AK1)+1","v":15},{"$f":"MAX($W1:AL1)+1","v":16},{"$f":"MAX($W1:AM1)+1","v":17},{"$f":"MAX($W1:AN1)+1","v":18},{"$f":"MAX($W1:AO1)+1","v":19},{"$f":"MAX($W1:AP1)+1","v":20},{"$f":"MAX($W1:AQ1)+1","v":21},{"$f":"MAX($W1:AR1)+1","v":22},{"$f":"MAX($W1:AS1)+1","v":23},{"$f":"MAX($W1:AT1)+1","v":24},{"$f":"MAX($W1:AU1)+1","v":25},{"$f":"MAX($W1:AV1)+1","v":26},{"$f":"MAX($W1:AW1)+1","v":27},{"$f":"MAX($W1:AX1)+1","v":28},{"$f":"MAX($W1:AY1)+1","v":29},{"$f":"MAX($W1:AZ1)+1","v":30},{"$f":"MAX($W1:BA1)+1","v":31},{"$f":"MAX($W1:BB1)+1","v":32},{"$f":"MAX($W1:BC1)+1","v":33},{"$f":"MAX($W1:BD1)+1","v":34},{"$f":"MAX($W1:BE1)+1","v":35},{"$f":"MAX($W1:BF1)+1","v":36},{"$f":"MAX($W1:BG1)+1","v":37},{"$f":"MAX($W1:BH1)+1","v":38},{"$f":"MAX($W1:BI1)+1","v":39},{"$f":"MAX($W1:BJ1)+1","v":40},{"$f":"MAX($W1:BK1)+1","v":41},{"$f":"MAX($W1:BL1)+1","v":42},{"$f":"MAX($W1:BM1)+1","v":43},{"$f":"MAX($W1:BN1)+1","v":44},{"$f":"MAX($W1:BO1)+1","v":45},{"$f":"MAX($W1:BP1)+1","v":46},{"$f":"MAX($W1:BQ1)+1","v":47},{"$f":"MAX($W1:BR1)+1","v":48},{"$f":"MAX($W1:BS1)+1","v":49},{"$f":"MAX($W1:BT1)+1","v":50},{"$f":"MAX($W1:BU1)+1","v":51},{"$f":"MAX($W1:BV1)+1","v":52},{"$f":"MAX($W1:BW1)+1","v":53},{"$f":"MAX($W1:BX1)+1","v":54},{"$f":"MAX($W1:BY1)+1","v":55},{"$f":"MAX($W1:BZ1)+1","v":56},{"$f":"MAX($W1:CA1)+1","v":57},{"$f":"MAX($W1:CB1)+1","v":58},{"$f":"MAX($W1:CC1)+1","v":59},{"$f":"MAX($W1:CD1)+1","v":60},{"$f":"MAX($W1:CE1)+1","v":61},{"$f":"MAX($W1:CF1)+1","v":62},{"$f":"MAX($W1:CG1)+1","v":63},{"$f":"MAX($W1:CH1)+1","v":64},{"$f":"MAX($W1:CI1)+1","v":65},{"$f":"MAX($W1:CJ1)+1","v":66},{"$f":"MAX($W1:CK1)+1","v":67},{"$f":"MAX($W1:CL1)+1","v":68},{"$f":"MAX($W1:CM1)+1","v":69},{"$f":"MAX($W1:CN1)+1","v":70},{"$f":"MAX($W1:CO1)+1","v":71},{"$f":"MAX($W1:CP1)+1","v":72},{"$f":"MAX($W1:CQ1)+1","v":73},{"$f":"MAX($W1:CR1)+1","v":74},{"$f":"MAX($W1:CS1)+1","v":75},{"$f":"MAX($W1:CT1)+1","v":76},{"$f":"MAX($W1:CU1)+1","v":77},{"$f":"MAX($W1:CV1)+1","v":78},{"$f":"MAX($W1:CW1)+1","v":79},{"$f":"MAX($W1:CX1)+1","v":80},{"$f":"MAX($W1:CY1)+1","v":81},{"$f":"MAX($W1:CZ1)+1","v":82},{"$f":"MAX($W1:DA1)+1","v":83},{"$f":"MAX($W1:DB1)+1","v":84},{"$f":"MAX($W1:DC1)+1","v":85},{"$f":"MAX($W1:DD1)+1","v":86},{"$f":"MAX($W1:DE1)+1","v":87},{"$f":"MAX($W1:DF1)+1","v":88},{"$f":"MAX($W1:DG1)+1","v":89},{"$f":"MAX($W1:DH1)+1","v":90},{"$f":"MAX($W1:DI1)+1","v":91},{"$f":"MAX($W1:DJ1)+1","v":92},{"$f":"MAX($W1:DK1)+1","v":93},{"$f":"MAX($W1:DL1)+1","v":94},{"$f":"MAX($W1:DM1)+1","v":95},{"$f":"MAX($W1:DN1)+1","v":96},{"$f":"MAX($W1:DO1)+1","v":97},{"$f":"MAX($W1:DP1)+1","v":98},{"$f":"MAX($W1:DQ1)+1","v":99},{"$f":"MAX($W1:DR1)+1","v":100},{"$f":"MAX($W1:DS1)+1","v":101},{"$f":"MAX($W1:DT1)+1","v":102},{"$f":"MAX($W1:DU1)+1","v":103},{"$f":"MAX($W1:DV1)+1","v":104},{"$f":"MAX($W1:DW1)+1","v":105},{"$f":"MAX($W1:DX1)+1","v":106},{"$f":"MAX($W1:DY1)+1","v":107},{"$f":"MAX($W1:DZ1)+1","v":108},{"$f":"MAX($W1:EA1)+1","v":109},{"$f":"MAX($W1:EB1)+1","v":110},{"$f":"MAX($W1:EC1)+1","v":111},{"$f":"MAX($W1:ED1)+1","v":112},{"$f":"MAX($W1:EE1)+1","v":113},{"$f":"MAX($W1:EF1)+1","v":114},{"$f":"MAX($W1:EG1)+1","v":115},{"$f":"MAX($W1:EH1)+1","v":116},{"$f":"MAX($W1:EI1)+1","v":117},{"$f":"MAX($W1:EJ1)+1","v":118},{"$f":"MAX($W1:EK1)+1","v":119},{"$f":"MAX($W1:EL1)+1","v":120},{"$f":"MAX($W1:EM1)+1","v":121},{"$f":"MAX($W1:EN1)+1","v":122},{"$f":"MAX($W1:EO1)+1","v":123},{"$f":"MAX($W1:EP1)+1","v":124},{"$f":"MAX($W1:EQ1)+1","v":125},{"$f":"MAX($W1:ER1)+1","v":126},{"$f":"MAX($W1:ES1)+1","v":127},{"$f":"MAX($W1:ET1)+1","v":128},{"$f":"MAX($W1:EU1)+1","v":129},{"$f":"MAX($W1:EV1)+1","v":130},{"$f":"MAX($W1:EW1)+1","v":131},{"$f":"MAX($W1:EX1)+1","v":132},{"$f":"MAX($W1:EY1)+1","v":133},{"$f":"MAX($W1:EZ1)+1","v":134},{"$f":"MAX($W1:FA1)+1","v":135},{"$f":"MAX($W1:FB1)+1","v":136},{"$f":"MAX($W1:FC1)+1","v":137},{"$f":"MAX($W1:FD1)+1","v":138},{"$f":"MAX($W1:FE1)+1","v":139},{"$f":"MAX($W1:FF1)+1","v":140},{"$f":"MAX($W1:FG1)+1","v":141},{"$f":"MAX($W1:FH1)+1","v":142},{"$f":"MAX($W1:FI1)+1","v":143},{"$f":"MAX($W1:FJ1)+1","v":144},{"$f":"MAX($W1:FK1)+1","v":145},{"$f":"MAX($W1:FL1)+1","v":146},{"$f":"MAX($W1:FM1)+1","v":147},{"$f":"MAX($W1:FN1)+1","v":148},{"$f":"MAX($W1:FO1)+1","v":149},{"$f":"MAX($W1:FP1)+1","v":150},{"$f":"MAX($W1:FQ1)+1","v":151},{"$f":"MAX($W1:FR1)+1","v":152},{"$f":"MAX($W1:FS1)+1","v":153},{"$f":"MAX($W1:FT1)+1","v":154},{"$f":"MAX($W1:FU1)+1","v":155},{"$f":"MAX($W1:FV1)+1","v":156},{"$f":"MAX($W1:FW1)+1","v":157},{"$f":"MAX($W1:FX1)+1","v":158},{"$f":"MAX($W1:FY1)+1","v":159},{"$f":"MAX($W1:FZ1)+1","v":160},{"$f":"MAX($W1:GA1)+1","v":161},{"$f":"MAX($W1:GB1)+1","v":162},{"$f":"MAX($W1:GC1)+1","v":163},{"$f":"MAX($W1:GD1)+1","v":164},{"$f":"MAX($W1:GE1)+1","v":165},{"$f":"MAX($W1:GF1)+1","v":166},{"$f":"MAX($W1:GG1)+1","v":167},{"$f":"MAX($W1:GH1)+1","v":168},{"$f":"MAX($W1:GI1)+1","v":169},{"$f":"MAX($W1:GJ1)+1","v":170},{"$f":"MAX($W1:GK1)+1","v":171},{"$f":"MAX($W1:GL1)+1","v":172},{"$f":"MAX($W1:GM1)+1","v":173},{"$f":"MAX($W1:GN1)+1","v":174},{"$f":"MAX($W1:GO1)+1","v":175},{"$f":"MAX($W1:GP1)+1","v":176},{"$f":"MAX($W1:GQ1)+1","v":177},{"$f":"MAX($W1:GR1)+1","v":178},{"$f":"MAX($W1:GS1)+1","v":179},{"$f":"MAX($W1:GT1)+1","v":180},{"$f":"MAX($W1:GU1)+1","v":181}]
[null,null,null,null,null,null,null,null,null,null,null,null,null,null,null,{"$f":"COLUMN()","v":16},null,null,null,null,null,null,null,{"$f":"IF(X$4=\"\",0,COLUMN())","v":24},{"$f":"IF(Y$4=\"\",0,COLUMN())","v":25},26,27,28,29,30,31,32,33,34,35,36,37,38,39,40,41,42,43,44,45,46,47,48,49,50,51,52,53,54,55,56,57,58,59,60,61,62,63,64,65,66,67,68,69,70,71,72,73,74,75,76,77,78,79,80,81,82,83,84,85,86,87,88,{"$f":"IF(CK$4=\"\",0,COLUMN())","v":89},90,91,92,93,94,95,96,97,98,99,100,101,102,103,104,105,106,107,108,109,110,111,112,113,114,115,116,117,118,119,120,121,122,123,124,125,126,127,128,129,130,131,132,133,134,135,136,137,138,139,140,141,142,143,0,0,0,0,0,0,0,0,0,{"$f":"IF(EW$4=\"\",0,COLUMN())","v":0},0,0,0,0,0,0,0,0,0,0,0,0,0,0,0,0,0,0,0,0,0,0,0,0,0,0,0,0,0,0,0,0,0,0,0,0,0,0,0,0,0,0,0,0,0,0,0,0,0,0,0]
[null,null,null,null,null,null,null,null,null,null,null,null,null,null,null,null,null,null,null,null,null,null,null,{"$f":"IF(X$6=\"\",0,((12*(YEAR(X$7)-1)+MONTH(X$7))-(12*(YEAR(X$6)-1)+MONTH(X$6))+1))","v":1},{"$f":"IF(Y$6=\"\",0,((12*(YEAR(Y$7)-1)+MONTH(Y$7))-(12*(YEAR(Y$6)-1)+MONTH(Y$6))+1))","v":1},1,1,1,1,1,1,1,1,1,1,1,1,1,1,1,1,1,1,1,1,1,1,1,1,1,1,1,1,1,1,1,1,1,1,1,1,1,1,1,1,1,1,1,1,1,1,1,1,1,1,1,1,1,1,1,1,1,1,1,1,1,1,1,{"$f":"IF(CK$6=\"\",0,((12*(YEAR(CK$7)-1)+MONTH(CK$7))-(12*(YEAR(CK$6)-1)+MONTH(CK$6))+1))","v":1},1,1,1,1,1,1,1,1,1,1,1,1,1,1,1,1,1,1,1,1,1,1,1,1,1,1,1,1,1,1,1,1,1,1,1,1,1,1,1,1,1,1,1,1,1,1,1,1,1,1,1,1,1,1,0,0,0,0,0,0,0,0,0,{"$f":"IF(EW$6=\"\",0,((12*(YEAR(EW$7)-1)+MONTH(EW$7))-(12*(YEAR(EW$6)-1)+MONTH(EW$6))+1))","v":0},0,0,0,0,0,0,0,0,0,0,0,0,0,0,0,0,0,0,0,0,0,0,0,0,0,0,0,0,0,0,0,0,0,0,0,0,0,0,0,0,0,0,0,0,0,0,0,0,0,0,0]
[null,null,null,null,null,null,null,"показатель",null,null,null,null,"ед.изм.",null,null,"значение",null,null,null,null,"итого",null,null,{"$f":"IF(OR($P$6=\"\",$P$6=0,$P$7=\"\",$P$7=0,$P$8=\"\",$P$7<1),\"\",\nIF(X$8=\"\",\"\",\nIF($P$6=Lists!$I$6,X6,\nIF($P$6=Lists!$I$7,INT(MONTH(X7)/3)&\"кв\"&(YEAR(X7)-2000)&\"г\",\nIF($P$6=Lists!$I$8,X8&\" год\",\nIF($P$6=Lists!$I$9,YEAR(X7)&\"г.\",\"\"))))))","v":"2023-01-01"},{"$f":"IF(OR($P$6=\"\",$P$6=0,$P$7=\"\",$P$7=0,$P$8=\"\",$P$7<1),\"\",\nIF(Y$8=\"\",\"\",\nIF($P$6=Lists!$I$6,Y6,\nIF($P$6=Lists!$I$7,INT(MONTH(Y7)/3)&\"кв\"&(YEAR(Y7)-2000)&\"г\",\nIF($P$6=Lists!$I$8,Y8&\" год\",\nIF($P$6=Lists!$I$9,YEAR(Y7)&\"г.\",\"\"))))))","v":"2023-02-01"},{"$f":"IF(OR($P$6=\"\",$P$6=0,$P$7=\"\",$P$7=0,$P$8=\"\",$P$7<1),\"\",\nIF(Z$8=\"\",\"\",\nIF($P$6=Lists!$I$6,Z6,\nIF($P$6=Lists!$I$7,INT(MONTH(Z7)/3)&\"кв\"&(YEAR(Z7)-2000)&\"г\",\nIF($P$6=Lists!$I$8,Z8&\" год\",\nIF($P$6=Lists!$I$9,YEAR(Z7)&\"г.\",\"\"))))))","v":"2023-03-01"},{"$f":"IF(OR($P$6=\"\",$P$6=0,$P$7=\"\",$P$7=0,$P$8=\"\",$P$7<1),\"\",\nIF(AA$8=\"\",\"\",\nIF($P$6=Lists!$I$6,AA6,\nIF($P$6=Lists!$I$7,INT(MONTH(AA7)/3)&\"кв\"&(YEAR(AA7)-2000)&\"г\",\nIF($P$6=Lists!$I$8,AA8&\" год\",\nIF($P$6=Lists!$I$9,YEAR(AA7)&\"г.\",\"\"))))))","v":"2023-04-01"},{"$f":"IF(OR($P$6=\"\",$P$6=0,$P$7=\"\",$P$7=0,$P$8=\"\",$P$7<1),\"\",\nIF(AB$8=\"\",\"\",\nIF($P$6=Lists!$I$6,AB6,\nIF($P$6=Lists!$I$7,INT(MONTH(AB7)/3)&\"кв\"&(YEAR(AB7)-2000)&\"г\",\nIF($P$6=Lists!$I$8,AB8&\" год\",\nIF($P$6=Lists!$I$9,YEAR(AB7)&\"г.\",\"\"))))))","v":"2023-05-01"},{"$f":"IF(OR($P$6=\"\",$P$6=0,$P$7=\"\",$P$7=0,$P$8=\"\",$P$7<1),\"\",\nIF(AC$8=\"\",\"\",\nIF($P$6=Lists!$I$6,AC6,\nIF($P$6=Lists!$I$7,INT(MONTH(AC7)/3)&\"кв\"&(YEAR(AC7)-2000)&\"г\",\nIF($P$6=Lists!$I$8,AC8&\" год\",\nIF($P$6=Lists!$I$9,YEAR(AC7)&\"г.\",\"\"))))))","v":"2023-06-01"},{"$f":"IF(OR($P$6=\"\",$P$6=0,$P$7=\"\",$P$7=0,$P$8=\"\",$P$7<1),\"\",\nIF(AD$8=\"\",\"\",\nIF($P$6=Lists!$I$6,AD6,\nIF($P$6=Lists!$I$7,INT(MONTH(AD7)/3)&\"кв\"&(YEAR(AD7)-2000)&\"г\",\nIF($P$6=Lists!$I$8,AD8&\" год\",\nIF($P$6=Lists!$I$9,YEAR(AD7)&\"г.\",\"\"))))))","v":"2023-07-01"},{"$f":"IF(OR($P$6=\"\",$P$6=0,$P$7=\"\",$P$7=0,$P$8=\"\",$P$7<1),\"\",\nIF(AE$8=\"\",\"\",\nIF($P$6=Lists!$I$6,AE6,\nIF($P$6=Lists!$I$7,INT(MONTH(AE7)/3)&\"кв\"&(YEAR(AE7)-2000)&\"г\",\nIF($P$6=Lists!$I$8,AE8&\" год\",\nIF($P$6=Lists!$I$9,YEAR(AE7)&\"г.\",\"\"))))))","v":"2023-08-01"},{"$f":"IF(OR($P$6=\"\",$P$6=0,$P$7=\"\",$P$7=0,$P$8=\"\",$P$7<1),\"\",\nIF(AF$8=\"\",\"\",\nIF($P$6=Lists!$I$6,AF6,\nIF($P$6=Lists!$I$7,INT(MONTH(AF7)/3)&\"кв\"&(YEAR(AF7)-2000)&\"г\",\nIF($P$6=Lists!$I$8,AF8&\" год\",\nIF($P$6=Lists!$I$9,YEAR(AF7)&\"г.\",\"\"))))))","v":"2023-09-01"},{"$f":"IF(OR($P$6=\"\",$P$6=0,$P$7=\"\",$P$7=0,$P$8=\"\",$P$7<1),\"\",\nIF(AG$8=\"\",\"\",\nIF($P$6=Lists!$I$6,AG6,\nIF($P$6=Lists!$I$7,INT(MONTH(AG7)/3)&\"кв\"&(YEAR(AG7)-2000)&\"г\",\nIF($P$6=Lists!$I$8,AG8&\" год\",\nIF($P$6=Lists!$I$9,YEAR(AG7)&\"г.\",\"\"))))))","v":"2023-10-01"},{"$f":"IF(OR($P$6=\"\",$P$6=0,$P$7=\"\",$P$7=0,$P$8=\"\",$P$7<1),\"\",\nIF(AH$8=\"\",\"\",\nIF($P$6=Lists!$I$6,AH6,\nIF($P$6=Lists!$I$7,INT(MONTH(AH7)/3)&\"кв\"&(YEAR(AH7)-2000)&\"г\",\nIF($P$6=Lists!$I$8,AH8&\" год\",\nIF($P$6=Lists!$I$9,YEAR(AH7)&\"г.\",\"\"))))))","v":"2023-11-01"},{"$f":"IF(OR($P$6=\"\",$P$6=0,$P$7=\"\",$P$7=0,$P$8=\"\",$P$7<1),\"\",\nIF(AI$8=\"\",\"\",\nIF($P$6=Lists!$I$6,AI6,\nIF($P$6=Lists!$I$7,INT(MONTH(AI7)/3)&\"кв\"&(YEAR(AI7)-2000)&\"г\",\nIF($P$6=Lists!$I$8,AI8&\" год\",\nIF($P$6=Lists!$I$9,YEAR(AI7)&\"г.\",\"\"))))))","v":"2023-12-01"},{"$f":"IF(OR($P$6=\"\",$P$6=0,$P$7=\"\",$P$7=0,$P$8=\"\",$P$7<1),\"\",\nIF(AJ$8=\"\",\"\",\nIF($P$6=Lists!$I$6,AJ6,\nIF($P$6=Lists!$I$7,INT(MONTH(AJ7)/3)&\"кв\"&(YEAR(AJ7)-2000)&\"г\",\nIF($P$6=Lists!$I$8,AJ8&\" год\",\nIF($P$6=Lists!$I$9,YEAR(AJ7)&\"г.\",\"\"))))))","v":"2024-01-01"},{"$f":"IF(OR($P$6=\"\",$P$6=0,$P$7=\"\",$P$7=0,$P$8=\"\",$P$7<1),\"\",\nIF(AK$8=\"\",\"\",\nIF($P$6=Lists!$I$6,AK6,\nIF($P$6=Lists!$I$7,INT(MONTH(AK7)/3)&\"кв\"&(YEAR(AK7)-2000)&\"г\",\nIF($P$6=Lists!$I$8,AK8&\" год\",\nIF($P$6=Lists!$I$9,YEAR(AK7)&\"г.\",\"\"))))))","v":"2024-02-01"},{"$f":"IF(OR($P$6=\"\",$P$6=0,$P$7=\"\",$P$7=0,$P$8=\"\",$P$7<1),\"\",\nIF(AL$8=\"\",\"\",\nIF($P$6=Lists!$I$6,AL6,\nIF($P$6=Lists!$I$7,INT(MONTH(AL7)/3)&\"кв\"&(YEAR(AL7)-2000)&\"г\",\nIF($P$6=Lists!$I$8,AL8&\" год\",\nIF($P$6=Lists!$I$9,YEAR(AL7)&\"г.\",\"\"))))))","v":"2024-03-01"},{"$f":"IF(OR($P$6=\"\",$P$6=0,$P$7=\"\",$P$7=0,$P$8=\"\",$P$7<1),\"\",\nIF(AM$8=\"\",\"\",\nIF($P$6=Lists!$I$6,AM6,\nIF($P$6=Lists!$I$7,INT(MONTH(AM7)/3)&\"кв\"&(YEAR(AM7)-2000)&\"г\",\nIF($P$6=Lists!$I$8,AM8&\" год\",\nIF($P$6=Lists!$I$9,YEAR(AM7)&\"г.\",\"\"))))))","v":"2024-04-01"},{"$f":"IF(OR($P$6=\"\",$P$6=0,$P$7=\"\",$P$7=0,$P$8=\"\",$P$7<1),\"\",\nIF(AN$8=\"\",\"\",\nIF($P$6=Lists!$I$6,AN6,\nIF($P$6=Lists!$I$7,INT(MONTH(AN7)/3)&\"кв\"&(YEAR(AN7)-2000)&\"г\",\nIF($P$6=Lists!$I$8,AN8&\" год\",\nIF($P$6=Lists!$I$9,YEAR(AN7)&\"г.\",\"\"))))))","v":"2024-05-01"},{"$f":"IF(OR($P$6=\"\",$P$6=0,$P$7=\"\",$P$7=0,$P$8=\"\",$P$7<1),\"\",\nIF(AO$8=\"\",\"\",\nIF($P$6=Lists!$I$6,AO6,\nIF($P$6=Lists!$I$7,INT(MONTH(AO7)/3)&\"кв\"&(YEAR(AO7)-2000)&\"г\",\nIF($P$6=Lists!$I$8,AO8&\" год\",\nIF($P$6=Lists!$I$9,YEAR(AO7)&\"г.\",\"\"))))))","v":"2024-06-01"},{"$f":"IF(OR($P$6=\"\",$P$6=0,$P$7=\"\",$P$7=0,$P$8=\"\",$P$7<1),\"\",\nIF(AP$8=\"\",\"\",\nIF($P$6=Lists!$I$6,AP6,\nIF($P$6=Lists!$I$7,INT(MONTH(AP7)/3)&\"кв\"&(YEAR(AP7)-2000)&\"г\",\nIF($P$6=Lists!$I$8,AP8&\" год\",\nIF($P$6=Lists!$I$9,YEAR(AP7)&\"г.\",\"\"))))))","v":"2024-07-01"},{"$f":"IF(OR($P$6=\"\",$P$6=0,$P$7=\"\",$P$7=0,$P$8=\"\",$P$7<1),\"\",\nIF(AQ$8=\"\",\"\",\nIF($P$6=Lists!$I$6,AQ6,\nIF($P$6=Lists!$I$7,INT(MONTH(AQ7)/3)&\"кв\"&(YEAR(AQ7)-2000)&\"г\",\nIF($P$6=Lists!$I$8,AQ8&\" год\",\nIF($P$6=Lists!$I$9,YEAR(AQ7)&\"г.\",\"\"))))))","v":"2024-08-01"},{"$f":"IF(OR($P$6=\"\",$P$6=0,$P$7=\"\",$P$7=0,$P$8=\"\",$P$7<1),\"\",\nIF(AR$8=\"\",\"\",\nIF($P$6=Lists!$I$6,AR6,\nIF($P$6=Lists!$I$7,INT(MONTH(AR7)/3)&\"кв\"&(YEAR(AR7)-2000)&\"г\",\nIF($P$6=Lists!$I$8,AR8&\" год\",\nIF($P$6=Lists!$I$9,YEAR(AR7)&\"г.\",\"\"))))))","v":"2024-09-01"},{"$f":"IF(OR($P$6=\"\",$P$6=0,$P$7=\"\",$P$7=0,$P$8=\"\",$P$7<1),\"\",\nIF(AS$8=\"\",\"\",\nIF($P$6=Lists!$I$6,AS6,\nIF($P$6=Lists!$I$7,INT(MONTH(AS7)/3)&\"кв\"&(YEAR(AS7)-2000)&\"г\",\nIF($P$6=Lists!$I$8,AS8&\" год\",\nIF($P$6=Lists!$I$9,YEAR(AS7)&\"г.\",\"\"))))))","v":"2024-10-01"},{"$f":"IF(OR($P$6=\"\",$P$6=0,$P$7=\"\",$P$7=0,$P$8=\"\",$P$7<1),\"\",\nIF(AT$8=\"\",\"\",\nIF($P$6=Lists!$I$6,AT6,\nIF($P$6=Lists!$I$7,INT(MONTH(AT7)/3)&\"кв\"&(YEAR(AT7)-2000)&\"г\",\nIF($P$6=Lists!$I$8,AT8&\" год\",\nIF($P$6=Lists!$I$9,YEAR(AT7)&\"г.\",\"\"))))))","v":"2024-11-01"},{"$f":"IF(OR($P$6=\"\",$P$6=0,$P$7=\"\",$P$7=0,$P$8=\"\",$P$7<1),\"\",\nIF(AU$8=\"\",\"\",\nIF($P$6=Lists!$I$6,AU6,\nIF($P$6=Lists!$I$7,INT(MONTH(AU7)/3)&\"кв\"&(YEAR(AU7)-2000)&\"г\",\nIF($P$6=Lists!$I$8,AU8&\" год\",\nIF($P$6=Lists!$I$9,YEAR(AU7)&\"г.\",\"\"))))))","v":"2024-12-01"},{"$f":"IF(OR($P$6=\"\",$P$6=0,$P$7=\"\",$P$7=0,$P$8=\"\",$P$7<1),\"\",\nIF(AV$8=\"\",\"\",\nIF($P$6=Lists!$I$6,AV6,\nIF($P$6=Lists!$I$7,INT(MONTH(AV7)/3)&\"кв\"&(YEAR(AV7)-2000)&\"г\",\nIF($P$6=Lists!$I$8,AV8&\" год\",\nIF($P$6=Lists!$I$9,YEAR(AV7)&\"г.\",\"\"))))))","v":"2025-01-01"},{"$f":"IF(OR($P$6=\"\",$P$6=0,$P$7=\"\",$P$7=0,$P$8=\"\",$P$7<1),\"\",\nIF(AW$8=\"\",\"\",\nIF($P$6=Lists!$I$6,AW6,\nIF($P$6=Lists!$I$7,INT(MONTH(AW7)/3)&\"кв\"&(YEAR(AW7)-2000)&\"г\",\nIF($P$6=Lists!$I$8,AW8&\" год\",\nIF($P$6=Lists!$I$9,YEAR(AW7)&\"г.\",\"\"))))))","v":"2025-02-01"},{"$f":"IF(OR($P$6=\"\",$P$6=0,$P$7=\"\",$P$7=0,$P$8=\"\",$P$7<1),\"\",\nIF(AX$8=\"\",\"\",\nIF($P$6=Lists!$I$6,AX6,\nIF($P$6=Lists!$I$7,INT(MONTH(AX7)/3)&\"кв\"&(YEAR(AX7)-2000)&\"г\",\nIF($P$6=Lists!$I$8,AX8&\" год\",\nIF($P$6=Lists!$I$9,YEAR(AX7)&\"г.\",\"\"))))))","v":"2025-03-01"},{"$f":"IF(OR($P$6=\"\",$P$6=0,$P$7=\"\",$P$7=0,$P$8=\"\",$P$7<1),\"\",\nIF(AY$8=\"\",\"\",\nIF($P$6=Lists!$I$6,AY6,\nIF($P$6=Lists!$I$7,INT(MONTH(AY7)/3)&\"кв\"&(YEAR(AY7)-2000)&\"г\",\nIF($P$6=Lists!$I$8,AY8&\" год\",\nIF($P$6=Lists!$I$9,YEAR(AY7)&\"г.\",\"\"))))))","v":"2025-04-01"},{"$f":"IF(OR($P$6=\"\",$P$6=0,$P$7=\"\",$P$7=0,$P$8=\"\",$P$7<1),\"\",\nIF(AZ$8=\"\",\"\",\nIF($P$6=Lists!$I$6,AZ6,\nIF($P$6=Lists!$I$7,INT(MONTH(AZ7)/3)&\"кв\"&(YEAR(AZ7)-2000)&\"г\",\nIF($P$6=Lists!$I$8,AZ8&\" год\",\nIF($P$6=Lists!$I$9,YEAR(AZ7)&\"г.\",\"\"))))))","v":"2025-05-01"},{"$f":"IF(OR($P$6=\"\",$P$6=0,$P$7=\"\",$P$7=0,$P$8=\"\",$P$7<1),\"\",\nIF(BA$8=\"\",\"\",\nIF($P$6=Lists!$I$6,BA6,\nIF($P$6=Lists!$I$7,INT(MONTH(BA7)/3)&\"кв\"&(YEAR(BA7)-2000)&\"г\",\nIF($P$6=Lists!$I$8,BA8&\" год\",\nIF($P$6=Lists!$I$9,YEAR(BA7)&\"г.\",\"\"))))))","v":"2025-06-01"},{"$f":"IF(OR($P$6=\"\",$P$6=0,$P$7=\"\",$P$7=0,$P$8=\"\",$P$7<1),\"\",\nIF(BB$8=\"\",\"\",\nIF($P$6=Lists!$I$6,BB6,\nIF($P$6=Lists!$I$7,INT(MONTH(BB7)/3)&\"кв\"&(YEAR(BB7)-2000)&\"г\",\nIF($P$6=Lists!$I$8,BB8&\" год\",\nIF($P$6=Lists!$I$9,YEAR(BB7)&\"г.\",\"\"))))))","v":"2025-07-01"},{"$f":"IF(OR($P$6=\"\",$P$6=0,$P$7=\"\",$P$7=0,$P$8=\"\",$P$7<1),\"\",\nIF(BC$8=\"\",\"\",\nIF($P$6=Lists!$I$6,BC6,\nIF($P$6=Lists!$I$7,INT(MONTH(BC7)/3)&\"кв\"&(YEAR(BC7)-2000)&\"г\",\nIF($P$6=Lists!$I$8,BC8&\" год\",\nIF($P$6=Lists!$I$9,YEAR(BC7)&\"г.\",\"\"))))))","v":"2025-08-01"},{"$f":"IF(OR($P$6=\"\",$P$6=0,$P$7=\"\",$P$7=0,$P$8=\"\",$P$7<1),\"\",\nIF(BD$8=\"\",\"\",\nIF($P$6=Lists!$I$6,BD6,\nIF($P$6=Lists!$I$7,INT(MONTH(BD7)/3)&\"кв\"&(YEAR(BD7)-2000)&\"г\",\nIF($P$6=Lists!$I$8,BD8&\" год\",\nIF($P$6=Lists!$I$9,YEAR(BD7)&\"г.\",\"\"))))))","v":"2025-09-01"},{"$f":"IF(OR($P$6=\"\",$P$6=0,$P$7=\"\",$P$7=0,$P$8=\"\",$P$7<1),\"\",\nIF(BE$8=\"\",\"\",\nIF($P$6=Lists!$I$6,BE6,\nIF($P$6=Lists!$I$7,INT(MONTH(BE7)/3)&\"кв\"&(YEAR(BE7)-2000)&\"г\",\nIF($P$6=Lists!$I$8,BE8&\" год\",\nIF($P$6=Lists!$I$9,YEAR(BE7)&\"г.\",\"\"))))))","v":"2025-10-01"},{"$f":"IF(OR($P$6=\"\",$P$6=0,$P$7=\"\",$P$7=0,$P$8=\"\",$P$7<1),\"\",\nIF(BF$8=\"\",\"\",\nIF($P$6=Lists!$I$6,BF6,\nIF($P$6=Lists!$I$7,INT(MONTH(BF7)/3)&\"кв\"&(YEAR(BF7)-2000)&\"г\",\nIF($P$6=Lists!$I$8,BF8&\" год\",\nIF($P$6=Lists!$I$9,YEAR(BF7)&\"г.\",\"\"))))))","v":"2025-11-01"},{"$f":"IF(OR($P$6=\"\",$P$6=0,$P$7=\"\",$P$7=0,$P$8=\"\",$P$7<1),\"\",\nIF(BG$8=\"\",\"\",\nIF($P$6=Lists!$I$6,BG6,\nIF($P$6=Lists!$I$7,INT(MONTH(BG7)/3)&\"кв\"&(YEAR(BG7)-2000)&\"г\",\nIF($P$6=Lists!$I$8,BG8&\" год\",\nIF($P$6=Lists!$I$9,YEAR(BG7)&\"г.\",\"\"))))))","v":"2025-12-01"},{"$f":"IF(OR($P$6=\"\",$P$6=0,$P$7=\"\",$P$7=0,$P$8=\"\",$P$7<1),\"\",\nIF(BH$8=\"\",\"\",\nIF($P$6=Lists!$I$6,BH6,\nIF($P$6=Lists!$I$7,INT(MONTH(BH7)/3)&\"кв\"&(YEAR(BH7)-2000)&\"г\",\nIF($P$6=Lists!$I$8,BH8&\" год\",\nIF($P$6=Lists!$I$9,YEAR(BH7)&\"г.\",\"\"))))))","v":"2026-01-01"},{"$f":"IF(OR($P$6=\"\",$P$6=0,$P$7=\"\",$P$7=0,$P$8=\"\",$P$7<1),\"\",\nIF(BI$8=\"\",\"\",\nIF($P$6=Lists!$I$6,BI6,\nIF($P$6=Lists!$I$7,INT(MONTH(BI7)/3)&\"кв\"&(YEAR(BI7)-2000)&\"г\",\nIF($P$6=Lists!$I$8,BI8&\" год\",\nIF($P$6=Lists!$I$9,YEAR(BI7)&\"г.\",\"\"))))))","v":"2026-02-01"},{"$f":"IF(OR($P$6=\"\",$P$6=0,$P$7=\"\",$P$7=0,$P$8=\"\",$P$7<1),\"\",\nIF(BJ$8=\"\",\"\",\nIF($P$6=Lists!$I$6,BJ6,\nIF($P$6=Lists!$I$7,INT(MONTH(BJ7)/3)&\"кв\"&(YEAR(BJ7)-2000)&\"г\",\nIF($P$6=Lists!$I$8,BJ8&\" год\",\nIF($P$6=Lists!$I$9,YEAR(BJ7)&\"г.\",\"\"))))))","v":"2026-03-01"},{"$f":"IF(OR($P$6=\"\",$P$6=0,$P$7=\"\",$P$7=0,$P$8=\"\",$P$7<1),\"\",\nIF(BK$8=\"\",\"\",\nIF($P$6=Lists!$I$6,BK6,\nIF($P$6=Lists!$I$7,INT(MONTH(BK7)/3)&\"кв\"&(YEAR(BK7)-2000)&\"г\",\nIF($P$6=Lists!$I$8,BK8&\" год\",\nIF($P$6=Lists!$I$9,YEAR(BK7)&\"г.\",\"\"))))))","v":"2026-04-01"},{"$f":"IF(OR($P$6=\"\",$P$6=0,$P$7=\"\",$P$7=0,$P$8=\"\",$P$7<1),\"\",\nIF(BL$8=\"\",\"\",\nIF($P$6=Lists!$I$6,BL6,\nIF($P$6=Lists!$I$7,INT(MONTH(BL7)/3)&\"кв\"&(YEAR(BL7)-2000)&\"г\",\nIF($P$6=Lists!$I$8,BL8&\" год\",\nIF($P$6=Lists!$I$9,YEAR(BL7)&\"г.\",\"\"))))))","v":"2026-05-01"},{"$f":"IF(OR($P$6=\"\",$P$6=0,$P$7=\"\",$P$7=0,$P$8=\"\",$P$7<1),\"\",\nIF(BM$8=\"\",\"\",\nIF($P$6=Lists!$I$6,BM6,\nIF($P$6=Lists!$I$7,INT(MONTH(BM7)/3)&\"кв\"&(YEAR(BM7)-2000)&\"г\",\nIF($P$6=Lists!$I$8,BM8&\" год\",\nIF($P$6=Lists!$I$9,YEAR(BM7)&\"г.\",\"\"))))))","v":"2026-06-01"},{"$f":"IF(OR($P$6=\"\",$P$6=0,$P$7=\"\",$P$7=0,$P$8=\"\",$P$7<1),\"\",\nIF(BN$8=\"\",\"\",\nIF($P$6=Lists!$I$6,BN6,\nIF($P$6=Lists!$I$7,INT(MONTH(BN7)/3)&\"кв\"&(YEAR(BN7)-2000)&\"г\",\nIF($P$6=Lists!$I$8,BN8&\" год\",\nIF($P$6=Lists!$I$9,YEAR(BN7)&\"г.\",\"\"))))))","v":"2026-07-01"},{"$f":"IF(OR($P$6=\"\",$P$6=0,$P$7=\"\",$P$7=0,$P$8=\"\",$P$7<1),\"\",\nIF(BO$8=\"\",\"\",\nIF($P$6=Lists!$I$6,BO6,\nIF($P$6=Lists!$I$7,INT(MONTH(BO7)/3)&\"кв\"&(YEAR(BO7)-2000)&\"г\",\nIF($P$6=Lists!$I$8,BO8&\" год\",\nIF($P$6=Lists!$I$9,YEAR(BO7)&\"г.\",\"\"))))))","v":"2026-08-01"},{"$f":"IF(OR($P$6=\"\",$P$6=0,$P$7=\"\",$P$7=0,$P$8=\"\",$P$7<1),\"\",\nIF(BP$8=\"\",\"\",\nIF($P$6=Lists!$I$6,BP6,\nIF($P$6=Lists!$I$7,INT(MONTH(BP7)/3)&\"кв\"&(YEAR(BP7)-2000)&\"г\",\nIF($P$6=Lists!$I$8,BP8&\" год\",\nIF($P$6=Lists!$I$9,YEAR(BP7)&\"г.\",\"\"))))))","v":"2026-09-01"},{"$f":"IF(OR($P$6=\"\",$P$6=0,$P$7=\"\",$P$7=0,$P$8=\"\",$P$7<1),\"\",\nIF(BQ$8=\"\",\"\",\nIF($P$6=Lists!$I$6,BQ6,\nIF($P$6=Lists!$I$7,INT(MONTH(BQ7)/3)&\"кв\"&(YEAR(BQ7)-2000)&\"г\",\nIF($P$6=Lists!$I$8,BQ8&\" год\",\nIF($P$6=Lists!$I$9,YEAR(BQ7)&\"г.\",\"\"))))))","v":"2026-10-01"},{"$f":"IF(OR($P$6=\"\",$P$6=0,$P$7=\"\",$P$7=0,$P$8=\"\",$P$7<1),\"\",\nIF(BR$8=\"\",\"\",\nIF($P$6=Lists!$I$6,BR6,\nIF($P$6=Lists!$I$7,INT(MONTH(BR7)/3)&\"кв\"&(YEAR(BR7)-2000)&\"г\",\nIF($P$6=Lists!$I$8,BR8&\" год\",\nIF($P$6=Lists!$I$9,YEAR(BR7)&\"г.\",\"\"))))))","v":"2026-11-01"},{"$f":"IF(OR($P$6=\"\",$P$6=0,$P$7=\"\",$P$7=0,$P$8=\"\",$P$7<1),\"\",\nIF(BS$8=\"\",\"\",\nIF($P$6=Lists!$I$6,BS6,\nIF($P$6=Lists!$I$7,INT(MONTH(BS7)/3)&\"кв\"&(YEAR(BS7)-2000)&\"г\",\nIF($P$6=Lists!$I$8,BS8&\" год\",\nIF($P$6=Lists!$I$9,YEAR(BS7)&\"г.\",\"\"))))))","v":"2026-12-01"},{"$f":"IF(OR($P$6=\"\",$P$6=0,$P$7=\"\",$P$7=0,$P$8=\"\",$P$7<1),\"\",\nIF(BT$8=\"\",\"\",\nIF($P$6=Lists!$I$6,BT6,\nIF($P$6=Lists!$I$7,INT(MONTH(BT7)/3)&\"кв\"&(YEAR(BT7)-2000)&\"г\",\nIF($P$6=Lists!$I$8,BT8&\" год\",\nIF($P$6=Lists!$I$9,YEAR(BT7)&\"г.\",\"\"))))))","v":"2027-01-01"},{"$f":"IF(OR($P$6=\"\",$P$6=0,$P$7=\"\",$P$7=0,$P$8=\"\",$P$7<1),\"\",\nIF(BU$8=\"\",\"\",\nIF($P$6=Lists!$I$6,BU6,\nIF($P$6=Lists!$I$7,INT(MONTH(BU7)/3)&\"кв\"&(YEAR(BU7)-2000)&\"г\",\nIF($P$6=Lists!$I$8,BU8&\" год\",\nIF($P$6=Lists!$I$9,YEAR(BU7)&\"г.\",\"\"))))))","v":"2027-02-01"},{"$f":"IF(OR($P$6=\"\",$P$6=0,$P$7=\"\",$P$7=0,$P$8=\"\",$P$7<1),\"\",\nIF(BV$8=\"\",\"\",\nIF($P$6=Lists!$I$6,BV6,\nIF($P$6=Lists!$I$7,INT(MONTH(BV7)/3)&\"кв\"&(YEAR(BV7)-2000)&\"г\",\nIF($P$6=Lists!$I$8,BV8&\" год\",\nIF($P$6=Lists!$I$9,YEAR(BV7)&\"г.\",\"\"))))))","v":"2027-03-01"},{"$f":"IF(OR($P$6=\"\",$P$6=0,$P$7=\"\",$P$7=0,$P$8=\"\",$P$7<1),\"\",\nIF(BW$8=\"\",\"\",\nIF($P$6=Lists!$I$6,BW6,\nIF($P$6=Lists!$I$7,INT(MONTH(BW7)/3)&\"кв\"&(YEAR(BW7)-2000)&\"г\",\nIF($P$6=Lists!$I$8,BW8&\" год\",\nIF($P$6=Lists!$I$9,YEAR(BW7)&\"г.\",\"\"))))))","v":"2027-04-01"},{"$f":"IF(OR($P$6=\"\",$P$6=0,$P$7=\"\",$P$7=0,$P$8=\"\",$P$7<1),\"\",\nIF(BX$8=\"\",\"\",\nIF($P$6=Lists!$I$6,BX6,\nIF($P$6=Lists!$I$7,INT(MONTH(BX7)/3)&\"кв\"&(YEAR(BX7)-2000)&\"г\",\nIF($P$6=Lists!$I$8,BX8&\" год\",\nIF($P$6=Lists!$I$9,YEAR(BX7)&\"г.\",\"\"))))))","v":"2027-05-01"},{"$f":"IF(OR($P$6=\"\",$P$6=0,$P$7=\"\",$P$7=0,$P$8=\"\",$P$7<1),\"\",\nIF(BY$8=\"\",\"\",\nIF($P$6=Lists!$I$6,BY6,\nIF($P$6=Lists!$I$7,INT(MONTH(BY7)/3)&\"кв\"&(YEAR(BY7)-2000)&\"г\",\nIF($P$6=Lists!$I$8,BY8&\" год\",\nIF($P$6=Lists!$I$9,YEAR(BY7)&\"г.\",\"\"))))))","v":"2027-06-01"},{"$f":"IF(OR($P$6=\"\",$P$6=0,$P$7=\"\",$P$7=0,$P$8=\"\",$P$7<1),\"\",\nIF(BZ$8=\"\",\"\",\nIF($P$6=Lists!$I$6,BZ6,\nIF($P$6=Lists!$I$7,INT(MONTH(BZ7)/3)&\"кв\"&(YEAR(BZ7)-2000)&\"г\",\nIF($P$6=Lists!$I$8,BZ8&\" год\",\nIF($P$6=Lists!$I$9,YEAR(BZ7)&\"г.\",\"\"))))))","v":"2027-07-01"},{"$f":"IF(OR($P$6=\"\",$P$6=0,$P$7=\"\",$P$7=0,$P$8=\"\",$P$7<1),\"\",\nIF(CA$8=\"\",\"\",\nIF($P$6=Lists!$I$6,CA6,\nIF($P$6=Lists!$I$7,INT(MONTH(CA7)/3)&\"кв\"&(YEAR(CA7)-2000)&\"г\",\nIF($P$6=Lists!$I$8,CA8&\" год\",\nIF($P$6=Lists!$I$9,YEAR(CA7)&\"г.\",\"\"))))))","v":"2027-08-01"},{"$f":"IF(OR($P$6=\"\",$P$6=0,$P$7=\"\",$P$7=0,$P$8=\"\",$P$7<1),\"\",\nIF(CB$8=\"\",\"\",\nIF($P$6=Lists!$I$6,CB6,\nIF($P$6=Lists!$I$7,INT(MONTH(CB7)/3)&\"кв\"&(YEAR(CB7)-2000)&\"г\",\nIF($P$6=Lists!$I$8,CB8&\" год\",\nIF($P$6=Lists!$I$9,YEAR(CB7)&\"г.\",\"\"))))))","v":"2027-09-01"},{"$f":"IF(OR($P$6=\"\",$P$6=0,$P$7=\"\",$P$7=0,$P$8=\"\",$P$7<1),\"\",\nIF(CC$8=\"\",\"\",\nIF($P$6=Lists!$I$6,CC6,\nIF($P$6=Lists!$I$7,INT(MONTH(CC7)/3)&\"кв\"&(YEAR(CC7)-2000)&\"г\",\nIF($P$6=Lists!$I$8,CC8&\" год\",\nIF($P$6=Lists!$I$9,YEAR(CC7)&\"г.\",\"\"))))))","v":"2027-10-01"},{"$f":"IF(OR($P$6=\"\",$P$6=0,$P$7=\"\",$P$7=0,$P$8=\"\",$P$7<1),\"\",\nIF(CD$8=\"\",\"\",\nIF($P$6=Lists!$I$6,CD6,\nIF($P$6=Lists!$I$7,INT(MONTH(CD7)/3)&\"кв\"&(YEAR(CD7)-2000)&\"г\",\nIF($P$6=Lists!$I$8,CD8&\" год\",\nIF($P$6=Lists!$I$9,YEAR(CD7)&\"г.\",\"\"))))))","v":"2027-11-01"},{"$f":"IF(OR($P$6=\"\",$P$6=0,$P$7=\"\",$P$7=0,$P$8=\"\",$P$7<1),\"\",\nIF(CE$8=\"\",\"\",\nIF($P$6=Lists!$I$6,CE6,\nIF($P$6=Lists!$I$7,INT(MONTH(CE7)/3)&\"кв\"&(YEAR(CE7)-2000)&\"г\",\nIF($P$6=Lists!$I$8,CE8&\" год\",\nIF($P$6=Lists!$I$9,YEAR(CE7)&\"г.\",\"\"))))))","v":"2027-12-01"},{"$f":"IF(OR($P$6=\"\",$P$6=0,$P$7=\"\",$P$7=0,$P$8=\"\",$P$7<1),\"\",\nIF(CF$8=\"\",\"\",\nIF($P$6=Lists!$I$6,CF6,\nIF($P$6=Lists!$I$7,INT(MONTH(CF7)/3)&\"кв\"&(YEAR(CF7)-2000)&\"г\",\nIF($P$6=Lists!$I$8,CF8&\" год\",\nIF($P$6=Lists!$I$9,YEAR(CF7)&\"г.\",\"\"))))))","v":"2028-01-01"},{"$f":"IF(OR($P$6=\"\",$P$6=0,$P$7=\"\",$P$7=0,$P$8=\"\",$P$7<1),\"\",\nIF(CG$8=\"\",\"\",\nIF($P$6=Lists!$I$6,CG6,\nIF($P$6=Lists!$I$7,INT(MONTH(CG7)/3)&\"кв\"&(YEAR(CG7)-2000)&\"г\",\nIF($P$6=Lists!$I$8,CG8&\" год\",\nIF($P$6=Lists!$I$9,YEAR(CG7)&\"г.\",\"\"))))))","v":"2028-02-01"},{"$f":"IF(OR($P$6=\"\",$P$6=0,$P$7=\"\",$P$7=0,$P$8=\"\",$P$7<1),\"\",\nIF(CH$8=\"\",\"\",\nIF($P$6=Lists!$I$6,CH6,\nIF($P$6=Lists!$I$7,INT(MONTH(CH7)/3)&\"кв\"&(YEAR(CH7)-2000)&\"г\",\nIF($P$6=Lists!$I$8,CH8&\" год\",\nIF($P$6=Lists!$I$9,YEAR(CH7)&\"г.\",\"\"))))))","v":"2028-03-01"},{"$f":"IF(OR($P$6=\"\",$P$6=0,$P$7=\"\",$P$7=0,$P$8=\"\",$P$7<1),\"\",\nIF(CI$8=\"\",\"\",\nIF($P$6=Lists!$I$6,CI6,\nIF($P$6=Lists!$I$7,INT(MONTH(CI7)/3)&\"кв\"&(YEAR(CI7)-2000)&\"г\",\nIF($P$6=Lists!$I$8,CI8&\" год\",\nIF($P$6=Lists!$I$9,YEAR(CI7)&\"г.\",\"\"))))))","v":"2028-04-01"},{"$f":"IF(OR($P$6=\"\",$P$6=0,$P$7=\"\",$P$7=0,$P$8=\"\",$P$7<1),\"\",\nIF(CJ$8=\"\",\"\",\nIF($P$6=Lists!$I$6,CJ6,\nIF($P$6=Lists!$I$7,INT(MONTH(CJ7)/3)&\"кв\"&(YEAR(CJ7)-2000)&\"г\",\nIF($P$6=Lists!$I$8,CJ8&\" год\",\nIF($P$6=Lists!$I$9,YEAR(CJ7)&\"г.\",\"\"))))))","v":"2028-05-01"},{"$f":"IF(OR($P$6=\"\",$P$6=0,$P$7=\"\",$P$7=0,$P$8=\"\",$P$7<1),\"\",\nIF(CK$8=\"\",\"\",\nIF($P$6=Lists!$I$6,CK6,\nIF($P$6=Lists!$I$7,INT(MONTH(CK7)/3)&\"кв\"&(YEAR(CK7)-2000)&\"г\",\nIF($P$6=Lists!$I$8,CK8&\" год\",\nIF($P$6=Lists!$I$9,YEAR(CK7)&\"г.\",\"\"))))))","v":"2028-06-01"},{"$f":"IF(OR($P$6=\"\",$P$6=0,$P$7=\"\",$P$7=0,$P$8=\"\",$P$7<1),\"\",\nIF(CL$8=\"\",\"\",\nIF($P$6=Lists!$I$6,CL6,\nIF($P$6=Lists!$I$7,INT(MONTH(CL7)/3)&\"кв\"&(YEAR(CL7)-2000)&\"г\",\nIF($P$6=Lists!$I$8,CL8&\" год\",\nIF($P$6=Lists!$I$9,YEAR(CL7)&\"г.\",\"\"))))))","v":"2028-07-01"},{"$f":"IF(OR($P$6=\"\",$P$6=0,$P$7=\"\",$P$7=0,$P$8=\"\",$P$7<1),\"\",\nIF(CM$8=\"\",\"\",\nIF($P$6=Lists!$I$6,CM6,\nIF($P$6=Lists!$I$7,INT(MONTH(CM7)/3)&\"кв\"&(YEAR(CM7)-2000)&\"г\",\nIF($P$6=Lists!$I$8,CM8&\" год\",\nIF($P$6=Lists!$I$9,YEAR(CM7)&\"г.\",\"\"))))))","v":"2028-08-01"},{"$f":"IF(OR($P$6=\"\",$P$6=0,$P$7=\"\",$P$7=0,$P$8=\"\",$P$7<1),\"\",\nIF(CN$8=\"\",\"\",\nIF($P$6=Lists!$I$6,CN6,\nIF($P$6=Lists!$I$7,INT(MONTH(CN7)/3)&\"кв\"&(YEAR(CN7)-2000)&\"г\",\nIF($P$6=Lists!$I$8,CN8&\" год\",\nIF($P$6=Lists!$I$9,YEAR(CN7)&\"г.\",\"\"))))))","v":"2028-09-01"},{"$f":"IF(OR($P$6=\"\",$P$6=0,$P$7=\"\",$P$7=0,$P$8=\"\",$P$7<1),\"\",\nIF(CO$8=\"\",\"\",\nIF($P$6=Lists!$I$6,CO6,\nIF($P$6=Lists!$I$7,INT(MONTH(CO7)/3)&\"кв\"&(YEAR(CO7)-2000)&\"г\",\nIF($P$6=Lists!$I$8,CO8&\" год\",\nIF($P$6=Lists!$I$9,YEAR(CO7)&\"г.\",\"\"))))))","v":"2028-10-01"},{"$f":"IF(OR($P$6=\"\",$P$6=0,$P$7=\"\",$P$7=0,$P$8=\"\",$P$7<1),\"\",\nIF(CP$8=\"\",\"\",\nIF($P$6=Lists!$I$6,CP6,\nIF($P$6=Lists!$I$7,INT(MONTH(CP7)/3)&\"кв\"&(YEAR(CP7)-2000)&\"г\",\nIF($P$6=Lists!$I$8,CP8&\" год\",\nIF($P$6=Lists!$I$9,YEAR(CP7)&\"г.\",\"\"))))))","v":"2028-11-01"},{"$f":"IF(OR($P$6=\"\",$P$6=0,$P$7=\"\",$P$7=0,$P$8=\"\",$P$7<1),\"\",\nIF(CQ$8=\"\",\"\",\nIF($P$6=Lists!$I$6,CQ6,\nIF($P$6=Lists!$I$7,INT(MONTH(CQ7)/3)&\"кв\"&(YEAR(CQ7)-2000)&\"г\",\nIF($P$6=Lists!$I$8,CQ8&\" год\",\nIF($P$6=Lists!$I$9,YEAR(CQ7)&\"г.\",\"\"))))))","v":"2028-12-01"},{"$f":"IF(OR($P$6=\"\",$P$6=0,$P$7=\"\",$P$7=0,$P$8=\"\",$P$7<1),\"\",\nIF(CR$8=\"\",\"\",\nIF($P$6=Lists!$I$6,CR6,\nIF($P$6=Lists!$I$7,INT(MONTH(CR7)/3)&\"кв\"&(YEAR(CR7)-2000)&\"г\",\nIF($P$6=Lists!$I$8,CR8&\" год\",\nIF($P$6=Lists!$I$9,YEAR(CR7)&\"г.\",\"\"))))))","v":"2029-01-01"},{"$f":"IF(OR($P$6=\"\",$P$6=0,$P$7=\"\",$P$7=0,$P$8=\"\",$P$7<1),\"\",\nIF(CS$8=\"\",\"\",\nIF($P$6=Lists!$I$6,CS6,\nIF($P$6=Lists!$I$7,INT(MONTH(CS7)/3)&\"кв\"&(YEAR(CS7)-2000)&\"г\",\nIF($P$6=Lists!$I$8,CS8&\" год\",\nIF($P$6=Lists!$I$9,YEAR(CS7)&\"г.\",\"\"))))))","v":"2029-02-01"},{"$f":"IF(OR($P$6=\"\",$P$6=0,$P$7=\"\",$P$7=0,$P$8=\"\",$P$7<1),\"\",\nIF(CT$8=\"\",\"\",\nIF($P$6=Lists!$I$6,CT6,\nIF($P$6=Lists!$I$7,INT(MONTH(CT7)/3)&\"кв\"&(YEAR(CT7)-2000)&\"г\",\nIF($P$6=Lists!$I$8,CT8&\" год\",\nIF($P$6=Lists!$I$9,YEAR(CT7)&\"г.\",\"\"))))))","v":"2029-03-01"},{"$f":"IF(OR($P$6=\"\",$P$6=0,$P$7=\"\",$P$7=0,$P$8=\"\",$P$7<1),\"\",\nIF(CU$8=\"\",\"\",\nIF($P$6=Lists!$I$6,CU6,\nIF($P$6=Lists!$I$7,INT(MONTH(CU7)/3)&\"кв\"&(YEAR(CU7)-2000)&\"г\",\nIF($P$6=Lists!$I$8,CU8&\" год\",\nIF($P$6=Lists!$I$9,YEAR(CU7)&\"г.\",\"\"))))))","v":"2029-04-01"},{"$f":"IF(OR($P$6=\"\",$P$6=0,$P$7=\"\",$P$7=0,$P$8=\"\",$P$7<1),\"\",\nIF(CV$8=\"\",\"\",\nIF($P$6=Lists!$I$6,CV6,\nIF($P$6=Lists!$I$7,INT(MONTH(CV7)/3)&\"кв\"&(YEAR(CV7)-2000)&\"г\",\nIF($P$6=Lists!$I$8,CV8&\" год\",\nIF($P$6=Lists!$I$9,YEAR(CV7)&\"г.\",\"\"))))))","v":"2029-05-01"},{"$f":"IF(OR($P$6=\"\",$P$6=0,$P$7=\"\",$P$7=0,$P$8=\"\",$P$7<1),\"\",\nIF(CW$8=\"\",\"\",\nIF($P$6=Lists!$I$6,CW6,\nIF($P$6=Lists!$I$7,INT(MONTH(CW7)/3)&\"кв\"&(YEAR(CW7)-2000)&\"г\",\nIF($P$6=Lists!$I$8,CW8&\" год\",\nIF($P$6=Lists!$I$9,YEAR(CW7)&\"г.\",\"\"))))))","v":"2029-06-01"},{"$f":"IF(OR($P$6=\"\",$P$6=0,$P$7=\"\",$P$7=0,$P$8=\"\",$P$7<1),\"\",\nIF(CX$8=\"\",\"\",\nIF($P$6=Lists!$I$6,CX6,\nIF($P$6=Lists!$I$7,INT(MONTH(CX7)/3)&\"кв\"&(YEAR(CX7)-2000)&\"г\",\nIF($P$6=Lists!$I$8,CX8&\" год\",\nIF($P$6=Lists!$I$9,YEAR(CX7)&\"г.\",\"\"))))))","v":"2029-07-01"},{"$f":"IF(OR($P$6=\"\",$P$6=0,$P$7=\"\",$P$7=0,$P$8=\"\",$P$7<1),\"\",\nIF(CY$8=\"\",\"\",\nIF($P$6=Lists!$I$6,CY6,\nIF($P$6=Lists!$I$7,INT(MONTH(CY7)/3)&\"кв\"&(YEAR(CY7)-2000)&\"г\",\nIF($P$6=Lists!$I$8,CY8&\" год\",\nIF($P$6=Lists!$I$9,YEAR(CY7)&\"г.\",\"\"))))))","v":"2029-08-01"},{"$f":"IF(OR($P$6=\"\",$P$6=0,$P$7=\"\",$P$7=0,$P$8=\"\",$P$7<1),\"\",\nIF(CZ$8=\"\",\"\",\nIF($P$6=Lists!$I$6,CZ6,\nIF($P$6=Lists!$I$7,INT(MONTH(CZ7)/3)&\"кв\"&(YEAR(CZ7)-2000)&\"г\",\nIF($P$6=Lists!$I$8,CZ8&\" год\",\nIF($P$6=Lists!$I$9,YEAR(CZ7)&\"г.\",\"\"))))))","v":"2029-09-01"},{"$f":"IF(OR($P$6=\"\",$P$6=0,$P$7=\"\",$P$7=0,$P$8=\"\",$P$7<1),\"\",\nIF(DA$8=\"\",\"\",\nIF($P$6=Lists!$I$6,DA6,\nIF($P$6=Lists!$I$7,INT(MONTH(DA7)/3)&\"кв\"&(YEAR(DA7)-2000)&\"г\",\nIF($P$6=Lists!$I$8,DA8&\" год\",\nIF($P$6=Lists!$I$9,YEAR(DA7)&\"г.\",\"\"))))))","v":"2029-10-01"},{"$f":"IF(OR($P$6=\"\",$P$6=0,$P$7=\"\",$P$7=0,$P$8=\"\",$P$7<1),\"\",\nIF(DB$8=\"\",\"\",\nIF($P$6=Lists!$I$6,DB6,\nIF($P$6=Lists!$I$7,INT(MONTH(DB7)/3)&\"кв\"&(YEAR(DB7)-2000)&\"г\",\nIF($P$6=Lists!$I$8,DB8&\" год\",\nIF($P$6=Lists!$I$9,YEAR(DB7)&\"г.\",\"\"))))))","v":"2029-11-01"},{"$f":"IF(OR($P$6=\"\",$P$6=0,$P$7=\"\",$P$7=0,$P$8=\"\",$P$7<1),\"\",\nIF(DC$8=\"\",\"\",\nIF($P$6=Lists!$I$6,DC6,\nIF($P$6=Lists!$I$7,INT(MONTH(DC7)/3)&\"кв\"&(YEAR(DC7)-2000)&\"г\",\nIF($P$6=Lists!$I$8,DC8&\" год\",\nIF($P$6=Lists!$I$9,YEAR(DC7)&\"г.\",\"\"))))))","v":"2029-12-01"},{"$f":"IF(OR($P$6=\"\",$P$6=0,$P$7=\"\",$P$7=0,$P$8=\"\",$P$7<1),\"\",\nIF(DD$8=\"\",\"\",\nIF($P$6=Lists!$I$6,DD6,\nIF($P$6=Lists!$I$7,INT(MONTH(DD7)/3)&\"кв\"&(YEAR(DD7)-2000)&\"г\",\nIF($P$6=Lists!$I$8,DD8&\" год\",\nIF($P$6=Lists!$I$9,YEAR(DD7)&\"г.\",\"\"))))))","v":"2030-01-01"},{"$f":"IF(OR($P$6=\"\",$P$6=0,$P$7=\"\",$P$7=0,$P$8=\"\",$P$7<1),\"\",\nIF(DE$8=\"\",\"\",\nIF($P$6=Lists!$I$6,DE6,\nIF($P$6=Lists!$I$7,INT(MONTH(DE7)/3)&\"кв\"&(YEAR(DE7)-2000)&\"г\",\nIF($P$6=Lists!$I$8,DE8&\" год\",\nIF($P$6=Lists!$I$9,YEAR(DE7)&\"г.\",\"\"))))))","v":"2030-02-01"},{"$f":"IF(OR($P$6=\"\",$P$6=0,$P$7=\"\",$P$7=0,$P$8=\"\",$P$7<1),\"\",\nIF(DF$8=\"\",\"\",\nIF($P$6=Lists!$I$6,DF6,\nIF($P$6=Lists!$I$7,INT(MONTH(DF7)/3)&\"кв\"&(YEAR(DF7)-2000)&\"г\",\nIF($P$6=Lists!$I$8,DF8&\" год\",\nIF($P$6=Lists!$I$9,YEAR(DF7)&\"г.\",\"\"))))))","v":"2030-03-01"},{"$f":"IF(OR($P$6=\"\",$P$6=0,$P$7=\"\",$P$7=0,$P$8=\"\",$P$7<1),\"\",\nIF(DG$8=\"\",\"\",\nIF($P$6=Lists!$I$6,DG6,\nIF($P$6=Lists!$I$7,INT(MONTH(DG7)/3)&\"кв\"&(YEAR(DG7)-2000)&\"г\",\nIF($P$6=Lists!$I$8,DG8&\" год\",\nIF($P$6=Lists!$I$9,YEAR(DG7)&\"г.\",\"\"))))))","v":"2030-04-01"},{"$f":"IF(OR($P$6=\"\",$P$6=0,$P$7=\"\",$P$7=0,$P$8=\"\",$P$7<1),\"\",\nIF(DH$8=\"\",\"\",\nIF($P$6=Lists!$I$6,DH6,\nIF($P$6=Lists!$I$7,INT(MONTH(DH7)/3)&\"кв\"&(YEAR(DH7)-2000)&\"г\",\nIF($P$6=Lists!$I$8,DH8&\" год\",\nIF($P$6=Lists!$I$9,YEAR(DH7)&\"г.\",\"\"))))))","v":"2030-05-01"},{"$f":"IF(OR($P$6=\"\",$P$6=0,$P$7=\"\",$P$7=0,$P$8=\"\",$P$7<1),\"\",\nIF(DI$8=\"\",\"\",\nIF($P$6=Lists!$I$6,DI6,\nIF($P$6=Lists!$I$7,INT(MONTH(DI7)/3)&\"кв\"&(YEAR(DI7)-2000)&\"г\",\nIF($P$6=Lists!$I$8,DI8&\" год\",\nIF($P$6=Lists!$I$9,YEAR(DI7)&\"г.\",\"\"))))))","v":"2030-06-01"},{"$f":"IF(OR($P$6=\"\",$P$6=0,$P$7=\"\",$P$7=0,$P$8=\"\",$P$7<1),\"\",\nIF(DJ$8=\"\",\"\",\nIF($P$6=Lists!$I$6,DJ6,\nIF($P$6=Lists!$I$7,INT(MONTH(DJ7)/3)&\"кв\"&(YEAR(DJ7)-2000)&\"г\",\nIF($P$6=Lists!$I$8,DJ8&\" год\",\nIF($P$6=Lists!$I$9,YEAR(DJ7)&\"г.\",\"\"))))))","v":"2030-07-01"},{"$f":"IF(OR($P$6=\"\",$P$6=0,$P$7=\"\",$P$7=0,$P$8=\"\",$P$7<1),\"\",\nIF(DK$8=\"\",\"\",\nIF($P$6=Lists!$I$6,DK6,\nIF($P$6=Lists!$I$7,INT(MONTH(DK7)/3)&\"кв\"&(YEAR(DK7)-2000)&\"г\",\nIF($P$6=Lists!$I$8,DK8&\" год\",\nIF($P$6=Lists!$I$9,YEAR(DK7)&\"г.\",\"\"))))))","v":"2030-08-01"},{"$f":"IF(OR($P$6=\"\",$P$6=0,$P$7=\"\",$P$7=0,$P$8=\"\",$P$7<1),\"\",\nIF(DL$8=\"\",\"\",\nIF($P$6=Lists!$I$6,DL6,\nIF($P$6=Lists!$I$7,INT(MONTH(DL7)/3)&\"кв\"&(YEAR(DL7)-2000)&\"г\",\nIF($P$6=Lists!$I$8,DL8&\" год\",\nIF($P$6=Lists!$I$9,YEAR(DL7)&\"г.\",\"\"))))))","v":"2030-09-01"},{"$f":"IF(OR($P$6=\"\",$P$6=0,$P$7=\"\",$P$7=0,$P$8=\"\",$P$7<1),\"\",\nIF(DM$8=\"\",\"\",\nIF($P$6=Lists!$I$6,DM6,\nIF($P$6=Lists!$I$7,INT(MONTH(DM7)/3)&\"кв\"&(YEAR(DM7)-2000)&\"г\",\nIF($P$6=Lists!$I$8,DM8&\" год\",\nIF($P$6=Lists!$I$9,YEAR(DM7)&\"г.\",\"\"))))))","v":"2030-10-01"},{"$f":"IF(OR($P$6=\"\",$P$6=0,$P$7=\"\",$P$7=0,$P$8=\"\",$P$7<1),\"\",\nIF(DN$8=\"\",\"\",\nIF($P$6=Lists!$I$6,DN6,\nIF($P$6=Lists!$I$7,INT(MONTH(DN7)/3)&\"кв\"&(YEAR(DN7)-2000)&\"г\",\nIF($P$6=Lists!$I$8,DN8&\" год\",\nIF($P$6=Lists!$I$9,YEAR(DN7)&\"г.\",\"\"))))))","v":"2030-11-01"},{"$f":"IF(OR($P$6=\"\",$P$6=0,$P$7=\"\",$P$7=0,$P$8=\"\",$P$7<1),\"\",\nIF(DO$8=\"\",\"\",\nIF($P$6=Lists!$I$6,DO6,\nIF($P$6=Lists!$I$7,INT(MONTH(DO7)/3)&\"кв\"&(YEAR(DO7)-2000)&\"г\",\nIF($P$6=Lists!$I$8,DO8&\" год\",\nIF($P$6=Lists!$I$9,YEAR(DO7)&\"г.\",\"\"))))))","v":"2030-12-01"},{"$f":"IF(OR($P$6=\"\",$P$6=0,$P$7=\"\",$P$7=0,$P$8=\"\",$P$7<1),\"\",\nIF(DP$8=\"\",\"\",\nIF($P$6=Lists!$I$6,DP6,\nIF($P$6=Lists!$I$7,INT(MONTH(DP7)/3)&\"кв\"&(YEAR(DP7)-2000)&\"г\",\nIF($P$6=Lists!$I$8,DP8&\" год\",\nIF($P$6=Lists!$I$9,YEAR(DP7)&\"г.\",\"\"))))))","v":"2031-01-01"},{"$f":"IF(OR($P$6=\"\",$P$6=0,$P$7=\"\",$P$7=0,$P$8=\"\",$P$7<1),\"\",\nIF(DQ$8=\"\",\"\",\nIF($P$6=Lists!$I$6,DQ6,\nIF($P$6=Lists!$I$7,INT(MONTH(DQ7)/3)&\"кв\"&(YEAR(DQ7)-2000)&\"г\",\nIF($P$6=Lists!$I$8,DQ8&\" год\",\nIF($P$6=Lists!$I$9,YEAR(DQ7)&\"г.\",\"\"))))))","v":"2031-02-01"},{"$f":"IF(OR($P$6=\"\",$P$6=0,$P$7=\"\",$P$7=0,$P$8=\"\",$P$7<1),\"\",\nIF(DR$8=\"\",\"\",\nIF($P$6=Lists!$I$6,DR6,\nIF($P$6=Lists!$I$7,INT(MONTH(DR7)/3)&\"кв\"&(YEAR(DR7)-2000)&\"г\",\nIF($P$6=Lists!$I$8,DR8&\" год\",\nIF($P$6=Lists!$I$9,YEAR(DR7)&\"г.\",\"\"))))))","v":"2031-03-01"},{"$f":"IF(OR($P$6=\"\",$P$6=0,$P$7=\"\",$P$7=0,$P$8=\"\",$P$7<1),\"\",\nIF(DS$8=\"\",\"\",\nIF($P$6=Lists!$I$6,DS6,\nIF($P$6=Lists!$I$7,INT(MONTH(DS7)/3)&\"кв\"&(YEAR(DS7)-2000)&\"г\",\nIF($P$6=Lists!$I$8,DS8&\" год\",\nIF($P$6=Lists!$I$9,YEAR(DS7)&\"г.\",\"\"))))))","v":"2031-04-01"},{"$f":"IF(OR($P$6=\"\",$P$6=0,$P$7=\"\",$P$7=0,$P$8=\"\",$P$7<1),\"\",\nIF(DT$8=\"\",\"\",\nIF($P$6=Lists!$I$6,DT6,\nIF($P$6=Lists!$I$7,INT(MONTH(DT7)/3)&\"кв\"&(YEAR(DT7)-2000)&\"г\",\nIF($P$6=Lists!$I$8,DT8&\" год\",\nIF($P$6=Lists!$I$9,YEAR(DT7)&\"г.\",\"\"))))))","v":"2031-05-01"},{"$f":"IF(OR($P$6=\"\",$P$6=0,$P$7=\"\",$P$7=0,$P$8=\"\",$P$7<1),\"\",\nIF(DU$8=\"\",\"\",\nIF($P$6=Lists!$I$6,DU6,\nIF($P$6=Lists!$I$7,INT(MONTH(DU7)/3)&\"кв\"&(YEAR(DU7)-2000)&\"г\",\nIF($P$6=Lists!$I$8,DU8&\" год\",\nIF($P$6=Lists!$I$9,YEAR(DU7)&\"г.\",\"\"))))))","v":"2031-06-01"},{"$f":"IF(OR($P$6=\"\",$P$6=0,$P$7=\"\",$P$7=0,$P$8=\"\",$P$7<1),\"\",\nIF(DV$8=\"\",\"\",\nIF($P$6=Lists!$I$6,DV6,\nIF($P$6=Lists!$I$7,INT(MONTH(DV7)/3)&\"кв\"&(YEAR(DV7)-2000)&\"г\",\nIF($P$6=Lists!$I$8,DV8&\" год\",\nIF($P$6=Lists!$I$9,YEAR(DV7)&\"г.\",\"\"))))))","v":"2031-07-01"},{"$f":"IF(OR($P$6=\"\",$P$6=0,$P$7=\"\",$P$7=0,$P$8=\"\",$P$7<1),\"\",\nIF(DW$8=\"\",\"\",\nIF($P$6=Lists!$I$6,DW6,\nIF($P$6=Lists!$I$7,INT(MONTH(DW7)/3)&\"кв\"&(YEAR(DW7)-2000)&\"г\",\nIF($P$6=Lists!$I$8,DW8&\" год\",\nIF($P$6=Lists!$I$9,YEAR(DW7)&\"г.\",\"\"))))))","v":"2031-08-01"},{"$f":"IF(OR($P$6=\"\",$P$6=0,$P$7=\"\",$P$7=0,$P$8=\"\",$P$7<1),\"\",\nIF(DX$8=\"\",\"\",\nIF($P$6=Lists!$I$6,DX6,\nIF($P$6=Lists!$I$7,INT(MONTH(DX7)/3)&\"кв\"&(YEAR(DX7)-2000)&\"г\",\nIF($P$6=Lists!$I$8,DX8&\" год\",\nIF($P$6=Lists!$I$9,YEAR(DX7)&\"г.\",\"\"))))))","v":"2031-09-01"},{"$f":"IF(OR($P$6=\"\",$P$6=0,$P$7=\"\",$P$7=0,$P$8=\"\",$P$7<1),\"\",\nIF(DY$8=\"\",\"\",\nIF($P$6=Lists!$I$6,DY6,\nIF($P$6=Lists!$I$7,INT(MONTH(DY7)/3)&\"кв\"&(YEAR(DY7)-2000)&\"г\",\nIF($P$6=Lists!$I$8,DY8&\" год\",\nIF($P$6=Lists!$I$9,YEAR(DY7)&\"г.\",\"\"))))))","v":"2031-10-01"},{"$f":"IF(OR($P$6=\"\",$P$6=0,$P$7=\"\",$P$7=0,$P$8=\"\",$P$7<1),\"\",\nIF(DZ$8=\"\",\"\",\nIF($P$6=Lists!$I$6,DZ6,\nIF($P$6=Lists!$I$7,INT(MONTH(DZ7)/3)&\"кв\"&(YEAR(DZ7)-2000)&\"г\",\nIF($P$6=Lists!$I$8,DZ8&\" год\",\nIF($P$6=Lists!$I$9,YEAR(DZ7)&\"г.\",\"\"))))))","v":"2031-11-01"},{"$f":"IF(OR($P$6=\"\",$P$6=0,$P$7=\"\",$P$7=0,$P$8=\"\",$P$7<1),\"\",\nIF(EA$8=\"\",\"\",\nIF($P$6=Lists!$I$6,EA6,\nIF($P$6=Lists!$I$7,INT(MONTH(EA7)/3)&\"кв\"&(YEAR(EA7)-2000)&\"г\",\nIF($P$6=Lists!$I$8,EA8&\" год\",\nIF($P$6=Lists!$I$9,YEAR(EA7)&\"г.\",\"\"))))))","v":"2031-12-01"},{"$f":"IF(OR($P$6=\"\",$P$6=0,$P$7=\"\",$P$7=0,$P$8=\"\",$P$7<1),\"\",\nIF(EB$8=\"\",\"\",\nIF($P$6=Lists!$I$6,EB6,\nIF($P$6=Lists!$I$7,INT(MONTH(EB7)/3)&\"кв\"&(YEAR(EB7)-2000)&\"г\",\nIF($P$6=Lists!$I$8,EB8&\" год\",\nIF($P$6=Lists!$I$9,YEAR(EB7)&\"г.\",\"\"))))))","v":"2032-01-01"},{"$f":"IF(OR($P$6=\"\",$P$6=0,$P$7=\"\",$P$7=0,$P$8=\"\",$P$7<1),\"\",\nIF(EC$8=\"\",\"\",\nIF($P$6=Lists!$I$6,EC6,\nIF($P$6=Lists!$I$7,INT(MONTH(EC7)/3)&\"кв\"&(YEAR(EC7)-2000)&\"г\",\nIF($P$6=Lists!$I$8,EC8&\" год\",\nIF($P$6=Lists!$I$9,YEAR(EC7)&\"г.\",\"\"))))))","v":"2032-02-01"},{"$f":"IF(OR($P$6=\"\",$P$6=0,$P$7=\"\",$P$7=0,$P$8=\"\",$P$7<1),\"\",\nIF(ED$8=\"\",\"\",\nIF($P$6=Lists!$I$6,ED6,\nIF($P$6=Lists!$I$7,INT(MONTH(ED7)/3)&\"кв\"&(YEAR(ED7)-2000)&\"г\",\nIF($P$6=Lists!$I$8,ED8&\" год\",\nIF($P$6=Lists!$I$9,YEAR(ED7)&\"г.\",\"\"))))))","v":"2032-03-01"},{"$f":"IF(OR($P$6=\"\",$P$6=0,$P$7=\"\",$P$7=0,$P$8=\"\",$P$7<1),\"\",\nIF(EE$8=\"\",\"\",\nIF($P$6=Lists!$I$6,EE6,\nIF($P$6=Lists!$I$7,INT(MONTH(EE7)/3)&\"кв\"&(YEAR(EE7)-2000)&\"г\",\nIF($P$6=Lists!$I$8,EE8&\" год\",\nIF($P$6=Lists!$I$9,YEAR(EE7)&\"г.\",\"\"))))))","v":"2032-04-01"},{"$f":"IF(OR($P$6=\"\",$P$6=0,$P$7=\"\",$P$7=0,$P$8=\"\",$P$7<1),\"\",\nIF(EF$8=\"\",\"\",\nIF($P$6=Lists!$I$6,EF6,\nIF($P$6=Lists!$I$7,INT(MONTH(EF7)/3)&\"кв\"&(YEAR(EF7)-2000)&\"г\",\nIF($P$6=Lists!$I$8,EF8&\" год\",\nIF($P$6=Lists!$I$9,YEAR(EF7)&\"г.\",\"\"))))))","v":"2032-05-01"},{"$f":"IF(OR($P$6=\"\",$P$6=0,$P$7=\"\",$P$7=0,$P$8=\"\",$P$7<1),\"\",\nIF(EG$8=\"\",\"\",\nIF($P$6=Lists!$I$6,EG6,\nIF($P$6=Lists!$I$7,INT(MONTH(EG7)/3)&\"кв\"&(YEAR(EG7)-2000)&\"г\",\nIF($P$6=Lists!$I$8,EG8&\" год\",\nIF($P$6=Lists!$I$9,YEAR(EG7)&\"г.\",\"\"))))))","v":"2032-06-01"},{"$f":"IF(OR($P$6=\"\",$P$6=0,$P$7=\"\",$P$7=0,$P$8=\"\",$P$7<1),\"\",\nIF(EH$8=\"\",\"\",\nIF($P$6=Lists!$I$6,EH6,\nIF($P$6=Lists!$I$7,INT(MONTH(EH7)/3)&\"кв\"&(YEAR(EH7)-2000)&\"г\",\nIF($P$6=Lists!$I$8,EH8&\" год\",\nIF($P$6=Lists!$I$9,YEAR(EH7)&\"г.\",\"\"))))))","v":"2032-07-01"},{"$f":"IF(OR($P$6=\"\",$P$6=0,$P$7=\"\",$P$7=0,$P$8=\"\",$P$7<1),\"\",\nIF(EI$8=\"\",\"\",\nIF($P$6=Lists!$I$6,EI6,\nIF($P$6=Lists!$I$7,INT(MONTH(EI7)/3)&\"кв\"&(YEAR(EI7)-2000)&\"г\",\nIF($P$6=Lists!$I$8,EI8&\" год\",\nIF($P$6=Lists!$I$9,YEAR(EI7)&\"г.\",\"\"))))))","v":"2032-08-01"},{"$f":"IF(OR($P$6=\"\",$P$6=0,$P$7=\"\",$P$7=0,$P$8=\"\",$P$7<1),\"\",\nIF(EJ$8=\"\",\"\",\nIF($P$6=Lists!$I$6,EJ6,\nIF($P$6=Lists!$I$7,INT(MONTH(EJ7)/3)&\"кв\"&(YEAR(EJ7)-2000)&\"г\",\nIF($P$6=Lists!$I$8,EJ8&\" год\",\nIF($P$6=Lists!$I$9,YEAR(EJ7)&\"г.\",\"\"))))))","v":"2032-09-01"},{"$f":"IF(OR($P$6=\"\",$P$6=0,$P$7=\"\",$P$7=0,$P$8=\"\",$P$7<1),\"\",\nIF(EK$8=\"\",\"\",\nIF($P$6=Lists!$I$6,EK6,\nIF($P$6=Lists!$I$7,INT(MONTH(EK7)/3)&\"кв\"&(YEAR(EK7)-2000)&\"г\",\nIF($P$6=Lists!$I$8,EK8&\" год\",\nIF($P$6=Lists!$I$9,YEAR(EK7)&\"г.\",\"\"))))))","v":"2032-10-01"},{"$f":"IF(OR($P$6=\"\",$P$6=0,$P$7=\"\",$P$7=0,$P$8=\"\",$P$7<1),\"\",\nIF(EL$8=\"\",\"\",\nIF($P$6=Lists!$I$6,EL6,\nIF($P$6=Lists!$I$7,INT(MONTH(EL7)/3)&\"кв\"&(YEAR(EL7)-2000)&\"г\",\nIF($P$6=Lists!$I$8,EL8&\" год\",\nIF($P$6=Lists!$I$9,YEAR(EL7)&\"г.\",\"\"))))))","v":"2032-11-01"},{"$f":"IF(OR($P$6=\"\",$P$6=0,$P$7=\"\",$P$7=0,$P$8=\"\",$P$7<1),\"\",\nIF(EM$8=\"\",\"\",\nIF($P$6=Lists!$I$6,EM6,\nIF($P$6=Lists!$I$7,INT(MONTH(EM7)/3)&\"кв\"&(YEAR(EM7)-2000)&\"г\",\nIF($P$6=Lists!$I$8,EM8&\" год\",\nIF($P$6=Lists!$I$9,YEAR(EM7)&\"г.\",\"\"))))))","v":"2032-12-01"},{"$f":"IF(OR($P$6=\"\",$P$6=0,$P$7=\"\",$P$7=0,$P$8=\"\",$P$7<1),\"\",\nIF(EN$8=\"\",\"\",\nIF($P$6=Lists!$I$6,EN6,\nIF($P$6=Lists!$I$7,INT(MONTH(EN7)/3)&\"кв\"&(YEAR(EN7)-2000)&\"г\",\nIF($P$6=Lists!$I$8,EN8&\" год\",\nIF($P$6=Lists!$I$9,YEAR(EN7)&\"г.\",\"\"))))))","v":""},{"$f":"IF(OR($P$6=\"\",$P$6=0,$P$7=\"\",$P$7=0,$P$8=\"\",$P$7<1),\"\",\nIF(EO$8=\"\",\"\",\nIF($P$6=Lists!$I$6,EO6,\nIF($P$6=Lists!$I$7,INT(MONTH(EO7)/3)&\"кв\"&(YEAR(EO7)-2000)&\"г\",\nIF($P$6=Lists!$I$8,EO8&\" год\",\nIF($P$6=Lists!$I$9,YEAR(EO7)&\"г.\",\"\"))))))","v":""},{"$f":"IF(OR($P$6=\"\",$P$6=0,$P$7=\"\",$P$7=0,$P$8=\"\",$P$7<1),\"\",\nIF(EP$8=\"\",\"\",\nIF($P$6=Lists!$I$6,EP6,\nIF($P$6=Lists!$I$7,INT(MONTH(EP7)/3)&\"кв\"&(YEAR(EP7)-2000)&\"г\",\nIF($P$6=Lists!$I$8,EP8&\" год\",\nIF($P$6=Lists!$I$9,YEAR(EP7)&\"г.\",\"\"))))))","v":""},{"$f":"IF(OR($P$6=\"\",$P$6=0,$P$7=\"\",$P$7=0,$P$8=\"\",$P$7<1),\"\",\nIF(EQ$8=\"\",\"\",\nIF($P$6=Lists!$I$6,EQ6,\nIF($P$6=Lists!$I$7,INT(MONTH(EQ7)/3)&\"кв\"&(YEAR(EQ7)-2000)&\"г\",\nIF($P$6=Lists!$I$8,EQ8&\" год\",\nIF($P$6=Lists!$I$9,YEAR(EQ7)&\"г.\",\"\"))))))","v":""},{"$f":"IF(OR($P$6=\"\",$P$6=0,$P$7=\"\",$P$7=0,$P$8=\"\",$P$7<1),\"\",\nIF(ER$8=\"\",\"\",\nIF($P$6=Lists!$I$6,ER6,\nIF($P$6=Lists!$I$7,INT(MONTH(ER7)/3)&\"кв\"&(YEAR(ER7)-2000)&\"г\",\nIF($P$6=Lists!$I$8,ER8&\" год\",\nIF($P$6=Lists!$I$9,YEAR(ER7)&\"г.\",\"\"))))))","v":""},{"$f":"IF(OR($P$6=\"\",$P$6=0,$P$7=\"\",$P$7=0,$P$8=\"\",$P$7<1),\"\",\nIF(ES$8=\"\",\"\",\nIF($P$6=Lists!$I$6,ES6,\nIF($P$6=Lists!$I$7,INT(MONTH(ES7)/3)&\"кв\"&(YEAR(ES7)-2000)&\"г\",\nIF($P$6=Lists!$I$8,ES8&\" год\",\nIF($P$6=Lists!$I$9,YEAR(ES7)&\"г.\",\"\"))))))","v":""},{"$f":"IF(OR($P$6=\"\",$P$6=0,$P$7=\"\",$P$7=0,$P$8=\"\",$P$7<1),\"\",\nIF(ET$8=\"\",\"\",\nIF($P$6=Lists!$I$6,ET6,\nIF($P$6=Lists!$I$7,INT(MONTH(ET7)/3)&\"кв\"&(YEAR(ET7)-2000)&\"г\",\nIF($P$6=Lists!$I$8,ET8&\" год\",\nIF($P$6=Lists!$I$9,YEAR(ET7)&\"г.\",\"\"))))))","v":""},{"$f":"IF(OR($P$6=\"\",$P$6=0,$P$7=\"\",$P$7=0,$P$8=\"\",$P$7<1),\"\",\nIF(EU$8=\"\",\"\",\nIF($P$6=Lists!$I$6,EU6,\nIF($P$6=Lists!$I$7,INT(MONTH(EU7)/3)&\"кв\"&(YEAR(EU7)-2000)&\"г\",\nIF($P$6=Lists!$I$8,EU8&\" год\",\nIF($P$6=Lists!$I$9,YEAR(EU7)&\"г.\",\"\"))))))","v":""},{"$f":"IF(OR($P$6=\"\",$P$6=0,$P$7=\"\",$P$7=0,$P$8=\"\",$P$7<1),\"\",\nIF(EV$8=\"\",\"\",\nIF($P$6=Lists!$I$6,EV6,\nIF($P$6=Lists!$I$7,INT(MONTH(EV7)/3)&\"кв\"&(YEAR(EV7)-2000)&\"г\",\nIF($P$6=Lists!$I$8,EV8&\" год\",\nIF($P$6=Lists!$I$9,YEAR(EV7)&\"г.\",\"\"))))))","v":""},{"$f":"IF(OR($P$6=\"\",$P$6=0,$P$7=\"\",$P$7=0,$P$8=\"\",$P$7<1),\"\",\nIF(EW$8=\"\",\"\",\nIF($P$6=Lists!$I$6,EW6,\nIF($P$6=Lists!$I$7,INT(MONTH(EW7)/3)&\"кв\"&(YEAR(EW7)-2000)&\"г\",\nIF($P$6=Lists!$I$8,EW8&\" год\",\nIF($P$6=Lists!$I$9,YEAR(EW7)&\"г.\",\"\"))))))","v":""},{"$f":"IF(OR($P$6=\"\",$P$6=0,$P$7=\"\",$P$7=0,$P$8=\"\",$P$7<1),\"\",\nIF(EX$8=\"\",\"\",\nIF($P$6=Lists!$I$6,EX6,\nIF($P$6=Lists!$I$7,INT(MONTH(EX7)/3)&\"кв\"&(YEAR(EX7)-2000)&\"г\",\nIF($P$6=Lists!$I$8,EX8&\" год\",\nIF($P$6=Lists!$I$9,YEAR(EX7)&\"г.\",\"\"))))))","v":""},{"$f":"IF(OR($P$6=\"\",$P$6=0,$P$7=\"\",$P$7=0,$P$8=\"\",$P$7<1),\"\",\nIF(EY$8=\"\",\"\",\nIF($P$6=Lists!$I$6,EY6,\nIF($P$6=Lists!$I$7,INT(MONTH(EY7)/3)&\"кв\"&(YEAR(EY7)-2000)&\"г\",\nIF($P$6=Lists!$I$8,EY8&\" год\",\nIF($P$6=Lists!$I$9,YEAR(EY7)&\"г.\",\"\"))))))","v":""},{"$f":"IF(OR($P$6=\"\",$P$6=0,$P$7=\"\",$P$7=0,$P$8=\"\",$P$7<1),\"\",\nIF(EZ$8=\"\",\"\",\nIF($P$6=Lists!$I$6,EZ6,\nIF($P$6=Lists!$I$7,INT(MONTH(EZ7)/3)&\"кв\"&(YEAR(EZ7)-2000)&\"г\",\nIF($P$6=Lists!$I$8,EZ8&\" год\",\nIF($P$6=Lists!$I$9,YEAR(EZ7)&\"г.\",\"\"))))))","v":""},{"$f":"IF(OR($P$6=\"\",$P$6=0,$P$7=\"\",$P$7=0,$P$8=\"\",$P$7<1),\"\",\nIF(FA$8=\"\",\"\",\nIF($P$6=Lists!$I$6,FA6,\nIF($P$6=Lists!$I$7,INT(MONTH(FA7)/3)&\"кв\"&(YEAR(FA7)-2000)&\"г\",\nIF($P$6=Lists!$I$8,FA8&\" год\",\nIF($P$6=Lists!$I$9,YEAR(FA7)&\"г.\",\"\"))))))","v":""},{"$f":"IF(OR($P$6=\"\",$P$6=0,$P$7=\"\",$P$7=0,$P$8=\"\",$P$7<1),\"\",\nIF(FB$8=\"\",\"\",\nIF($P$6=Lists!$I$6,FB6,\nIF($P$6=Lists!$I$7,INT(MONTH(FB7)/3)&\"кв\"&(YEAR(FB7)-2000)&\"г\",\nIF($P$6=Lists!$I$8,FB8&\" год\",\nIF($P$6=Lists!$I$9,YEAR(FB7)&\"г.\",\"\"))))))","v":""},{"$f":"IF(OR($P$6=\"\",$P$6=0,$P$7=\"\",$P$7=0,$P$8=\"\",$P$7<1),\"\",\nIF(FC$8=\"\",\"\",\nIF($P$6=Lists!$I$6,FC6,\nIF($P$6=Lists!$I$7,INT(MONTH(FC7)/3)&\"кв\"&(YEAR(FC7)-2000)&\"г\",\nIF($P$6=Lists!$I$8,FC8&\" год\",\nIF($P$6=Lists!$I$9,YEAR(FC7)&\"г.\",\"\"))))))","v":""},{"$f":"IF(OR($P$6=\"\",$P$6=0,$P$7=\"\",$P$7=0,$P$8=\"\",$P$7<1),\"\",\nIF(FD$8=\"\",\"\",\nIF($P$6=Lists!$I$6,FD6,\nIF($P$6=Lists!$I$7,INT(MONTH(FD7)/3)&\"кв\"&(YEAR(FD7)-2000)&\"г\",\nIF($P$6=Lists!$I$8,FD8&\" год\",\nIF($P$6=Lists!$I$9,YEAR(FD7)&\"г.\",\"\"))))))","v":""},{"$f":"IF(OR($P$6=\"\",$P$6=0,$P$7=\"\",$P$7=0,$P$8=\"\",$P$7<1),\"\",\nIF(FE$8=\"\",\"\",\nIF($P$6=Lists!$I$6,FE6,\nIF($P$6=Lists!$I$7,INT(MONTH(FE7)/3)&\"кв\"&(YEAR(FE7)-2000)&\"г\",\nIF($P$6=Lists!$I$8,FE8&\" год\",\nIF($P$6=Lists!$I$9,YEAR(FE7)&\"г.\",\"\"))))))","v":""},{"$f":"IF(OR($P$6=\"\",$P$6=0,$P$7=\"\",$P$7=0,$P$8=\"\",$P$7<1),\"\",\nIF(FF$8=\"\",\"\",\nIF($P$6=Lists!$I$6,FF6,\nIF($P$6=Lists!$I$7,INT(MONTH(FF7)/3)&\"кв\"&(YEAR(FF7)-2000)&\"г\",\nIF($P$6=Lists!$I$8,FF8&\" год\",\nIF($P$6=Lists!$I$9,YEAR(FF7)&\"г.\",\"\"))))))","v":""},{"$f":"IF(OR($P$6=\"\",$P$6=0,$P$7=\"\",$P$7=0,$P$8=\"\",$P$7<1),\"\",\nIF(FG$8=\"\",\"\",\nIF($P$6=Lists!$I$6,FG6,\nIF($P$6=Lists!$I$7,INT(MONTH(FG7)/3)&\"кв\"&(YEAR(FG7)-2000)&\"г\",\nIF($P$6=Lists!$I$8,FG8&\" год\",\nIF($P$6=Lists!$I$9,YEAR(FG7)&\"г.\",\"\"))))))","v":""},{"$f":"IF(OR($P$6=\"\",$P$6=0,$P$7=\"\",$P$7=0,$P$8=\"\",$P$7<1),\"\",\nIF(FH$8=\"\",\"\",\nIF($P$6=Lists!$I$6,FH6,\nIF($P$6=Lists!$I$7,INT(MONTH(FH7)/3)&\"кв\"&(YEAR(FH7)-2000)&\"г\",\nIF($P$6=Lists!$I$8,FH8&\" год\",\nIF($P$6=Lists!$I$9,YEAR(FH7)&\"г.\",\"\"))))))","v":""},{"$f":"IF(OR($P$6=\"\",$P$6=0,$P$7=\"\",$P$7=0,$P$8=\"\",$P$7<1),\"\",\nIF(FI$8=\"\",\"\",\nIF($P$6=Lists!$I$6,FI6,\nIF($P$6=Lists!$I$7,INT(MONTH(FI7)/3)&\"кв\"&(YEAR(FI7)-2000)&\"г\",\nIF($P$6=Lists!$I$8,FI8&\" год\",\nIF($P$6=Lists!$I$9,YEAR(FI7)&\"г.\",\"\"))))))","v":""},{"$f":"IF(OR($P$6=\"\",$P$6=0,$P$7=\"\",$P$7=0,$P$8=\"\",$P$7<1),\"\",\nIF(FJ$8=\"\",\"\",\nIF($P$6=Lists!$I$6,FJ6,\nIF($P$6=Lists!$I$7,INT(MONTH(FJ7)/3)&\"кв\"&(YEAR(FJ7)-2000)&\"г\",\nIF($P$6=Lists!$I$8,FJ8&\" год\",\nIF($P$6=Lists!$I$9,YEAR(FJ7)&\"г.\",\"\"))))))","v":""},{"$f":"IF(OR($P$6=\"\",$P$6=0,$P$7=\"\",$P$7=0,$P$8=\"\",$P$7<1),\"\",\nIF(FK$8=\"\",\"\",\nIF($P$6=Lists!$I$6,FK6,\nIF($P$6=Lists!$I$7,INT(MONTH(FK7)/3)&\"кв\"&(YEAR(FK7)-2000)&\"г\",\nIF($P$6=Lists!$I$8,FK8&\" год\",\nIF($P$6=Lists!$I$9,YEAR(FK7)&\"г.\",\"\"))))))","v":""},{"$f":"IF(OR($P$6=\"\",$P$6=0,$P$7=\"\",$P$7=0,$P$8=\"\",$P$7<1),\"\",\nIF(FL$8=\"\",\"\",\nIF($P$6=Lists!$I$6,FL6,\nIF($P$6=Lists!$I$7,INT(MONTH(FL7)/3)&\"кв\"&(YEAR(FL7)-2000)&\"г\",\nIF($P$6=Lists!$I$8,FL8&\" год\",\nIF($P$6=Lists!$I$9,YEAR(FL7)&\"г.\",\"\"))))))","v":""},{"$f":"IF(OR($P$6=\"\",$P$6=0,$P$7=\"\",$P$7=0,$P$8=\"\",$P$7<1),\"\",\nIF(FM$8=\"\",\"\",\nIF($P$6=Lists!$I$6,FM6,\nIF($P$6=Lists!$I$7,INT(MONTH(FM7)/3)&\"кв\"&(YEAR(FM7)-2000)&\"г\",\nIF($P$6=Lists!$I$8,FM8&\" год\",\nIF($P$6=Lists!$I$9,YEAR(FM7)&\"г.\",\"\"))))))","v":""},{"$f":"IF(OR($P$6=\"\",$P$6=0,$P$7=\"\",$P$7=0,$P$8=\"\",$P$7<1),\"\",\nIF(FN$8=\"\",\"\",\nIF($P$6=Lists!$I$6,FN6,\nIF($P$6=Lists!$I$7,INT(MONTH(FN7)/3)&\"кв\"&(YEAR(FN7)-2000)&\"г\",\nIF($P$6=Lists!$I$8,FN8&\" год\",\nIF($P$6=Lists!$I$9,YEAR(FN7)&\"г.\",\"\"))))))","v":""},{"$f":"IF(OR($P$6=\"\",$P$6=0,$P$7=\"\",$P$7=0,$P$8=\"\",$P$7<1),\"\",\nIF(FO$8=\"\",\"\",\nIF($P$6=Lists!$I$6,FO6,\nIF($P$6=Lists!$I$7,INT(MONTH(FO7)/3)&\"кв\"&(YEAR(FO7)-2000)&\"г\",\nIF($P$6=Lists!$I$8,FO8&\" год\",\nIF($P$6=Lists!$I$9,YEAR(FO7)&\"г.\",\"\"))))))","v":""},{"$f":"IF(OR($P$6=\"\",$P$6=0,$P$7=\"\",$P$7=0,$P$8=\"\",$P$7<1),\"\",\nIF(FP$8=\"\",\"\",\nIF($P$6=Lists!$I$6,FP6,\nIF($P$6=Lists!$I$7,INT(MONTH(FP7)/3)&\"кв\"&(YEAR(FP7)-2000)&\"г\",\nIF($P$6=Lists!$I$8,FP8&\" год\",\nIF($P$6=Lists!$I$9,YEAR(FP7)&\"г.\",\"\"))))))","v":""},{"$f":"IF(OR($P$6=\"\",$P$6=0,$P$7=\"\",$P$7=0,$P$8=\"\",$P$7<1),\"\",\nIF(FQ$8=\"\",\"\",\nIF($P$6=Lists!$I$6,FQ6,\nIF($P$6=Lists!$I$7,INT(MONTH(FQ7)/3)&\"кв\"&(YEAR(FQ7)-2000)&\"г\",\nIF($P$6=Lists!$I$8,FQ8&\" год\",\nIF($P$6=Lists!$I$9,YEAR(FQ7)&\"г.\",\"\"))))))","v":""},{"$f":"IF(OR($P$6=\"\",$P$6=0,$P$7=\"\",$P$7=0,$P$8=\"\",$P$7<1),\"\",\nIF(FR$8=\"\",\"\",\nIF($P$6=Lists!$I$6,FR6,\nIF($P$6=Lists!$I$7,INT(MONTH(FR7)/3)&\"кв\"&(YEAR(FR7)-2000)&\"г\",\nIF($P$6=Lists!$I$8,FR8&\" год\",\nIF($P$6=Lists!$I$9,YEAR(FR7)&\"г.\",\"\"))))))","v":""},{"$f":"IF(OR($P$6=\"\",$P$6=0,$P$7=\"\",$P$7=0,$P$8=\"\",$P$7<1),\"\",\nIF(FS$8=\"\",\"\",\nIF($P$6=Lists!$I$6,FS6,\nIF($P$6=Lists!$I$7,INT(MONTH(FS7)/3)&\"кв\"&(YEAR(FS7)-2000)&\"г\",\nIF($P$6=Lists!$I$8,FS8&\" год\",\nIF($P$6=Lists!$I$9,YEAR(FS7)&\"г.\",\"\"))))))","v":""},{"$f":"IF(OR($P$6=\"\",$P$6=0,$P$7=\"\",$P$7=0,$P$8=\"\",$P$7<1),\"\",\nIF(FT$8=\"\",\"\",\nIF($P$6=Lists!$I$6,FT6,\nIF($P$6=Lists!$I$7,INT(MONTH(FT7)/3)&\"кв\"&(YEAR(FT7)-2000)&\"г\",\nIF($P$6=Lists!$I$8,FT8&\" год\",\nIF($P$6=Lists!$I$9,YEAR(FT7)&\"г.\",\"\"))))))","v":""},{"$f":"IF(OR($P$6=\"\",$P$6=0,$P$7=\"\",$P$7=0,$P$8=\"\",$P$7<1),\"\",\nIF(FU$8=\"\",\"\",\nIF($P$6=Lists!$I$6,FU6,\nIF($P$6=Lists!$I$7,INT(MONTH(FU7)/3)&\"кв\"&(YEAR(FU7)-2000)&\"г\",\nIF($P$6=Lists!$I$8,FU8&\" год\",\nIF($P$6=Lists!$I$9,YEAR(FU7)&\"г.\",\"\"))))))","v":""},{"$f":"IF(OR($P$6=\"\",$P$6=0,$P$7=\"\",$P$7=0,$P$8=\"\",$P$7<1),\"\",\nIF(FV$8=\"\",\"\",\nIF($P$6=Lists!$I$6,FV6,\nIF($P$6=Lists!$I$7,INT(MONTH(FV7)/3)&\"кв\"&(YEAR(FV7)-2000)&\"г\",\nIF($P$6=Lists!$I$8,FV8&\" год\",\nIF($P$6=Lists!$I$9,YEAR(FV7)&\"г.\",\"\"))))))","v":""},{"$f":"IF(OR($P$6=\"\",$P$6=0,$P$7=\"\",$P$7=0,$P$8=\"\",$P$7<1),\"\",\nIF(FW$8=\"\",\"\",\nIF($P$6=Lists!$I$6,FW6,\nIF($P$6=Lists!$I$7,INT(MONTH(FW7)/3)&\"кв\"&(YEAR(FW7)-2000)&\"г\",\nIF($P$6=Lists!$I$8,FW8&\" год\",\nIF($P$6=Lists!$I$9,YEAR(FW7)&\"г.\",\"\"))))))","v":""},{"$f":"IF(OR($P$6=\"\",$P$6=0,$P$7=\"\",$P$7=0,$P$8=\"\",$P$7<1),\"\",\nIF(FX$8=\"\",\"\",\nIF($P$6=Lists!$I$6,FX6,\nIF($P$6=Lists!$I$7,INT(MONTH(FX7)/3)&\"кв\"&(YEAR(FX7)-2000)&\"г\",\nIF($P$6=Lists!$I$8,FX8&\" год\",\nIF($P$6=Lists!$I$9,YEAR(FX7)&\"г.\",\"\"))))))","v":""},{"$f":"IF(OR($P$6=\"\",$P$6=0,$P$7=\"\",$P$7=0,$P$8=\"\",$P$7<1),\"\",\nIF(FY$8=\"\",\"\",\nIF($P$6=Lists!$I$6,FY6,\nIF($P$6=Lists!$I$7,INT(MONTH(FY7)/3)&\"кв\"&(YEAR(FY7)-2000)&\"г\",\nIF($P$6=Lists!$I$8,FY8&\" год\",\nIF($P$6=Lists!$I$9,YEAR(FY7)&\"г.\",\"\"))))))","v":""},{"$f":"IF(OR($P$6=\"\",$P$6=0,$P$7=\"\",$P$7=0,$P$8=\"\",$P$7<1),\"\",\nIF(FZ$8=\"\",\"\",\nIF($P$6=Lists!$I$6,FZ6,\nIF($P$6=Lists!$I$7,INT(MONTH(FZ7)/3)&\"кв\"&(YEAR(FZ7)-2000)&\"г\",\nIF($P$6=Lists!$I$8,FZ8&\" год\",\nIF($P$6=Lists!$I$9,YEAR(FZ7)&\"г.\",\"\"))))))","v":""},{"$f":"IF(OR($P$6=\"\",$P$6=0,$P$7=\"\",$P$7=0,$P$8=\"\",$P$7<1),\"\",\nIF(GA$8=\"\",\"\",\nIF($P$6=Lists!$I$6,GA6,\nIF($P$6=Lists!$I$7,INT(MONTH(GA7)/3)&\"кв\"&(YEAR(GA7)-2000)&\"г\",\nIF($P$6=Lists!$I$8,GA8&\" год\",\nIF($P$6=Lists!$I$9,YEAR(GA7)&\"г.\",\"\"))))))","v":""},{"$f":"IF(OR($P$6=\"\",$P$6=0,$P$7=\"\",$P$7=0,$P$8=\"\",$P$7<1),\"\",\nIF(GB$8=\"\",\"\",\nIF($P$6=Lists!$I$6,GB6,\nIF($P$6=Lists!$I$7,INT(MONTH(GB7)/3)&\"кв\"&(YEAR(GB7)-2000)&\"г\",\nIF($P$6=Lists!$I$8,GB8&\" год\",\nIF($P$6=Lists!$I$9,YEAR(GB7)&\"г.\",\"\"))))))","v":""},{"$f":"IF(OR($P$6=\"\",$P$6=0,$P$7=\"\",$P$7=0,$P$8=\"\",$P$7<1),\"\",\nIF(GC$8=\"\",\"\",\nIF($P$6=Lists!$I$6,GC6,\nIF($P$6=Lists!$I$7,INT(MONTH(GC7)/3)&\"кв\"&(YEAR(GC7)-2000)&\"г\",\nIF($P$6=Lists!$I$8,GC8&\" год\",\nIF($P$6=Lists!$I$9,YEAR(GC7)&\"г.\",\"\"))))))","v":""},{"$f":"IF(OR($P$6=\"\",$P$6=0,$P$7=\"\",$P$7=0,$P$8=\"\",$P$7<1),\"\",\nIF(GD$8=\"\",\"\",\nIF($P$6=Lists!$I$6,GD6,\nIF($P$6=Lists!$I$7,INT(MONTH(GD7)/3)&\"кв\"&(YEAR(GD7)-2000)&\"г\",\nIF($P$6=Lists!$I$8,GD8&\" год\",\nIF($P$6=Lists!$I$9,YEAR(GD7)&\"г.\",\"\"))))))","v":""},{"$f":"IF(OR($P$6=\"\",$P$6=0,$P$7=\"\",$P$7=0,$P$8=\"\",$P$7<1),\"\",\nIF(GE$8=\"\",\"\",\nIF($P$6=Lists!$I$6,GE6,\nIF($P$6=Lists!$I$7,INT(MONTH(GE7)/3)&\"кв\"&(YEAR(GE7)-2000)&\"г\",\nIF($P$6=Lists!$I$8,GE8&\" год\",\nIF($P$6=Lists!$I$9,YEAR(GE7)&\"г.\",\"\"))))))","v":""},{"$f":"IF(OR($P$6=\"\",$P$6=0,$P$7=\"\",$P$7=0,$P$8=\"\",$P$7<1),\"\",\nIF(GF$8=\"\",\"\",\nIF($P$6=Lists!$I$6,GF6,\nIF($P$6=Lists!$I$7,INT(MONTH(GF7)/3)&\"кв\"&(YEAR(GF7)-2000)&\"г\",\nIF($P$6=Lists!$I$8,GF8&\" год\",\nIF($P$6=Lists!$I$9,YEAR(GF7)&\"г.\",\"\"))))))","v":""},{"$f":"IF(OR($P$6=\"\",$P$6=0,$P$7=\"\",$P$7=0,$P$8=\"\",$P$7<1),\"\",\nIF(GG$8=\"\",\"\",\nIF($P$6=Lists!$I$6,GG6,\nIF($P$6=Lists!$I$7,INT(MONTH(GG7)/3)&\"кв\"&(YEAR(GG7)-2000)&\"г\",\nIF($P$6=Lists!$I$8,GG8&\" год\",\nIF($P$6=Lists!$I$9,YEAR(GG7)&\"г.\",\"\"))))))","v":""},{"$f":"IF(OR($P$6=\"\",$P$6=0,$P$7=\"\",$P$7=0,$P$8=\"\",$P$7<1),\"\",\nIF(GH$8=\"\",\"\",\nIF($P$6=Lists!$I$6,GH6,\nIF($P$6=Lists!$I$7,INT(MONTH(GH7)/3)&\"кв\"&(YEAR(GH7)-2000)&\"г\",\nIF($P$6=Lists!$I$8,GH8&\" год\",\nIF($P$6=Lists!$I$9,YEAR(GH7)&\"г.\",\"\"))))))","v":""},{"$f":"IF(OR($P$6=\"\",$P$6=0,$P$7=\"\",$P$7=0,$P$8=\"\",$P$7<1),\"\",\nIF(GI$8=\"\",\"\",\nIF($P$6=Lists!$I$6,GI6,\nIF($P$6=Lists!$I$7,INT(MONTH(GI7)/3)&\"кв\"&(YEAR(GI7)-2000)&\"г\",\nIF($P$6=Lists!$I$8,GI8&\" год\",\nIF($P$6=Lists!$I$9,YEAR(GI7)&\"г.\",\"\"))))))","v":""},{"$f":"IF(OR($P$6=\"\",$P$6=0,$P$7=\"\",$P$7=0,$P$8=\"\",$P$7<1),\"\",\nIF(GJ$8=\"\",\"\",\nIF($P$6=Lists!$I$6,GJ6,\nIF($P$6=Lists!$I$7,INT(MONTH(GJ7)/3)&\"кв\"&(YEAR(GJ7)-2000)&\"г\",\nIF($P$6=Lists!$I$8,GJ8&\" год\",\nIF($P$6=Lists!$I$9,YEAR(GJ7)&\"г.\",\"\"))))))","v":""},{"$f":"IF(OR($P$6=\"\",$P$6=0,$P$7=\"\",$P$7=0,$P$8=\"\",$P$7<1),\"\",\nIF(GK$8=\"\",\"\",\nIF($P$6=Lists!$I$6,GK6,\nIF($P$6=Lists!$I$7,INT(MONTH(GK7)/3)&\"кв\"&(YEAR(GK7)-2000)&\"г\",\nIF($P$6=Lists!$I$8,GK8&\" год\",\nIF($P$6=Lists!$I$9,YEAR(GK7)&\"г.\",\"\"))))))","v":""},{"$f":"IF(OR($P$6=\"\",$P$6=0,$P$7=\"\",$P$7=0,$P$8=\"\",$P$7<1),\"\",\nIF(GL$8=\"\",\"\",\nIF($P$6=Lists!$I$6,GL6,\nIF($P$6=Lists!$I$7,INT(MONTH(GL7)/3)&\"кв\"&(YEAR(GL7)-2000)&\"г\",\nIF($P$6=Lists!$I$8,GL8&\" год\",\nIF($P$6=Lists!$I$9,YEAR(GL7)&\"г.\",\"\"))))))","v":""},{"$f":"IF(OR($P$6=\"\",$P$6=0,$P$7=\"\",$P$7=0,$P$8=\"\",$P$7<1),\"\",\nIF(GM$8=\"\",\"\",\nIF($P$6=Lists!$I$6,GM6,\nIF($P$6=Lists!$I$7,INT(MONTH(GM7)/3)&\"кв\"&(YEAR(GM7)-2000)&\"г\",\nIF($P$6=Lists!$I$8,GM8&\" год\",\nIF($P$6=Lists!$I$9,YEAR(GM7)&\"г.\",\"\"))))))","v":""},{"$f":"IF(OR($P$6=\"\",$P$6=0,$P$7=\"\",$P$7=0,$P$8=\"\",$P$7<1),\"\",\nIF(GN$8=\"\",\"\",\nIF($P$6=Lists!$I$6,GN6,\nIF($P$6=Lists!$I$7,INT(MONTH(GN7)/3)&\"кв\"&(YEAR(GN7)-2000)&\"г\",\nIF($P$6=Lists!$I$8,GN8&\" год\",\nIF($P$6=Lists!$I$9,YEAR(GN7)&\"г.\",\"\"))))))","v":""},{"$f":"IF(OR($P$6=\"\",$P$6=0,$P$7=\"\",$P$7=0,$P$8=\"\",$P$7<1),\"\",\nIF(GO$8=\"\",\"\",\nIF($P$6=Lists!$I$6,GO6,\nIF($P$6=Lists!$I$7,INT(MONTH(GO7)/3)&\"кв\"&(YEAR(GO7)-2000)&\"г\",\nIF($P$6=Lists!$I$8,GO8&\" год\",\nIF($P$6=Lists!$I$9,YEAR(GO7)&\"г.\",\"\"))))))","v":""},{"$f":"IF(OR($P$6=\"\",$P$6=0,$P$7=\"\",$P$7=0,$P$8=\"\",$P$7<1),\"\",\nIF(GP$8=\"\",\"\",\nIF($P$6=Lists!$I$6,GP6,\nIF($P$6=Lists!$I$7,INT(MONTH(GP7)/3)&\"кв\"&(YEAR(GP7)-2000)&\"г\",\nIF($P$6=Lists!$I$8,GP8&\" год\",\nIF($P$6=Lists!$I$9,YEAR(GP7)&\"г.\",\"\"))))))","v":""},{"$f":"IF(OR($P$6=\"\",$P$6=0,$P$7=\"\",$P$7=0,$P$8=\"\",$P$7<1),\"\",\nIF(GQ$8=\"\",\"\",\nIF($P$6=Lists!$I$6,GQ6,\nIF($P$6=Lists!$I$7,INT(MONTH(GQ7)/3)&\"кв\"&(YEAR(GQ7)-2000)&\"г\",\nIF($P$6=Lists!$I$8,GQ8&\" год\",\nIF($P$6=Lists!$I$9,YEAR(GQ7)&\"г.\",\"\"))))))","v":""},{"$f":"IF(OR($P$6=\"\",$P$6=0,$P$7=\"\",$P$7=0,$P$8=\"\",$P$7<1),\"\",\nIF(GR$8=\"\",\"\",\nIF($P$6=Lists!$I$6,GR6,\nIF($P$6=Lists!$I$7,INT(MONTH(GR7)/3)&\"кв\"&(YEAR(GR7)-2000)&\"г\",\nIF($P$6=Lists!$I$8,GR8&\" год\",\nIF($P$6=Lists!$I$9,YEAR(GR7)&\"г.\",\"\"))))))","v":""},{"$f":"IF(OR($P$6=\"\",$P$6=0,$P$7=\"\",$P$7=0,$P$8=\"\",$P$7<1),\"\",\nIF(GS$8=\"\",\"\",\nIF($P$6=Lists!$I$6,GS6,\nIF($P$6=Lists!$I$7,INT(MONTH(GS7)/3)&\"кв\"&(YEAR(GS7)-2000)&\"г\",\nIF($P$6=Lists!$I$8,GS8&\" год\",\nIF($P$6=Lists!$I$9,YEAR(GS7)&\"г.\",\"\"))))))","v":""},{"$f":"IF(OR($P$6=\"\",$P$6=0,$P$7=\"\",$P$7=0,$P$8=\"\",$P$7<1),\"\",\nIF(GT$8=\"\",\"\",\nIF($P$6=Lists!$I$6,GT6,\nIF($P$6=Lists!$I$7,INT(MONTH(GT7)/3)&\"кв\"&(YEAR(GT7)-2000)&\"г\",\nIF($P$6=Lists!$I$8,GT8&\" год\",\nIF($P$6=Lists!$I$9,YEAR(GT7)&\"г.\",\"\"))))))","v":""},{"$f":"IF(OR($P$6=\"\",$P$6=0,$P$7=\"\",$P$7=0,$P$8=\"\",$P$7<1),\"\",\nIF(GU$8=\"\",\"\",\nIF($P$6=Lists!$I$6,GU6,\nIF($P$6=Lists!$I$7,INT(MONTH(GU7)/3)&\"кв\"&(YEAR(GU7)-2000)&\"г\",\nIF($P$6=Lists!$I$8,GU8&\" год\",\nIF($P$6=Lists!$I$9,YEAR(GU7)&\"г.\",\"\"))))))","v":""},{"$f":"IF(OR($P$6=\"\",$P$6=0,$P$7=\"\",$P$7=0,$P$8=\"\",$P$7<1),\"\",\nIF(GV$8=\"\",\"\",\nIF($P$6=Lists!$I$6,GV6,\nIF($P$6=Lists!$I$7,INT(MONTH(GV7)/3)&\"кв\"&(YEAR(GV7)-2000)&\"г\",\nIF($P$6=Lists!$I$8,GV8&\" год\",\nIF($P$6=Lists!$I$9,YEAR(GV7)&\"г.\",\"\"))))))","v":""}]
[]
[null,{"$f":"ROW()","v":6},null,null,null,null,null,"минимальный период расчетов","минимальный период расчетов",null,null,null,"тип периода",null,null,"месяц",null,null,null,null,{"$f":"X6","v":"2023-01-01"},null,null,{"$f":"IF(OR($P$6=\"\",$P$6=0,$P$7=\"\",$P$7=0,$P$8=\"\",$P$7<1),\"\",\nIF(X$8=\"\",\"\",\nIF(X$8=1,EOMONTH($P$7,-1)+1,W7+1)))","v":"2023-01-01"},{"$f":"IF(OR($P$6=\"\",$P$6=0,$P$7=\"\",$P$7=0,$P$8=\"\",$P$7<1),\"\",\nIF(Y$8=\"\",\"\",\nIF(Y$8=1,EOMONTH($P$7,-1)+1,X7+1)))","v":"2023-02-01"},"2023-03-01","2023-04-01","2023-05-01","2023-06-01","2023-07-01",{"$f":"IF(OR($P$6=\"\",$P$6=0,$P$7=\"\",$P$7=0,$P$8=\"\",$P$7<1),\"\",\nIF(AE$8=\"\",\"\",\nIF(AE$8=1,EOMONTH($P$7,-1)+1,AD7+1)))","v":"2023-08-01"},{"$f":"IF(OR($P$6=\"\",$P$6=0,$P$7=\"\",$P$7=0,$P$8=\"\",$P$7<1),\"\",\nIF(AF$8=\"\",\"\",\nIF(AF$8=1,EOMONTH($P$7,-1)+1,AE7+1)))","v":"2023-09-01"},{"$f":"IF(OR($P$6=\"\",$P$6=0,$P$7=\"\",$P$7=0,$P$8=\"\",$P$7<1),\"\",\nIF(AG$8=\"\",\"\",\nIF(AG$8=1,EOMONTH($P$7,-1)+1,AF7+1)))","v":"2023-10-01"},{"$f":"IF(OR($P$6=\"\",$P$6=0,$P$7=\"\",$P$7=0,$P$8=\"\",$P$7<1),\"\",\nIF(AH$8=\"\",\"\",\nIF(AH$8=1,EOMONTH($P$7,-1)+1,AG7+1)))","v":"2023-11-01"},{"$f":"IF(OR($P$6=\"\",$P$6=0,$P$7=\"\",$P$7=0,$P$8=\"\",$P$7<1),\"\",\nIF(AI$8=\"\",\"\",\nIF(AI$8=1,EOMONTH($P$7,-1)+1,AH7+1)))","v":"2023-12-01"},{"$f":"IF(OR($P$6=\"\",$P$6=0,$P$7=\"\",$P$7=0,$P$8=\"\",$P$7<1),\"\",\nIF(AJ$8=\"\",\"\",\nIF(AJ$8=1,EOMONTH($P$7,-1)+1,AI7+1)))","v":"2024-01-01"},{"$f":"IF(OR($P$6=\"\",$P$6=0,$P$7=\"\",$P$7=0,$P$8=\"\",$P$7<1),\"\",\nIF(AK$8=\"\",\"\",\nIF(AK$8=1,EOMONTH($P$7,-1)+1,AJ7+1)))","v":"2024-02-01"},{"$f":"IF(OR($P$6=\"\",$P$6=0,$P$7=\"\",$P$7=0,$P$8=\"\",$P$7<1),\"\",\nIF(AL$8=\"\",\"\",\nIF(AL$8=1,EOMONTH($P$7,-1)+1,AK7+1)))","v":"2024-03-01"},{"$f":"IF(OR($P$6=\"\",$P$6=0,$P$7=\"\",$P$7=0,$P$8=\"\",$P$7<1),\"\",\nIF(AM$8=\"\",\"\",\nIF(AM$8=1,EOMONTH($P$7,-1)+1,AL7+1)))","v":"2024-04-01"},{"$f":"IF(OR($P$6=\"\",$P$6=0,$P$7=\"\",$P$7=0,$P$8=\"\",$P$7<1),\"\",\nIF(AN$8=\"\",\"\",\nIF(AN$8=1,EOMONTH($P$7,-1)+1,AM7+1)))","v":"2024-05-01"},{"$f":"IF(OR($P$6=\"\",$P$6=0,$P$7=\"\",$P$7=0,$P$8=\"\",$P$7<1),\"\",\nIF(AO$8=\"\",\"\",\nIF(AO$8=1,EOMONTH($P$7,-1)+1,AN7+1)))","v":"2024-06-01"},{"$f":"IF(OR($P$6=\"\",$P$6=0,$P$7=\"\",$P$7=0,$P$8=\"\",$P$7<1),\"\",\nIF(AP$8=\"\",\"\",\nIF(AP$8=1,EOMONTH($P$7,-1)+1,AO7+1)))","v":"2024-07-01"},{"$f":"IF(OR($P$6=\"\",$P$6=0,$P$7=\"\",$P$7=0,$P$8=\"\",$P$7<1),\"\",\nIF(AQ$8=\"\",\"\",\nIF(AQ$8=1,EOMONTH($P$7,-1)+1,AP7+1)))","v":"2024-08-01"},{"$f":"IF(OR($P$6=\"\",$P$6=0,$P$7=\"\",$P$7=0,$P$8=\"\",$P$7<1),\"\",\nIF(AR$8=\"\",\"\",\nIF(AR$8=1,EOMONTH($P$7,-1)+1,AQ7+1)))","v":"2024-09-01"},{"$f":"IF(OR($P$6=\"\",$P$6=0,$P$7=\"\",$P$7=0,$P$8=\"\",$P$7<1),\"\",\nIF(AS$8=\"\",\"\",\nIF(AS$8=1,EOMONTH($P$7,-1)+1,AR7+1)))","v":"2024-10-01"},{"$f":"IF(OR($P$6=\"\",$P$6=0,$P$7=\"\",$P$7=0,$P$8=\"\",$P$7<1),\"\",\nIF(AT$8=\"\",\"\",\nIF(AT$8=1,EOMONTH($P$7,-1)+1,AS7+1)))","v":"2024-11-01"},{"$f":"IF(OR($P$6=\"\",$P$6=0,$P$7=\"\",$P$7=0,$P$8=\"\",$P$7<1),\"\",\nIF(AU$8=\"\",\"\",\nIF(AU$8=1,EOMONTH($P$7,-1)+1,AT7+1)))","v":"2024-12-01"},{"$f":"IF(OR($P$6=\"\",$P$6=0,$P$7=\"\",$P$7=0,$P$8=\"\",$P$7<1),\"\",\nIF(AV$8=\"\",\"\",\nIF(AV$8=1,EOMONTH($P$7,-1)+1,AU7+1)))","v":"2025-01-01"},{"$f":"IF(OR($P$6=\"\",$P$6=0,$P$7=\"\",$P$7=0,$P$8=\"\",$P$7<1),\"\",\nIF(AW$8=\"\",\"\",\nIF(AW$8=1,EOMONTH($P$7,-1)+1,AV7+1)))","v":"2025-02-01"},{"$f":"IF(OR($P$6=\"\",$P$6=0,$P$7=\"\",$P$7=0,$P$8=\"\",$P$7<1),\"\",\nIF(AX$8=\"\",\"\",\nIF(AX$8=1,EOMONTH($P$7,-1)+1,AW7+1)))","v":"2025-03-01"},{"$f":"IF(OR($P$6=\"\",$P$6=0,$P$7=\"\",$P$7=0,$P$8=\"\",$P$7<1),\"\",\nIF(AY$8=\"\",\"\",\nIF(AY$8=1,EOMONTH($P$7,-1)+1,AX7+1)))","v":"2025-04-01"},{"$f":"IF(OR($P$6=\"\",$P$6=0,$P$7=\"\",$P$7=0,$P$8=\"\",$P$7<1),\"\",\nIF(AZ$8=\"\",\"\",\nIF(AZ$8=1,EOMONTH($P$7,-1)+1,AY7+1)))","v":"2025-05-01"},{"$f":"IF(OR($P$6=\"\",$P$6=0,$P$7=\"\",$P$7=0,$P$8=\"\",$P$7<1),\"\",\nIF(BA$8=\"\",\"\",\nIF(BA$8=1,EOMONTH($P$7,-1)+1,AZ7+1)))","v":"2025-06-01"},{"$f":"IF(OR($P$6=\"\",$P$6=0,$P$7=\"\",$P$7=0,$P$8=\"\",$P$7<1),\"\",\nIF(BB$8=\"\",\"\",\nIF(BB$8=1,EOMONTH($P$7,-1)+1,BA7+1)))","v":"2025-07-01"},{"$f":"IF(OR($P$6=\"\",$P$6=0,$P$7=\"\",$P$7=0,$P$8=\"\",$P$7<1),\"\",\nIF(BC$8=\"\",\"\",\nIF(BC$8=1,EOMONTH($P$7,-1)+1,BB7+1)))","v":"2025-08-01"},{"$f":"IF(OR($P$6=\"\",$P$6=0,$P$7=\"\",$P$7=0,$P$8=\"\",$P$7<1),\"\",\nIF(BD$8=\"\",\"\",\nIF(BD$8=1,EOMONTH($P$7,-1)+1,BC7+1)))","v":"2025-09-01"},{"$f":"IF(OR($P$6=\"\",$P$6=0,$P$7=\"\",$P$7=0,$P$8=\"\",$P$7<1),\"\",\nIF(BE$8=\"\",\"\",\nIF(BE$8=1,EOMONTH($P$7,-1)+1,BD7+1)))","v":"2025-10-01"},{"$f":"IF(OR($P$6=\"\",$P$6=0,$P$7=\"\",$P$7=0,$P$8=\"\",$P$7<1),\"\",\nIF(BF$8=\"\",\"\",\nIF(BF$8=1,EOMONTH($P$7,-1)+1,BE7+1)))","v":"2025-11-01"},{"$f":"IF(OR($P$6=\"\",$P$6=0,$P$7=\"\",$P$7=0,$P$8=\"\",$P$7<1),\"\",\nIF(BG$8=\"\",\"\",\nIF(BG$8=1,EOMONTH($P$7,-1)+1,BF7+1)))","v":"2025-12-01"},{"$f":"IF(OR($P$6=\"\",$P$6=0,$P$7=\"\",$P$7=0,$P$8=\"\",$P$7<1),\"\",\nIF(BH$8=\"\",\"\",\nIF(BH$8=1,EOMONTH($P$7,-1)+1,BG7+1)))","v":"2026-01-01"},{"$f":"IF(OR($P$6=\"\",$P$6=0,$P$7=\"\",$P$7=0,$P$8=\"\",$P$7<1),\"\",\nIF(BI$8=\"\",\"\",\nIF(BI$8=1,EOMONTH($P$7,-1)+1,BH7+1)))","v":"2026-02-01"},{"$f":"IF(OR($P$6=\"\",$P$6=0,$P$7=\"\",$P$7=0,$P$8=\"\",$P$7<1),\"\",\nIF(BJ$8=\"\",\"\",\nIF(BJ$8=1,EOMONTH($P$7,-1)+1,BI7+1)))","v":"2026-03-01"},{"$f":"IF(OR($P$6=\"\",$P$6=0,$P$7=\"\",$P$7=0,$P$8=\"\",$P$7<1),\"\",\nIF(BK$8=\"\",\"\",\nIF(BK$8=1,EOMONTH($P$7,-1)+1,BJ7+1)))","v":"2026-04-01"},{"$f":"IF(OR($P$6=\"\",$P$6=0,$P$7=\"\",$P$7=0,$P$8=\"\",$P$7<1),\"\",\nIF(BL$8=\"\",\"\",\nIF(BL$8=1,EOMONTH($P$7,-1)+1,BK7+1)))","v":"2026-05-01"},{"$f":"IF(OR($P$6=\"\",$P$6=0,$P$7=\"\",$P$7=0,$P$8=\"\",$P$7<1),\"\",\nIF(BM$8=\"\",\"\",\nIF(BM$8=1,EOMONTH($P$7,-1)+1,BL7+1)))","v":"2026-06-01"},{"$f":"IF(OR($P$6=\"\",$P$6=0,$P$7=\"\",$P$7=0,$P$8=\"\",$P$7<1),\"\",\nIF(BN$8=\"\",\"\",\nIF(BN$8=1,EOMONTH($P$7,-1)+1,BM7+1)))","v":"2026-07-01"},{"$f":"IF(OR($P$6=\"\",$P$6=0,$P$7=\"\",$P$7=0,$P$8=\"\",$P$7<1),\"\",\nIF(BO$8=\"\",\"\",\nIF(BO$8=1,EOMONTH($P$7,-1)+1,BN7+1)))","v":"2026-08-01"},{"$f":"IF(OR($P$6=\"\",$P$6=0,$P$7=\"\",$P$7=0,$P$8=\"\",$P$7<1),\"\",\nIF(BP$8=\"\",\"\",\nIF(BP$8=1,EOMONTH($P$7,-1)+1,BO7+1)))","v":"2026-09-01"},{"$f":"IF(OR($P$6=\"\",$P$6=0,$P$7=\"\",$P$7=0,$P$8=\"\",$P$7<1),\"\",\nIF(BQ$8=\"\",\"\",\nIF(BQ$8=1,EOMONTH($P$7,-1)+1,BP7+1)))","v":"2026-10-01"},{"$f":"IF(OR($P$6=\"\",$P$6=0,$P$7=\"\",$P$7=0,$P$8=\"\",$P$7<1),\"\",\nIF(BR$8=\"\",\"\",\nIF(BR$8=1,EOMONTH($P$7,-1)+1,BQ7+1)))","v":"2026-11-01"},{"$f":"IF(OR($P$6=\"\",$P$6=0,$P$7=\"\",$P$7=0,$P$8=\"\",$P$7<1),\"\",\nIF(BS$8=\"\",\"\",\nIF(BS$8=1,EOMONTH($P$7,-1)+1,BR7+1)))","v":"2026-12-01"},{"$f":"IF(OR($P$6=\"\",$P$6=0,$P$7=\"\",$P$7=0,$P$8=\"\",$P$7<1),\"\",\nIF(BT$8=\"\",\"\",\nIF(BT$8=1,EOMONTH($P$7,-1)+1,BS7+1)))","v":"2027-01-01"},{"$f":"IF(OR($P$6=\"\",$P$6=0,$P$7=\"\",$P$7=0,$P$8=\"\",$P$7<1),\"\",\nIF(BU$8=\"\",\"\",\nIF(BU$8=1,EOMONTH($P$7,-1)+1,BT7+1)))","v":"2027-02-01"},{"$f":"IF(OR($P$6=\"\",$P$6=0,$P$7=\"\",$P$7=0,$P$8=\"\",$P$7<1),\"\",\nIF(BV$8=\"\",\"\",\nIF(BV$8=1,EOMONTH($P$7,-1)+1,BU7+1)))","v":"2027-03-01"},{"$f":"IF(OR($P$6=\"\",$P$6=0,$P$7=\"\",$P$7=0,$P$8=\"\",$P$7<1),\"\",\nIF(BW$8=\"\",\"\",\nIF(BW$8=1,EOMONTH($P$7,-1)+1,BV7+1)))","v":"2027-04-01"},{"$f":"IF(OR($P$6=\"\",$P$6=0,$P$7=\"\",$P$7=0,$P$8=\"\",$P$7<1),\"\",\nIF(BX$8=\"\",\"\",\nIF(BX$8=1,EOMONTH($P$7,-1)+1,BW7+1)))","v":"2027-05-01"},{"$f":"IF(OR($P$6=\"\",$P$6=0,$P$7=\"\",$P$7=0,$P$8=\"\",$P$7<1),\"\",\nIF(BY$8=\"\",\"\",\nIF(BY$8=1,EOMONTH($P$7,-1)+1,BX7+1)))","v":"2027-06-01"},{"$f":"IF(OR($P$6=\"\",$P$6=0,$P$7=\"\",$P$7=0,$P$8=\"\",$P$7<1),\"\",\nIF(BZ$8=\"\",\"\",\nIF(BZ$8=1,EOMONTH($P$7,-1)+1,BY7+1)))","v":"2027-07-01"},{"$f":"IF(OR($P$6=\"\",$P$6=0,$P$7=\"\",$P$7=0,$P$8=\"\",$P$7<1),\"\",\nIF(CA$8=\"\",\"\",\nIF(CA$8=1,EOMONTH($P$7,-1)+1,BZ7+1)))","v":"2027-08-01"},{"$f":"IF(OR($P$6=\"\",$P$6=0,$P$7=\"\",$P$7=0,$P$8=\"\",$P$7<1),\"\",\nIF(CB$8=\"\",\"\",\nIF(CB$8=1,EOMONTH($P$7,-1)+1,CA7+1)))","v":"2027-09-01"},{"$f":"IF(OR($P$6=\"\",$P$6=0,$P$7=\"\",$P$7=0,$P$8=\"\",$P$7<1),\"\",\nIF(CC$8=\"\",\"\",\nIF(CC$8=1,EOMONTH($P$7,-1)+1,CB7+1)))","v":"2027-10-01"},{"$f":"IF(OR($P$6=\"\",$P$6=0,$P$7=\"\",$P$7=0,$P$8=\"\",$P$7<1),\"\",\nIF(CD$8=\"\",\"\",\nIF(CD$8=1,EOMONTH($P$7,-1)+1,CC7+1)))","v":"2027-11-01"},{"$f":"IF(OR($P$6=\"\",$P$6=0,$P$7=\"\",$P$7=0,$P$8=\"\",$P$7<1),\"\",\nIF(CE$8=\"\",\"\",\nIF(CE$8=1,EOMONTH($P$7,-1)+1,CD7+1)))","v":"2027-12-01"},{"$f":"IF(OR($P$6=\"\",$P$6=0,$P$7=\"\",$P$7=0,$P$8=\"\",$P$7<1),\"\",\nIF(CF$8=\"\",\"\",\nIF(CF$8=1,EOMONTH($P$7,-1)+1,CE7+1)))","v":"2028-01-01"},{"$f":"IF(OR($P$6=\"\",$P$6=0,$P$7=\"\",$P$7=0,$P$8=\"\",$P$7<1),\"\",\nIF(CG$8=\"\",\"\",\nIF(CG$8=1,EOMONTH($P$7,-1)+1,CF7+1)))","v":"2028-02-01"},{"$f":"IF(OR($P$6=\"\",$P$6=0,$P$7=\"\",$P$7=0,$P$8=\"\",$P$7<1),\"\",\nIF(CH$8=\"\",\"\",\nIF(CH$8=1,EOMONTH($P$7,-1)+1,CG7+1)))","v":"2028-03-01"},{"$f":"IF(OR($P$6=\"\",$P$6=0,$P$7=\"\",$P$7=0,$P$8=\"\",$P$7<1),\"\",\nIF(CI$8=\"\",\"\",\nIF(CI$8=1,EOMONTH($P$7,-1)+1,CH7+1)))","v":"2028-04-01"},{"$f":"IF(OR($P$6=\"\",$P$6=0,$P$7=\"\",$P$7=0,$P$8=\"\",$P$7<1),\"\",\nIF(CJ$8=\"\",\"\",\nIF(CJ$8=1,EOMONTH($P$7,-1)+1,CI7+1)))","v":"2028-05-01"},{"$f":"IF(OR($P$6=\"\",$P$6=0,$P$7=\"\",$P$7=0,$P$8=\"\",$P$7<1),\"\",\nIF(CK$8=\"\",\"\",\nIF(CK$8=1,EOMONTH($P$7,-1)+1,CJ7+1)))","v":"2028-06-01"},{"$f":"IF(OR($P$6=\"\",$P$6=0,$P$7=\"\",$P$7=0,$P$8=\"\",$P$7<1),\"\",\nIF(CL$8=\"\",\"\",\nIF(CL$8=1,EOMONTH($P$7,-1)+1,CK7+1)))","v":"2028-07-01"},{"$f":"IF(OR($P$6=\"\",$P$6=0,$P$7=\"\",$P$7=0,$P$8=\"\",$P$7<1),\"\",\nIF(CM$8=\"\",\"\",\nIF(CM$8=1,EOMONTH($P$7,-1)+1,CL7+1)))","v":"2028-08-01"},{"$f":"IF(OR($P$6=\"\",$P$6=0,$P$7=\"\",$P$7=0,$P$8=\"\",$P$7<1),\"\",\nIF(CN$8=\"\",\"\",\nIF(CN$8=1,EOMONTH($P$7,-1)+1,CM7+1)))","v":"2028-09-01"},{"$f":"IF(OR($P$6=\"\",$P$6=0,$P$7=\"\",$P$7=0,$P$8=\"\",$P$7<1),\"\",\nIF(CO$8=\"\",\"\",\nIF(CO$8=1,EOMONTH($P$7,-1)+1,CN7+1)))","v":"2028-10-01"},{"$f":"IF(OR($P$6=\"\",$P$6=0,$P$7=\"\",$P$7=0,$P$8=\"\",$P$7<1),\"\",\nIF(CP$8=\"\",\"\",\nIF(CP$8=1,EOMONTH($P$7,-1)+1,CO7+1)))","v":"2028-11-01"},{"$f":"IF(OR($P$6=\"\",$P$6=0,$P$7=\"\",$P$7=0,$P$8=\"\",$P$7<1),\"\",\nIF(CQ$8=\"\",\"\",\nIF(CQ$8=1,EOMONTH($P$7,-1)+1,CP7+1)))","v":"2028-12-01"},{"$f":"IF(OR($P$6=\"\",$P$6=0,$P$7=\"\",$P$7=0,$P$8=\"\",$P$7<1),\"\",\nIF(CR$8=\"\",\"\",\nIF(CR$8=1,EOMONTH($P$7,-1)+1,CQ7+1)))","v":"2029-01-01"},{"$f":"IF(OR($P$6=\"\",$P$6=0,$P$7=\"\",$P$7=0,$P$8=\"\",$P$7<1),\"\",\nIF(CS$8=\"\",\"\",\nIF(CS$8=1,EOMONTH($P$7,-1)+1,CR7+1)))","v":"2029-02-01"},{"$f":"IF(OR($P$6=\"\",$P$6=0,$P$7=\"\",$P$7=0,$P$8=\"\",$P$7<1),\"\",\nIF(CT$8=\"\",\"\",\nIF(CT$8=1,EOMONTH($P$7,-1)+1,CS7+1)))","v":"2029-03-01"},{"$f":"IF(OR($P$6=\"\",$P$6=0,$P$7=\"\",$P$7=0,$P$8=\"\",$P$7<1),\"\",\nIF(CU$8=\"\",\"\",\nIF(CU$8=1,EOMONTH($P$7,-1)+1,CT7+1)))","v":"2029-04-01"},{"$f":"IF(OR($P$6=\"\",$P$6=0,$P$7=\"\",$P$7=0,$P$8=\"\",$P$7<1),\"\",\nIF(CV$8=\"\",\"\",\nIF(CV$8=1,EOMONTH($P$7,-1)+1,CU7+1)))","v":"2029-05-01"},{"$f":"IF(OR($P$6=\"\",$P$6=0,$P$7=\"\",$P$7=0,$P$8=\"\",$P$7<1),\"\",\nIF(CW$8=\"\",\"\",\nIF(CW$8=1,EOMONTH($P$7,-1)+1,CV7+1)))","v":"2029-06-01"},{"$f":"IF(OR($P$6=\"\",$P$6=0,$P$7=\"\",$P$7=0,$P$8=\"\",$P$7<1),\"\",\nIF(CX$8=\"\",\"\",\nIF(CX$8=1,EOMONTH($P$7,-1)+1,CW7+1)))","v":"2029-07-01"},{"$f":"IF(OR($P$6=\"\",$P$6=0,$P$7=\"\",$P$7=0,$P$8=\"\",$P$7<1),\"\",\nIF(CY$8=\"\",\"\",\nIF(CY$8=1,EOMONTH($P$7,-1)+1,CX7+1)))","v":"2029-08-01"},{"$f":"IF(OR($P$6=\"\",$P$6=0,$P$7=\"\",$P$7=0,$P$8=\"\",$P$7<1),\"\",\nIF(CZ$8=\"\",\"\",\nIF(CZ$8=1,EOMONTH($P$7,-1)+1,CY7+1)))","v":"2029-09-01"},{"$f":"IF(OR($P$6=\"\",$P$6=0,$P$7=\"\",$P$7=0,$P$8=\"\",$P$7<1),\"\",\nIF(DA$8=\"\",\"\",\nIF(DA$8=1,EOMONTH($P$7,-1)+1,CZ7+1)))","v":"2029-10-01"},{"$f":"IF(OR($P$6=\"\",$P$6=0,$P$7=\"\",$P$7=0,$P$8=\"\",$P$7<1),\"\",\nIF(DB$8=\"\",\"\",\nIF(DB$8=1,EOMONTH($P$7,-1)+1,DA7+1)))","v":"2029-11-01"},{"$f":"IF(OR($P$6=\"\",$P$6=0,$P$7=\"\",$P$7=0,$P$8=\"\",$P$7<1),\"\",\nIF(DC$8=\"\",\"\",\nIF(DC$8=1,EOMONTH($P$7,-1)+1,DB7+1)))","v":"2029-12-01"},{"$f":"IF(OR($P$6=\"\",$P$6=0,$P$7=\"\",$P$7=0,$P$8=\"\",$P$7<1),\"\",\nIF(DD$8=\"\",\"\",\nIF(DD$8=1,EOMONTH($P$7,-1)+1,DC7+1)))","v":"2030-01-01"},{"$f":"IF(OR($P$6=\"\",$P$6=0,$P$7=\"\",$P$7=0,$P$8=\"\",$P$7<1),\"\",\nIF(DE$8=\"\",\"\",\nIF(DE$8=1,EOMONTH($P$7,-1)+1,DD7+1)))","v":"2030-02-01"},{"$f":"IF(OR($P$6=\"\",$P$6=0,$P$7=\"\",$P$7=0,$P$8=\"\",$P$7<1),\"\",\nIF(DF$8=\"\",\"\",\nIF(DF$8=1,EOMONTH($P$7,-1)+1,DE7+1)))","v":"2030-03-01"},{"$f":"IF(OR($P$6=\"\",$P$6=0,$P$7=\"\",$P$7=0,$P$8=\"\",$P$7<1),\"\",\nIF(DG$8=\"\",\"\",\nIF(DG$8=1,EOMONTH($P$7,-1)+1,DF7+1)))","v":"2030-04-01"},{"$f":"IF(OR($P$6=\"\",$P$6=0,$P$7=\"\",$P$7=0,$P$8=\"\",$P$7<1),\"\",\nIF(DH$8=\"\",\"\",\nIF(DH$8=1,EOMONTH($P$7,-1)+1,DG7+1)))","v":"2030-05-01"},{"$f":"IF(OR($P$6=\"\",$P$6=0,$P$7=\"\",$P$7=0,$P$8=\"\",$P$7<1),\"\",\nIF(DI$8=\"\",\"\",\nIF(DI$8=1,EOMONTH($P$7,-1)+1,DH7+1)))","v":"2030-06-01"},{"$f":"IF(OR($P$6=\"\",$P$6=0,$P$7=\"\",$P$7=0,$P$8=\"\",$P$7<1),\"\",\nIF(DJ$8=\"\",\"\",\nIF(DJ$8=1,EOMONTH($P$7,-1)+1,DI7+1)))","v":"2030-07-01"},{"$f":"IF(OR($P$6=\"\",$P$6=0,$P$7=\"\",$P$7=0,$P$8=\"\",$P$7<1),\"\",\nIF(DK$8=\"\",\"\",\nIF(DK$8=1,EOMONTH($P$7,-1)+1,DJ7+1)))","v":"2030-08-01"},{"$f":"IF(OR($P$6=\"\",$P$6=0,$P$7=\"\",$P$7=0,$P$8=\"\",$P$7<1),\"\",\nIF(DL$8=\"\",\"\",\nIF(DL$8=1,EOMONTH($P$7,-1)+1,DK7+1)))","v":"2030-09-01"},{"$f":"IF(OR($P$6=\"\",$P$6=0,$P$7=\"\",$P$7=0,$P$8=\"\",$P$7<1),\"\",\nIF(DM$8=\"\",\"\",\nIF(DM$8=1,EOMONTH($P$7,-1)+1,DL7+1)))","v":"2030-10-01"},{"$f":"IF(OR($P$6=\"\",$P$6=0,$P$7=\"\",$P$7=0,$P$8=\"\",$P$7<1),\"\",\nIF(DN$8=\"\",\"\",\nIF(DN$8=1,EOMONTH($P$7,-1)+1,DM7+1)))","v":"2030-11-01"},{"$f":"IF(OR($P$6=\"\",$P$6=0,$P$7=\"\",$P$7=0,$P$8=\"\",$P$7<1),\"\",\nIF(DO$8=\"\",\"\",\nIF(DO$8=1,EOMONTH($P$7,-1)+1,DN7+1)))","v":"2030-12-01"},{"$f":"IF(OR($P$6=\"\",$P$6=0,$P$7=\"\",$P$7=0,$P$8=\"\",$P$7<1),\"\",\nIF(DP$8=\"\",\"\",\nIF(DP$8=1,EOMONTH($P$7,-1)+1,DO7+1)))","v":"2031-01-01"},{"$f":"IF(OR($P$6=\"\",$P$6=0,$P$7=\"\",$P$7=0,$P$8=\"\",$P$7<1),\"\",\nIF(DQ$8=\"\",\"\",\nIF(DQ$8=1,EOMONTH($P$7,-1)+1,DP7+1)))","v":"2031-02-01"},{"$f":"IF(OR($P$6=\"\",$P$6=0,$P$7=\"\",$P$7=0,$P$8=\"\",$P$7<1),\"\",\nIF(DR$8=\"\",\"\",\nIF(DR$8=1,EOMONTH($P$7,-1)+1,DQ7+1)))","v":"2031-03-01"},{"$f":"IF(OR($P$6=\"\",$P$6=0,$P$7=\"\",$P$7=0,$P$8=\"\",$P$7<1),\"\",\nIF(DS$8=\"\",\"\",\nIF(DS$8=1,EOMONTH($P$7,-1)+1,DR7+1)))","v":"2031-04-01"},{"$f":"IF(OR($P$6=\"\",$P$6=0,$P$7=\"\",$P$7=0,$P$8=\"\",$P$7<1),\"\",\nIF(DT$8=\"\",\"\",\nIF(DT$8=1,EOMONTH($P$7,-1)+1,DS7+1)))","v":"2031-05-01"},{"$f":"IF(OR($P$6=\"\",$P$6=0,$P$7=\"\",$P$7=0,$P$8=\"\",$P$7<1),\"\",\nIF(DU$8=\"\",\"\",\nIF(DU$8=1,EOMONTH($P$7,-1)+1,DT7+1)))","v":"2031-06-01"},{"$f":"IF(OR($P$6=\"\",$P$6=0,$P$7=\"\",$P$7=0,$P$8=\"\",$P$7<1),\"\",\nIF(DV$8=\"\",\"\",\nIF(DV$8=1,EOMONTH($P$7,-1)+1,DU7+1)))","v":"2031-07-01"},{"$f":"IF(OR($P$6=\"\",$P$6=0,$P$7=\"\",$P$7=0,$P$8=\"\",$P$7<1),\"\",\nIF(DW$8=\"\",\"\",\nIF(DW$8=1,EOMONTH($P$7,-1)+1,DV7+1)))","v":"2031-08-01"},{"$f":"IF(OR($P$6=\"\",$P$6=0,$P$7=\"\",$P$7=0,$P$8=\"\",$P$7<1),\"\",\nIF(DX$8=\"\",\"\",\nIF(DX$8=1,EOMONTH($P$7,-1)+1,DW7+1)))","v":"2031-09-01"},{"$f":"IF(OR($P$6=\"\",$P$6=0,$P$7=\"\",$P$7=0,$P$8=\"\",$P$7<1),\"\",\nIF(DY$8=\"\",\"\",\nIF(DY$8=1,EOMONTH($P$7,-1)+1,DX7+1)))","v":"2031-10-01"},{"$f":"IF(OR($P$6=\"\",$P$6=0,$P$7=\"\",$P$7=0,$P$8=\"\",$P$7<1),\"\",\nIF(DZ$8=\"\",\"\",\nIF(DZ$8=1,EOMONTH($P$7,-1)+1,DY7+1)))","v":"2031-11-01"},{"$f":"IF(OR($P$6=\"\",$P$6=0,$P$7=\"\",$P$7=0,$P$8=\"\",$P$7<1),\"\",\nIF(EA$8=\"\",\"\",\nIF(EA$8=1,EOMONTH($P$7,-1)+1,DZ7+1)))","v":"2031-12-01"},{"$f":"IF(OR($P$6=\"\",$P$6=0,$P$7=\"\",$P$7=0,$P$8=\"\",$P$7<1),\"\",\nIF(EB$8=\"\",\"\",\nIF(EB$8=1,EOMONTH($P$7,-1)+1,EA7+1)))","v":"2032-01-01"},{"$f":"IF(OR($P$6=\"\",$P$6=0,$P$7=\"\",$P$7=0,$P$8=\"\",$P$7<1),\"\",\nIF(EC$8=\"\",\"\",\nIF(EC$8=1,EOMONTH($P$7,-1)+1,EB7+1)))","v":"2032-02-01"},{"$f":"IF(OR($P$6=\"\",$P$6=0,$P$7=\"\",$P$7=0,$P$8=\"\",$P$7<1),\"\",\nIF(ED$8=\"\",\"\",\nIF(ED$8=1,EOMONTH($P$7,-1)+1,EC7+1)))","v":"2032-03-01"},{"$f":"IF(OR($P$6=\"\",$P$6=0,$P$7=\"\",$P$7=0,$P$8=\"\",$P$7<1),\"\",\nIF(EE$8=\"\",\"\",\nIF(EE$8=1,EOMONTH($P$7,-1)+1,ED7+1)))","v":"2032-04-01"},{"$f":"IF(OR($P$6=\"\",$P$6=0,$P$7=\"\",$P$7=0,$P$8=\"\",$P$7<1),\"\",\nIF(EF$8=\"\",\"\",\nIF(EF$8=1,EOMONTH($P$7,-1)+1,EE7+1)))","v":"2032-05-01"},{"$f":"IF(OR($P$6=\"\",$P$6=0,$P$7=\"\",$P$7=0,$P$8=\"\",$P$7<1),\"\",\nIF(EG$8=\"\",\"\",\nIF(EG$8=1,EOMONTH($P$7,-1)+1,EF7+1)))","v":"2032-06-01"},{"$f":"IF(OR($P$6=\"\",$P$6=0,$P$7=\"\",$P$7=0,$P$8=\"\",$P$7<1),\"\",\nIF(EH$8=\"\",\"\",\nIF(EH$8=1,EOMONTH($P$7,-1)+1,EG7+1)))","v":"2032-07-01"},{"$f":"IF(OR($P$6=\"\",$P$6=0,$P$7=\"\",$P$7=0,$P$8=\"\",$P$7<1),\"\",\nIF(EI$8=\"\",\"\",\nIF(EI$8=1,EOMONTH($P$7,-1)+1,EH7+1)))","v":"2032-08-01"},{"$f":"IF(OR($P$6=\"\",$P$6=0,$P$7=\"\",$P$7=0,$P$8=\"\",$P$7<1),\"\",\nIF(EJ$8=\"\",\"\",\nIF(EJ$8=1,EOMONTH($P$7,-1)+1,EI7+1)))","v":"2032-09-01"},{"$f":"IF(OR($P$6=\"\",$P$6=0,$P$7=\"\",$P$7=0,$P$8=\"\",$P$7<1),\"\",\nIF(EK$8=\"\",\"\",\nIF(EK$8=1,EOMONTH($P$7,-1)+1,EJ7+1)))","v":"2032-10-01"},{"$f":"IF(OR($P$6=\"\",$P$6=0,$P$7=\"\",$P$7=0,$P$8=\"\",$P$7<1),\"\",\nIF(EL$8=\"\",\"\",\nIF(EL$8=1,EOMONTH($P$7,-1)+1,EK7+1)))","v":"2032-11-01"},{"$f":"IF(OR($P$6=\"\",$P$6=0,$P$7=\"\",$P$7=0,$P$8=\"\",$P$7<1),\"\",\nIF(EM$8=\"\",\"\",\nIF(EM$8=1,EOMONTH($P$7,-1)+1,EL7+1)))","v":"2032-12-01"},{"$f":"IF(OR($P$6=\"\",$P$6=0,$P$7=\"\",$P$7=0,$P$8=\"\",$P$7<1),\"\",\nIF(EN$8=\"\",\"\",\nIF(EN$8=1,EOMONTH($P$7,-1)+1,EM7+1)))","v":""},{"$f":"IF(OR($P$6=\"\",$P$6=0,$P$7=\"\",$P$7=0,$P$8=\"\",$P$7<1),\"\",\nIF(EO$8=\"\",\"\",\nIF(EO$8=1,EOMONTH($P$7,-1)+1,EN7+1)))","v":""},{"$f":"IF(OR($P$6=\"\",$P$6=0,$P$7=\"\",$P$7=0,$P$8=\"\",$P$7<1),\"\",\nIF(EP$8=\"\",\"\",\nIF(EP$8=1,EOMONTH($P$7,-1)+1,EO7+1)))","v":""},{"$f":"IF(OR($P$6=\"\",$P$6=0,$P$7=\"\",$P$7=0,$P$8=\"\",$P$7<1),\"\",\nIF(EQ$8=\"\",\"\",\nIF(EQ$8=1,EOMONTH($P$7,-1)+1,EP7+1)))","v":""},{"$f":"IF(OR($P$6=\"\",$P$6=0,$P$7=\"\",$P$7=0,$P$8=\"\",$P$7<1),\"\",\nIF(ER$8=\"\",\"\",\nIF(ER$8=1,EOMONTH($P$7,-1)+1,EQ7+1)))","v":""},{"$f":"IF(OR($P$6=\"\",$P$6=0,$P$7=\"\",$P$7=0,$P$8=\"\",$P$7<1),\"\",\nIF(ES$8=\"\",\"\",\nIF(ES$8=1,EOMONTH($P$7,-1)+1,ER7+1)))","v":""},{"$f":"IF(OR($P$6=\"\",$P$6=0,$P$7=\"\",$P$7=0,$P$8=\"\",$P$7<1),\"\",\nIF(ET$8=\"\",\"\",\nIF(ET$8=1,EOMONTH($P$7,-1)+1,ES7+1)))","v":""},{"$f":"IF(OR($P$6=\"\",$P$6=0,$P$7=\"\",$P$7=0,$P$8=\"\",$P$7<1),\"\",\nIF(EU$8=\"\",\"\",\nIF(EU$8=1,EOMONTH($P$7,-1)+1,ET7+1)))","v":""},{"$f":"IF(OR($P$6=\"\",$P$6=0,$P$7=\"\",$P$7=0,$P$8=\"\",$P$7<1),\"\",\nIF(EV$8=\"\",\"\",\nIF(EV$8=1,EOMONTH($P$7,-1)+1,EU7+1)))","v":""},{"$f":"IF(OR($P$6=\"\",$P$6=0,$P$7=\"\",$P$7=0,$P$8=\"\",$P$7<1),\"\",\nIF(EW$8=\"\",\"\",\nIF(EW$8=1,EOMONTH($P$7,-1)+1,EV7+1)))","v":""},{"$f":"IF(OR($P$6=\"\",$P$6=0,$P$7=\"\",$P$7=0,$P$8=\"\",$P$7<1),\"\",\nIF(EX$8=\"\",\"\",\nIF(EX$8=1,EOMONTH($P$7,-1)+1,EW7+1)))","v":""},{"$f":"IF(OR($P$6=\"\",$P$6=0,$P$7=\"\",$P$7=0,$P$8=\"\",$P$7<1),\"\",\nIF(EY$8=\"\",\"\",\nIF(EY$8=1,EOMONTH($P$7,-1)+1,EX7+1)))","v":""},{"$f":"IF(OR($P$6=\"\",$P$6=0,$P$7=\"\",$P$7=0,$P$8=\"\",$P$7<1),\"\",\nIF(EZ$8=\"\",\"\",\nIF(EZ$8=1,EOMONTH($P$7,-1)+1,EY7+1)))","v":""},{"$f":"IF(OR($P$6=\"\",$P$6=0,$P$7=\"\",$P$7=0,$P$8=\"\",$P$7<1),\"\",\nIF(FA$8=\"\",\"\",\nIF(FA$8=1,EOMONTH($P$7,-1)+1,EZ7+1)))","v":""},{"$f":"IF(OR($P$6=\"\",$P$6=0,$P$7=\"\",$P$7=0,$P$8=\"\",$P$7<1),\"\",\nIF(FB$8=\"\",\"\",\nIF(FB$8=1,EOMONTH($P$7,-1)+1,FA7+1)))","v":""},{"$f":"IF(OR($P$6=\"\",$P$6=0,$P$7=\"\",$P$7=0,$P$8=\"\",$P$7<1),\"\",\nIF(FC$8=\"\",\"\",\nIF(FC$8=1,EOMONTH($P$7,-1)+1,FB7+1)))","v":""},{"$f":"IF(OR($P$6=\"\",$P$6=0,$P$7=\"\",$P$7=0,$P$8=\"\",$P$7<1),\"\",\nIF(FD$8=\"\",\"\",\nIF(FD$8=1,EOMONTH($P$7,-1)+1,FC7+1)))","v":""},{"$f":"IF(OR($P$6=\"\",$P$6=0,$P$7=\"\",$P$7=0,$P$8=\"\",$P$7<1),\"\",\nIF(FE$8=\"\",\"\",\nIF(FE$8=1,EOMONTH($P$7,-1)+1,FD7+1)))","v":""},{"$f":"IF(OR($P$6=\"\",$P$6=0,$P$7=\"\",$P$7=0,$P$8=\"\",$P$7<1),\"\",\nIF(FF$8=\"\",\"\",\nIF(FF$8=1,EOMONTH($P$7,-1)+1,FE7+1)))","v":""},{"$f":"IF(OR($P$6=\"\",$P$6=0,$P$7=\"\",$P$7=0,$P$8=\"\",$P$7<1),\"\",\nIF(FG$8=\"\",\"\",\nIF(FG$8=1,EOMONTH($P$7,-1)+1,FF7+1)))","v":""},{"$f":"IF(OR($P$6=\"\",$P$6=0,$P$7=\"\",$P$7=0,$P$8=\"\",$P$7<1),\"\",\nIF(FH$8=\"\",\"\",\nIF(FH$8=1,EOMONTH($P$7,-1)+1,FG7+1)))","v":""},{"$f":"IF(OR($P$6=\"\",$P$6=0,$P$7=\"\",$P$7=0,$P$8=\"\",$P$7<1),\"\",\nIF(FI$8=\"\",\"\",\nIF(FI$8=1,EOMONTH($P$7,-1)+1,FH7+1)))","v":""},{"$f":"IF(OR($P$6=\"\",$P$6=0,$P$7=\"\",$P$7=0,$P$8=\"\",$P$7<1),\"\",\nIF(FJ$8=\"\",\"\",\nIF(FJ$8=1,EOMONTH($P$7,-1)+1,FI7+1)))","v":""},{"$f":"IF(OR($P$6=\"\",$P$6=0,$P$7=\"\",$P$7=0,$P$8=\"\",$P$7<1),\"\",\nIF(FK$8=\"\",\"\",\nIF(FK$8=1,EOMONTH($P$7,-1)+1,FJ7+1)))","v":""},{"$f":"IF(OR($P$6=\"\",$P$6=0,$P$7=\"\",$P$7=0,$P$8=\"\",$P$7<1),\"\",\nIF(FL$8=\"\",\"\",\nIF(FL$8=1,EOMONTH($P$7,-1)+1,FK7+1)))","v":""},{"$f":"IF(OR($P$6=\"\",$P$6=0,$P$7=\"\",$P$7=0,$P$8=\"\",$P$7<1),\"\",\nIF(FM$8=\"\",\"\",\nIF(FM$8=1,EOMONTH($P$7,-1)+1,FL7+1)))","v":""},{"$f":"IF(OR($P$6=\"\",$P$6=0,$P$7=\"\",$P$7=0,$P$8=\"\",$P$7<1),\"\",\nIF(FN$8=\"\",\"\",\nIF(FN$8=1,EOMONTH($P$7,-1)+1,FM7+1)))","v":""},{"$f":"IF(OR($P$6=\"\",$P$6=0,$P$7=\"\",$P$7=0,$P$8=\"\",$P$7<1),\"\",\nIF(FO$8=\"\",\"\",\nIF(FO$8=1,EOMONTH($P$7,-1)+1,FN7+1)))","v":""},{"$f":"IF(OR($P$6=\"\",$P$6=0,$P$7=\"\",$P$7=0,$P$8=\"\",$P$7<1),\"\",\nIF(FP$8=\"\",\"\",\nIF(FP$8=1,EOMONTH($P$7,-1)+1,FO7+1)))","v":""},{"$f":"IF(OR($P$6=\"\",$P$6=0,$P$7=\"\",$P$7=0,$P$8=\"\",$P$7<1),\"\",\nIF(FQ$8=\"\",\"\",\nIF(FQ$8=1,EOMONTH($P$7,-1)+1,FP7+1)))","v":""},{"$f":"IF(OR($P$6=\"\",$P$6=0,$P$7=\"\",$P$7=0,$P$8=\"\",$P$7<1),\"\",\nIF(FR$8=\"\",\"\",\nIF(FR$8=1,EOMONTH($P$7,-1)+1,FQ7+1)))","v":""},{"$f":"IF(OR($P$6=\"\",$P$6=0,$P$7=\"\",$P$7=0,$P$8=\"\",$P$7<1),\"\",\nIF(FS$8=\"\",\"\",\nIF(FS$8=1,EOMONTH($P$7,-1)+1,FR7+1)))","v":""},{"$f":"IF(OR($P$6=\"\",$P$6=0,$P$7=\"\",$P$7=0,$P$8=\"\",$P$7<1),\"\",\nIF(FT$8=\"\",\"\",\nIF(FT$8=1,EOMONTH($P$7,-1)+1,FS7+1)))","v":""},{"$f":"IF(OR($P$6=\"\",$P$6=0,$P$7=\"\",$P$7=0,$P$8=\"\",$P$7<1),\"\",\nIF(FU$8=\"\",\"\",\nIF(FU$8=1,EOMONTH($P$7,-1)+1,FT7+1)))","v":""},{"$f":"IF(OR($P$6=\"\",$P$6=0,$P$7=\"\",$P$7=0,$P$8=\"\",$P$7<1),\"\",\nIF(FV$8=\"\",\"\",\nIF(FV$8=1,EOMONTH($P$7,-1)+1,FU7+1)))","v":""},{"$f":"IF(OR($P$6=\"\",$P$6=0,$P$7=\"\",$P$7=0,$P$8=\"\",$P$7<1),\"\",\nIF(FW$8=\"\",\"\",\nIF(FW$8=1,EOMONTH($P$7,-1)+1,FV7+1)))","v":""},{"$f":"IF(OR($P$6=\"\",$P$6=0,$P$7=\"\",$P$7=0,$P$8=\"\",$P$7<1),\"\",\nIF(FX$8=\"\",\"\",\nIF(FX$8=1,EOMONTH($P$7,-1)+1,FW7+1)))","v":""},{"$f":"IF(OR($P$6=\"\",$P$6=0,$P$7=\"\",$P$7=0,$P$8=\"\",$P$7<1),\"\",\nIF(FY$8=\"\",\"\",\nIF(FY$8=1,EOMONTH($P$7,-1)+1,FX7+1)))","v":""},{"$f":"IF(OR($P$6=\"\",$P$6=0,$P$7=\"\",$P$7=0,$P$8=\"\",$P$7<1),\"\",\nIF(FZ$8=\"\",\"\",\nIF(FZ$8=1,EOMONTH($P$7,-1)+1,FY7+1)))","v":""},{"$f":"IF(OR($P$6=\"\",$P$6=0,$P$7=\"\",$P$7=0,$P$8=\"\",$P$7<1),\"\",\nIF(GA$8=\"\",\"\",\nIF(GA$8=1,EOMONTH($P$7,-1)+1,FZ7+1)))","v":""},{"$f":"IF(OR($P$6=\"\",$P$6=0,$P$7=\"\",$P$7=0,$P$8=\"\",$P$7<1),\"\",\nIF(GB$8=\"\",\"\",\nIF(GB$8=1,EOMONTH($P$7,-1)+1,GA7+1)))","v":""},{"$f":"IF(OR($P$6=\"\",$P$6=0,$P$7=\"\",$P$7=0,$P$8=\"\",$P$7<1),\"\",\nIF(GC$8=\"\",\"\",\nIF(GC$8=1,EOMONTH($P$7,-1)+1,GB7+1)))","v":""},{"$f":"IF(OR($P$6=\"\",$P$6=0,$P$7=\"\",$P$7=0,$P$8=\"\",$P$7<1),\"\",\nIF(GD$8=\"\",\"\",\nIF(GD$8=1,EOMONTH($P$7,-1)+1,GC7+1)))","v":""},{"$f":"IF(OR($P$6=\"\",$P$6=0,$P$7=\"\",$P$7=0,$P$8=\"\",$P$7<1),\"\",\nIF(GE$8=\"\",\"\",\nIF(GE$8=1,EOMONTH($P$7,-1)+1,GD7+1)))","v":""},{"$f":"IF(OR($P$6=\"\",$P$6=0,$P$7=\"\",$P$7=0,$P$8=\"\",$P$7<1),\"\",\nIF(GF$8=\"\",\"\",\nIF(GF$8=1,EOMONTH($P$7,-1)+1,GE7+1)))","v":""},{"$f":"IF(OR($P$6=\"\",$P$6=0,$P$7=\"\",$P$7=0,$P$8=\"\",$P$7<1),\"\",\nIF(GG$8=\"\",\"\",\nIF(GG$8=1,EOMONTH($P$7,-1)+1,GF7+1)))","v":""},{"$f":"IF(OR($P$6=\"\",$P$6=0,$P$7=\"\",$P$7=0,$P$8=\"\",$P$7<1),\"\",\nIF(GH$8=\"\",\"\",\nIF(GH$8=1,EOMONTH($P$7,-1)+1,GG7+1)))","v":""},{"$f":"IF(OR($P$6=\"\",$P$6=0,$P$7=\"\",$P$7=0,$P$8=\"\",$P$7<1),\"\",\nIF(GI$8=\"\",\"\",\nIF(GI$8=1,EOMONTH($P$7,-1)+1,GH7+1)))","v":""},{"$f":"IF(OR($P$6=\"\",$P$6=0,$P$7=\"\",$P$7=0,$P$8=\"\",$P$7<1),\"\",\nIF(GJ$8=\"\",\"\",\nIF(GJ$8=1,EOMONTH($P$7,-1)+1,GI7+1)))","v":""},{"$f":"IF(OR($P$6=\"\",$P$6=0,$P$7=\"\",$P$7=0,$P$8=\"\",$P$7<1),\"\",\nIF(GK$8=\"\",\"\",\nIF(GK$8=1,EOMONTH($P$7,-1)+1,GJ7+1)))","v":""},{"$f":"IF(OR($P$6=\"\",$P$6=0,$P$7=\"\",$P$7=0,$P$8=\"\",$P$7<1),\"\",\nIF(GL$8=\"\",\"\",\nIF(GL$8=1,EOMONTH($P$7,-1)+1,GK7+1)))","v":""},{"$f":"IF(OR($P$6=\"\",$P$6=0,$P$7=\"\",$P$7=0,$P$8=\"\",$P$7<1),\"\",\nIF(GM$8=\"\",\"\",\nIF(GM$8=1,EOMONTH($P$7,-1)+1,GL7+1)))","v":""},{"$f":"IF(OR($P$6=\"\",$P$6=0,$P$7=\"\",$P$7=0,$P$8=\"\",$P$7<1),\"\",\nIF(GN$8=\"\",\"\",\nIF(GN$8=1,EOMONTH($P$7,-1)+1,GM7+1)))","v":""},{"$f":"IF(OR($P$6=\"\",$P$6=0,$P$7=\"\",$P$7=0,$P$8=\"\",$P$7<1),\"\",\nIF(GO$8=\"\",\"\",\nIF(GO$8=1,EOMONTH($P$7,-1)+1,GN7+1)))","v":""},{"$f":"IF(OR($P$6=\"\",$P$6=0,$P$7=\"\",$P$7=0,$P$8=\"\",$P$7<1),\"\",\nIF(GP$8=\"\",\"\",\nIF(GP$8=1,EOMONTH($P$7,-1)+1,GO7+1)))","v":""},{"$f":"IF(OR($P$6=\"\",$P$6=0,$P$7=\"\",$P$7=0,$P$8=\"\",$P$7<1),\"\",\nIF(GQ$8=\"\",\"\",\nIF(GQ$8=1,EOMONTH($P$7,-1)+1,GP7+1)))","v":""},{"$f":"IF(OR($P$6=\"\",$P$6=0,$P$7=\"\",$P$7=0,$P$8=\"\",$P$7<1),\"\",\nIF(GR$8=\"\",\"\",\nIF(GR$8=1,EOMONTH($P$7,-1)+1,GQ7+1)))","v":""},{"$f":"IF(OR($P$6=\"\",$P$6=0,$P$7=\"\",$P$7=0,$P$8=\"\",$P$7<1),\"\",\nIF(GS$8=\"\",\"\",\nIF(GS$8=1,EOMONTH($P$7,-1)+1,GR7+1)))","v":""},{"$f":"IF(OR($P$6=\"\",$P$6=0,$P$7=\"\",$P$7=0,$P$8=\"\",$P$7<1),\"\",\nIF(GT$8=\"\",\"\",\nIF(GT$8=1,EOMONTH($P$7,-1)+1,GS7+1)))","v":""},{"$f":"IF(OR($P$6=\"\",$P$6=0,$P$7=\"\",$P$7=0,$P$8=\"\",$P$7<1),\"\",\nIF(GU$8=\"\",\"\",\nIF(GU$8=1,EOMONTH($P$7,-1)+1,GT7+1)))","v":""},{"$f":"IF(OR($P$6=\"\",$P$6=0,$P$7=\"\",$P$7=0,$P$8=\"\",$P$7<1),\"\",\nIF(GV$8=\"\",\"\",\nIF(GV$8=1,EOMONTH($P$7,-1)+1,GU7+1)))","v":""}]
[null,{"$f":"ROW()","v":7},null,null,null,null,null,"старт моделирования","старт моделирования",null,null,null,"месяц",null,"*","2023-01-01","^",null,null,null,{"$f":"MAX(INDIRECT(ADDRESS($B7,X$2)&\":\"&ADDRESS($B7,MAX($2:$2))))","v":"2032-12-31"},null,null,{"$f":"IF(OR($P$6=\"\",$P$6=0,$P$7=\"\",$P$7=0,$P$8=\"\",$P$7<1),\"\",\nIF(X$8=\"\",\"\",\nIF($P$6=Lists!$I$6,EOMONTH(X6,0),\nIF($P$6=Lists!$I$7,EOMONTH(X6,2-(MONTH(X6)-1-3*INT((MONTH(X6)-1)/3))),\nIF($P$6=Lists!$I$8,EOMONTH(X6,11),\nIF($P$6=Lists!$I$9,EOMONTH(X6,12-MONTH(X6)),\"\"))))))","v":"2023-01-31"},{"$f":"IF(OR($P$6=\"\",$P$6=0,$P$7=\"\",$P$7=0,$P$8=\"\",$P$7<1),\"\",\nIF(Y$8=\"\",\"\",\nIF($P$6=Lists!$I$6,EOMONTH(Y6,0),\nIF($P$6=Lists!$I$7,EOMONTH(Y6,2-(MONTH(Y6)-1-3*INT((MONTH(Y6)-1)/3))),\nIF($P$6=Lists!$I$8,EOMONTH(Y6,11),\nIF($P$6=Lists!$I$9,EOMONTH(Y6,12-MONTH(Y6)),\"\"))))))","v":"2023-02-28"},{"$f":"IF(OR($P$6=\"\",$P$6=0,$P$7=\"\",$P$7=0,$P$8=\"\",$P$7<1),\"\",\nIF(Z$8=\"\",\"\",\nIF($P$6=Lists!$I$6,EOMONTH(Z6,0),\nIF($P$6=Lists!$I$7,EOMONTH(Z6,2-(MONTH(Z6)-1-3*INT((MONTH(Z6)-1)/3))),\nIF($P$6=Lists!$I$8,EOMONTH(Z6,11),\nIF($P$6=Lists!$I$9,EOMONTH(Z6,12-MONTH(Z6)),\"\"))))))","v":"2023-03-31"},{"$f":"IF(OR($P$6=\"\",$P$6=0,$P$7=\"\",$P$7=0,$P$8=\"\",$P$7<1),\"\",\nIF(AA$8=\"\",\"\",\nIF($P$6=Lists!$I$6,EOMONTH(AA6,0),\nIF($P$6=Lists!$I$7,EOMONTH(AA6,2-(MONTH(AA6)-1-3*INT((MONTH(AA6)-1)/3))),\nIF($P$6=Lists!$I$8,EOMONTH(AA6,11),\nIF($P$6=Lists!$I$9,EOMONTH(AA6,12-MONTH(AA6)),\"\"))))))","v":"2023-04-30"},{"$f":"IF(OR($P$6=\"\",$P$6=0,$P$7=\"\",$P$7=0,$P$8=\"\",$P$7<1),\"\",\nIF(AB$8=\"\",\"\",\nIF($P$6=Lists!$I$6,EOMONTH(AB6,0),\nIF($P$6=Lists!$I$7,EOMONTH(AB6,2-(MONTH(AB6)-1-3*INT((MONTH(AB6)-1)/3))),\nIF($P$6=Lists!$I$8,EOMONTH(AB6,11),\nIF($P$6=Lists!$I$9,EOMONTH(AB6,12-MONTH(AB6)),\"\"))))))","v":"2023-05-31"},{"$f":"IF(OR($P$6=\"\",$P$6=0,$P$7=\"\",$P$7=0,$P$8=\"\",$P$7<1),\"\",\nIF(AC$8=\"\",\"\",\nIF($P$6=Lists!$I$6,EOMONTH(AC6,0),\nIF($P$6=Lists!$I$7,EOMONTH(AC6,2-(MONTH(AC6)-1-3*INT((MONTH(AC6)-1)/3))),\nIF($P$6=Lists!$I$8,EOMONTH(AC6,11),\nIF($P$6=Lists!$I$9,EOMONTH(AC6,12-MONTH(AC6)),\"\"))))))","v":"2023-06-30"},{"$f":"IF(OR($P$6=\"\",$P$6=0,$P$7=\"\",$P$7=0,$P$8=\"\",$P$7<1),\"\",\nIF(AD$8=\"\",\"\",\nIF($P$6=Lists!$I$6,EOMONTH(AD6,0),\nIF($P$6=Lists!$I$7,EOMONTH(AD6,2-(MONTH(AD6)-1-3*INT((MONTH(AD6)-1)/3))),\nIF($P$6=Lists!$I$8,EOMONTH(AD6,11),\nIF($P$6=Lists!$I$9,EOMONTH(AD6,12-MONTH(AD6)),\"\"))))))","v":"2023-07-31"},{"$f":"IF(OR($P$6=\"\",$P$6=0,$P$7=\"\",$P$7=0,$P$8=\"\",$P$7<1),\"\",\nIF(AE$8=\"\",\"\",\nIF($P$6=Lists!$I$6,EOMONTH(AE6,0),\nIF($P$6=Lists!$I$7,EOMONTH(AE6,2-(MONTH(AE6)-1-3*INT((MONTH(AE6)-1)/3))),\nIF($P$6=Lists!$I$8,EOMONTH(AE6,11),\nIF($P$6=Lists!$I$9,EOMONTH(AE6,12-MONTH(AE6)),\"\"))))))","v":"2023-08-31"},{"$f":"IF(OR($P$6=\"\",$P$6=0,$P$7=\"\",$P$7=0,$P$8=\"\",$P$7<1),\"\",\nIF(AF$8=\"\",\"\",\nIF($P$6=Lists!$I$6,EOMONTH(AF6,0),\nIF($P$6=Lists!$I$7,EOMONTH(AF6,2-(MONTH(AF6)-1-3*INT((MONTH(AF6)-1)/3))),\nIF($P$6=Lists!$I$8,EOMONTH(AF6,11),\nIF($P$6=Lists!$I$9,EOMONTH(AF6,12-MONTH(AF6)),\"\"))))))","v":"2023-09-30"},{"$f":"IF(OR($P$6=\"\",$P$6=0,$P$7=\"\",$P$7=0,$P$8=\"\",$P$7<1),\"\",\nIF(AG$8=\"\",\"\",\nIF($P$6=Lists!$I$6,EOMONTH(AG6,0),\nIF($P$6=Lists!$I$7,EOMONTH(AG6,2-(MONTH(AG6)-1-3*INT((MONTH(AG6)-1)/3))),\nIF($P$6=Lists!$I$8,EOMONTH(AG6,11),\nIF($P$6=Lists!$I$9,EOMONTH(AG6,12-MONTH(AG6)),\"\"))))))","v":"2023-10-31"},{"$f":"IF(OR($P$6=\"\",$P$6=0,$P$7=\"\",$P$7=0,$P$8=\"\",$P$7<1),\"\",\nIF(AH$8=\"\",\"\",\nIF($P$6=Lists!$I$6,EOMONTH(AH6,0),\nIF($P$6=Lists!$I$7,EOMONTH(AH6,2-(MONTH(AH6)-1-3*INT((MONTH(AH6)-1)/3))),\nIF($P$6=Lists!$I$8,EOMONTH(AH6,11),\nIF($P$6=Lists!$I$9,EOMONTH(AH6,12-MONTH(AH6)),\"\"))))))","v":"2023-11-30"},{"$f":"IF(OR($P$6=\"\",$P$6=0,$P$7=\"\",$P$7=0,$P$8=\"\",$P$7<1),\"\",\nIF(AI$8=\"\",\"\",\nIF($P$6=Lists!$I$6,EOMONTH(AI6,0),\nIF($P$6=Lists!$I$7,EOMONTH(AI6,2-(MONTH(AI6)-1-3*INT((MONTH(AI6)-1)/3))),\nIF($P$6=Lists!$I$8,EOMONTH(AI6,11),\nIF($P$6=Lists!$I$9,EOMONTH(AI6,12-MONTH(AI6)),\"\"))))))","v":"2023-12-31"},{"$f":"IF(OR($P$6=\"\",$P$6=0,$P$7=\"\",$P$7=0,$P$8=\"\",$P$7<1),\"\",\nIF(AJ$8=\"\",\"\",\nIF($P$6=Lists!$I$6,EOMONTH(AJ6,0),\nIF($P$6=Lists!$I$7,EOMONTH(AJ6,2-(MONTH(AJ6)-1-3*INT((MONTH(AJ6)-1)/3))),\nIF($P$6=Lists!$I$8,EOMONTH(AJ6,11),\nIF($P$6=Lists!$I$9,EOMONTH(AJ6,12-MONTH(AJ6)),\"\"))))))","v":"2024-01-31"},{"$f":"IF(OR($P$6=\"\",$P$6=0,$P$7=\"\",$P$7=0,$P$8=\"\",$P$7<1),\"\",\nIF(AK$8=\"\",\"\",\nIF($P$6=Lists!$I$6,EOMONTH(AK6,0),\nIF($P$6=Lists!$I$7,EOMONTH(AK6,2-(MONTH(AK6)-1-3*INT((MONTH(AK6)-1)/3))),\nIF($P$6=Lists!$I$8,EOMONTH(AK6,11),\nIF($P$6=Lists!$I$9,EOMONTH(AK6,12-MONTH(AK6)),\"\"))))))","v":"2024-02-29"},{"$f":"IF(OR($P$6=\"\",$P$6=0,$P$7=\"\",$P$7=0,$P$8=\"\",$P$7<1),\"\",\nIF(AL$8=\"\",\"\",\nIF($P$6=Lists!$I$6,EOMONTH(AL6,0),\nIF($P$6=Lists!$I$7,EOMONTH(AL6,2-(MONTH(AL6)-1-3*INT((MONTH(AL6)-1)/3))),\nIF($P$6=Lists!$I$8,EOMONTH(AL6,11),\nIF($P$6=Lists!$I$9,EOMONTH(AL6,12-MONTH(AL6)),\"\"))))))","v":"2024-03-31"},{"$f":"IF(OR($P$6=\"\",$P$6=0,$P$7=\"\",$P$7=0,$P$8=\"\",$P$7<1),\"\",\nIF(AM$8=\"\",\"\",\nIF($P$6=Lists!$I$6,EOMONTH(AM6,0),\nIF($P$6=Lists!$I$7,EOMONTH(AM6,2-(MONTH(AM6)-1-3*INT((MONTH(AM6)-1)/3))),\nIF($P$6=Lists!$I$8,EOMONTH(AM6,11),\nIF($P$6=Lists!$I$9,EOMONTH(AM6,12-MONTH(AM6)),\"\"))))))","v":"2024-04-30"},{"$f":"IF(OR($P$6=\"\",$P$6=0,$P$7=\"\",$P$7=0,$P$8=\"\",$P$7<1),\"\",\nIF(AN$8=\"\",\"\",\nIF($P$6=Lists!$I$6,EOMONTH(AN6,0),\nIF($P$6=Lists!$I$7,EOMONTH(AN6,2-(MONTH(AN6)-1-3*INT((MONTH(AN6)-1)/3))),\nIF($P$6=Lists!$I$8,EOMONTH(AN6,11),\nIF($P$6=Lists!$I$9,EOMONTH(AN6,12-MONTH(AN6)),\"\"))))))","v":"2024-05-31"},{"$f":"IF(OR($P$6=\"\",$P$6=0,$P$7=\"\",$P$7=0,$P$8=\"\",$P$7<1),\"\",\nIF(AO$8=\"\",\"\",\nIF($P$6=Lists!$I$6,EOMONTH(AO6,0),\nIF($P$6=Lists!$I$7,EOMONTH(AO6,2-(MONTH(AO6)-1-3*INT((MONTH(AO6)-1)/3))),\nIF($P$6=Lists!$I$8,EOMONTH(AO6,11),\nIF($P$6=Lists!$I$9,EOMONTH(AO6,12-MONTH(AO6)),\"\"))))))","v":"2024-06-30"},{"$f":"IF(OR($P$6=\"\",$P$6=0,$P$7=\"\",$P$7=0,$P$8=\"\",$P$7<1),\"\",\nIF(AP$8=\"\",\"\",\nIF($P$6=Lists!$I$6,EOMONTH(AP6,0),\nIF($P$6=Lists!$I$7,EOMONTH(AP6,2-(MONTH(AP6)-1-3*INT((MONTH(AP6)-1)/3))),\nIF($P$6=Lists!$I$8,EOMONTH(AP6,11),\nIF($P$6=Lists!$I$9,EOMONTH(AP6,12-MONTH(AP6)),\"\"))))))","v":"2024-07-31"},{"$f":"IF(OR($P$6=\"\",$P$6=0,$P$7=\"\",$P$7=0,$P$8=\"\",$P$7<1),\"\",\nIF(AQ$8=\"\",\"\",\nIF($P$6=Lists!$I$6,EOMONTH(AQ6,0),\nIF($P$6=Lists!$I$7,EOMONTH(AQ6,2-(MONTH(AQ6)-1-3*INT((MONTH(AQ6)-1)/3))),\nIF($P$6=Lists!$I$8,EOMONTH(AQ6,11),\nIF($P$6=Lists!$I$9,EOMONTH(AQ6,12-MONTH(AQ6)),\"\"))))))","v":"2024-08-31"},{"$f":"IF(OR($P$6=\"\",$P$6=0,$P$7=\"\",$P$7=0,$P$8=\"\",$P$7<1),\"\",\nIF(AR$8=\"\",\"\",\nIF($P$6=Lists!$I$6,EOMONTH(AR6,0),\nIF($P$6=Lists!$I$7,EOMONTH(AR6,2-(MONTH(AR6)-1-3*INT((MONTH(AR6)-1)/3))),\nIF($P$6=Lists!$I$8,EOMONTH(AR6,11),\nIF($P$6=Lists!$I$9,EOMONTH(AR6,12-MONTH(AR6)),\"\"))))))","v":"2024-09-30"},{"$f":"IF(OR($P$6=\"\",$P$6=0,$P$7=\"\",$P$7=0,$P$8=\"\",$P$7<1),\"\",\nIF(AS$8=\"\",\"\",\nIF($P$6=Lists!$I$6,EOMONTH(AS6,0),\nIF($P$6=Lists!$I$7,EOMONTH(AS6,2-(MONTH(AS6)-1-3*INT((MONTH(AS6)-1)/3))),\nIF($P$6=Lists!$I$8,EOMONTH(AS6,11),\nIF($P$6=Lists!$I$9,EOMONTH(AS6,12-MONTH(AS6)),\"\"))))))","v":"2024-10-31"},{"$f":"IF(OR($P$6=\"\",$P$6=0,$P$7=\"\",$P$7=0,$P$8=\"\",$P$7<1),\"\",\nIF(AT$8=\"\",\"\",\nIF($P$6=Lists!$I$6,EOMONTH(AT6,0),\nIF($P$6=Lists!$I$7,EOMONTH(AT6,2-(MONTH(AT6)-1-3*INT((MONTH(AT6)-1)/3))),\nIF($P$6=Lists!$I$8,EOMONTH(AT6,11),\nIF($P$6=Lists!$I$9,EOMONTH(AT6,12-MONTH(AT6)),\"\"))))))","v":"2024-11-30"},{"$f":"IF(OR($P$6=\"\",$P$6=0,$P$7=\"\",$P$7=0,$P$8=\"\",$P$7<1),\"\",\nIF(AU$8=\"\",\"\",\nIF($P$6=Lists!$I$6,EOMONTH(AU6,0),\nIF($P$6=Lists!$I$7,EOMONTH(AU6,2-(MONTH(AU6)-1-3*INT((MONTH(AU6)-1)/3))),\nIF($P$6=Lists!$I$8,EOMONTH(AU6,11),\nIF($P$6=Lists!$I$9,EOMONTH(AU6,12-MONTH(AU6)),\"\"))))))","v":"2024-12-31"},{"$f":"IF(OR($P$6=\"\",$P$6=0,$P$7=\"\",$P$7=0,$P$8=\"\",$P$7<1),\"\",\nIF(AV$8=\"\",\"\",\nIF($P$6=Lists!$I$6,EOMONTH(AV6,0),\nIF($P$6=Lists!$I$7,EOMONTH(AV6,2-(MONTH(AV6)-1-3*INT((MONTH(AV6)-1)/3))),\nIF($P$6=Lists!$I$8,EOMONTH(AV6,11),\nIF($P$6=Lists!$I$9,EOMONTH(AV6,12-MONTH(AV6)),\"\"))))))","v":"2025-01-31"},{"$f":"IF(OR($P$6=\"\",$P$6=0,$P$7=\"\",$P$7=0,$P$8=\"\",$P$7<1),\"\",\nIF(AW$8=\"\",\"\",\nIF($P$6=Lists!$I$6,EOMONTH(AW6,0),\nIF($P$6=Lists!$I$7,EOMONTH(AW6,2-(MONTH(AW6)-1-3*INT((MONTH(AW6)-1)/3))),\nIF($P$6=Lists!$I$8,EOMONTH(AW6,11),\nIF($P$6=Lists!$I$9,EOMONTH(AW6,12-MONTH(AW6)),\"\"))))))","v":"2025-02-28"},{"$f":"IF(OR($P$6=\"\",$P$6=0,$P$7=\"\",$P$7=0,$P$8=\"\",$P$7<1),\"\",\nIF(AX$8=\"\",\"\",\nIF($P$6=Lists!$I$6,EOMONTH(AX6,0),\nIF($P$6=Lists!$I$7,EOMONTH(AX6,2-(MONTH(AX6)-1-3*INT((MONTH(AX6)-1)/3))),\nIF($P$6=Lists!$I$8,EOMONTH(AX6,11),\nIF($P$6=Lists!$I$9,EOMONTH(AX6,12-MONTH(AX6)),\"\"))))))","v":"2025-03-31"},{"$f":"IF(OR($P$6=\"\",$P$6=0,$P$7=\"\",$P$7=0,$P$8=\"\",$P$7<1),\"\",\nIF(AY$8=\"\",\"\",\nIF($P$6=Lists!$I$6,EOMONTH(AY6,0),\nIF($P$6=Lists!$I$7,EOMONTH(AY6,2-(MONTH(AY6)-1-3*INT((MONTH(AY6)-1)/3))),\nIF($P$6=Lists!$I$8,EOMONTH(AY6,11),\nIF($P$6=Lists!$I$9,EOMONTH(AY6,12-MONTH(AY6)),\"\"))))))","v":"2025-04-30"},{"$f":"IF(OR($P$6=\"\",$P$6=0,$P$7=\"\",$P$7=0,$P$8=\"\",$P$7<1),\"\",\nIF(AZ$8=\"\",\"\",\nIF($P$6=Lists!$I$6,EOMONTH(AZ6,0),\nIF($P$6=Lists!$I$7,EOMONTH(AZ6,2-(MONTH(AZ6)-1-3*INT((MONTH(AZ6)-1)/3))),\nIF($P$6=Lists!$I$8,EOMONTH(AZ6,11),\nIF($P$6=Lists!$I$9,EOMONTH(AZ6,12-MONTH(AZ6)),\"\"))))))","v":"2025-05-31"},{"$f":"IF(OR($P$6=\"\",$P$6=0,$P$7=\"\",$P$7=0,$P$8=\"\",$P$7<1),\"\",\nIF(BA$8=\"\",\"\",\nIF($P$6=Lists!$I$6,EOMONTH(BA6,0),\nIF($P$6=Lists!$I$7,EOMONTH(BA6,2-(MONTH(BA6)-1-3*INT((MONTH(BA6)-1)/3))),\nIF($P$6=Lists!$I$8,EOMONTH(BA6,11),\nIF($P$6=Lists!$I$9,EOMONTH(BA6,12-MONTH(BA6)),\"\"))))))","v":"2025-06-30"},{"$f":"IF(OR($P$6=\"\",$P$6=0,$P$7=\"\",$P$7=0,$P$8=\"\",$P$7<1),\"\",\nIF(BB$8=\"\",\"\",\nIF($P$6=Lists!$I$6,EOMONTH(BB6,0),\nIF($P$6=Lists!$I$7,EOMONTH(BB6,2-(MONTH(BB6)-1-3*INT((MONTH(BB6)-1)/3))),\nIF($P$6=Lists!$I$8,EOMONTH(BB6,11),\nIF($P$6=Lists!$I$9,EOMONTH(BB6,12-MONTH(BB6)),\"\"))))))","v":"2025-07-31"},{"$f":"IF(OR($P$6=\"\",$P$6=0,$P$7=\"\",$P$7=0,$P$8=\"\",$P$7<1),\"\",\nIF(BC$8=\"\",\"\",\nIF($P$6=Lists!$I$6,EOMONTH(BC6,0),\nIF($P$6=Lists!$I$7,EOMONTH(BC6,2-(MONTH(BC6)-1-3*INT((MONTH(BC6)-1)/3))),\nIF($P$6=Lists!$I$8,EOMONTH(BC6,11),\nIF($P$6=Lists!$I$9,EOMONTH(BC6,12-MONTH(BC6)),\"\"))))))","v":"2025-08-31"},{"$f":"IF(OR($P$6=\"\",$P$6=0,$P$7=\"\",$P$7=0,$P$8=\"\",$P$7<1),\"\",\nIF(BD$8=\"\",\"\",\nIF($P$6=Lists!$I$6,EOMONTH(BD6,0),\nIF($P$6=Lists!$I$7,EOMONTH(BD6,2-(MONTH(BD6)-1-3*INT((MONTH(BD6)-1)/3))),\nIF($P$6=Lists!$I$8,EOMONTH(BD6,11),\nIF($P$6=Lists!$I$9,EOMONTH(BD6,12-MONTH(BD6)),\"\"))))))","v":"2025-09-30"},{"$f":"IF(OR($P$6=\"\",$P$6=0,$P$7=\"\",$P$7=0,$P$8=\"\",$P$7<1),\"\",\nIF(BE$8=\"\",\"\",\nIF($P$6=Lists!$I$6,EOMONTH(BE6,0),\nIF($P$6=Lists!$I$7,EOMONTH(BE6,2-(MONTH(BE6)-1-3*INT((MONTH(BE6)-1)/3))),\nIF($P$6=Lists!$I$8,EOMONTH(BE6,11),\nIF($P$6=Lists!$I$9,EOMONTH(BE6,12-MONTH(BE6)),\"\"))))))","v":"2025-10-31"},{"$f":"IF(OR($P$6=\"\",$P$6=0,$P$7=\"\",$P$7=0,$P$8=\"\",$P$7<1),\"\",\nIF(BF$8=\"\",\"\",\nIF($P$6=Lists!$I$6,EOMONTH(BF6,0),\nIF($P$6=Lists!$I$7,EOMONTH(BF6,2-(MONTH(BF6)-1-3*INT((MONTH(BF6)-1)/3))),\nIF($P$6=Lists!$I$8,EOMONTH(BF6,11),\nIF($P$6=Lists!$I$9,EOMONTH(BF6,12-MONTH(BF6)),\"\"))))))","v":"2025-11-30"},{"$f":"IF(OR($P$6=\"\",$P$6=0,$P$7=\"\",$P$7=0,$P$8=\"\",$P$7<1),\"\",\nIF(BG$8=\"\",\"\",\nIF($P$6=Lists!$I$6,EOMONTH(BG6,0),\nIF($P$6=Lists!$I$7,EOMONTH(BG6,2-(MONTH(BG6)-1-3*INT((MONTH(BG6)-1)/3))),\nIF($P$6=Lists!$I$8,EOMONTH(BG6,11),\nIF($P$6=Lists!$I$9,EOMONTH(BG6,12-MONTH(BG6)),\"\"))))))","v":"2025-12-31"},{"$f":"IF(OR($P$6=\"\",$P$6=0,$P$7=\"\",$P$7=0,$P$8=\"\",$P$7<1),\"\",\nIF(BH$8=\"\",\"\",\nIF($P$6=Lists!$I$6,EOMONTH(BH6,0),\nIF($P$6=Lists!$I$7,EOMONTH(BH6,2-(MONTH(BH6)-1-3*INT((MONTH(BH6)-1)/3))),\nIF($P$6=Lists!$I$8,EOMONTH(BH6,11),\nIF($P$6=Lists!$I$9,EOMONTH(BH6,12-MONTH(BH6)),\"\"))))))","v":"2026-01-31"},{"$f":"IF(OR($P$6=\"\",$P$6=0,$P$7=\"\",$P$7=0,$P$8=\"\",$P$7<1),\"\",\nIF(BI$8=\"\",\"\",\nIF($P$6=Lists!$I$6,EOMONTH(BI6,0),\nIF($P$6=Lists!$I$7,EOMONTH(BI6,2-(MONTH(BI6)-1-3*INT((MONTH(BI6)-1)/3))),\nIF($P$6=Lists!$I$8,EOMONTH(BI6,11),\nIF($P$6=Lists!$I$9,EOMONTH(BI6,12-MONTH(BI6)),\"\"))))))","v":"2026-02-28"},{"$f":"IF(OR($P$6=\"\",$P$6=0,$P$7=\"\",$P$7=0,$P$8=\"\",$P$7<1),\"\",\nIF(BJ$8=\"\",\"\",\nIF($P$6=Lists!$I$6,EOMONTH(BJ6,0),\nIF($P$6=Lists!$I$7,EOMONTH(BJ6,2-(MONTH(BJ6)-1-3*INT((MONTH(BJ6)-1)/3))),\nIF($P$6=Lists!$I$8,EOMONTH(BJ6,11),\nIF($P$6=Lists!$I$9,EOMONTH(BJ6,12-MONTH(BJ6)),\"\"))))))","v":"2026-03-31"},{"$f":"IF(OR($P$6=\"\",$P$6=0,$P$7=\"\",$P$7=0,$P$8=\"\",$P$7<1),\"\",\nIF(BK$8=\"\",\"\",\nIF($P$6=Lists!$I$6,EOMONTH(BK6,0),\nIF($P$6=Lists!$I$7,EOMONTH(BK6,2-(MONTH(BK6)-1-3*INT((MONTH(BK6)-1)/3))),\nIF($P$6=Lists!$I$8,EOMONTH(BK6,11),\nIF($P$6=Lists!$I$9,EOMONTH(BK6,12-MONTH(BK6)),\"\"))))))","v":"2026-04-30"},{"$f":"IF(OR($P$6=\"\",$P$6=0,$P$7=\"\",$P$7=0,$P$8=\"\",$P$7<1),\"\",\nIF(BL$8=\"\",\"\",\nIF($P$6=Lists!$I$6,EOMONTH(BL6,0),\nIF($P$6=Lists!$I$7,EOMONTH(BL6,2-(MONTH(BL6)-1-3*INT((MONTH(BL6)-1)/3))),\nIF($P$6=Lists!$I$8,EOMONTH(BL6,11),\nIF($P$6=Lists!$I$9,EOMONTH(BL6,12-MONTH(BL6)),\"\"))))))","v":"2026-05-31"},{"$f":"IF(OR($P$6=\"\",$P$6=0,$P$7=\"\",$P$7=0,$P$8=\"\",$P$7<1),\"\",\nIF(BM$8=\"\",\"\",\nIF($P$6=Lists!$I$6,EOMONTH(BM6,0),\nIF($P$6=Lists!$I$7,EOMONTH(BM6,2-(MONTH(BM6)-1-3*INT((MONTH(BM6)-1)/3))),\nIF($P$6=Lists!$I$8,EOMONTH(BM6,11),\nIF($P$6=Lists!$I$9,EOMONTH(BM6,12-MONTH(BM6)),\"\"))))))","v":"2026-06-30"},{"$f":"IF(OR($P$6=\"\",$P$6=0,$P$7=\"\",$P$7=0,$P$8=\"\",$P$7<1),\"\",\nIF(BN$8=\"\",\"\",\nIF($P$6=Lists!$I$6,EOMONTH(BN6,0),\nIF($P$6=Lists!$I$7,EOMONTH(BN6,2-(MONTH(BN6)-1-3*INT((MONTH(BN6)-1)/3))),\nIF($P$6=Lists!$I$8,EOMONTH(BN6,11),\nIF($P$6=Lists!$I$9,EOMONTH(BN6,12-MONTH(BN6)),\"\"))))))","v":"2026-07-31"},{"$f":"IF(OR($P$6=\"\",$P$6=0,$P$7=\"\",$P$7=0,$P$8=\"\",$P$7<1),\"\",\nIF(BO$8=\"\",\"\",\nIF($P$6=Lists!$I$6,EOMONTH(BO6,0),\nIF($P$6=Lists!$I$7,EOMONTH(BO6,2-(MONTH(BO6)-1-3*INT((MONTH(BO6)-1)/3))),\nIF($P$6=Lists!$I$8,EOMONTH(BO6,11),\nIF($P$6=Lists!$I$9,EOMONTH(BO6,12-MONTH(BO6)),\"\"))))))","v":"2026-08-31"},{"$f":"IF(OR($P$6=\"\",$P$6=0,$P$7=\"\",$P$7=0,$P$8=\"\",$P$7<1),\"\",\nIF(BP$8=\"\",\"\",\nIF($P$6=Lists!$I$6,EOMONTH(BP6,0),\nIF($P$6=Lists!$I$7,EOMONTH(BP6,2-(MONTH(BP6)-1-3*INT((MONTH(BP6)-1)/3))),\nIF($P$6=Lists!$I$8,EOMONTH(BP6,11),\nIF($P$6=Lists!$I$9,EOMONTH(BP6,12-MONTH(BP6)),\"\"))))))","v":"2026-09-30"},{"$f":"IF(OR($P$6=\"\",$P$6=0,$P$7=\"\",$P$7=0,$P$8=\"\",$P$7<1),\"\",\nIF(BQ$8=\"\",\"\",\nIF($P$6=Lists!$I$6,EOMONTH(BQ6,0),\nIF($P$6=Lists!$I$7,EOMONTH(BQ6,2-(MONTH(BQ6)-1-3*INT((MONTH(BQ6)-1)/3))),\nIF($P$6=Lists!$I$8,EOMONTH(BQ6,11),\nIF($P$6=Lists!$I$9,EOMONTH(BQ6,12-MONTH(BQ6)),\"\"))))))","v":"2026-10-31"},{"$f":"IF(OR($P$6=\"\",$P$6=0,$P$7=\"\",$P$7=0,$P$8=\"\",$P$7<1),\"\",\nIF(BR$8=\"\",\"\",\nIF($P$6=Lists!$I$6,EOMONTH(BR6,0),\nIF($P$6=Lists!$I$7,EOMONTH(BR6,2-(MONTH(BR6)-1-3*INT((MONTH(BR6)-1)/3))),\nIF($P$6=Lists!$I$8,EOMONTH(BR6,11),\nIF($P$6=Lists!$I$9,EOMONTH(BR6,12-MONTH(BR6)),\"\"))))))","v":"2026-11-30"},{"$f":"IF(OR($P$6=\"\",$P$6=0,$P$7=\"\",$P$7=0,$P$8=\"\",$P$7<1),\"\",\nIF(BS$8=\"\",\"\",\nIF($P$6=Lists!$I$6,EOMONTH(BS6,0),\nIF($P$6=Lists!$I$7,EOMONTH(BS6,2-(MONTH(BS6)-1-3*INT((MONTH(BS6)-1)/3))),\nIF($P$6=Lists!$I$8,EOMONTH(BS6,11),\nIF($P$6=Lists!$I$9,EOMONTH(BS6,12-MONTH(BS6)),\"\"))))))","v":"2026-12-31"},{"$f":"IF(OR($P$6=\"\",$P$6=0,$P$7=\"\",$P$7=0,$P$8=\"\",$P$7<1),\"\",\nIF(BT$8=\"\",\"\",\nIF($P$6=Lists!$I$6,EOMONTH(BT6,0),\nIF($P$6=Lists!$I$7,EOMONTH(BT6,2-(MONTH(BT6)-1-3*INT((MONTH(BT6)-1)/3))),\nIF($P$6=Lists!$I$8,EOMONTH(BT6,11),\nIF($P$6=Lists!$I$9,EOMONTH(BT6,12-MONTH(BT6)),\"\"))))))","v":"2027-01-31"},{"$f":"IF(OR($P$6=\"\",$P$6=0,$P$7=\"\",$P$7=0,$P$8=\"\",$P$7<1),\"\",\nIF(BU$8=\"\",\"\",\nIF($P$6=Lists!$I$6,EOMONTH(BU6,0),\nIF($P$6=Lists!$I$7,EOMONTH(BU6,2-(MONTH(BU6)-1-3*INT((MONTH(BU6)-1)/3))),\nIF($P$6=Lists!$I$8,EOMONTH(BU6,11),\nIF($P$6=Lists!$I$9,EOMONTH(BU6,12-MONTH(BU6)),\"\"))))))","v":"2027-02-28"},{"$f":"IF(OR($P$6=\"\",$P$6=0,$P$7=\"\",$P$7=0,$P$8=\"\",$P$7<1),\"\",\nIF(BV$8=\"\",\"\",\nIF($P$6=Lists!$I$6,EOMONTH(BV6,0),\nIF($P$6=Lists!$I$7,EOMONTH(BV6,2-(MONTH(BV6)-1-3*INT((MONTH(BV6)-1)/3))),\nIF($P$6=Lists!$I$8,EOMONTH(BV6,11),\nIF($P$6=Lists!$I$9,EOMONTH(BV6,12-MONTH(BV6)),\"\"))))))","v":"2027-03-31"},{"$f":"IF(OR($P$6=\"\",$P$6=0,$P$7=\"\",$P$7=0,$P$8=\"\",$P$7<1),\"\",\nIF(BW$8=\"\",\"\",\nIF($P$6=Lists!$I$6,EOMONTH(BW6,0),\nIF($P$6=Lists!$I$7,EOMONTH(BW6,2-(MONTH(BW6)-1-3*INT((MONTH(BW6)-1)/3))),\nIF($P$6=Lists!$I$8,EOMONTH(BW6,11),\nIF($P$6=Lists!$I$9,EOMONTH(BW6,12-MONTH(BW6)),\"\"))))))","v":"2027-04-30"},{"$f":"IF(OR($P$6=\"\",$P$6=0,$P$7=\"\",$P$7=0,$P$8=\"\",$P$7<1),\"\",\nIF(BX$8=\"\",\"\",\nIF($P$6=Lists!$I$6,EOMONTH(BX6,0),\nIF($P$6=Lists!$I$7,EOMONTH(BX6,2-(MONTH(BX6)-1-3*INT((MONTH(BX6)-1)/3))),\nIF($P$6=Lists!$I$8,EOMONTH(BX6,11),\nIF($P$6=Lists!$I$9,EOMONTH(BX6,12-MONTH(BX6)),\"\"))))))","v":"2027-05-31"},{"$f":"IF(OR($P$6=\"\",$P$6=0,$P$7=\"\",$P$7=0,$P$8=\"\",$P$7<1),\"\",\nIF(BY$8=\"\",\"\",\nIF($P$6=Lists!$I$6,EOMONTH(BY6,0),\nIF($P$6=Lists!$I$7,EOMONTH(BY6,2-(MONTH(BY6)-1-3*INT((MONTH(BY6)-1)/3))),\nIF($P$6=Lists!$I$8,EOMONTH(BY6,11),\nIF($P$6=Lists!$I$9,EOMONTH(BY6,12-MONTH(BY6)),\"\"))))))","v":"2027-06-30"},{"$f":"IF(OR($P$6=\"\",$P$6=0,$P$7=\"\",$P$7=0,$P$8=\"\",$P$7<1),\"\",\nIF(BZ$8=\"\",\"\",\nIF($P$6=Lists!$I$6,EOMONTH(BZ6,0),\nIF($P$6=Lists!$I$7,EOMONTH(BZ6,2-(MONTH(BZ6)-1-3*INT((MONTH(BZ6)-1)/3))),\nIF($P$6=Lists!$I$8,EOMONTH(BZ6,11),\nIF($P$6=Lists!$I$9,EOMONTH(BZ6,12-MONTH(BZ6)),\"\"))))))","v":"2027-07-31"},{"$f":"IF(OR($P$6=\"\",$P$6=0,$P$7=\"\",$P$7=0,$P$8=\"\",$P$7<1),\"\",\nIF(CA$8=\"\",\"\",\nIF($P$6=Lists!$I$6,EOMONTH(CA6,0),\nIF($P$6=Lists!$I$7,EOMONTH(CA6,2-(MONTH(CA6)-1-3*INT((MONTH(CA6)-1)/3))),\nIF($P$6=Lists!$I$8,EOMONTH(CA6,11),\nIF($P$6=Lists!$I$9,EOMONTH(CA6,12-MONTH(CA6)),\"\"))))))","v":"2027-08-31"},{"$f":"IF(OR($P$6=\"\",$P$6=0,$P$7=\"\",$P$7=0,$P$8=\"\",$P$7<1),\"\",\nIF(CB$8=\"\",\"\",\nIF($P$6=Lists!$I$6,EOMONTH(CB6,0),\nIF($P$6=Lists!$I$7,EOMONTH(CB6,2-(MONTH(CB6)-1-3*INT((MONTH(CB6)-1)/3))),\nIF($P$6=Lists!$I$8,EOMONTH(CB6,11),\nIF($P$6=Lists!$I$9,EOMONTH(CB6,12-MONTH(CB6)),\"\"))))))","v":"2027-09-30"},{"$f":"IF(OR($P$6=\"\",$P$6=0,$P$7=\"\",$P$7=0,$P$8=\"\",$P$7<1),\"\",\nIF(CC$8=\"\",\"\",\nIF($P$6=Lists!$I$6,EOMONTH(CC6,0),\nIF($P$6=Lists!$I$7,EOMONTH(CC6,2-(MONTH(CC6)-1-3*INT((MONTH(CC6)-1)/3))),\nIF($P$6=Lists!$I$8,EOMONTH(CC6,11),\nIF($P$6=Lists!$I$9,EOMONTH(CC6,12-MONTH(CC6)),\"\"))))))","v":"2027-10-31"},{"$f":"IF(OR($P$6=\"\",$P$6=0,$P$7=\"\",$P$7=0,$P$8=\"\",$P$7<1),\"\",\nIF(CD$8=\"\",\"\",\nIF($P$6=Lists!$I$6,EOMONTH(CD6,0),\nIF($P$6=Lists!$I$7,EOMONTH(CD6,2-(MONTH(CD6)-1-3*INT((MONTH(CD6)-1)/3))),\nIF($P$6=Lists!$I$8,EOMONTH(CD6,11),\nIF($P$6=Lists!$I$9,EOMONTH(CD6,12-MONTH(CD6)),\"\"))))))","v":"2027-11-30"},{"$f":"IF(OR($P$6=\"\",$P$6=0,$P$7=\"\",$P$7=0,$P$8=\"\",$P$7<1),\"\",\nIF(CE$8=\"\",\"\",\nIF($P$6=Lists!$I$6,EOMONTH(CE6,0),\nIF($P$6=Lists!$I$7,EOMONTH(CE6,2-(MONTH(CE6)-1-3*INT((MONTH(CE6)-1)/3))),\nIF($P$6=Lists!$I$8,EOMONTH(CE6,11),\nIF($P$6=Lists!$I$9,EOMONTH(CE6,12-MONTH(CE6)),\"\"))))))","v":"2027-12-31"},{"$f":"IF(OR($P$6=\"\",$P$6=0,$P$7=\"\",$P$7=0,$P$8=\"\",$P$7<1),\"\",\nIF(CF$8=\"\",\"\",\nIF($P$6=Lists!$I$6,EOMONTH(CF6,0),\nIF($P$6=Lists!$I$7,EOMONTH(CF6,2-(MONTH(CF6)-1-3*INT((MONTH(CF6)-1)/3))),\nIF($P$6=Lists!$I$8,EOMONTH(CF6,11),\nIF($P$6=Lists!$I$9,EOMONTH(CF6,12-MONTH(CF6)),\"\"))))))","v":"2028-01-31"},{"$f":"IF(OR($P$6=\"\",$P$6=0,$P$7=\"\",$P$7=0,$P$8=\"\",$P$7<1),\"\",\nIF(CG$8=\"\",\"\",\nIF($P$6=Lists!$I$6,EOMONTH(CG6,0),\nIF($P$6=Lists!$I$7,EOMONTH(CG6,2-(MONTH(CG6)-1-3*INT((MONTH(CG6)-1)/3))),\nIF($P$6=Lists!$I$8,EOMONTH(CG6,11),\nIF($P$6=Lists!$I$9,EOMONTH(CG6,12-MONTH(CG6)),\"\"))))))","v":"2028-02-29"},{"$f":"IF(OR($P$6=\"\",$P$6=0,$P$7=\"\",$P$7=0,$P$8=\"\",$P$7<1),\"\",\nIF(CH$8=\"\",\"\",\nIF($P$6=Lists!$I$6,EOMONTH(CH6,0),\nIF($P$6=Lists!$I$7,EOMONTH(CH6,2-(MONTH(CH6)-1-3*INT((MONTH(CH6)-1)/3))),\nIF($P$6=Lists!$I$8,EOMONTH(CH6,11),\nIF($P$6=Lists!$I$9,EOMONTH(CH6,12-MONTH(CH6)),\"\"))))))","v":"2028-03-31"},{"$f":"IF(OR($P$6=\"\",$P$6=0,$P$7=\"\",$P$7=0,$P$8=\"\",$P$7<1),\"\",\nIF(CI$8=\"\",\"\",\nIF($P$6=Lists!$I$6,EOMONTH(CI6,0),\nIF($P$6=Lists!$I$7,EOMONTH(CI6,2-(MONTH(CI6)-1-3*INT((MONTH(CI6)-1)/3))),\nIF($P$6=Lists!$I$8,EOMONTH(CI6,11),\nIF($P$6=Lists!$I$9,EOMONTH(CI6,12-MONTH(CI6)),\"\"))))))","v":"2028-04-30"},{"$f":"IF(OR($P$6=\"\",$P$6=0,$P$7=\"\",$P$7=0,$P$8=\"\",$P$7<1),\"\",\nIF(CJ$8=\"\",\"\",\nIF($P$6=Lists!$I$6,EOMONTH(CJ6,0),\nIF($P$6=Lists!$I$7,EOMONTH(CJ6,2-(MONTH(CJ6)-1-3*INT((MONTH(CJ6)-1)/3))),\nIF($P$6=Lists!$I$8,EOMONTH(CJ6,11),\nIF($P$6=Lists!$I$9,EOMONTH(CJ6,12-MONTH(CJ6)),\"\"))))))","v":"2028-05-31"},{"$f":"IF(OR($P$6=\"\",$P$6=0,$P$7=\"\",$P$7=0,$P$8=\"\",$P$7<1),\"\",\nIF(CK$8=\"\",\"\",\nIF($P$6=Lists!$I$6,EOMONTH(CK6,0),\nIF($P$6=Lists!$I$7,EOMONTH(CK6,2-(MONTH(CK6)-1-3*INT((MONTH(CK6)-1)/3))),\nIF($P$6=Lists!$I$8,EOMONTH(CK6,11),\nIF($P$6=Lists!$I$9,EOMONTH(CK6,12-MONTH(CK6)),\"\"))))))","v":"2028-06-30"},{"$f":"IF(OR($P$6=\"\",$P$6=0,$P$7=\"\",$P$7=0,$P$8=\"\",$P$7<1),\"\",\nIF(CL$8=\"\",\"\",\nIF($P$6=Lists!$I$6,EOMONTH(CL6,0),\nIF($P$6=Lists!$I$7,EOMONTH(CL6,2-(MONTH(CL6)-1-3*INT((MONTH(CL6)-1)/3))),\nIF($P$6=Lists!$I$8,EOMONTH(CL6,11),\nIF($P$6=Lists!$I$9,EOMONTH(CL6,12-MONTH(CL6)),\"\"))))))","v":"2028-07-31"},{"$f":"IF(OR($P$6=\"\",$P$6=0,$P$7=\"\",$P$7=0,$P$8=\"\",$P$7<1),\"\",\nIF(CM$8=\"\",\"\",\nIF($P$6=Lists!$I$6,EOMONTH(CM6,0),\nIF($P$6=Lists!$I$7,EOMONTH(CM6,2-(MONTH(CM6)-1-3*INT((MONTH(CM6)-1)/3))),\nIF($P$6=Lists!$I$8,EOMONTH(CM6,11),\nIF($P$6=Lists!$I$9,EOMONTH(CM6,12-MONTH(CM6)),\"\"))))))","v":"2028-08-31"},{"$f":"IF(OR($P$6=\"\",$P$6=0,$P$7=\"\",$P$7=0,$P$8=\"\",$P$7<1),\"\",\nIF(CN$8=\"\",\"\",\nIF($P$6=Lists!$I$6,EOMONTH(CN6,0),\nIF($P$6=Lists!$I$7,EOMONTH(CN6,2-(MONTH(CN6)-1-3*INT((MONTH(CN6)-1)/3))),\nIF($P$6=Lists!$I$8,EOMONTH(CN6,11),\nIF($P$6=Lists!$I$9,EOMONTH(CN6,12-MONTH(CN6)),\"\"))))))","v":"2028-09-30"},{"$f":"IF(OR($P$6=\"\",$P$6=0,$P$7=\"\",$P$7=0,$P$8=\"\",$P$7<1),\"\",\nIF(CO$8=\"\",\"\",\nIF($P$6=Lists!$I$6,EOMONTH(CO6,0),\nIF($P$6=Lists!$I$7,EOMONTH(CO6,2-(MONTH(CO6)-1-3*INT((MONTH(CO6)-1)/3))),\nIF($P$6=Lists!$I$8,EOMONTH(CO6,11),\nIF($P$6=Lists!$I$9,EOMONTH(CO6,12-MONTH(CO6)),\"\"))))))","v":"2028-10-31"},{"$f":"IF(OR($P$6=\"\",$P$6=0,$P$7=\"\",$P$7=0,$P$8=\"\",$P$7<1),\"\",\nIF(CP$8=\"\",\"\",\nIF($P$6=Lists!$I$6,EOMONTH(CP6,0),\nIF($P$6=Lists!$I$7,EOMONTH(CP6,2-(MONTH(CP6)-1-3*INT((MONTH(CP6)-1)/3))),\nIF($P$6=Lists!$I$8,EOMONTH(CP6,11),\nIF($P$6=Lists!$I$9,EOMONTH(CP6,12-MONTH(CP6)),\"\"))))))","v":"2028-11-30"},{"$f":"IF(OR($P$6=\"\",$P$6=0,$P$7=\"\",$P$7=0,$P$8=\"\",$P$7<1),\"\",\nIF(CQ$8=\"\",\"\",\nIF($P$6=Lists!$I$6,EOMONTH(CQ6,0),\nIF($P$6=Lists!$I$7,EOMONTH(CQ6,2-(MONTH(CQ6)-1-3*INT((MONTH(CQ6)-1)/3))),\nIF($P$6=Lists!$I$8,EOMONTH(CQ6,11),\nIF($P$6=Lists!$I$9,EOMONTH(CQ6,12-MONTH(CQ6)),\"\"))))))","v":"2028-12-31"},{"$f":"IF(OR($P$6=\"\",$P$6=0,$P$7=\"\",$P$7=0,$P$8=\"\",$P$7<1),\"\",\nIF(CR$8=\"\",\"\",\nIF($P$6=Lists!$I$6,EOMONTH(CR6,0),\nIF($P$6=Lists!$I$7,EOMONTH(CR6,2-(MONTH(CR6)-1-3*INT((MONTH(CR6)-1)/3))),\nIF($P$6=Lists!$I$8,EOMONTH(CR6,11),\nIF($P$6=Lists!$I$9,EOMONTH(CR6,12-MONTH(CR6)),\"\"))))))","v":"2029-01-31"},{"$f":"IF(OR($P$6=\"\",$P$6=0,$P$7=\"\",$P$7=0,$P$8=\"\",$P$7<1),\"\",\nIF(CS$8=\"\",\"\",\nIF($P$6=Lists!$I$6,EOMONTH(CS6,0),\nIF($P$6=Lists!$I$7,EOMONTH(CS6,2-(MONTH(CS6)-1-3*INT((MONTH(CS6)-1)/3))),\nIF($P$6=Lists!$I$8,EOMONTH(CS6,11),\nIF($P$6=Lists!$I$9,EOMONTH(CS6,12-MONTH(CS6)),\"\"))))))","v":"2029-02-28"},{"$f":"IF(OR($P$6=\"\",$P$6=0,$P$7=\"\",$P$7=0,$P$8=\"\",$P$7<1),\"\",\nIF(CT$8=\"\",\"\",\nIF($P$6=Lists!$I$6,EOMONTH(CT6,0),\nIF($P$6=Lists!$I$7,EOMONTH(CT6,2-(MONTH(CT6)-1-3*INT((MONTH(CT6)-1)/3))),\nIF($P$6=Lists!$I$8,EOMONTH(CT6,11),\nIF($P$6=Lists!$I$9,EOMONTH(CT6,12-MONTH(CT6)),\"\"))))))","v":"2029-03-31"},{"$f":"IF(OR($P$6=\"\",$P$6=0,$P$7=\"\",$P$7=0,$P$8=\"\",$P$7<1),\"\",\nIF(CU$8=\"\",\"\",\nIF($P$6=Lists!$I$6,EOMONTH(CU6,0),\nIF($P$6=Lists!$I$7,EOMONTH(CU6,2-(MONTH(CU6)-1-3*INT((MONTH(CU6)-1)/3))),\nIF($P$6=Lists!$I$8,EOMONTH(CU6,11),\nIF($P$6=Lists!$I$9,EOMONTH(CU6,12-MONTH(CU6)),\"\"))))))","v":"2029-04-30"},{"$f":"IF(OR($P$6=\"\",$P$6=0,$P$7=\"\",$P$7=0,$P$8=\"\",$P$7<1),\"\",\nIF(CV$8=\"\",\"\",\nIF($P$6=Lists!$I$6,EOMONTH(CV6,0),\nIF($P$6=Lists!$I$7,EOMONTH(CV6,2-(MONTH(CV6)-1-3*INT((MONTH(CV6)-1)/3))),\nIF($P$6=Lists!$I$8,EOMONTH(CV6,11),\nIF($P$6=Lists!$I$9,EOMONTH(CV6,12-MONTH(CV6)),\"\"))))))","v":"2029-05-31"},{"$f":"IF(OR($P$6=\"\",$P$6=0,$P$7=\"\",$P$7=0,$P$8=\"\",$P$7<1),\"\",\nIF(CW$8=\"\",\"\",\nIF($P$6=Lists!$I$6,EOMONTH(CW6,0),\nIF($P$6=Lists!$I$7,EOMONTH(CW6,2-(MONTH(CW6)-1-3*INT((MONTH(CW6)-1)/3))),\nIF($P$6=Lists!$I$8,EOMONTH(CW6,11),\nIF($P$6=Lists!$I$9,EOMONTH(CW6,12-MONTH(CW6)),\"\"))))))","v":"2029-06-30"},{"$f":"IF(OR($P$6=\"\",$P$6=0,$P$7=\"\",$P$7=0,$P$8=\"\",$P$7<1),\"\",\nIF(CX$8=\"\",\"\",\nIF($P$6=Lists!$I$6,EOMONTH(CX6,0),\nIF($P$6=Lists!$I$7,EOMONTH(CX6,2-(MONTH(CX6)-1-3*INT((MONTH(CX6)-1)/3))),\nIF($P$6=Lists!$I$8,EOMONTH(CX6,11),\nIF($P$6=Lists!$I$9,EOMONTH(CX6,12-MONTH(CX6)),\"\"))))))","v":"2029-07-31"},{"$f":"IF(OR($P$6=\"\",$P$6=0,$P$7=\"\",$P$7=0,$P$8=\"\",$P$7<1),\"\",\nIF(CY$8=\"\",\"\",\nIF($P$6=Lists!$I$6,EOMONTH(CY6,0),\nIF($P$6=Lists!$I$7,EOMONTH(CY6,2-(MONTH(CY6)-1-3*INT((MONTH(CY6)-1)/3))),\nIF($P$6=Lists!$I$8,EOMONTH(CY6,11),\nIF($P$6=Lists!$I$9,EOMONTH(CY6,12-MONTH(CY6)),\"\"))))))","v":"2029-08-31"},{"$f":"IF(OR($P$6=\"\",$P$6=0,$P$7=\"\",$P$7=0,$P$8=\"\",$P$7<1),\"\",\nIF(CZ$8=\"\",\"\",\nIF($P$6=Lists!$I$6,EOMONTH(CZ6,0),\nIF($P$6=Lists!$I$7,EOMONTH(CZ6,2-(MONTH(CZ6)-1-3*INT((MONTH(CZ6)-1)/3))),\nIF($P$6=Lists!$I$8,EOMONTH(CZ6,11),\nIF($P$6=Lists!$I$9,EOMONTH(CZ6,12-MONTH(CZ6)),\"\"))))))","v":"2029-09-30"},{"$f":"IF(OR($P$6=\"\",$P$6=0,$P$7=\"\",$P$7=0,$P$8=\"\",$P$7<1),\"\",\nIF(DA$8=\"\",\"\",\nIF($P$6=Lists!$I$6,EOMONTH(DA6,0),\nIF($P$6=Lists!$I$7,EOMONTH(DA6,2-(MONTH(DA6)-1-3*INT((MONTH(DA6)-1)/3))),\nIF($P$6=Lists!$I$8,EOMONTH(DA6,11),\nIF($P$6=Lists!$I$9,EOMONTH(DA6,12-MONTH(DA6)),\"\"))))))","v":"2029-10-31"},{"$f":"IF(OR($P$6=\"\",$P$6=0,$P$7=\"\",$P$7=0,$P$8=\"\",$P$7<1),\"\",\nIF(DB$8=\"\",\"\",\nIF($P$6=Lists!$I$6,EOMONTH(DB6,0),\nIF($P$6=Lists!$I$7,EOMONTH(DB6,2-(MONTH(DB6)-1-3*INT((MONTH(DB6)-1)/3))),\nIF($P$6=Lists!$I$8,EOMONTH(DB6,11),\nIF($P$6=Lists!$I$9,EOMONTH(DB6,12-MONTH(DB6)),\"\"))))))","v":"2029-11-30"},{"$f":"IF(OR($P$6=\"\",$P$6=0,$P$7=\"\",$P$7=0,$P$8=\"\",$P$7<1),\"\",\nIF(DC$8=\"\",\"\",\nIF($P$6=Lists!$I$6,EOMONTH(DC6,0),\nIF($P$6=Lists!$I$7,EOMONTH(DC6,2-(MONTH(DC6)-1-3*INT((MONTH(DC6)-1)/3))),\nIF($P$6=Lists!$I$8,EOMONTH(DC6,11),\nIF($P$6=Lists!$I$9,EOMONTH(DC6,12-MONTH(DC6)),\"\"))))))","v":"2029-12-31"},{"$f":"IF(OR($P$6=\"\",$P$6=0,$P$7=\"\",$P$7=0,$P$8=\"\",$P$7<1),\"\",\nIF(DD$8=\"\",\"\",\nIF($P$6=Lists!$I$6,EOMONTH(DD6,0),\nIF($P$6=Lists!$I$7,EOMONTH(DD6,2-(MONTH(DD6)-1-3*INT((MONTH(DD6)-1)/3))),\nIF($P$6=Lists!$I$8,EOMONTH(DD6,11),\nIF($P$6=Lists!$I$9,EOMONTH(DD6,12-MONTH(DD6)),\"\"))))))","v":"2030-01-31"},{"$f":"IF(OR($P$6=\"\",$P$6=0,$P$7=\"\",$P$7=0,$P$8=\"\",$P$7<1),\"\",\nIF(DE$8=\"\",\"\",\nIF($P$6=Lists!$I$6,EOMONTH(DE6,0),\nIF($P$6=Lists!$I$7,EOMONTH(DE6,2-(MONTH(DE6)-1-3*INT((MONTH(DE6)-1)/3))),\nIF($P$6=Lists!$I$8,EOMONTH(DE6,11),\nIF($P$6=Lists!$I$9,EOMONTH(DE6,12-MONTH(DE6)),\"\"))))))","v":"2030-02-28"},{"$f":"IF(OR($P$6=\"\",$P$6=0,$P$7=\"\",$P$7=0,$P$8=\"\",$P$7<1),\"\",\nIF(DF$8=\"\",\"\",\nIF($P$6=Lists!$I$6,EOMONTH(DF6,0),\nIF($P$6=Lists!$I$7,EOMONTH(DF6,2-(MONTH(DF6)-1-3*INT((MONTH(DF6)-1)/3))),\nIF($P$6=Lists!$I$8,EOMONTH(DF6,11),\nIF($P$6=Lists!$I$9,EOMONTH(DF6,12-MONTH(DF6)),\"\"))))))","v":"2030-03-31"},{"$f":"IF(OR($P$6=\"\",$P$6=0,$P$7=\"\",$P$7=0,$P$8=\"\",$P$7<1),\"\",\nIF(DG$8=\"\",\"\",\nIF($P$6=Lists!$I$6,EOMONTH(DG6,0),\nIF($P$6=Lists!$I$7,EOMONTH(DG6,2-(MONTH(DG6)-1-3*INT((MONTH(DG6)-1)/3))),\nIF($P$6=Lists!$I$8,EOMONTH(DG6,11),\nIF($P$6=Lists!$I$9,EOMONTH(DG6,12-MONTH(DG6)),\"\"))))))","v":"2030-04-30"},{"$f":"IF(OR($P$6=\"\",$P$6=0,$P$7=\"\",$P$7=0,$P$8=\"\",$P$7<1),\"\",\nIF(DH$8=\"\",\"\",\nIF($P$6=Lists!$I$6,EOMONTH(DH6,0),\nIF($P$6=Lists!$I$7,EOMONTH(DH6,2-(MONTH(DH6)-1-3*INT((MONTH(DH6)-1)/3))),\nIF($P$6=Lists!$I$8,EOMONTH(DH6,11),\nIF($P$6=Lists!$I$9,EOMONTH(DH6,12-MONTH(DH6)),\"\"))))))","v":"2030-05-31"},{"$f":"IF(OR($P$6=\"\",$P$6=0,$P$7=\"\",$P$7=0,$P$8=\"\",$P$7<1),\"\",\nIF(DI$8=\"\",\"\",\nIF($P$6=Lists!$I$6,EOMONTH(DI6,0),\nIF($P$6=Lists!$I$7,EOMONTH(DI6,2-(MONTH(DI6)-1-3*INT((MONTH(DI6)-1)/3))),\nIF($P$6=Lists!$I$8,EOMONTH(DI6,11),\nIF($P$6=Lists!$I$9,EOMONTH(DI6,12-MONTH(DI6)),\"\"))))))","v":"2030-06-30"},{"$f":"IF(OR($P$6=\"\",$P$6=0,$P$7=\"\",$P$7=0,$P$8=\"\",$P$7<1),\"\",\nIF(DJ$8=\"\",\"\",\nIF($P$6=Lists!$I$6,EOMONTH(DJ6,0),\nIF($P$6=Lists!$I$7,EOMONTH(DJ6,2-(MONTH(DJ6)-1-3*INT((MONTH(DJ6)-1)/3))),\nIF($P$6=Lists!$I$8,EOMONTH(DJ6,11),\nIF($P$6=Lists!$I$9,EOMONTH(DJ6,12-MONTH(DJ6)),\"\"))))))","v":"2030-07-31"},{"$f":"IF(OR($P$6=\"\",$P$6=0,$P$7=\"\",$P$7=0,$P$8=\"\",$P$7<1),\"\",\nIF(DK$8=\"\",\"\",\nIF($P$6=Lists!$I$6,EOMONTH(DK6,0),\nIF($P$6=Lists!$I$7,EOMONTH(DK6,2-(MONTH(DK6)-1-3*INT((MONTH(DK6)-1)/3))),\nIF($P$6=Lists!$I$8,EOMONTH(DK6,11),\nIF($P$6=Lists!$I$9,EOMONTH(DK6,12-MONTH(DK6)),\"\"))))))","v":"2030-08-31"},{"$f":"IF(OR($P$6=\"\",$P$6=0,$P$7=\"\",$P$7=0,$P$8=\"\",$P$7<1),\"\",\nIF(DL$8=\"\",\"\",\nIF($P$6=Lists!$I$6,EOMONTH(DL6,0),\nIF($P$6=Lists!$I$7,EOMONTH(DL6,2-(MONTH(DL6)-1-3*INT((MONTH(DL6)-1)/3))),\nIF($P$6=Lists!$I$8,EOMONTH(DL6,11),\nIF($P$6=Lists!$I$9,EOMONTH(DL6,12-MONTH(DL6)),\"\"))))))","v":"2030-09-30"},{"$f":"IF(OR($P$6=\"\",$P$6=0,$P$7=\"\",$P$7=0,$P$8=\"\",$P$7<1),\"\",\nIF(DM$8=\"\",\"\",\nIF($P$6=Lists!$I$6,EOMONTH(DM6,0),\nIF($P$6=Lists!$I$7,EOMONTH(DM6,2-(MONTH(DM6)-1-3*INT((MONTH(DM6)-1)/3))),\nIF($P$6=Lists!$I$8,EOMONTH(DM6,11),\nIF($P$6=Lists!$I$9,EOMONTH(DM6,12-MONTH(DM6)),\"\"))))))","v":"2030-10-31"},{"$f":"IF(OR($P$6=\"\",$P$6=0,$P$7=\"\",$P$7=0,$P$8=\"\",$P$7<1),\"\",\nIF(DN$8=\"\",\"\",\nIF($P$6=Lists!$I$6,EOMONTH(DN6,0),\nIF($P$6=Lists!$I$7,EOMONTH(DN6,2-(MONTH(DN6)-1-3*INT((MONTH(DN6)-1)/3))),\nIF($P$6=Lists!$I$8,EOMONTH(DN6,11),\nIF($P$6=Lists!$I$9,EOMONTH(DN6,12-MONTH(DN6)),\"\"))))))","v":"2030-11-30"},{"$f":"IF(OR($P$6=\"\",$P$6=0,$P$7=\"\",$P$7=0,$P$8=\"\",$P$7<1),\"\",\nIF(DO$8=\"\",\"\",\nIF($P$6=Lists!$I$6,EOMONTH(DO6,0),\nIF($P$6=Lists!$I$7,EOMONTH(DO6,2-(MONTH(DO6)-1-3*INT((MONTH(DO6)-1)/3))),\nIF($P$6=Lists!$I$8,EOMONTH(DO6,11),\nIF($P$6=Lists!$I$9,EOMONTH(DO6,12-MONTH(DO6)),\"\"))))))","v":"2030-12-31"},{"$f":"IF(OR($P$6=\"\",$P$6=0,$P$7=\"\",$P$7=0,$P$8=\"\",$P$7<1),\"\",\nIF(DP$8=\"\",\"\",\nIF($P$6=Lists!$I$6,EOMONTH(DP6,0),\nIF($P$6=Lists!$I$7,EOMONTH(DP6,2-(MONTH(DP6)-1-3*INT((MONTH(DP6)-1)/3))),\nIF($P$6=Lists!$I$8,EOMONTH(DP6,11),\nIF($P$6=Lists!$I$9,EOMONTH(DP6,12-MONTH(DP6)),\"\"))))))","v":"2031-01-31"},{"$f":"IF(OR($P$6=\"\",$P$6=0,$P$7=\"\",$P$7=0,$P$8=\"\",$P$7<1),\"\",\nIF(DQ$8=\"\",\"\",\nIF($P$6=Lists!$I$6,EOMONTH(DQ6,0),\nIF($P$6=Lists!$I$7,EOMONTH(DQ6,2-(MONTH(DQ6)-1-3*INT((MONTH(DQ6)-1)/3))),\nIF($P$6=Lists!$I$8,EOMONTH(DQ6,11),\nIF($P$6=Lists!$I$9,EOMONTH(DQ6,12-MONTH(DQ6)),\"\"))))))","v":"2031-02-28"},{"$f":"IF(OR($P$6=\"\",$P$6=0,$P$7=\"\",$P$7=0,$P$8=\"\",$P$7<1),\"\",\nIF(DR$8=\"\",\"\",\nIF($P$6=Lists!$I$6,EOMONTH(DR6,0),\nIF($P$6=Lists!$I$7,EOMONTH(DR6,2-(MONTH(DR6)-1-3*INT((MONTH(DR6)-1)/3))),\nIF($P$6=Lists!$I$8,EOMONTH(DR6,11),\nIF($P$6=Lists!$I$9,EOMONTH(DR6,12-MONTH(DR6)),\"\"))))))","v":"2031-03-31"},{"$f":"IF(OR($P$6=\"\",$P$6=0,$P$7=\"\",$P$7=0,$P$8=\"\",$P$7<1),\"\",\nIF(DS$8=\"\",\"\",\nIF($P$6=Lists!$I$6,EOMONTH(DS6,0),\nIF($P$6=Lists!$I$7,EOMONTH(DS6,2-(MONTH(DS6)-1-3*INT((MONTH(DS6)-1)/3))),\nIF($P$6=Lists!$I$8,EOMONTH(DS6,11),\nIF($P$6=Lists!$I$9,EOMONTH(DS6,12-MONTH(DS6)),\"\"))))))","v":"2031-04-30"},{"$f":"IF(OR($P$6=\"\",$P$6=0,$P$7=\"\",$P$7=0,$P$8=\"\",$P$7<1),\"\",\nIF(DT$8=\"\",\"\",\nIF($P$6=Lists!$I$6,EOMONTH(DT6,0),\nIF($P$6=Lists!$I$7,EOMONTH(DT6,2-(MONTH(DT6)-1-3*INT((MONTH(DT6)-1)/3))),\nIF($P$6=Lists!$I$8,EOMONTH(DT6,11),\nIF($P$6=Lists!$I$9,EOMONTH(DT6,12-MONTH(DT6)),\"\"))))))","v":"2031-05-31"},{"$f":"IF(OR($P$6=\"\",$P$6=0,$P$7=\"\",$P$7=0,$P$8=\"\",$P$7<1),\"\",\nIF(DU$8=\"\",\"\",\nIF($P$6=Lists!$I$6,EOMONTH(DU6,0),\nIF($P$6=Lists!$I$7,EOMONTH(DU6,2-(MONTH(DU6)-1-3*INT((MONTH(DU6)-1)/3))),\nIF($P$6=Lists!$I$8,EOMONTH(DU6,11),\nIF($P$6=Lists!$I$9,EOMONTH(DU6,12-MONTH(DU6)),\"\"))))))","v":"2031-06-30"},{"$f":"IF(OR($P$6=\"\",$P$6=0,$P$7=\"\",$P$7=0,$P$8=\"\",$P$7<1),\"\",\nIF(DV$8=\"\",\"\",\nIF($P$6=Lists!$I$6,EOMONTH(DV6,0),\nIF($P$6=Lists!$I$7,EOMONTH(DV6,2-(MONTH(DV6)-1-3*INT((MONTH(DV6)-1)/3))),\nIF($P$6=Lists!$I$8,EOMONTH(DV6,11),\nIF($P$6=Lists!$I$9,EOMONTH(DV6,12-MONTH(DV6)),\"\"))))))","v":"2031-07-31"},{"$f":"IF(OR($P$6=\"\",$P$6=0,$P$7=\"\",$P$7=0,$P$8=\"\",$P$7<1),\"\",\nIF(DW$8=\"\",\"\",\nIF($P$6=Lists!$I$6,EOMONTH(DW6,0),\nIF($P$6=Lists!$I$7,EOMONTH(DW6,2-(MONTH(DW6)-1-3*INT((MONTH(DW6)-1)/3))),\nIF($P$6=Lists!$I$8,EOMONTH(DW6,11),\nIF($P$6=Lists!$I$9,EOMONTH(DW6,12-MONTH(DW6)),\"\"))))))","v":"2031-08-31"},{"$f":"IF(OR($P$6=\"\",$P$6=0,$P$7=\"\",$P$7=0,$P$8=\"\",$P$7<1),\"\",\nIF(DX$8=\"\",\"\",\nIF($P$6=Lists!$I$6,EOMONTH(DX6,0),\nIF($P$6=Lists!$I$7,EOMONTH(DX6,2-(MONTH(DX6)-1-3*INT((MONTH(DX6)-1)/3))),\nIF($P$6=Lists!$I$8,EOMONTH(DX6,11),\nIF($P$6=Lists!$I$9,EOMONTH(DX6,12-MONTH(DX6)),\"\"))))))","v":"2031-09-30"},{"$f":"IF(OR($P$6=\"\",$P$6=0,$P$7=\"\",$P$7=0,$P$8=\"\",$P$7<1),\"\",\nIF(DY$8=\"\",\"\",\nIF($P$6=Lists!$I$6,EOMONTH(DY6,0),\nIF($P$6=Lists!$I$7,EOMONTH(DY6,2-(MONTH(DY6)-1-3*INT((MONTH(DY6)-1)/3))),\nIF($P$6=Lists!$I$8,EOMONTH(DY6,11),\nIF($P$6=Lists!$I$9,EOMONTH(DY6,12-MONTH(DY6)),\"\"))))))","v":"2031-10-31"},{"$f":"IF(OR($P$6=\"\",$P$6=0,$P$7=\"\",$P$7=0,$P$8=\"\",$P$7<1),\"\",\nIF(DZ$8=\"\",\"\",\nIF($P$6=Lists!$I$6,EOMONTH(DZ6,0),\nIF($P$6=Lists!$I$7,EOMONTH(DZ6,2-(MONTH(DZ6)-1-3*INT((MONTH(DZ6)-1)/3))),\nIF($P$6=Lists!$I$8,EOMONTH(DZ6,11),\nIF($P$6=Lists!$I$9,EOMONTH(DZ6,12-MONTH(DZ6)),\"\"))))))","v":"2031-11-30"},{"$f":"IF(OR($P$6=\"\",$P$6=0,$P$7=\"\",$P$7=0,$P$8=\"\",$P$7<1),\"\",\nIF(EA$8=\"\",\"\",\nIF($P$6=Lists!$I$6,EOMONTH(EA6,0),\nIF($P$6=Lists!$I$7,EOMONTH(EA6,2-(MONTH(EA6)-1-3*INT((MONTH(EA6)-1)/3))),\nIF($P$6=Lists!$I$8,EOMONTH(EA6,11),\nIF($P$6=Lists!$I$9,EOMONTH(EA6,12-MONTH(EA6)),\"\"))))))","v":"2031-12-31"},{"$f":"IF(OR($P$6=\"\",$P$6=0,$P$7=\"\",$P$7=0,$P$8=\"\",$P$7<1),\"\",\nIF(EB$8=\"\",\"\",\nIF($P$6=Lists!$I$6,EOMONTH(EB6,0),\nIF($P$6=Lists!$I$7,EOMONTH(EB6,2-(MONTH(EB6)-1-3*INT((MONTH(EB6)-1)/3))),\nIF($P$6=Lists!$I$8,EOMONTH(EB6,11),\nIF($P$6=Lists!$I$9,EOMONTH(EB6,12-MONTH(EB6)),\"\"))))))","v":"2032-01-31"},{"$f":"IF(OR($P$6=\"\",$P$6=0,$P$7=\"\",$P$7=0,$P$8=\"\",$P$7<1),\"\",\nIF(EC$8=\"\",\"\",\nIF($P$6=Lists!$I$6,EOMONTH(EC6,0),\nIF($P$6=Lists!$I$7,EOMONTH(EC6,2-(MONTH(EC6)-1-3*INT((MONTH(EC6)-1)/3))),\nIF($P$6=Lists!$I$8,EOMONTH(EC6,11),\nIF($P$6=Lists!$I$9,EOMONTH(EC6,12-MONTH(EC6)),\"\"))))))","v":"2032-02-29"},{"$f":"IF(OR($P$6=\"\",$P$6=0,$P$7=\"\",$P$7=0,$P$8=\"\",$P$7<1),\"\",\nIF(ED$8=\"\",\"\",\nIF($P$6=Lists!$I$6,EOMONTH(ED6,0),\nIF($P$6=Lists!$I$7,EOMONTH(ED6,2-(MONTH(ED6)-1-3*INT((MONTH(ED6)-1)/3))),\nIF($P$6=Lists!$I$8,EOMONTH(ED6,11),\nIF($P$6=Lists!$I$9,EOMONTH(ED6,12-MONTH(ED6)),\"\"))))))","v":"2032-03-31"},{"$f":"IF(OR($P$6=\"\",$P$6=0,$P$7=\"\",$P$7=0,$P$8=\"\",$P$7<1),\"\",\nIF(EE$8=\"\",\"\",\nIF($P$6=Lists!$I$6,EOMONTH(EE6,0),\nIF($P$6=Lists!$I$7,EOMONTH(EE6,2-(MONTH(EE6)-1-3*INT((MONTH(EE6)-1)/3))),\nIF($P$6=Lists!$I$8,EOMONTH(EE6,11),\nIF($P$6=Lists!$I$9,EOMONTH(EE6,12-MONTH(EE6)),\"\"))))))","v":"2032-04-30"},{"$f":"IF(OR($P$6=\"\",$P$6=0,$P$7=\"\",$P$7=0,$P$8=\"\",$P$7<1),\"\",\nIF(EF$8=\"\",\"\",\nIF($P$6=Lists!$I$6,EOMONTH(EF6,0),\nIF($P$6=Lists!$I$7,EOMONTH(EF6,2-(MONTH(EF6)-1-3*INT((MONTH(EF6)-1)/3))),\nIF($P$6=Lists!$I$8,EOMONTH(EF6,11),\nIF($P$6=Lists!$I$9,EOMONTH(EF6,12-MONTH(EF6)),\"\"))))))","v":"2032-05-31"},{"$f":"IF(OR($P$6=\"\",$P$6=0,$P$7=\"\",$P$7=0,$P$8=\"\",$P$7<1),\"\",\nIF(EG$8=\"\",\"\",\nIF($P$6=Lists!$I$6,EOMONTH(EG6,0),\nIF($P$6=Lists!$I$7,EOMONTH(EG6,2-(MONTH(EG6)-1-3*INT((MONTH(EG6)-1)/3))),\nIF($P$6=Lists!$I$8,EOMONTH(EG6,11),\nIF($P$6=Lists!$I$9,EOMONTH(EG6,12-MONTH(EG6)),\"\"))))))","v":"2032-06-30"},{"$f":"IF(OR($P$6=\"\",$P$6=0,$P$7=\"\",$P$7=0,$P$8=\"\",$P$7<1),\"\",\nIF(EH$8=\"\",\"\",\nIF($P$6=Lists!$I$6,EOMONTH(EH6,0),\nIF($P$6=Lists!$I$7,EOMONTH(EH6,2-(MONTH(EH6)-1-3*INT((MONTH(EH6)-1)/3))),\nIF($P$6=Lists!$I$8,EOMONTH(EH6,11),\nIF($P$6=Lists!$I$9,EOMONTH(EH6,12-MONTH(EH6)),\"\"))))))","v":"2032-07-31"},{"$f":"IF(OR($P$6=\"\",$P$6=0,$P$7=\"\",$P$7=0,$P$8=\"\",$P$7<1),\"\",\nIF(EI$8=\"\",\"\",\nIF($P$6=Lists!$I$6,EOMONTH(EI6,0),\nIF($P$6=Lists!$I$7,EOMONTH(EI6,2-(MONTH(EI6)-1-3*INT((MONTH(EI6)-1)/3))),\nIF($P$6=Lists!$I$8,EOMONTH(EI6,11),\nIF($P$6=Lists!$I$9,EOMONTH(EI6,12-MONTH(EI6)),\"\"))))))","v":"2032-08-31"},{"$f":"IF(OR($P$6=\"\",$P$6=0,$P$7=\"\",$P$7=0,$P$8=\"\",$P$7<1),\"\",\nIF(EJ$8=\"\",\"\",\nIF($P$6=Lists!$I$6,EOMONTH(EJ6,0),\nIF($P$6=Lists!$I$7,EOMONTH(EJ6,2-(MONTH(EJ6)-1-3*INT((MONTH(EJ6)-1)/3))),\nIF($P$6=Lists!$I$8,EOMONTH(EJ6,11),\nIF($P$6=Lists!$I$9,EOMONTH(EJ6,12-MONTH(EJ6)),\"\"))))))","v":"2032-09-30"},{"$f":"IF(OR($P$6=\"\",$P$6=0,$P$7=\"\",$P$7=0,$P$8=\"\",$P$7<1),\"\",\nIF(EK$8=\"\",\"\",\nIF($P$6=Lists!$I$6,EOMONTH(EK6,0),\nIF($P$6=Lists!$I$7,EOMONTH(EK6,2-(MONTH(EK6)-1-3*INT((MONTH(EK6)-1)/3))),\nIF($P$6=Lists!$I$8,EOMONTH(EK6,11),\nIF($P$6=Lists!$I$9,EOMONTH(EK6,12-MONTH(EK6)),\"\"))))))","v":"2032-10-31"},{"$f":"IF(OR($P$6=\"\",$P$6=0,$P$7=\"\",$P$7=0,$P$8=\"\",$P$7<1),\"\",\nIF(EL$8=\"\",\"\",\nIF($P$6=Lists!$I$6,EOMONTH(EL6,0),\nIF($P$6=Lists!$I$7,EOMONTH(EL6,2-(MONTH(EL6)-1-3*INT((MONTH(EL6)-1)/3))),\nIF($P$6=Lists!$I$8,EOMONTH(EL6,11),\nIF($P$6=Lists!$I$9,EOMONTH(EL6,12-MONTH(EL6)),\"\"))))))","v":"2032-11-30"},{"$f":"IF(OR($P$6=\"\",$P$6=0,$P$7=\"\",$P$7=0,$P$8=\"\",$P$7<1),\"\",\nIF(EM$8=\"\",\"\",\nIF($P$6=Lists!$I$6,EOMONTH(EM6,0),\nIF($P$6=Lists!$I$7,EOMONTH(EM6,2-(MONTH(EM6)-1-3*INT((MONTH(EM6)-1)/3))),\nIF($P$6=Lists!$I$8,EOMONTH(EM6,11),\nIF($P$6=Lists!$I$9,EOMONTH(EM6,12-MONTH(EM6)),\"\"))))))","v":"2032-12-31"},{"$f":"IF(OR($P$6=\"\",$P$6=0,$P$7=\"\",$P$7=0,$P$8=\"\",$P$7<1),\"\",\nIF(EN$8=\"\",\"\",\nIF($P$6=Lists!$I$6,EOMONTH(EN6,0),\nIF($P$6=Lists!$I$7,EOMONTH(EN6,2-(MONTH(EN6)-1-3*INT((MONTH(EN6)-1)/3))),\nIF($P$6=Lists!$I$8,EOMONTH(EN6,11),\nIF($P$6=Lists!$I$9,EOMONTH(EN6,12-MONTH(EN6)),\"\"))))))","v":""},{"$f":"IF(OR($P$6=\"\",$P$6=0,$P$7=\"\",$P$7=0,$P$8=\"\",$P$7<1),\"\",\nIF(EO$8=\"\",\"\",\nIF($P$6=Lists!$I$6,EOMONTH(EO6,0),\nIF($P$6=Lists!$I$7,EOMONTH(EO6,2-(MONTH(EO6)-1-3*INT((MONTH(EO6)-1)/3))),\nIF($P$6=Lists!$I$8,EOMONTH(EO6,11),\nIF($P$6=Lists!$I$9,EOMONTH(EO6,12-MONTH(EO6)),\"\"))))))","v":""},{"$f":"IF(OR($P$6=\"\",$P$6=0,$P$7=\"\",$P$7=0,$P$8=\"\",$P$7<1),\"\",\nIF(EP$8=\"\",\"\",\nIF($P$6=Lists!$I$6,EOMONTH(EP6,0),\nIF($P$6=Lists!$I$7,EOMONTH(EP6,2-(MONTH(EP6)-1-3*INT((MONTH(EP6)-1)/3))),\nIF($P$6=Lists!$I$8,EOMONTH(EP6,11),\nIF($P$6=Lists!$I$9,EOMONTH(EP6,12-MONTH(EP6)),\"\"))))))","v":""},{"$f":"IF(OR($P$6=\"\",$P$6=0,$P$7=\"\",$P$7=0,$P$8=\"\",$P$7<1),\"\",\nIF(EQ$8=\"\",\"\",\nIF($P$6=Lists!$I$6,EOMONTH(EQ6,0),\nIF($P$6=Lists!$I$7,EOMONTH(EQ6,2-(MONTH(EQ6)-1-3*INT((MONTH(EQ6)-1)/3))),\nIF($P$6=Lists!$I$8,EOMONTH(EQ6,11),\nIF($P$6=Lists!$I$9,EOMONTH(EQ6,12-MONTH(EQ6)),\"\"))))))","v":""},{"$f":"IF(OR($P$6=\"\",$P$6=0,$P$7=\"\",$P$7=0,$P$8=\"\",$P$7<1),\"\",\nIF(ER$8=\"\",\"\",\nIF($P$6=Lists!$I$6,EOMONTH(ER6,0),\nIF($P$6=Lists!$I$7,EOMONTH(ER6,2-(MONTH(ER6)-1-3*INT((MONTH(ER6)-1)/3))),\nIF($P$6=Lists!$I$8,EOMONTH(ER6,11),\nIF($P$6=Lists!$I$9,EOMONTH(ER6,12-MONTH(ER6)),\"\"))))))","v":""},{"$f":"IF(OR($P$6=\"\",$P$6=0,$P$7=\"\",$P$7=0,$P$8=\"\",$P$7<1),\"\",\nIF(ES$8=\"\",\"\",\nIF($P$6=Lists!$I$6,EOMONTH(ES6,0),\nIF($P$6=Lists!$I$7,EOMONTH(ES6,2-(MONTH(ES6)-1-3*INT((MONTH(ES6)-1)/3))),\nIF($P$6=Lists!$I$8,EOMONTH(ES6,11),\nIF($P$6=Lists!$I$9,EOMONTH(ES6,12-MONTH(ES6)),\"\"))))))","v":""},{"$f":"IF(OR($P$6=\"\",$P$6=0,$P$7=\"\",$P$7=0,$P$8=\"\",$P$7<1),\"\",\nIF(ET$8=\"\",\"\",\nIF($P$6=Lists!$I$6,EOMONTH(ET6,0),\nIF($P$6=Lists!$I$7,EOMONTH(ET6,2-(MONTH(ET6)-1-3*INT((MONTH(ET6)-1)/3))),\nIF($P$6=Lists!$I$8,EOMONTH(ET6,11),\nIF($P$6=Lists!$I$9,EOMONTH(ET6,12-MONTH(ET6)),\"\"))))))","v":""},{"$f":"IF(OR($P$6=\"\",$P$6=0,$P$7=\"\",$P$7=0,$P$8=\"\",$P$7<1),\"\",\nIF(EU$8=\"\",\"\",\nIF($P$6=Lists!$I$6,EOMONTH(EU6,0),\nIF($P$6=Lists!$I$7,EOMONTH(EU6,2-(MONTH(EU6)-1-3*INT((MONTH(EU6)-1)/3))),\nIF($P$6=Lists!$I$8,EOMONTH(EU6,11),\nIF($P$6=Lists!$I$9,EOMONTH(EU6,12-MONTH(EU6)),\"\"))))))","v":""},{"$f":"IF(OR($P$6=\"\",$P$6=0,$P$7=\"\",$P$7=0,$P$8=\"\",$P$7<1),\"\",\nIF(EV$8=\"\",\"\",\nIF($P$6=Lists!$I$6,EOMONTH(EV6,0),\nIF($P$6=Lists!$I$7,EOMONTH(EV6,2-(MONTH(EV6)-1-3*INT((MONTH(EV6)-1)/3))),\nIF($P$6=Lists!$I$8,EOMONTH(EV6,11),\nIF($P$6=Lists!$I$9,EOMONTH(EV6,12-MONTH(EV6)),\"\"))))))","v":""},{"$f":"IF(OR($P$6=\"\",$P$6=0,$P$7=\"\",$P$7=0,$P$8=\"\",$P$7<1),\"\",\nIF(EW$8=\"\",\"\",\nIF($P$6=Lists!$I$6,EOMONTH(EW6,0),\nIF($P$6=Lists!$I$7,EOMONTH(EW6,2-(MONTH(EW6)-1-3*INT((MONTH(EW6)-1)/3))),\nIF($P$6=Lists!$I$8,EOMONTH(EW6,11),\nIF($P$6=Lists!$I$9,EOMONTH(EW6,12-MONTH(EW6)),\"\"))))))","v":""},{"$f":"IF(OR($P$6=\"\",$P$6=0,$P$7=\"\",$P$7=0,$P$8=\"\",$P$7<1),\"\",\nIF(EX$8=\"\",\"\",\nIF($P$6=Lists!$I$6,EOMONTH(EX6,0),\nIF($P$6=Lists!$I$7,EOMONTH(EX6,2-(MONTH(EX6)-1-3*INT((MONTH(EX6)-1)/3))),\nIF($P$6=Lists!$I$8,EOMONTH(EX6,11),\nIF($P$6=Lists!$I$9,EOMONTH(EX6,12-MONTH(EX6)),\"\"))))))","v":""},{"$f":"IF(OR($P$6=\"\",$P$6=0,$P$7=\"\",$P$7=0,$P$8=\"\",$P$7<1),\"\",\nIF(EY$8=\"\",\"\",\nIF($P$6=Lists!$I$6,EOMONTH(EY6,0),\nIF($P$6=Lists!$I$7,EOMONTH(EY6,2-(MONTH(EY6)-1-3*INT((MONTH(EY6)-1)/3))),\nIF($P$6=Lists!$I$8,EOMONTH(EY6,11),\nIF($P$6=Lists!$I$9,EOMONTH(EY6,12-MONTH(EY6)),\"\"))))))","v":""},{"$f":"IF(OR($P$6=\"\",$P$6=0,$P$7=\"\",$P$7=0,$P$8=\"\",$P$7<1),\"\",\nIF(EZ$8=\"\",\"\",\nIF($P$6=Lists!$I$6,EOMONTH(EZ6,0),\nIF($P$6=Lists!$I$7,EOMONTH(EZ6,2-(MONTH(EZ6)-1-3*INT((MONTH(EZ6)-1)/3))),\nIF($P$6=Lists!$I$8,EOMONTH(EZ6,11),\nIF($P$6=Lists!$I$9,EOMONTH(EZ6,12-MONTH(EZ6)),\"\"))))))","v":""},{"$f":"IF(OR($P$6=\"\",$P$6=0,$P$7=\"\",$P$7=0,$P$8=\"\",$P$7<1),\"\",\nIF(FA$8=\"\",\"\",\nIF($P$6=Lists!$I$6,EOMONTH(FA6,0),\nIF($P$6=Lists!$I$7,EOMONTH(FA6,2-(MONTH(FA6)-1-3*INT((MONTH(FA6)-1)/3))),\nIF($P$6=Lists!$I$8,EOMONTH(FA6,11),\nIF($P$6=Lists!$I$9,EOMONTH(FA6,12-MONTH(FA6)),\"\"))))))","v":""},{"$f":"IF(OR($P$6=\"\",$P$6=0,$P$7=\"\",$P$7=0,$P$8=\"\",$P$7<1),\"\",\nIF(FB$8=\"\",\"\",\nIF($P$6=Lists!$I$6,EOMONTH(FB6,0),\nIF($P$6=Lists!$I$7,EOMONTH(FB6,2-(MONTH(FB6)-1-3*INT((MONTH(FB6)-1)/3))),\nIF($P$6=Lists!$I$8,EOMONTH(FB6,11),\nIF($P$6=Lists!$I$9,EOMONTH(FB6,12-MONTH(FB6)),\"\"))))))","v":""},{"$f":"IF(OR($P$6=\"\",$P$6=0,$P$7=\"\",$P$7=0,$P$8=\"\",$P$7<1),\"\",\nIF(FC$8=\"\",\"\",\nIF($P$6=Lists!$I$6,EOMONTH(FC6,0),\nIF($P$6=Lists!$I$7,EOMONTH(FC6,2-(MONTH(FC6)-1-3*INT((MONTH(FC6)-1)/3))),\nIF($P$6=Lists!$I$8,EOMONTH(FC6,11),\nIF($P$6=Lists!$I$9,EOMONTH(FC6,12-MONTH(FC6)),\"\"))))))","v":""},{"$f":"IF(OR($P$6=\"\",$P$6=0,$P$7=\"\",$P$7=0,$P$8=\"\",$P$7<1),\"\",\nIF(FD$8=\"\",\"\",\nIF($P$6=Lists!$I$6,EOMONTH(FD6,0),\nIF($P$6=Lists!$I$7,EOMONTH(FD6,2-(MONTH(FD6)-1-3*INT((MONTH(FD6)-1)/3))),\nIF($P$6=Lists!$I$8,EOMONTH(FD6,11),\nIF($P$6=Lists!$I$9,EOMONTH(FD6,12-MONTH(FD6)),\"\"))))))","v":""},{"$f":"IF(OR($P$6=\"\",$P$6=0,$P$7=\"\",$P$7=0,$P$8=\"\",$P$7<1),\"\",\nIF(FE$8=\"\",\"\",\nIF($P$6=Lists!$I$6,EOMONTH(FE6,0),\nIF($P$6=Lists!$I$7,EOMONTH(FE6,2-(MONTH(FE6)-1-3*INT((MONTH(FE6)-1)/3))),\nIF($P$6=Lists!$I$8,EOMONTH(FE6,11),\nIF($P$6=Lists!$I$9,EOMONTH(FE6,12-MONTH(FE6)),\"\"))))))","v":""},{"$f":"IF(OR($P$6=\"\",$P$6=0,$P$7=\"\",$P$7=0,$P$8=\"\",$P$7<1),\"\",\nIF(FF$8=\"\",\"\",\nIF($P$6=Lists!$I$6,EOMONTH(FF6,0),\nIF($P$6=Lists!$I$7,EOMONTH(FF6,2-(MONTH(FF6)-1-3*INT((MONTH(FF6)-1)/3))),\nIF($P$6=Lists!$I$8,EOMONTH(FF6,11),\nIF($P$6=Lists!$I$9,EOMONTH(FF6,12-MONTH(FF6)),\"\"))))))","v":""},{"$f":"IF(OR($P$6=\"\",$P$6=0,$P$7=\"\",$P$7=0,$P$8=\"\",$P$7<1),\"\",\nIF(FG$8=\"\",\"\",\nIF($P$6=Lists!$I$6,EOMONTH(FG6,0),\nIF($P$6=Lists!$I$7,EOMONTH(FG6,2-(MONTH(FG6)-1-3*INT((MONTH(FG6)-1)/3))),\nIF($P$6=Lists!$I$8,EOMONTH(FG6,11),\nIF($P$6=Lists!$I$9,EOMONTH(FG6,12-MONTH(FG6)),\"\"))))))","v":""},{"$f":"IF(OR($P$6=\"\",$P$6=0,$P$7=\"\",$P$7=0,$P$8=\"\",$P$7<1),\"\",\nIF(FH$8=\"\",\"\",\nIF($P$6=Lists!$I$6,EOMONTH(FH6,0),\nIF($P$6=Lists!$I$7,EOMONTH(FH6,2-(MONTH(FH6)-1-3*INT((MONTH(FH6)-1)/3))),\nIF($P$6=Lists!$I$8,EOMONTH(FH6,11),\nIF($P$6=Lists!$I$9,EOMONTH(FH6,12-MONTH(FH6)),\"\"))))))","v":""},{"$f":"IF(OR($P$6=\"\",$P$6=0,$P$7=\"\",$P$7=0,$P$8=\"\",$P$7<1),\"\",\nIF(FI$8=\"\",\"\",\nIF($P$6=Lists!$I$6,EOMONTH(FI6,0),\nIF($P$6=Lists!$I$7,EOMONTH(FI6,2-(MONTH(FI6)-1-3*INT((MONTH(FI6)-1)/3))),\nIF($P$6=Lists!$I$8,EOMONTH(FI6,11),\nIF($P$6=Lists!$I$9,EOMONTH(FI6,12-MONTH(FI6)),\"\"))))))","v":""},{"$f":"IF(OR($P$6=\"\",$P$6=0,$P$7=\"\",$P$7=0,$P$8=\"\",$P$7<1),\"\",\nIF(FJ$8=\"\",\"\",\nIF($P$6=Lists!$I$6,EOMONTH(FJ6,0),\nIF($P$6=Lists!$I$7,EOMONTH(FJ6,2-(MONTH(FJ6)-1-3*INT((MONTH(FJ6)-1)/3))),\nIF($P$6=Lists!$I$8,EOMONTH(FJ6,11),\nIF($P$6=Lists!$I$9,EOMONTH(FJ6,12-MONTH(FJ6)),\"\"))))))","v":""},{"$f":"IF(OR($P$6=\"\",$P$6=0,$P$7=\"\",$P$7=0,$P$8=\"\",$P$7<1),\"\",\nIF(FK$8=\"\",\"\",\nIF($P$6=Lists!$I$6,EOMONTH(FK6,0),\nIF($P$6=Lists!$I$7,EOMONTH(FK6,2-(MONTH(FK6)-1-3*INT((MONTH(FK6)-1)/3))),\nIF($P$6=Lists!$I$8,EOMONTH(FK6,11),\nIF($P$6=Lists!$I$9,EOMONTH(FK6,12-MONTH(FK6)),\"\"))))))","v":""},{"$f":"IF(OR($P$6=\"\",$P$6=0,$P$7=\"\",$P$7=0,$P$8=\"\",$P$7<1),\"\",\nIF(FL$8=\"\",\"\",\nIF($P$6=Lists!$I$6,EOMONTH(FL6,0),\nIF($P$6=Lists!$I$7,EOMONTH(FL6,2-(MONTH(FL6)-1-3*INT((MONTH(FL6)-1)/3))),\nIF($P$6=Lists!$I$8,EOMONTH(FL6,11),\nIF($P$6=Lists!$I$9,EOMONTH(FL6,12-MONTH(FL6)),\"\"))))))","v":""},{"$f":"IF(OR($P$6=\"\",$P$6=0,$P$7=\"\",$P$7=0,$P$8=\"\",$P$7<1),\"\",\nIF(FM$8=\"\",\"\",\nIF($P$6=Lists!$I$6,EOMONTH(FM6,0),\nIF($P$6=Lists!$I$7,EOMONTH(FM6,2-(MONTH(FM6)-1-3*INT((MONTH(FM6)-1)/3))),\nIF($P$6=Lists!$I$8,EOMONTH(FM6,11),\nIF($P$6=Lists!$I$9,EOMONTH(FM6,12-MONTH(FM6)),\"\"))))))","v":""},{"$f":"IF(OR($P$6=\"\",$P$6=0,$P$7=\"\",$P$7=0,$P$8=\"\",$P$7<1),\"\",\nIF(FN$8=\"\",\"\",\nIF($P$6=Lists!$I$6,EOMONTH(FN6,0),\nIF($P$6=Lists!$I$7,EOMONTH(FN6,2-(MONTH(FN6)-1-3*INT((MONTH(FN6)-1)/3))),\nIF($P$6=Lists!$I$8,EOMONTH(FN6,11),\nIF($P$6=Lists!$I$9,EOMONTH(FN6,12-MONTH(FN6)),\"\"))))))","v":""},{"$f":"IF(OR($P$6=\"\",$P$6=0,$P$7=\"\",$P$7=0,$P$8=\"\",$P$7<1),\"\",\nIF(FO$8=\"\",\"\",\nIF($P$6=Lists!$I$6,EOMONTH(FO6,0),\nIF($P$6=Lists!$I$7,EOMONTH(FO6,2-(MONTH(FO6)-1-3*INT((MONTH(FO6)-1)/3))),\nIF($P$6=Lists!$I$8,EOMONTH(FO6,11),\nIF($P$6=Lists!$I$9,EOMONTH(FO6,12-MONTH(FO6)),\"\"))))))","v":""},{"$f":"IF(OR($P$6=\"\",$P$6=0,$P$7=\"\",$P$7=0,$P$8=\"\",$P$7<1),\"\",\nIF(FP$8=\"\",\"\",\nIF($P$6=Lists!$I$6,EOMONTH(FP6,0),\nIF($P$6=Lists!$I$7,EOMONTH(FP6,2-(MONTH(FP6)-1-3*INT((MONTH(FP6)-1)/3))),\nIF($P$6=Lists!$I$8,EOMONTH(FP6,11),\nIF($P$6=Lists!$I$9,EOMONTH(FP6,12-MONTH(FP6)),\"\"))))))","v":""},{"$f":"IF(OR($P$6=\"\",$P$6=0,$P$7=\"\",$P$7=0,$P$8=\"\",$P$7<1),\"\",\nIF(FQ$8=\"\",\"\",\nIF($P$6=Lists!$I$6,EOMONTH(FQ6,0),\nIF($P$6=Lists!$I$7,EOMONTH(FQ6,2-(MONTH(FQ6)-1-3*INT((MONTH(FQ6)-1)/3))),\nIF($P$6=Lists!$I$8,EOMONTH(FQ6,11),\nIF($P$6=Lists!$I$9,EOMONTH(FQ6,12-MONTH(FQ6)),\"\"))))))","v":""},{"$f":"IF(OR($P$6=\"\",$P$6=0,$P$7=\"\",$P$7=0,$P$8=\"\",$P$7<1),\"\",\nIF(FR$8=\"\",\"\",\nIF($P$6=Lists!$I$6,EOMONTH(FR6,0),\nIF($P$6=Lists!$I$7,EOMONTH(FR6,2-(MONTH(FR6)-1-3*INT((MONTH(FR6)-1)/3))),\nIF($P$6=Lists!$I$8,EOMONTH(FR6,11),\nIF($P$6=Lists!$I$9,EOMONTH(FR6,12-MONTH(FR6)),\"\"))))))","v":""},{"$f":"IF(OR($P$6=\"\",$P$6=0,$P$7=\"\",$P$7=0,$P$8=\"\",$P$7<1),\"\",\nIF(FS$8=\"\",\"\",\nIF($P$6=Lists!$I$6,EOMONTH(FS6,0),\nIF($P$6=Lists!$I$7,EOMONTH(FS6,2-(MONTH(FS6)-1-3*INT((MONTH(FS6)-1)/3))),\nIF($P$6=Lists!$I$8,EOMONTH(FS6,11),\nIF($P$6=Lists!$I$9,EOMONTH(FS6,12-MONTH(FS6)),\"\"))))))","v":""},{"$f":"IF(OR($P$6=\"\",$P$6=0,$P$7=\"\",$P$7=0,$P$8=\"\",$P$7<1),\"\",\nIF(FT$8=\"\",\"\",\nIF($P$6=Lists!$I$6,EOMONTH(FT6,0),\nIF($P$6=Lists!$I$7,EOMONTH(FT6,2-(MONTH(FT6)-1-3*INT((MONTH(FT6)-1)/3))),\nIF($P$6=Lists!$I$8,EOMONTH(FT6,11),\nIF($P$6=Lists!$I$9,EOMONTH(FT6,12-MONTH(FT6)),\"\"))))))","v":""},{"$f":"IF(OR($P$6=\"\",$P$6=0,$P$7=\"\",$P$7=0,$P$8=\"\",$P$7<1),\"\",\nIF(FU$8=\"\",\"\",\nIF($P$6=Lists!$I$6,EOMONTH(FU6,0),\nIF($P$6=Lists!$I$7,EOMONTH(FU6,2-(MONTH(FU6)-1-3*INT((MONTH(FU6)-1)/3))),\nIF($P$6=Lists!$I$8,EOMONTH(FU6,11),\nIF($P$6=Lists!$I$9,EOMONTH(FU6,12-MONTH(FU6)),\"\"))))))","v":""},{"$f":"IF(OR($P$6=\"\",$P$6=0,$P$7=\"\",$P$7=0,$P$8=\"\",$P$7<1),\"\",\nIF(FV$8=\"\",\"\",\nIF($P$6=Lists!$I$6,EOMONTH(FV6,0),\nIF($P$6=Lists!$I$7,EOMONTH(FV6,2-(MONTH(FV6)-1-3*INT((MONTH(FV6)-1)/3))),\nIF($P$6=Lists!$I$8,EOMONTH(FV6,11),\nIF($P$6=Lists!$I$9,EOMONTH(FV6,12-MONTH(FV6)),\"\"))))))","v":""},{"$f":"IF(OR($P$6=\"\",$P$6=0,$P$7=\"\",$P$7=0,$P$8=\"\",$P$7<1),\"\",\nIF(FW$8=\"\",\"\",\nIF($P$6=Lists!$I$6,EOMONTH(FW6,0),\nIF($P$6=Lists!$I$7,EOMONTH(FW6,2-(MONTH(FW6)-1-3*INT((MONTH(FW6)-1)/3))),\nIF($P$6=Lists!$I$8,EOMONTH(FW6,11),\nIF($P$6=Lists!$I$9,EOMONTH(FW6,12-MONTH(FW6)),\"\"))))))","v":""},{"$f":"IF(OR($P$6=\"\",$P$6=0,$P$7=\"\",$P$7=0,$P$8=\"\",$P$7<1),\"\",\nIF(FX$8=\"\",\"\",\nIF($P$6=Lists!$I$6,EOMONTH(FX6,0),\nIF($P$6=Lists!$I$7,EOMONTH(FX6,2-(MONTH(FX6)-1-3*INT((MONTH(FX6)-1)/3))),\nIF($P$6=Lists!$I$8,EOMONTH(FX6,11),\nIF($P$6=Lists!$I$9,EOMONTH(FX6,12-MONTH(FX6)),\"\"))))))","v":""},{"$f":"IF(OR($P$6=\"\",$P$6=0,$P$7=\"\",$P$7=0,$P$8=\"\",$P$7<1),\"\",\nIF(FY$8=\"\",\"\",\nIF($P$6=Lists!$I$6,EOMONTH(FY6,0),\nIF($P$6=Lists!$I$7,EOMONTH(FY6,2-(MONTH(FY6)-1-3*INT((MONTH(FY6)-1)/3))),\nIF($P$6=Lists!$I$8,EOMONTH(FY6,11),\nIF($P$6=Lists!$I$9,EOMONTH(FY6,12-MONTH(FY6)),\"\"))))))","v":""},{"$f":"IF(OR($P$6=\"\",$P$6=0,$P$7=\"\",$P$7=0,$P$8=\"\",$P$7<1),\"\",\nIF(FZ$8=\"\",\"\",\nIF($P$6=Lists!$I$6,EOMONTH(FZ6,0),\nIF($P$6=Lists!$I$7,EOMONTH(FZ6,2-(MONTH(FZ6)-1-3*INT((MONTH(FZ6)-1)/3))),\nIF($P$6=Lists!$I$8,EOMONTH(FZ6,11),\nIF($P$6=Lists!$I$9,EOMONTH(FZ6,12-MONTH(FZ6)),\"\"))))))","v":""},{"$f":"IF(OR($P$6=\"\",$P$6=0,$P$7=\"\",$P$7=0,$P$8=\"\",$P$7<1),\"\",\nIF(GA$8=\"\",\"\",\nIF($P$6=Lists!$I$6,EOMONTH(GA6,0),\nIF($P$6=Lists!$I$7,EOMONTH(GA6,2-(MONTH(GA6)-1-3*INT((MONTH(GA6)-1)/3))),\nIF($P$6=Lists!$I$8,EOMONTH(GA6,11),\nIF($P$6=Lists!$I$9,EOMONTH(GA6,12-MONTH(GA6)),\"\"))))))","v":""},{"$f":"IF(OR($P$6=\"\",$P$6=0,$P$7=\"\",$P$7=0,$P$8=\"\",$P$7<1),\"\",\nIF(GB$8=\"\",\"\",\nIF($P$6=Lists!$I$6,EOMONTH(GB6,0),\nIF($P$6=Lists!$I$7,EOMONTH(GB6,2-(MONTH(GB6)-1-3*INT((MONTH(GB6)-1)/3))),\nIF($P$6=Lists!$I$8,EOMONTH(GB6,11),\nIF($P$6=Lists!$I$9,EOMONTH(GB6,12-MONTH(GB6)),\"\"))))))","v":""},{"$f":"IF(OR($P$6=\"\",$P$6=0,$P$7=\"\",$P$7=0,$P$8=\"\",$P$7<1),\"\",\nIF(GC$8=\"\",\"\",\nIF($P$6=Lists!$I$6,EOMONTH(GC6,0),\nIF($P$6=Lists!$I$7,EOMONTH(GC6,2-(MONTH(GC6)-1-3*INT((MONTH(GC6)-1)/3))),\nIF($P$6=Lists!$I$8,EOMONTH(GC6,11),\nIF($P$6=Lists!$I$9,EOMONTH(GC6,12-MONTH(GC6)),\"\"))))))","v":""},{"$f":"IF(OR($P$6=\"\",$P$6=0,$P$7=\"\",$P$7=0,$P$8=\"\",$P$7<1),\"\",\nIF(GD$8=\"\",\"\",\nIF($P$6=Lists!$I$6,EOMONTH(GD6,0),\nIF($P$6=Lists!$I$7,EOMONTH(GD6,2-(MONTH(GD6)-1-3*INT((MONTH(GD6)-1)/3))),\nIF($P$6=Lists!$I$8,EOMONTH(GD6,11),\nIF($P$6=Lists!$I$9,EOMONTH(GD6,12-MONTH(GD6)),\"\"))))))","v":""},{"$f":"IF(OR($P$6=\"\",$P$6=0,$P$7=\"\",$P$7=0,$P$8=\"\",$P$7<1),\"\",\nIF(GE$8=\"\",\"\",\nIF($P$6=Lists!$I$6,EOMONTH(GE6,0),\nIF($P$6=Lists!$I$7,EOMONTH(GE6,2-(MONTH(GE6)-1-3*INT((MONTH(GE6)-1)/3))),\nIF($P$6=Lists!$I$8,EOMONTH(GE6,11),\nIF($P$6=Lists!$I$9,EOMONTH(GE6,12-MONTH(GE6)),\"\"))))))","v":""},{"$f":"IF(OR($P$6=\"\",$P$6=0,$P$7=\"\",$P$7=0,$P$8=\"\",$P$7<1),\"\",\nIF(GF$8=\"\",\"\",\nIF($P$6=Lists!$I$6,EOMONTH(GF6,0),\nIF($P$6=Lists!$I$7,EOMONTH(GF6,2-(MONTH(GF6)-1-3*INT((MONTH(GF6)-1)/3))),\nIF($P$6=Lists!$I$8,EOMONTH(GF6,11),\nIF($P$6=Lists!$I$9,EOMONTH(GF6,12-MONTH(GF6)),\"\"))))))","v":""},{"$f":"IF(OR($P$6=\"\",$P$6=0,$P$7=\"\",$P$7=0,$P$8=\"\",$P$7<1),\"\",\nIF(GG$8=\"\",\"\",\nIF($P$6=Lists!$I$6,EOMONTH(GG6,0),\nIF($P$6=Lists!$I$7,EOMONTH(GG6,2-(MONTH(GG6)-1-3*INT((MONTH(GG6)-1)/3))),\nIF($P$6=Lists!$I$8,EOMONTH(GG6,11),\nIF($P$6=Lists!$I$9,EOMONTH(GG6,12-MONTH(GG6)),\"\"))))))","v":""},{"$f":"IF(OR($P$6=\"\",$P$6=0,$P$7=\"\",$P$7=0,$P$8=\"\",$P$7<1),\"\",\nIF(GH$8=\"\",\"\",\nIF($P$6=Lists!$I$6,EOMONTH(GH6,0),\nIF($P$6=Lists!$I$7,EOMONTH(GH6,2-(MONTH(GH6)-1-3*INT((MONTH(GH6)-1)/3))),\nIF($P$6=Lists!$I$8,EOMONTH(GH6,11),\nIF($P$6=Lists!$I$9,EOMONTH(GH6,12-MONTH(GH6)),\"\"))))))","v":""},{"$f":"IF(OR($P$6=\"\",$P$6=0,$P$7=\"\",$P$7=0,$P$8=\"\",$P$7<1),\"\",\nIF(GI$8=\"\",\"\",\nIF($P$6=Lists!$I$6,EOMONTH(GI6,0),\nIF($P$6=Lists!$I$7,EOMONTH(GI6,2-(MONTH(GI6)-1-3*INT((MONTH(GI6)-1)/3))),\nIF($P$6=Lists!$I$8,EOMONTH(GI6,11),\nIF($P$6=Lists!$I$9,EOMONTH(GI6,12-MONTH(GI6)),\"\"))))))","v":""},{"$f":"IF(OR($P$6=\"\",$P$6=0,$P$7=\"\",$P$7=0,$P$8=\"\",$P$7<1),\"\",\nIF(GJ$8=\"\",\"\",\nIF($P$6=Lists!$I$6,EOMONTH(GJ6,0),\nIF($P$6=Lists!$I$7,EOMONTH(GJ6,2-(MONTH(GJ6)-1-3*INT((MONTH(GJ6)-1)/3))),\nIF($P$6=Lists!$I$8,EOMONTH(GJ6,11),\nIF($P$6=Lists!$I$9,EOMONTH(GJ6,12-MONTH(GJ6)),\"\"))))))","v":""},{"$f":"IF(OR($P$6=\"\",$P$6=0,$P$7=\"\",$P$7=0,$P$8=\"\",$P$7<1),\"\",\nIF(GK$8=\"\",\"\",\nIF($P$6=Lists!$I$6,EOMONTH(GK6,0),\nIF($P$6=Lists!$I$7,EOMONTH(GK6,2-(MONTH(GK6)-1-3*INT((MONTH(GK6)-1)/3))),\nIF($P$6=Lists!$I$8,EOMONTH(GK6,11),\nIF($P$6=Lists!$I$9,EOMONTH(GK6,12-MONTH(GK6)),\"\"))))))","v":""},{"$f":"IF(OR($P$6=\"\",$P$6=0,$P$7=\"\",$P$7=0,$P$8=\"\",$P$7<1),\"\",\nIF(GL$8=\"\",\"\",\nIF($P$6=Lists!$I$6,EOMONTH(GL6,0),\nIF($P$6=Lists!$I$7,EOMONTH(GL6,2-(MONTH(GL6)-1-3*INT((MONTH(GL6)-1)/3))),\nIF($P$6=Lists!$I$8,EOMONTH(GL6,11),\nIF($P$6=Lists!$I$9,EOMONTH(GL6,12-MONTH(GL6)),\"\"))))))","v":""},{"$f":"IF(OR($P$6=\"\",$P$6=0,$P$7=\"\",$P$7=0,$P$8=\"\",$P$7<1),\"\",\nIF(GM$8=\"\",\"\",\nIF($P$6=Lists!$I$6,EOMONTH(GM6,0),\nIF($P$6=Lists!$I$7,EOMONTH(GM6,2-(MONTH(GM6)-1-3*INT((MONTH(GM6)-1)/3))),\nIF($P$6=Lists!$I$8,EOMONTH(GM6,11),\nIF($P$6=Lists!$I$9,EOMONTH(GM6,12-MONTH(GM6)),\"\"))))))","v":""},{"$f":"IF(OR($P$6=\"\",$P$6=0,$P$7=\"\",$P$7=0,$P$8=\"\",$P$7<1),\"\",\nIF(GN$8=\"\",\"\",\nIF($P$6=Lists!$I$6,EOMONTH(GN6,0),\nIF($P$6=Lists!$I$7,EOMONTH(GN6,2-(MONTH(GN6)-1-3*INT((MONTH(GN6)-1)/3))),\nIF($P$6=Lists!$I$8,EOMONTH(GN6,11),\nIF($P$6=Lists!$I$9,EOMONTH(GN6,12-MONTH(GN6)),\"\"))))))","v":""},{"$f":"IF(OR($P$6=\"\",$P$6=0,$P$7=\"\",$P$7=0,$P$8=\"\",$P$7<1),\"\",\nIF(GO$8=\"\",\"\",\nIF($P$6=Lists!$I$6,EOMONTH(GO6,0),\nIF($P$6=Lists!$I$7,EOMONTH(GO6,2-(MONTH(GO6)-1-3*INT((MONTH(GO6)-1)/3))),\nIF($P$6=Lists!$I$8,EOMONTH(GO6,11),\nIF($P$6=Lists!$I$9,EOMONTH(GO6,12-MONTH(GO6)),\"\"))))))","v":""},{"$f":"IF(OR($P$6=\"\",$P$6=0,$P$7=\"\",$P$7=0,$P$8=\"\",$P$7<1),\"\",\nIF(GP$8=\"\",\"\",\nIF($P$6=Lists!$I$6,EOMONTH(GP6,0),\nIF($P$6=Lists!$I$7,EOMONTH(GP6,2-(MONTH(GP6)-1-3*INT((MONTH(GP6)-1)/3))),\nIF($P$6=Lists!$I$8,EOMONTH(GP6,11),\nIF($P$6=Lists!$I$9,EOMONTH(GP6,12-MONTH(GP6)),\"\"))))))","v":""},{"$f":"IF(OR($P$6=\"\",$P$6=0,$P$7=\"\",$P$7=0,$P$8=\"\",$P$7<1),\"\",\nIF(GQ$8=\"\",\"\",\nIF($P$6=Lists!$I$6,EOMONTH(GQ6,0),\nIF($P$6=Lists!$I$7,EOMONTH(GQ6,2-(MONTH(GQ6)-1-3*INT((MONTH(GQ6)-1)/3))),\nIF($P$6=Lists!$I$8,EOMONTH(GQ6,11),\nIF($P$6=Lists!$I$9,EOMONTH(GQ6,12-MONTH(GQ6)),\"\"))))))","v":""},{"$f":"IF(OR($P$6=\"\",$P$6=0,$P$7=\"\",$P$7=0,$P$8=\"\",$P$7<1),\"\",\nIF(GR$8=\"\",\"\",\nIF($P$6=Lists!$I$6,EOMONTH(GR6,0),\nIF($P$6=Lists!$I$7,EOMONTH(GR6,2-(MONTH(GR6)-1-3*INT((MONTH(GR6)-1)/3))),\nIF($P$6=Lists!$I$8,EOMONTH(GR6,11),\nIF($P$6=Lists!$I$9,EOMONTH(GR6,12-MONTH(GR6)),\"\"))))))","v":""},{"$f":"IF(OR($P$6=\"\",$P$6=0,$P$7=\"\",$P$7=0,$P$8=\"\",$P$7<1),\"\",\nIF(GS$8=\"\",\"\",\nIF($P$6=Lists!$I$6,EOMONTH(GS6,0),\nIF($P$6=Lists!$I$7,EOMONTH(GS6,2-(MONTH(GS6)-1-3*INT((MONTH(GS6)-1)/3))),\nIF($P$6=Lists!$I$8,EOMONTH(GS6,11),\nIF($P$6=Lists!$I$9,EOMONTH(GS6,12-MONTH(GS6)),\"\"))))))","v":""},{"$f":"IF(OR($P$6=\"\",$P$6=0,$P$7=\"\",$P$7=0,$P$8=\"\",$P$7<1),\"\",\nIF(GT$8=\"\",\"\",\nIF($P$6=Lists!$I$6,EOMONTH(GT6,0),\nIF($P$6=Lists!$I$7,EOMONTH(GT6,2-(MONTH(GT6)-1-3*INT((MONTH(GT6)-1)/3))),\nIF($P$6=Lists!$I$8,EOMONTH(GT6,11),\nIF($P$6=Lists!$I$9,EOMONTH(GT6,12-MONTH(GT6)),\"\"))))))","v":""},{"$f":"IF(OR($P$6=\"\",$P$6=0,$P$7=\"\",$P$7=0,$P$8=\"\",$P$7<1),\"\",\nIF(GU$8=\"\",\"\",\nIF($P$6=Lists!$I$6,EOMONTH(GU6,0),\nIF($P$6=Lists!$I$7,EOMONTH(GU6,2-(MONTH(GU6)-1-3*INT((MONTH(GU6)-1)/3))),\nIF($P$6=Lists!$I$8,EOMONTH(GU6,11),\nIF($P$6=Lists!$I$9,EOMONTH(GU6,12-MONTH(GU6)),\"\"))))))","v":""},{"$f":"IF(OR($P$6=\"\",$P$6=0,$P$7=\"\",$P$7=0,$P$8=\"\",$P$7<1),\"\",\nIF(GV$8=\"\",\"\",\nIF($P$6=Lists!$I$6,EOMONTH(GV6,0),\nIF($P$6=Lists!$I$7,EOMONTH(GV6,2-(MONTH(GV6)-1-3*INT((MONTH(GV6)-1)/3))),\nIF($P$6=Lists!$I$8,EOMONTH(GV6,11),\nIF($P$6=Lists!$I$9,EOMONTH(GV6,12-MONTH(GV6)),\"\"))))))","v":""}]
[null,{"$f":"ROW()","v":8},null,null,null,null,null,"горизонт моделирования","горизонт моделирования",null,null,null,"кол-во пер.",null,"*",120,null,null,null,null,{"$f":"MAX(INDIRECT(ADDRESS($B8,X$2)&\":\"&ADDRESS($B8,MAX($2:$2))))","v":120},null,null,{"$f":"IF(OR($P$6=\"\",$P$6=0,$P$7=\"\",$P$7=0,$P$8=\"\",$P$7<1),\"\",\nIF(MAX($W8:W8)+1>$P$8,\"\",MAX($W8:W8)+1))","v":1},{"$f":"IF(OR($P$6=\"\",$P$6=0,$P$7=\"\",$P$7=0,$P$8=\"\",$P$7<1),\"\",\nIF(MAX($W8:X8)+1>$P$8,\"\",MAX($W8:X8)+1))","v":2},{"$f":"IF(OR($P$6=\"\",$P$6=0,$P$7=\"\",$P$7=0,$P$8=\"\",$P$7<1),\"\",\nIF(MAX($W8:Y8)+1>$P$8,\"\",MAX($W8:Y8)+1))","v":3},{"$f":"IF(OR($P$6=\"\",$P$6=0,$P$7=\"\",$P$7=0,$P$8=\"\",$P$7<1),\"\",\nIF(MAX($W8:Z8)+1>$P$8,\"\",MAX($W8:Z8)+1))","v":4},{"$f":"IF(OR($P$6=\"\",$P$6=0,$P$7=\"\",$P$7=0,$P$8=\"\",$P$7<1),\"\",\nIF(MAX($W8:AA8)+1>$P$8,\"\",MAX($W8:AA8)+1))","v":5},{"$f":"IF(OR($P$6=\"\",$P$6=0,$P$7=\"\",$P$7=0,$P$8=\"\",$P$7<1),\"\",\nIF(MAX($W8:AB8)+1>$P$8,\"\",MAX($W8:AB8)+1))","v":6},{"$f":"IF(OR($P$6=\"\",$P$6=0,$P$7=\"\",$P$7=0,$P$8=\"\",$P$7<1),\"\",\nIF(MAX($W8:AC8)+1>$P$8,\"\",MAX($W8:AC8)+1))","v":7},{"$f":"IF(OR($P$6=\"\",$P$6=0,$P$7=\"\",$P$7=0,$P$8=\"\",$P$7<1),\"\",\nIF(MAX($W8:AD8)+1>$P$8,\"\",MAX($W8:AD8)+1))","v":8},{"$f":"IF(OR($P$6=\"\",$P$6=0,$P$7=\"\",$P$7=0,$P$8=\"\",$P$7<1),\"\",\nIF(MAX($W8:AE8)+1>$P$8,\"\",MAX($W8:AE8)+1))","v":9},{"$f":"IF(OR($P$6=\"\",$P$6=0,$P$7=\"\",$P$7=0,$P$8=\"\",$P$7<1),\"\",\nIF(MAX($W8:AF8)+1>$P$8,\"\",MAX($W8:AF8)+1))","v":10},{"$f":"IF(OR($P$6=\"\",$P$6=0,$P$7=\"\",$P$7=0,$P$8=\"\",$P$7<1),\"\",\nIF(MAX($W8:AG8)+1>$P$8,\"\",MAX($W8:AG8)+1))","v":11},{"$f":"IF(OR($P$6=\"\",$P$6=0,$P$7=\"\",$P$7=0,$P$8=\"\",$P$7<1),\"\",\nIF(MAX($W8:AH8)+1>$P$8,\"\",MAX($W8:AH8)+1))","v":12},{"$f":"IF(OR($P$6=\"\",$P$6=0,$P$7=\"\",$P$7=0,$P$8=\"\",$P$7<1),\"\",\nIF(MAX($W8:AI8)+1>$P$8,\"\",MAX($W8:AI8)+1))","v":13},{"$f":"IF(OR($P$6=\"\",$P$6=0,$P$7=\"\",$P$7=0,$P$8=\"\",$P$7<1),\"\",\nIF(MAX($W8:AJ8)+1>$P$8,\"\",MAX($W8:AJ8)+1))","v":14},{"$f":"IF(OR($P$6=\"\",$P$6=0,$P$7=\"\",$P$7=0,$P$8=\"\",$P$7<1),\"\",\nIF(MAX($W8:AK8)+1>$P$8,\"\",MAX($W8:AK8)+1))","v":15},{"$f":"IF(OR($P$6=\"\",$P$6=0,$P$7=\"\",$P$7=0,$P$8=\"\",$P$7<1),\"\",\nIF(MAX($W8:AL8)+1>$P$8,\"\",MAX($W8:AL8)+1))","v":16},{"$f":"IF(OR($P$6=\"\",$P$6=0,$P$7=\"\",$P$7=0,$P$8=\"\",$P$7<1),\"\",\nIF(MAX($W8:AM8)+1>$P$8,\"\",MAX($W8:AM8)+1))","v":17},{"$f":"IF(OR($P$6=\"\",$P$6=0,$P$7=\"\",$P$7=0,$P$8=\"\",$P$7<1),\"\",\nIF(MAX($W8:AN8)+1>$P$8,\"\",MAX($W8:AN8)+1))","v":18},{"$f":"IF(OR($P$6=\"\",$P$6=0,$P$7=\"\",$P$7=0,$P$8=\"\",$P$7<1),\"\",\nIF(MAX($W8:AO8)+1>$P$8,\"\",MAX($W8:AO8)+1))","v":19},{"$f":"IF(OR($P$6=\"\",$P$6=0,$P$7=\"\",$P$7=0,$P$8=\"\",$P$7<1),\"\",\nIF(MAX($W8:AP8)+1>$P$8,\"\",MAX($W8:AP8)+1))","v":20},{"$f":"IF(OR($P$6=\"\",$P$6=0,$P$7=\"\",$P$7=0,$P$8=\"\",$P$7<1),\"\",\nIF(MAX($W8:AQ8)+1>$P$8,\"\",MAX($W8:AQ8)+1))","v":21},{"$f":"IF(OR($P$6=\"\",$P$6=0,$P$7=\"\",$P$7=0,$P$8=\"\",$P$7<1),\"\",\nIF(MAX($W8:AR8)+1>$P$8,\"\",MAX($W8:AR8)+1))","v":22},{"$f":"IF(OR($P$6=\"\",$P$6=0,$P$7=\"\",$P$7=0,$P$8=\"\",$P$7<1),\"\",\nIF(MAX($W8:AS8)+1>$P$8,\"\",MAX($W8:AS8)+1))","v":23},{"$f":"IF(OR($P$6=\"\",$P$6=0,$P$7=\"\",$P$7=0,$P$8=\"\",$P$7<1),\"\",\nIF(MAX($W8:AT8)+1>$P$8,\"\",MAX($W8:AT8)+1))","v":24},{"$f":"IF(OR($P$6=\"\",$P$6=0,$P$7=\"\",$P$7=0,$P$8=\"\",$P$7<1),\"\",\nIF(MAX($W8:AU8)+1>$P$8,\"\",MAX($W8:AU8)+1))","v":25},{"$f":"IF(OR($P$6=\"\",$P$6=0,$P$7=\"\",$P$7=0,$P$8=\"\",$P$7<1),\"\",\nIF(MAX($W8:AV8)+1>$P$8,\"\",MAX($W8:AV8)+1))","v":26},{"$f":"IF(OR($P$6=\"\",$P$6=0,$P$7=\"\",$P$7=0,$P$8=\"\",$P$7<1),\"\",\nIF(MAX($W8:AW8)+1>$P$8,\"\",MAX($W8:AW8)+1))","v":27},{"$f":"IF(OR($P$6=\"\",$P$6=0,$P$7=\"\",$P$7=0,$P$8=\"\",$P$7<1),\"\",\nIF(MAX($W8:AX8)+1>$P$8,\"\",MAX($W8:AX8)+1))","v":28},{"$f":"IF(OR($P$6=\"\",$P$6=0,$P$7=\"\",$P$7=0,$P$8=\"\",$P$7<1),\"\",\nIF(MAX($W8:AY8)+1>$P$8,\"\",MAX($W8:AY8)+1))","v":29},{"$f":"IF(OR($P$6=\"\",$P$6=0,$P$7=\"\",$P$7=0,$P$8=\"\",$P$7<1),\"\",\nIF(MAX($W8:AZ8)+1>$P$8,\"\",MAX($W8:AZ8)+1))","v":30},{"$f":"IF(OR($P$6=\"\",$P$6=0,$P$7=\"\",$P$7=0,$P$8=\"\",$P$7<1),\"\",\nIF(MAX($W8:BA8)+1>$P$8,\"\",MAX($W8:BA8)+1))","v":31},{"$f":"IF(OR($P$6=\"\",$P$6=0,$P$7=\"\",$P$7=0,$P$8=\"\",$P$7<1),\"\",\nIF(MAX($W8:BB8)+1>$P$8,\"\",MAX($W8:BB8)+1))","v":32},{"$f":"IF(OR($P$6=\"\",$P$6=0,$P$7=\"\",$P$7=0,$P$8=\"\",$P$7<1),\"\",\nIF(MAX($W8:BC8)+1>$P$8,\"\",MAX($W8:BC8)+1))","v":33},{"$f":"IF(OR($P$6=\"\",$P$6=0,$P$7=\"\",$P$7=0,$P$8=\"\",$P$7<1),\"\",\nIF(MAX($W8:BD8)+1>$P$8,\"\",MAX($W8:BD8)+1))","v":34},{"$f":"IF(OR($P$6=\"\",$P$6=0,$P$7=\"\",$P$7=0,$P$8=\"\",$P$7<1),\"\",\nIF(MAX($W8:BE8)+1>$P$8,\"\",MAX($W8:BE8)+1))","v":35},{"$f":"IF(OR($P$6=\"\",$P$6=0,$P$7=\"\",$P$7=0,$P$8=\"\",$P$7<1),\"\",\nIF(MAX($W8:BF8)+1>$P$8,\"\",MAX($W8:BF8)+1))","v":36},{"$f":"IF(OR($P$6=\"\",$P$6=0,$P$7=\"\",$P$7=0,$P$8=\"\",$P$7<1),\"\",\nIF(MAX($W8:BG8)+1>$P$8,\"\",MAX($W8:BG8)+1))","v":37},{"$f":"IF(OR($P$6=\"\",$P$6=0,$P$7=\"\",$P$7=0,$P$8=\"\",$P$7<1),\"\",\nIF(MAX($W8:BH8)+1>$P$8,\"\",MAX($W8:BH8)+1))","v":38},{"$f":"IF(OR($P$6=\"\",$P$6=0,$P$7=\"\",$P$7=0,$P$8=\"\",$P$7<1),\"\",\nIF(MAX($W8:BI8)+1>$P$8,\"\",MAX($W8:BI8)+1))","v":39},{"$f":"IF(OR($P$6=\"\",$P$6=0,$P$7=\"\",$P$7=0,$P$8=\"\",$P$7<1),\"\",\nIF(MAX($W8:BJ8)+1>$P$8,\"\",MAX($W8:BJ8)+1))","v":40},{"$f":"IF(OR($P$6=\"\",$P$6=0,$P$7=\"\",$P$7=0,$P$8=\"\",$P$7<1),\"\",\nIF(MAX($W8:BK8)+1>$P$8,\"\",MAX($W8:BK8)+1))","v":41},{"$f":"IF(OR($P$6=\"\",$P$6=0,$P$7=\"\",$P$7=0,$P$8=\"\",$P$7<1),\"\",\nIF(MAX($W8:BL8)+1>$P$8,\"\",MAX($W8:BL8)+1))","v":42},{"$f":"IF(OR($P$6=\"\",$P$6=0,$P$7=\"\",$P$7=0,$P$8=\"\",$P$7<1),\"\",\nIF(MAX($W8:BM8)+1>$P$8,\"\",MAX($W8:BM8)+1))","v":43},{"$f":"IF(OR($P$6=\"\",$P$6=0,$P$7=\"\",$P$7=0,$P$8=\"\",$P$7<1),\"\",\nIF(MAX($W8:BN8)+1>$P$8,\"\",MAX($W8:BN8)+1))","v":44},{"$f":"IF(OR($P$6=\"\",$P$6=0,$P$7=\"\",$P$7=0,$P$8=\"\",$P$7<1),\"\",\nIF(MAX($W8:BO8)+1>$P$8,\"\",MAX($W8:BO8)+1))","v":45},{"$f":"IF(OR($P$6=\"\",$P$6=0,$P$7=\"\",$P$7=0,$P$8=\"\",$P$7<1),\"\",\nIF(MAX($W8:BP8)+1>$P$8,\"\",MAX($W8:BP8)+1))","v":46},{"$f":"IF(OR($P$6=\"\",$P$6=0,$P$7=\"\",$P$7=0,$P$8=\"\",$P$7<1),\"\",\nIF(MAX($W8:BQ8)+1>$P$8,\"\",MAX($W8:BQ8)+1))","v":47},{"$f":"IF(OR($P$6=\"\",$P$6=0,$P$7=\"\",$P$7=0,$P$8=\"\",$P$7<1),\"\",\nIF(MAX($W8:BR8)+1>$P$8,\"\",MAX($W8:BR8)+1))","v":48},{"$f":"IF(OR($P$6=\"\",$P$6=0,$P$7=\"\",$P$7=0,$P$8=\"\",$P$7<1),\"\",\nIF(MAX($W8:BS8)+1>$P$8,\"\",MAX($W8:BS8)+1))","v":49},{"$f":"IF(OR($P$6=\"\",$P$6=0,$P$7=\"\",$P$7=0,$P$8=\"\",$P$7<1),\"\",\nIF(MAX($W8:BT8)+1>$P$8,\"\",MAX($W8:BT8)+1))","v":50},{"$f":"IF(OR($P$6=\"\",$P$6=0,$P$7=\"\",$P$7=0,$P$8=\"\",$P$7<1),\"\",\nIF(MAX($W8:BU8)+1>$P$8,\"\",MAX($W8:BU8)+1))","v":51},{"$f":"IF(OR($P$6=\"\",$P$6=0,$P$7=\"\",$P$7=0,$P$8=\"\",$P$7<1),\"\",\nIF(MAX($W8:BV8)+1>$P$8,\"\",MAX($W8:BV8)+1))","v":52},{"$f":"IF(OR($P$6=\"\",$P$6=0,$P$7=\"\",$P$7=0,$P$8=\"\",$P$7<1),\"\",\nIF(MAX($W8:BW8)+1>$P$8,\"\",MAX($W8:BW8)+1))","v":53},{"$f":"IF(OR($P$6=\"\",$P$6=0,$P$7=\"\",$P$7=0,$P$8=\"\",$P$7<1),\"\",\nIF(MAX($W8:BX8)+1>$P$8,\"\",MAX($W8:BX8)+1))","v":54},{"$f":"IF(OR($P$6=\"\",$P$6=0,$P$7=\"\",$P$7=0,$P$8=\"\",$P$7<1),\"\",\nIF(MAX($W8:BY8)+1>$P$8,\"\",MAX($W8:BY8)+1))","v":55},{"$f":"IF(OR($P$6=\"\",$P$6=0,$P$7=\"\",$P$7=0,$P$8=\"\",$P$7<1),\"\",\nIF(MAX($W8:BZ8)+1>$P$8,\"\",MAX($W8:BZ8)+1))","v":56},{"$f":"IF(OR($P$6=\"\",$P$6=0,$P$7=\"\",$P$7=0,$P$8=\"\",$P$7<1),\"\",\nIF(MAX($W8:CA8)+1>$P$8,\"\",MAX($W8:CA8)+1))","v":57},{"$f":"IF(OR($P$6=\"\",$P$6=0,$P$7=\"\",$P$7=0,$P$8=\"\",$P$7<1),\"\",\nIF(MAX($W8:CB8)+1>$P$8,\"\",MAX($W8:CB8)+1))","v":58},{"$f":"IF(OR($P$6=\"\",$P$6=0,$P$7=\"\",$P$7=0,$P$8=\"\",$P$7<1),\"\",\nIF(MAX($W8:CC8)+1>$P$8,\"\",MAX($W8:CC8)+1))","v":59},{"$f":"IF(OR($P$6=\"\",$P$6=0,$P$7=\"\",$P$7=0,$P$8=\"\",$P$7<1),\"\",\nIF(MAX($W8:CD8)+1>$P$8,\"\",MAX($W8:CD8)+1))","v":60},{"$f":"IF(OR($P$6=\"\",$P$6=0,$P$7=\"\",$P$7=0,$P$8=\"\",$P$7<1),\"\",\nIF(MAX($W8:CE8)+1>$P$8,\"\",MAX($W8:CE8)+1))","v":61},{"$f":"IF(OR($P$6=\"\",$P$6=0,$P$7=\"\",$P$7=0,$P$8=\"\",$P$7<1),\"\",\nIF(MAX($W8:CF8)+1>$P$8,\"\",MAX($W8:CF8)+1))","v":62},{"$f":"IF(OR($P$6=\"\",$P$6=0,$P$7=\"\",$P$7=0,$P$8=\"\",$P$7<1),\"\",\nIF(MAX($W8:CG8)+1>$P$8,\"\",MAX($W8:CG8)+1))","v":63},{"$f":"IF(OR($P$6=\"\",$P$6=0,$P$7=\"\",$P$7=0,$P$8=\"\",$P$7<1),\"\",\nIF(MAX($W8:CH8)+1>$P$8,\"\",MAX($W8:CH8)+1))","v":64},{"$f":"IF(OR($P$6=\"\",$P$6=0,$P$7=\"\",$P$7=0,$P$8=\"\",$P$7<1),\"\",\nIF(MAX($W8:CI8)+1>$P$8,\"\",MAX($W8:CI8)+1))","v":65},{"$f":"IF(OR($P$6=\"\",$P$6=0,$P$7=\"\",$P$7=0,$P$8=\"\",$P$7<1),\"\",\nIF(MAX($W8:CJ8)+1>$P$8,\"\",MAX($W8:CJ8)+1))","v":66},{"$f":"IF(OR($P$6=\"\",$P$6=0,$P$7=\"\",$P$7=0,$P$8=\"\",$P$7<1),\"\",\nIF(MAX($W8:CK8)+1>$P$8,\"\",MAX($W8:CK8)+1))","v":67},{"$f":"IF(OR($P$6=\"\",$P$6=0,$P$7=\"\",$P$7=0,$P$8=\"\",$P$7<1),\"\",\nIF(MAX($W8:CL8)+1>$P$8,\"\",MAX($W8:CL8)+1))","v":68},{"$f":"IF(OR($P$6=\"\",$P$6=0,$P$7=\"\",$P$7=0,$P$8=\"\",$P$7<1),\"\",\nIF(MAX($W8:CM8)+1>$P$8,\"\",MAX($W8:CM8)+1))","v":69},{"$f":"IF(OR($P$6=\"\",$P$6=0,$P$7=\"\",$P$7=0,$P$8=\"\",$P$7<1),\"\",\nIF(MAX($W8:CN8)+1>$P$8,\"\",MAX($W8:CN8)+1))","v":70},{"$f":"IF(OR($P$6=\"\",$P$6=0,$P$7=\"\",$P$7=0,$P$8=\"\",$P$7<1),\"\",\nIF(MAX($W8:CO8)+1>$P$8,\"\",MAX($W8:CO8)+1))","v":71},{"$f":"IF(OR($P$6=\"\",$P$6=0,$P$7=\"\",$P$7=0,$P$8=\"\",$P$7<1),\"\",\nIF(MAX($W8:CP8)+1>$P$8,\"\",MAX($W8:CP8)+1))","v":72},{"$f":"IF(OR($P$6=\"\",$P$6=0,$P$7=\"\",$P$7=0,$P$8=\"\",$P$7<1),\"\",\nIF(MAX($W8:CQ8)+1>$P$8,\"\",MAX($W8:CQ8)+1))","v":73},{"$f":"IF(OR($P$6=\"\",$P$6=0,$P$7=\"\",$P$7=0,$P$8=\"\",$P$7<1),\"\",\nIF(MAX($W8:CR8)+1>$P$8,\"\",MAX($W8:CR8)+1))","v":74},{"$f":"IF(OR($P$6=\"\",$P$6=0,$P$7=\"\",$P$7=0,$P$8=\"\",$P$7<1),\"\",\nIF(MAX($W8:CS8)+1>$P$8,\"\",MAX($W8:CS8)+1))","v":75},{"$f":"IF(OR($P$6=\"\",$P$6=0,$P$7=\"\",$P$7=0,$P$8=\"\",$P$7<1),\"\",\nIF(MAX($W8:CT8)+1>$P$8,\"\",MAX($W8:CT8)+1))","v":76},{"$f":"IF(OR($P$6=\"\",$P$6=0,$P$7=\"\",$P$7=0,$P$8=\"\",$P$7<1),\"\",\nIF(MAX($W8:CU8)+1>$P$8,\"\",MAX($W8:CU8)+1))","v":77},{"$f":"IF(OR($P$6=\"\",$P$6=0,$P$7=\"\",$P$7=0,$P$8=\"\",$P$7<1),\"\",\nIF(MAX($W8:CV8)+1>$P$8,\"\",MAX($W8:CV8)+1))","v":78},{"$f":"IF(OR($P$6=\"\",$P$6=0,$P$7=\"\",$P$7=0,$P$8=\"\",$P$7<1),\"\",\nIF(MAX($W8:CW8)+1>$P$8,\"\",MAX($W8:CW8)+1))","v":79},{"$f":"IF(OR($P$6=\"\",$P$6=0,$P$7=\"\",$P$7=0,$P$8=\"\",$P$7<1),\"\",\nIF(MAX($W8:CX8)+1>$P$8,\"\",MAX($W8:CX8)+1))","v":80},{"$f":"IF(OR($P$6=\"\",$P$6=0,$P$7=\"\",$P$7=0,$P$8=\"\",$P$7<1),\"\",\nIF(MAX($W8:CY8)+1>$P$8,\"\",MAX($W8:CY8)+1))","v":81},{"$f":"IF(OR($P$6=\"\",$P$6=0,$P$7=\"\",$P$7=0,$P$8=\"\",$P$7<1),\"\",\nIF(MAX($W8:CZ8)+1>$P$8,\"\",MAX($W8:CZ8)+1))","v":82},{"$f":"IF(OR($P$6=\"\",$P$6=0,$P$7=\"\",$P$7=0,$P$8=\"\",$P$7<1),\"\",\nIF(MAX($W8:DA8)+1>$P$8,\"\",MAX($W8:DA8)+1))","v":83},{"$f":"IF(OR($P$6=\"\",$P$6=0,$P$7=\"\",$P$7=0,$P$8=\"\",$P$7<1),\"\",\nIF(MAX($W8:DB8)+1>$P$8,\"\",MAX($W8:DB8)+1))","v":84},{"$f":"IF(OR($P$6=\"\",$P$6=0,$P$7=\"\",$P$7=0,$P$8=\"\",$P$7<1),\"\",\nIF(MAX($W8:DC8)+1>$P$8,\"\",MAX($W8:DC8)+1))","v":85},{"$f":"IF(OR($P$6=\"\",$P$6=0,$P$7=\"\",$P$7=0,$P$8=\"\",$P$7<1),\"\",\nIF(MAX($W8:DD8)+1>$P$8,\"\",MAX($W8:DD8)+1))","v":86},{"$f":"IF(OR($P$6=\"\",$P$6=0,$P$7=\"\",$P$7=0,$P$8=\"\",$P$7<1),\"\",\nIF(MAX($W8:DE8)+1>$P$8,\"\",MAX($W8:DE8)+1))","v":87},{"$f":"IF(OR($P$6=\"\",$P$6=0,$P$7=\"\",$P$7=0,$P$8=\"\",$P$7<1),\"\",\nIF(MAX($W8:DF8)+1>$P$8,\"\",MAX($W8:DF8)+1))","v":88},{"$f":"IF(OR($P$6=\"\",$P$6=0,$P$7=\"\",$P$7=0,$P$8=\"\",$P$7<1),\"\",\nIF(MAX($W8:DG8)+1>$P$8,\"\",MAX($W8:DG8)+1))","v":89},{"$f":"IF(OR($P$6=\"\",$P$6=0,$P$7=\"\",$P$7=0,$P$8=\"\",$P$7<1),\"\",\nIF(MAX($W8:DH8)+1>$P$8,\"\",MAX($W8:DH8)+1))","v":90},{"$f":"IF(OR($P$6=\"\",$P$6=0,$P$7=\"\",$P$7=0,$P$8=\"\",$P$7<1),\"\",\nIF(MAX($W8:DI8)+1>$P$8,\"\",MAX($W8:DI8)+1))","v":91},{"$f":"IF(OR($P$6=\"\",$P$6=0,$P$7=\"\",$P$7=0,$P$8=\"\",$P$7<1),\"\",\nIF(MAX($W8:DJ8)+1>$P$8,\"\",MAX($W8:DJ8)+1))","v":92},{"$f":"IF(OR($P$6=\"\",$P$6=0,$P$7=\"\",$P$7=0,$P$8=\"\",$P$7<1),\"\",\nIF(MAX($W8:DK8)+1>$P$8,\"\",MAX($W8:DK8)+1))","v":93},{"$f":"IF(OR($P$6=\"\",$P$6=0,$P$7=\"\",$P$7=0,$P$8=\"\",$P$7<1),\"\",\nIF(MAX($W8:DL8)+1>$P$8,\"\",MAX($W8:DL8)+1))","v":94},{"$f":"IF(OR($P$6=\"\",$P$6=0,$P$7=\"\",$P$7=0,$P$8=\"\",$P$7<1),\"\",\nIF(MAX($W8:DM8)+1>$P$8,\"\",MAX($W8:DM8)+1))","v":95},{"$f":"IF(OR($P$6=\"\",$P$6=0,$P$7=\"\",$P$7=0,$P$8=\"\",$P$7<1),\"\",\nIF(MAX($W8:DN8)+1>$P$8,\"\",MAX($W8:DN8)+1))","v":96},{"$f":"IF(OR($P$6=\"\",$P$6=0,$P$7=\"\",$P$7=0,$P$8=\"\",$P$7<1),\"\",\nIF(MAX($W8:DO8)+1>$P$8,\"\",MAX($W8:DO8)+1))","v":97},{"$f":"IF(OR($P$6=\"\",$P$6=0,$P$7=\"\",$P$7=0,$P$8=\"\",$P$7<1),\"\",\nIF(MAX($W8:DP8)+1>$P$8,\"\",MAX($W8:DP8)+1))","v":98},{"$f":"IF(OR($P$6=\"\",$P$6=0,$P$7=\"\",$P$7=0,$P$8=\"\",$P$7<1),\"\",\nIF(MAX($W8:DQ8)+1>$P$8,\"\",MAX($W8:DQ8)+1))","v":99},{"$f":"IF(OR($P$6=\"\",$P$6=0,$P$7=\"\",$P$7=0,$P$8=\"\",$P$7<1),\"\",\nIF(MAX($W8:DR8)+1>$P$8,\"\",MAX($W8:DR8)+1))","v":100},{"$f":"IF(OR($P$6=\"\",$P$6=0,$P$7=\"\",$P$7=0,$P$8=\"\",$P$7<1),\"\",\nIF(MAX($W8:DS8)+1>$P$8,\"\",MAX($W8:DS8)+1))","v":101},{"$f":"IF(OR($P$6=\"\",$P$6=0,$P$7=\"\",$P$7=0,$P$8=\"\",$P$7<1),\"\",\nIF(MAX($W8:DT8)+1>$P$8,\"\",MAX($W8:DT8)+1))","v":102},{"$f":"IF(OR($P$6=\"\",$P$6=0,$P$7=\"\",$P$7=0,$P$8=\"\",$P$7<1),\"\",\nIF(MAX($W8:DU8)+1>$P$8,\"\",MAX($W8:DU8)+1))","v":103},{"$f":"IF(OR($P$6=\"\",$P$6=0,$P$7=\"\",$P$7=0,$P$8=\"\",$P$7<1),\"\",\nIF(MAX($W8:DV8)+1>$P$8,\"\",MAX($W8:DV8)+1))","v":104},{"$f":"IF(OR($P$6=\"\",$P$6=0,$P$7=\"\",$P$7=0,$P$8=\"\",$P$7<1),\"\",\nIF(MAX($W8:DW8)+1>$P$8,\"\",MAX($W8:DW8)+1))","v":105},{"$f":"IF(OR($P$6=\"\",$P$6=0,$P$7=\"\",$P$7=0,$P$8=\"\",$P$7<1),\"\",\nIF(MAX($W8:DX8)+1>$P$8,\"\",MAX($W8:DX8)+1))","v":106},{"$f":"IF(OR($P$6=\"\",$P$6=0,$P$7=\"\",$P$7=0,$P$8=\"\",$P$7<1),\"\",\nIF(MAX($W8:DY8)+1>$P$8,\"\",MAX($W8:DY8)+1))","v":107},{"$f":"IF(OR($P$6=\"\",$P$6=0,$P$7=\"\",$P$7=0,$P$8=\"\",$P$7<1),\"\",\nIF(MAX($W8:DZ8)+1>$P$8,\"\",MAX($W8:DZ8)+1))","v":108},{"$f":"IF(OR($P$6=\"\",$P$6=0,$P$7=\"\",$P$7=0,$P$8=\"\",$P$7<1),\"\",\nIF(MAX($W8:EA8)+1>$P$8,\"\",MAX($W8:EA8)+1))","v":109},{"$f":"IF(OR($P$6=\"\",$P$6=0,$P$7=\"\",$P$7=0,$P$8=\"\",$P$7<1),\"\",\nIF(MAX($W8:EB8)+1>$P$8,\"\",MAX($W8:EB8)+1))","v":110},{"$f":"IF(OR($P$6=\"\",$P$6=0,$P$7=\"\",$P$7=0,$P$8=\"\",$P$7<1),\"\",\nIF(MAX($W8:EC8)+1>$P$8,\"\",MAX($W8:EC8)+1))","v":111},{"$f":"IF(OR($P$6=\"\",$P$6=0,$P$7=\"\",$P$7=0,$P$8=\"\",$P$7<1),\"\",\nIF(MAX($W8:ED8)+1>$P$8,\"\",MAX($W8:ED8)+1))","v":112},{"$f":"IF(OR($P$6=\"\",$P$6=0,$P$7=\"\",$P$7=0,$P$8=\"\",$P$7<1),\"\",\nIF(MAX($W8:EE8)+1>$P$8,\"\",MAX($W8:EE8)+1))","v":113},{"$f":"IF(OR($P$6=\"\",$P$6=0,$P$7=\"\",$P$7=0,$P$8=\"\",$P$7<1),\"\",\nIF(MAX($W8:EF8)+1>$P$8,\"\",MAX($W8:EF8)+1))","v":114},{"$f":"IF(OR($P$6=\"\",$P$6=0,$P$7=\"\",$P$7=0,$P$8=\"\",$P$7<1),\"\",\nIF(MAX($W8:EG8)+1>$P$8,\"\",MAX($W8:EG8)+1))","v":115},{"$f":"IF(OR($P$6=\"\",$P$6=0,$P$7=\"\",$P$7=0,$P$8=\"\",$P$7<1),\"\",\nIF(MAX($W8:EH8)+1>$P$8,\"\",MAX($W8:EH8)+1))","v":116},{"$f":"IF(OR($P$6=\"\",$P$6=0,$P$7=\"\",$P$7=0,$P$8=\"\",$P$7<1),\"\",\nIF(MAX($W8:EI8)+1>$P$8,\"\",MAX($W8:EI8)+1))","v":117},{"$f":"IF(OR($P$6=\"\",$P$6=0,$P$7=\"\",$P$7=0,$P$8=\"\",$P$7<1),\"\",\nIF(MAX($W8:EJ8)+1>$P$8,\"\",MAX($W8:EJ8)+1))","v":118},{"$f":"IF(OR($P$6=\"\",$P$6=0,$P$7=\"\",$P$7=0,$P$8=\"\",$P$7<1),\"\",\nIF(MAX($W8:EK8)+1>$P$8,\"\",MAX($W8:EK8)+1))","v":119},{"$f":"IF(OR($P$6=\"\",$P$6=0,$P$7=\"\",$P$7=0,$P$8=\"\",$P$7<1),\"\",\nIF(MAX($W8:EL8)+1>$P$8,\"\",MAX($W8:EL8)+1))","v":120},{"$f":"IF(OR($P$6=\"\",$P$6=0,$P$7=\"\",$P$7=0,$P$8=\"\",$P$7<1),\"\",\nIF(MAX($W8:EM8)+1>$P$8,\"\",MAX($W8:EM8)+1))","v":""},{"$f":"IF(OR($P$6=\"\",$P$6=0,$P$7=\"\",$P$7=0,$P$8=\"\",$P$7<1),\"\",\nIF(MAX($W8:EN8)+1>$P$8,\"\",MAX($W8:EN8)+1))","v":""},{"$f":"IF(OR($P$6=\"\",$P$6=0,$P$7=\"\",$P$7=0,$P$8=\"\",$P$7<1),\"\",\nIF(MAX($W8:EO8)+1>$P$8,\"\",MAX($W8:EO8)+1))","v":""},{"$f":"IF(OR($P$6=\"\",$P$6=0,$P$7=\"\",$P$7=0,$P$8=\"\",$P$7<1),\"\",\nIF(MAX($W8:EP8)+1>$P$8,\"\",MAX($W8:EP8)+1))","v":""},{"$f":"IF(OR($P$6=\"\",$P$6=0,$P$7=\"\",$P$7=0,$P$8=\"\",$P$7<1),\"\",\nIF(MAX($W8:EQ8)+1>$P$8,\"\",MAX($W8:EQ8)+1))","v":""},{"$f":"IF(OR($P$6=\"\",$P$6=0,$P$7=\"\",$P$7=0,$P$8=\"\",$P$7<1),\"\",\nIF(MAX($W8:ER8)+1>$P$8,\"\",MAX($W8:ER8)+1))","v":""},{"$f":"IF(OR($P$6=\"\",$P$6=0,$P$7=\"\",$P$7=0,$P$8=\"\",$P$7<1),\"\",\nIF(MAX($W8:ES8)+1>$P$8,\"\",MAX($W8:ES8)+1))","v":""},{"$f":"IF(OR($P$6=\"\",$P$6=0,$P$7=\"\",$P$7=0,$P$8=\"\",$P$7<1),\"\",\nIF(MAX($W8:ET8)+1>$P$8,\"\",MAX($W8:ET8)+1))","v":""},{"$f":"IF(OR($P$6=\"\",$P$6=0,$P$7=\"\",$P$7=0,$P$8=\"\",$P$7<1),\"\",\nIF(MAX($W8:EU8)+1>$P$8,\"\",MAX($W8:EU8)+1))","v":""},{"$f":"IF(OR($P$6=\"\",$P$6=0,$P$7=\"\",$P$7=0,$P$8=\"\",$P$7<1),\"\",\nIF(MAX($W8:EV8)+1>$P$8,\"\",MAX($W8:EV8)+1))","v":""},{"$f":"IF(OR($P$6=\"\",$P$6=0,$P$7=\"\",$P$7=0,$P$8=\"\",$P$7<1),\"\",\nIF(MAX($W8:EW8)+1>$P$8,\"\",MAX($W8:EW8)+1))","v":""},{"$f":"IF(OR($P$6=\"\",$P$6=0,$P$7=\"\",$P$7=0,$P$8=\"\",$P$7<1),\"\",\nIF(MAX($W8:EX8)+1>$P$8,\"\",MAX($W8:EX8)+1))","v":""},{"$f":"IF(OR($P$6=\"\",$P$6=0,$P$7=\"\",$P$7=0,$P$8=\"\",$P$7<1),\"\",\nIF(MAX($W8:EY8)+1>$P$8,\"\",MAX($W8:EY8)+1))","v":""},{"$f":"IF(OR($P$6=\"\",$P$6=0,$P$7=\"\",$P$7=0,$P$8=\"\",$P$7<1),\"\",\nIF(MAX($W8:EZ8)+1>$P$8,\"\",MAX($W8:EZ8)+1))","v":""},{"$f":"IF(OR($P$6=\"\",$P$6=0,$P$7=\"\",$P$7=0,$P$8=\"\",$P$7<1),\"\",\nIF(MAX($W8:FA8)+1>$P$8,\"\",MAX($W8:FA8)+1))","v":""},{"$f":"IF(OR($P$6=\"\",$P$6=0,$P$7=\"\",$P$7=0,$P$8=\"\",$P$7<1),\"\",\nIF(MAX($W8:FB8)+1>$P$8,\"\",MAX($W8:FB8)+1))","v":""},{"$f":"IF(OR($P$6=\"\",$P$6=0,$P$7=\"\",$P$7=0,$P$8=\"\",$P$7<1),\"\",\nIF(MAX($W8:FC8)+1>$P$8,\"\",MAX($W8:FC8)+1))","v":""},{"$f":"IF(OR($P$6=\"\",$P$6=0,$P$7=\"\",$P$7=0,$P$8=\"\",$P$7<1),\"\",\nIF(MAX($W8:FD8)+1>$P$8,\"\",MAX($W8:FD8)+1))","v":""},{"$f":"IF(OR($P$6=\"\",$P$6=0,$P$7=\"\",$P$7=0,$P$8=\"\",$P$7<1),\"\",\nIF(MAX($W8:FE8)+1>$P$8,\"\",MAX($W8:FE8)+1))","v":""},{"$f":"IF(OR($P$6=\"\",$P$6=0,$P$7=\"\",$P$7=0,$P$8=\"\",$P$7<1),\"\",\nIF(MAX($W8:FF8)+1>$P$8,\"\",MAX($W8:FF8)+1))","v":""},{"$f":"IF(OR($P$6=\"\",$P$6=0,$P$7=\"\",$P$7=0,$P$8=\"\",$P$7<1),\"\",\nIF(MAX($W8:FG8)+1>$P$8,\"\",MAX($W8:FG8)+1))","v":""},{"$f":"IF(OR($P$6=\"\",$P$6=0,$P$7=\"\",$P$7=0,$P$8=\"\",$P$7<1),\"\",\nIF(MAX($W8:FH8)+1>$P$8,\"\",MAX($W8:FH8)+1))","v":""},{"$f":"IF(OR($P$6=\"\",$P$6=0,$P$7=\"\",$P$7=0,$P$8=\"\",$P$7<1),\"\",\nIF(MAX($W8:FI8)+1>$P$8,\"\",MAX($W8:FI8)+1))","v":""},{"$f":"IF(OR($P$6=\"\",$P$6=0,$P$7=\"\",$P$7=0,$P$8=\"\",$P$7<1),\"\",\nIF(MAX($W8:FJ8)+1>$P$8,\"\",MAX($W8:FJ8)+1))","v":""},{"$f":"IF(OR($P$6=\"\",$P$6=0,$P$7=\"\",$P$7=0,$P$8=\"\",$P$7<1),\"\",\nIF(MAX($W8:FK8)+1>$P$8,\"\",MAX($W8:FK8)+1))","v":""},{"$f":"IF(OR($P$6=\"\",$P$6=0,$P$7=\"\",$P$7=0,$P$8=\"\",$P$7<1),\"\",\nIF(MAX($W8:FL8)+1>$P$8,\"\",MAX($W8:FL8)+1))","v":""},{"$f":"IF(OR($P$6=\"\",$P$6=0,$P$7=\"\",$P$7=0,$P$8=\"\",$P$7<1),\"\",\nIF(MAX($W8:FM8)+1>$P$8,\"\",MAX($W8:FM8)+1))","v":""},{"$f":"IF(OR($P$6=\"\",$P$6=0,$P$7=\"\",$P$7=0,$P$8=\"\",$P$7<1),\"\",\nIF(MAX($W8:FN8)+1>$P$8,\"\",MAX($W8:FN8)+1))","v":""},{"$f":"IF(OR($P$6=\"\",$P$6=0,$P$7=\"\",$P$7=0,$P$8=\"\",$P$7<1),\"\",\nIF(MAX($W8:FO8)+1>$P$8,\"\",MAX($W8:FO8)+1))","v":""},{"$f":"IF(OR($P$6=\"\",$P$6=0,$P$7=\"\",$P$7=0,$P$8=\"\",$P$7<1),\"\",\nIF(MAX($W8:FP8)+1>$P$8,\"\",MAX($W8:FP8)+1))","v":""},{"$f":"IF(OR($P$6=\"\",$P$6=0,$P$7=\"\",$P$7=0,$P$8=\"\",$P$7<1),\"\",\nIF(MAX($W8:FQ8)+1>$P$8,\"\",MAX($W8:FQ8)+1))","v":""},{"$f":"IF(OR($P$6=\"\",$P$6=0,$P$7=\"\",$P$7=0,$P$8=\"\",$P$7<1),\"\",\nIF(MAX($W8:FR8)+1>$P$8,\"\",MAX($W8:FR8)+1))","v":""},{"$f":"IF(OR($P$6=\"\",$P$6=0,$P$7=\"\",$P$7=0,$P$8=\"\",$P$7<1),\"\",\nIF(MAX($W8:FS8)+1>$P$8,\"\",MAX($W8:FS8)+1))","v":""},{"$f":"IF(OR($P$6=\"\",$P$6=0,$P$7=\"\",$P$7=0,$P$8=\"\",$P$7<1),\"\",\nIF(MAX($W8:FT8)+1>$P$8,\"\",MAX($W8:FT8)+1))","v":""},{"$f":"IF(OR($P$6=\"\",$P$6=0,$P$7=\"\",$P$7=0,$P$8=\"\",$P$7<1),\"\",\nIF(MAX($W8:FU8)+1>$P$8,\"\",MAX($W8:FU8)+1))","v":""},{"$f":"IF(OR($P$6=\"\",$P$6=0,$P$7=\"\",$P$7=0,$P$8=\"\",$P$7<1),\"\",\nIF(MAX($W8:FV8)+1>$P$8,\"\",MAX($W8:FV8)+1))","v":""},{"$f":"IF(OR($P$6=\"\",$P$6=0,$P$7=\"\",$P$7=0,$P$8=\"\",$P$7<1),\"\",\nIF(MAX($W8:FW8)+1>$P$8,\"\",MAX($W8:FW8)+1))","v":""},{"$f":"IF(OR($P$6=\"\",$P$6=0,$P$7=\"\",$P$7=0,$P$8=\"\",$P$7<1),\"\",\nIF(MAX($W8:FX8)+1>$P$8,\"\",MAX($W8:FX8)+1))","v":""},{"$f":"IF(OR($P$6=\"\",$P$6=0,$P$7=\"\",$P$7=0,$P$8=\"\",$P$7<1),\"\",\nIF(MAX($W8:FY8)+1>$P$8,\"\",MAX($W8:FY8)+1))","v":""},{"$f":"IF(OR($P$6=\"\",$P$6=0,$P$7=\"\",$P$7=0,$P$8=\"\",$P$7<1),\"\",\nIF(MAX($W8:FZ8)+1>$P$8,\"\",MAX($W8:FZ8)+1))","v":""},{"$f":"IF(OR($P$6=\"\",$P$6=0,$P$7=\"\",$P$7=0,$P$8=\"\",$P$7<1),\"\",\nIF(MAX($W8:GA8)+1>$P$8,\"\",MAX($W8:GA8)+1))","v":""},{"$f":"IF(OR($P$6=\"\",$P$6=0,$P$7=\"\",$P$7=0,$P$8=\"\",$P$7<1),\"\",\nIF(MAX($W8:GB8)+1>$P$8,\"\",MAX($W8:GB8)+1))","v":""},{"$f":"IF(OR($P$6=\"\",$P$6=0,$P$7=\"\",$P$7=0,$P$8=\"\",$P$7<1),\"\",\nIF(MAX($W8:GC8)+1>$P$8,\"\",MAX($W8:GC8)+1))","v":""},{"$f":"IF(OR($P$6=\"\",$P$6=0,$P$7=\"\",$P$7=0,$P$8=\"\",$P$7<1),\"\",\nIF(MAX($W8:GD8)+1>$P$8,\"\",MAX($W8:GD8)+1))","v":""},{"$f":"IF(OR($P$6=\"\",$P$6=0,$P$7=\"\",$P$7=0,$P$8=\"\",$P$7<1),\"\",\nIF(MAX($W8:GE8)+1>$P$8,\"\",MAX($W8:GE8)+1))","v":""},{"$f":"IF(OR($P$6=\"\",$P$6=0,$P$7=\"\",$P$7=0,$P$8=\"\",$P$7<1),\"\",\nIF(MAX($W8:GF8)+1>$P$8,\"\",MAX($W8:GF8)+1))","v":""},{"$f":"IF(OR($P$6=\"\",$P$6=0,$P$7=\"\",$P$7=0,$P$8=\"\",$P$7<1),\"\",\nIF(MAX($W8:GG8)+1>$P$8,\"\",MAX($W8:GG8)+1))","v":""},{"$f":"IF(OR($P$6=\"\",$P$6=0,$P$7=\"\",$P$7=0,$P$8=\"\",$P$7<1),\"\",\nIF(MAX($W8:GH8)+1>$P$8,\"\",MAX($W8:GH8)+1))","v":""},{"$f":"IF(OR($P$6=\"\",$P$6=0,$P$7=\"\",$P$7=0,$P$8=\"\",$P$7<1),\"\",\nIF(MAX($W8:GI8)+1>$P$8,\"\",MAX($W8:GI8)+1))","v":""},{"$f":"IF(OR($P$6=\"\",$P$6=0,$P$7=\"\",$P$7=0,$P$8=\"\",$P$7<1),\"\",\nIF(MAX($W8:GJ8)+1>$P$8,\"\",MAX($W8:GJ8)+1))","v":""},{"$f":"IF(OR($P$6=\"\",$P$6=0,$P$7=\"\",$P$7=0,$P$8=\"\",$P$7<1),\"\",\nIF(MAX($W8:GK8)+1>$P$8,\"\",MAX($W8:GK8)+1))","v":""},{"$f":"IF(OR($P$6=\"\",$P$6=0,$P$7=\"\",$P$7=0,$P$8=\"\",$P$7<1),\"\",\nIF(MAX($W8:GL8)+1>$P$8,\"\",MAX($W8:GL8)+1))","v":""},{"$f":"IF(OR($P$6=\"\",$P$6=0,$P$7=\"\",$P$7=0,$P$8=\"\",$P$7<1),\"\",\nIF(MAX($W8:GM8)+1>$P$8,\"\",MAX($W8:GM8)+1))","v":""},{"$f":"IF(OR($P$6=\"\",$P$6=0,$P$7=\"\",$P$7=0,$P$8=\"\",$P$7<1),\"\",\nIF(MAX($W8:GN8)+1>$P$8,\"\",MAX($W8:GN8)+1))","v":""},{"$f":"IF(OR($P$6=\"\",$P$6=0,$P$7=\"\",$P$7=0,$P$8=\"\",$P$7<1),\"\",\nIF(MAX($W8:GO8)+1>$P$8,\"\",MAX($W8:GO8)+1))","v":""},{"$f":"IF(OR($P$6=\"\",$P$6=0,$P$7=\"\",$P$7=0,$P$8=\"\",$P$7<1),\"\",\nIF(MAX($W8:GP8)+1>$P$8,\"\",MAX($W8:GP8)+1))","v":""},{"$f":"IF(OR($P$6=\"\",$P$6=0,$P$7=\"\",$P$7=0,$P$8=\"\",$P$7<1),\"\",\nIF(MAX($W8:GQ8)+1>$P$8,\"\",MAX($W8:GQ8)+1))","v":""},{"$f":"IF(OR($P$6=\"\",$P$6=0,$P$7=\"\",$P$7=0,$P$8=\"\",$P$7<1),\"\",\nIF(MAX($W8:GR8)+1>$P$8,\"\",MAX($W8:GR8)+1))","v":""},{"$f":"IF(OR($P$6=\"\",$P$6=0,$P$7=\"\",$P$7=0,$P$8=\"\",$P$7<1),\"\",\nIF(MAX($W8:GS8)+1>$P$8,\"\",MAX($W8:GS8)+1))","v":""},{"$f":"IF(OR($P$6=\"\",$P$6=0,$P$7=\"\",$P$7=0,$P$8=\"\",$P$7<1),\"\",\nIF(MAX($W8:GT8)+1>$P$8,\"\",MAX($W8:GT8)+1))","v":""},{"$f":"IF(OR($P$6=\"\",$P$6=0,$P$7=\"\",$P$7=0,$P$8=\"\",$P$7<1),\"\",\nIF(MAX($W8:GU8)+1>$P$8,\"\",MAX($W8:GU8)+1))","v":""}]
[null,{"$f":"ROW()","v":9}]
[null,{"$f":"ROW()","v":10}]
[null,67,null,null,null,null,null,"График оплат и ввода в экспл. оборуд-ия"]
[null,{"$f":"ROW()","v":12}]
[null,{"$f":"ROW()","v":13},null,null,null,null,null,"Стоимость приобретаемого оборуд-я",null,null,null,null,"руб.",null,null,null,null,null,null,null,{"$f":"SUM(INDIRECT(ADDRESS($B13,X$2)&\":\"&ADDRESS($B13,MAX($2:$2))))","v":0},null,null,{"$f":"IF(X$4=\"\",0,IF(X$8=1,$P14*$P15,0))","v":0},0,0,0,0,0,0,0,0,0,0,0,0,0,0,0,0,0,0,0,0,0,0,0,0,0,0,0,0,0,0,{"$f":"IF(BC$4=\"\",0,IF(BC$8=1,$P14*$P15,0))","v":0},{"$f":"IF(BD$4=\"\",0,IF(BD$8=1,$P14*$P15,0))","v":0},{"$f":"IF(BE$4=\"\",0,IF(BE$8=1,$P14*$P15,0))","v":0},{"$f":"IF(BF$4=\"\",0,IF(BF$8=1,$P14*$P15,0))","v":0},{"$f":"IF(BG$4=\"\",0,IF(BG$8=1,$P14*$P15,0))","v":0},{"$f":"IF(BH$4=\"\",0,IF(BH$8=1,$P14*$P15,0))","v":0},{"$f":"IF(BI$4=\"\",0,IF(BI$8=1,$P14*$P15,0))","v":0},{"$f":"IF(BJ$4=\"\",0,IF(BJ$8=1,$P14*$P15,0))","v":0},{"$f":"IF(BK$4=\"\",0,IF(BK$8=1,$P14*$P15,0))","v":0},{"$f":"IF(BL$4=\"\",0,IF(BL$8=1,$P14*$P15,0))","v":0},{"$f":"IF(BM$4=\"\",0,IF(BM$8=1,$P14*$P15,0))","v":0},{"$f":"IF(BN$4=\"\",0,IF(BN$8=1,$P14*$P15,0))","v":0},{"$f":"IF(BO$4=\"\",0,IF(BO$8=1,$P14*$P15,0))","v":0},{"$f":"IF(BP$4=\"\",0,IF(BP$8=1,$P14*$P15,0))","v":0},{"$f":"IF(BQ$4=\"\",0,IF(BQ$8=1,$P14*$P15,0))","v":0},{"$f":"IF(BR$4=\"\",0,IF(BR$8=1,$P14*$P15,0))","v":0},{"$f":"IF(BS$4=\"\",0,IF(BS$8=1,$P14*$P15,0))","v":0},{"$f":"IF(BT$4=\"\",0,IF(BT$8=1,$P14*$P15,0))","v":0},{"$f":"IF(BU$4=\"\",0,IF(BU$8=1,$P14*$P15,0))","v":0},{"$f":"IF(BV$4=\"\",0,IF(BV$8=1,$P14*$P15,0))","v":0},{"$f":"IF(BW$4=\"\",0,IF(BW$8=1,$P14*$P15,0))","v":0},{"$f":"IF(BX$4=\"\",0,IF(BX$8=1,$P14*$P15,0))","v":0},{"$f":"IF(BY$4=\"\",0,IF(BY$8=1,$P14*$P15,0))","v":0},{"$f":"IF(BZ$4=\"\",0,IF(BZ$8=1,$P14*$P15,0))","v":0},{"$f":"IF(CA$4=\"\",0,IF(CA$8=1,$P14*$P15,0))","v":0},{"$f":"IF(CB$4=\"\",0,IF(CB$8=1,$P14*$P15,0))","v":0},{"$f":"IF(CC$4=\"\",0,IF(CC$8=1,$P14*$P15,0))","v":0},{"$f":"IF(CD$4=\"\",0,IF(CD$8=1,$P14*$P15,0))","v":0},{"$f":"IF(CE$4=\"\",0,IF(CE$8=1,$P14*$P15,0))","v":0},{"$f":"IF(CF$4=\"\",0,IF(CF$8=1,$P14*$P15,0))","v":0},{"$f":"IF(CG$4=\"\",0,IF(CG$8=1,$P14*$P15,0))","v":0},{"$f":"IF(CH$4=\"\",0,IF(CH$8=1,$P14*$P15,0))","v":0},{"$f":"IF(CI$4=\"\",0,IF(CI$8=1,$P14*$P15,0))","v":0},{"$f":"IF(CJ$4=\"\",0,IF(CJ$8=1,$P14*$P15,0))","v":0},{"$f":"IF(CK$4=\"\",0,IF(CK$8=1,$P14*$P15,0))","v":0},{"$f":"IF(CL$4=\"\",0,IF(CL$8=1,$P14*$P15,0))","v":0},{"$f":"IF(CM$4=\"\",0,IF(CM$8=1,$P14*$P15,0))","v":0},{"$f":"IF(CN$4=\"\",0,IF(CN$8=1,$P14*$P15,0))","v":0},{"$f":"IF(CO$4=\"\",0,IF(CO$8=1,$P14*$P15,0))","v":0},{"$f":"IF(CP$4=\"\",0,IF(CP$8=1,$P14*$P15,0))","v":0},{"$f":"IF(CQ$4=\"\",0,IF(CQ$8=1,$P14*$P15,0))","v":0},{"$f":"IF(CR$4=\"\",0,IF(CR$8=1,$P14*$P15,0))","v":0},{"$f":"IF(CS$4=\"\",0,IF(CS$8=1,$P14*$P15,0))","v":0},{"$f":"IF(CT$4=\"\",0,IF(CT$8=1,$P14*$P15,0))","v":0},{"$f":"IF(CU$4=\"\",0,IF(CU$8=1,$P14*$P15,0))","v":0},{"$f":"IF(CV$4=\"\",0,IF(CV$8=1,$P14*$P15,0))","v":0},{"$f":"IF(CW$4=\"\",0,IF(CW$8=1,$P14*$P15,0))","v":0},{"$f":"IF(CX$4=\"\",0,IF(CX$8=1,$P14*$P15,0))","v":0},{"$f":"IF(CY$4=\"\",0,IF(CY$8=1,$P14*$P15,0))","v":0},{"$f":"IF(CZ$4=\"\",0,IF(CZ$8=1,$P14*$P15,0))","v":0},{"$f":"IF(DA$4=\"\",0,IF(DA$8=1,$P14*$P15,0))","v":0},{"$f":"IF(DB$4=\"\",0,IF(DB$8=1,$P14*$P15,0))","v":0},{"$f":"IF(DC$4=\"\",0,IF(DC$8=1,$P14*$P15,0))","v":0},{"$f":"IF(DD$4=\"\",0,IF(DD$8=1,$P14*$P15,0))","v":0},{"$f":"IF(DE$4=\"\",0,IF(DE$8=1,$P14*$P15,0))","v":0},{"$f":"IF(DF$4=\"\",0,IF(DF$8=1,$P14*$P15,0))","v":0},{"$f":"IF(DG$4=\"\",0,IF(DG$8=1,$P14*$P15,0))","v":0},{"$f":"IF(DH$4=\"\",0,IF(DH$8=1,$P14*$P15,0))","v":0},{"$f":"IF(DI$4=\"\",0,IF(DI$8=1,$P14*$P15,0))","v":0},{"$f":"IF(DJ$4=\"\",0,IF(DJ$8=1,$P14*$P15,0))","v":0},{"$f":"IF(DK$4=\"\",0,IF(DK$8=1,$P14*$P15,0))","v":0},{"$f":"IF(DL$4=\"\",0,IF(DL$8=1,$P14*$P15,0))","v":0},{"$f":"IF(DM$4=\"\",0,IF(DM$8=1,$P14*$P15,0))","v":0},{"$f":"IF(DN$4=\"\",0,IF(DN$8=1,$P14*$P15,0))","v":0},{"$f":"IF(DO$4=\"\",0,IF(DO$8=1,$P14*$P15,0))","v":0},{"$f":"IF(DP$4=\"\",0,IF(DP$8=1,$P14*$P15,0))","v":0},{"$f":"IF(DQ$4=\"\",0,IF(DQ$8=1,$P14*$P15,0))","v":0},{"$f":"IF(DR$4=\"\",0,IF(DR$8=1,$P14*$P15,0))","v":0},{"$f":"IF(DS$4=\"\",0,IF(DS$8=1,$P14*$P15,0))","v":0},{"$f":"IF(DT$4=\"\",0,IF(DT$8=1,$P14*$P15,0))","v":0},{"$f":"IF(DU$4=\"\",0,IF(DU$8=1,$P14*$P15,0))","v":0},{"$f":"IF(DV$4=\"\",0,IF(DV$8=1,$P14*$P15,0))","v":0},{"$f":"IF(DW$4=\"\",0,IF(DW$8=1,$P14*$P15,0))","v":0},{"$f":"IF(DX$4=\"\",0,IF(DX$8=1,$P14*$P15,0))","v":0},{"$f":"IF(DY$4=\"\",0,IF(DY$8=1,$P14*$P15,0))","v":0},{"$f":"IF(DZ$4=\"\",0,IF(DZ$8=1,$P14*$P15,0))","v":0},{"$f":"IF(EA$4=\"\",0,IF(EA$8=1,$P14*$P15,0))","v":0},{"$f":"IF(EB$4=\"\",0,IF(EB$8=1,$P14*$P15,0))","v":0},{"$f":"IF(EC$4=\"\",0,IF(EC$8=1,$P14*$P15,0))","v":0},{"$f":"IF(ED$4=\"\",0,IF(ED$8=1,$P14*$P15,0))","v":0},{"$f":"IF(EE$4=\"\",0,IF(EE$8=1,$P14*$P15,0))","v":0},{"$f":"IF(EF$4=\"\",0,IF(EF$8=1,$P14*$P15,0))","v":0},{"$f":"IF(EG$4=\"\",0,IF(EG$8=1,$P14*$P15,0))","v":0},{"$f":"IF(EH$4=\"\",0,IF(EH$8=1,$P14*$P15,0))","v":0},{"$f":"IF(EI$4=\"\",0,IF(EI$8=1,$P14*$P15,0))","v":0},{"$f":"IF(EJ$4=\"\",0,IF(EJ$8=1,$P14*$P15,0))","v":0},{"$f":"IF(EK$4=\"\",0,IF(EK$8=1,$P14*$P15,0))","v":0},{"$f":"IF(EL$4=\"\",0,IF(EL$8=1,$P14*$P15,0))","v":0},{"$f":"IF(EM$4=\"\",0,IF(EM$8=1,$P14*$P15,0))","v":0},{"$f":"IF(EN$4=\"\",0,IF(EN$8=1,$P14*$P15,0))","v":0},{"$f":"IF(EO$4=\"\",0,IF(EO$8=1,$P14*$P15,0))","v":0},{"$f":"IF(EP$4=\"\",0,IF(EP$8=1,$P14*$P15,0))","v":0},{"$f":"IF(EQ$4=\"\",0,IF(EQ$8=1,$P14*$P15,0))","v":0},{"$f":"IF(ER$4=\"\",0,IF(ER$8=1,$P14*$P15,0))","v":0},{"$f":"IF(ES$4=\"\",0,IF(ES$8=1,$P14*$P15,0))","v":0},{"$f":"IF(ET$4=\"\",0,IF(ET$8=1,$P14*$P15,0))","v":0},{"$f":"IF(EU$4=\"\",0,IF(EU$8=1,$P14*$P15,0))","v":0},{"$f":"IF(EV$4=\"\",0,IF(EV$8=1,$P14*$P15,0))","v":0},{"$f":"IF(EW$4=\"\",0,IF(EW$8=1,$P14*$P15,0))","v":0},{"$f":"IF(EX$4=\"\",0,IF(EX$8=1,$P14*$P15,0))","v":0},{"$f":"IF(EY$4=\"\",0,IF(EY$8=1,$P14*$P15,0))","v":0},{"$f":"IF(EZ$4=\"\",0,IF(EZ$8=1,$P14*$P15,0))","v":0},{"$f":"IF(FA$4=\"\",0,IF(FA$8=1,$P14*$P15,0))","v":0},{"$f":"IF(FB$4=\"\",0,IF(FB$8=1,$P14*$P15,0))","v":0},{"$f":"IF(FC$4=\"\",0,IF(FC$8=1,$P14*$P15,0))","v":0},{"$f":"IF(FD$4=\"\",0,IF(FD$8=1,$P14*$P15,0))","v":0},{"$f":"IF(FE$4=\"\",0,IF(FE$8=1,$P14*$P15,0))","v":0},{"$f":"IF(FF$4=\"\",0,IF(FF$8=1,$P14*$P15,0))","v":0},{"$f":"IF(FG$4=\"\",0,IF(FG$8=1,$P14*$P15,0))","v":0},{"$f":"IF(FH$4=\"\",0,IF(FH$8=1,$P14*$P15,0))","v":0},{"$f":"IF(FI$4=\"\",0,IF(FI$8=1,$P14*$P15,0))","v":0},{"$f":"IF(FJ$4=\"\",0,IF(FJ$8=1,$P14*$P15,0))","v":0},{"$f":"IF(FK$4=\"\",0,IF(FK$8=1,$P14*$P15,0))","v":0},{"$f":"IF(FL$4=\"\",0,IF(FL$8=1,$P14*$P15,0))","v":0},{"$f":"IF(FM$4=\"\",0,IF(FM$8=1,$P14*$P15,0))","v":0},{"$f":"IF(FN$4=\"\",0,IF(FN$8=1,$P14*$P15,0))","v":0},{"$f":"IF(FO$4=\"\",0,IF(FO$8=1,$P14*$P15,0))","v":0},{"$f":"IF(FP$4=\"\",0,IF(FP$8=1,$P14*$P15,0))","v":0},{"$f":"IF(FQ$4=\"\",0,IF(FQ$8=1,$P14*$P15,0))","v":0},{"$f":"IF(FR$4=\"\",0,IF(FR$8=1,$P14*$P15,0))","v":0},{"$f":"IF(FS$4=\"\",0,IF(FS$8=1,$P14*$P15,0))","v":0},{"$f":"IF(FT$4=\"\",0,IF(FT$8=1,$P14*$P15,0))","v":0},{"$f":"IF(FU$4=\"\",0,IF(FU$8=1,$P14*$P15,0))","v":0},{"$f":"IF(FV$4=\"\",0,IF(FV$8=1,$P14*$P15,0))","v":0},{"$f":"IF(FW$4=\"\",0,IF(FW$8=1,$P14*$P15,0))","v":0},{"$f":"IF(FX$4=\"\",0,IF(FX$8=1,$P14*$P15,0))","v":0},{"$f":"IF(FY$4=\"\",0,IF(FY$8=1,$P14*$P15,0))","v":0},{"$f":"IF(FZ$4=\"\",0,IF(FZ$8=1,$P14*$P15,0))","v":0},{"$f":"IF(GA$4=\"\",0,IF(GA$8=1,$P14*$P15,0))","v":0},{"$f":"IF(GB$4=\"\",0,IF(GB$8=1,$P14*$P15,0))","v":0},{"$f":"IF(GC$4=\"\",0,IF(GC$8=1,$P14*$P15,0))","v":0},{"$f":"IF(GD$4=\"\",0,IF(GD$8=1,$P14*$P15,0))","v":0},{"$f":"IF(GE$4=\"\",0,IF(GE$8=1,$P14*$P15,0))","v":0},{"$f":"IF(GF$4=\"\",0,IF(GF$8=1,$P14*$P15,0))","v":0},{"$f":"IF(GG$4=\"\",0,IF(GG$8=1,$P14*$P15,0))","v":0},{"$f":"IF(GH$4=\"\",0,IF(GH$8=1,$P14*$P15,0))","v":0},{"$f":"IF(GI$4=\"\",0,IF(GI$8=1,$P14*$P15,0))","v":0},{"$f":"IF(GJ$4=\"\",0,IF(GJ$8=1,$P14*$P15,0))","v":0},{"$f":"IF(GK$4=\"\",0,IF(GK$8=1,$P14*$P15,0))","v":0},{"$f":"IF(GL$4=\"\",0,IF(GL$8=1,$P14*$P15,0))","v":0},{"$f":"IF(GM$4=\"\",0,IF(GM$8=1,$P14*$P15,0))","v":0},{"$f":"IF(GN$4=\"\",0,IF(GN$8=1,$P14*$P15,0))","v":0},{"$f":"IF(GO$4=\"\",0,IF(GO$8=1,$P14*$P15,0))","v":0},{"$f":"IF(GP$4=\"\",0,IF(GP$8=1,$P14*$P15,0))","v":0},{"$f":"IF(GQ$4=\"\",0,IF(GQ$8=1,$P14*$P15,0))","v":0},{"$f":"IF(GR$4=\"\",0,IF(GR$8=1,$P14*$P15,0))","v":0},{"$f":"IF(GS$4=\"\",0,IF(GS$8=1,$P14*$P15,0))","v":0},{"$f":"IF(GT$4=\"\",0,IF(GT$8=1,$P14*$P15,0))","v":0},{"$f":"IF(GU$4=\"\",0,IF(GU$8=1,$P14*$P15,0))","v":0},{"$f":"IF(GV$4=\"\",0,IF(GV$8=1,$P14*$P15,0))","v":0}]
[null,{"$f":"ROW()","v":14},null,null,null,null,null,{"$f":"H13","v":"Стоимость приобретаемого оборуд-я"},"Стоимость 1ед. оборудования",null,null,null,"руб./1ед.||шт.",null,"*"]
[null,{"$f":"ROW()","v":15},null,null,null,null,null,{"$f":"H14","v":"Стоимость приобретаемого оборуд-я"},"Количество единиц оборудования",null,null,null,"руб./1ед.||шт.",null,"*"]
[null,{"$f":"ROW()","v":16}]
[null,{"$f":"ROW()","v":17},null,null,null,null,null,"График оплат оборудования",null,null,null,null,null,null,null,"CF(-)",null,null,null,null,{"$f":"SUM(INDIRECT(ADDRESS($B17,X$2)&\":\"&ADDRESS($B17,MAX($2:$2))))","v":0},null,null,{"$f":"IF(X$4=\"\",0,$U13*X18)","v":0},{"$f":"IF(Y$4=\"\",0,$U13*Y18)","v":0},0,0,0,0,0,0,0,0,0,0,0,0,0,0,0,0,0,0,0,0,0,0,0,0,0,0,0,0,0,{"$f":"IF(BC$4=\"\",0,$U13*BC18)","v":0},0,0,0,0,0,0,0,0,0,0,0,0,0,0,0,0,0,0,0,0,0,0,0,0,0,0,0,0,0,0,0,0,0,0,0,0,0,0,0,0,0,0,0,0,0,0,0,0,0,0,0,0,0,0,0,0,0,0,0,0,0,0,0,{"$f":"IF(DO$4=\"\",0,$U13*DO18)","v":0},0,0,0,0,0,0,0,0,0,0,0,0,0,0,0,0,0,0,0,0,0,0,0,0,0,0,0,0,0,0,0,0,0,0,0,0,0,0,0,0,0,0,0,0,0,0,0,0,0,0,0,0,0,0,0,0,0,0,0,0,0,0,0,{"$f":"IF(GA$4=\"\",0,$U13*GA18)","v":0},0,0,0,0,0,0,0,0,0,0,0,0,0,0,0,0,0,0,0,0,0]
[null,{"$f":"ROW()","v":18},null,null,null,null,null,{"$f":"H17","v":"График оплат оборудования"},"Процентное распределение оплаты",null,null,null,"%",null,null,null,null,null,null,null,{"$f":"SUM(INDIRECT(ADDRESS($B18,X$2)&\":\"&ADDRESS($B18,MAX($2:$2))))","v":0},null,"*"]
[null,{"$f":"ROW()","v":19}]
[null,{"$f":"ROW()","v":20},null,null,null,null,null,"Ввод в эксплуатацию оборудования",null,null,null,null,"руб.",null,null,null,null,null,null,null,{"$f":"SUM(INDIRECT(ADDRESS($B20,X$2)&\":\"&ADDRESS($B20,MAX($2:$2))))","v":0},null,null,{"$f":"IF(X$4=\"\",0,$P14*X21)","v":0},{"$f":"IF(Y$4=\"\",0,$P14*Y21)","v":0},0,0,0,0,0,0,0,0,0,0,0,0,0,0,0,0,0,0,0,0,0,0,0,0,0,0,0,0,0,{"$f":"IF(BC$4=\"\",0,$P14*BC21)","v":0},0,0,0,0,0,0,0,0,0,0,0,0,0,0,0,0,0,0,0,0,0,0,0,0,0,0,0,0,0,0,0,0,0,0,0,0,0,0,0,0,0,0,0,0,0,0,0,0,0,0,0,0,0,0,0,0,0,0,0,0,0,0,0,{"$f":"IF(DO$4=\"\",0,$P14*DO21)","v":0},0,0,0,0,0,0,0,0,0,0,0,0,0,0,0,0,0,0,0,0,0,0,0,0,0,0,0,0,0,0,0,0,0,0,0,0,0,0,0,0,0,0,0,0,0,0,0,0,0,0,0,0,0,0,0,0,0,0,0,0,0,0,0,{"$f":"IF(GA$4=\"\",0,$P14*GA21)","v":0},0,0,0,0,0,0,0,0,0,0,0,0,0,0,0,0,0,0,0,0,0]
[null,{"$f":"ROW()","v":21},null,null,null,null,null,{"$f":"H20","v":"Ввод в эксплуатацию оборудования"},null,null,null,null,"шт",null,null,null,null,null,null,null,{"$f":"SUM(INDIRECT(ADDRESS($B21,X$2)&\":\"&ADDRESS($B21,MAX($2:$2))))","v":0},null,null,{"$f":"IF(X$4=\"\",0,IF($U22=0,IF($P14=0,0,SUMIFS($17:$17,$1:$1,X$1-$P23)/$P14),X22))","v":0},{"$f":"IF(Y$4=\"\",0,IF($U22=0,IF($P14=0,0,SUMIFS($17:$17,$1:$1,Y$1-$P23)/$P14),Y22))","v":0},0,0,0,0,0,0,0,0,0,0,0,0,0,0,0,0,0,0,0,0,0,0,0,0,0,0,0,0,0,{"$f":"IF(BC$4=\"\",0,IF($U22=0,IF($P14=0,0,SUMIFS($17:$17,$1:$1,BC$1-$P23)/$P14),BC22))","v":0},0,0,0,0,0,0,0,0,0,0,0,0,0,0,0,0,0,0,0,0,0,0,0,0,0,0,0,0,0,0,0,0,0,0,0,0,0,0,0,0,0,0,0,0,0,0,0,0,0,0,0,0,0,0,0,0,0,0,0,0,0,0,0,{"$f":"IF(DO$4=\"\",0,IF($U22=0,IF($P14=0,0,SUMIFS($17:$17,$1:$1,DO$1-$P23)/$P14),DO22))","v":0},0,0,0,0,0,0,0,0,0,0,0,0,0,0,0,0,0,0,0,0,0,0,0,0,0,0,0,0,0,0,0,0,0,0,0,0,0,0,0,0,0,0,0,0,0,0,0,0,0,0,0,0,0,0,0,0,0,0,0,0,0,0,0,{"$f":"IF(GA$4=\"\",0,IF($U22=0,IF($P14=0,0,SUMIFS($17:$17,$1:$1,GA$1-$P23)/$P14),GA22))","v":0},0,0,0,0,0,0,0,0,0,0,0,0,0,0,0,0,0,0,0,0,0]
[null,{"$f":"ROW()","v":22},null,null,null,null,null,{"$f":"H20","v":"Ввод в эксплуатацию оборудования"},"Вручную укажите ввод в экспл-ию",null,null,null,"шт",null,null,null,null,null,null,null,{"$f":"SUM(INDIRECT(ADDRESS($B22,X$2)&\":\"&ADDRESS($B22,MAX($2:$2))))","v":0},null,"*"]
[null,{"$f":"ROW()","v":23},null,null,null,null,null,"Возврат %% по кредиту","Либо укажите срок ввода с момента оплаты",null,null,null,"кол-во мес.",null,"*"]
[null,{"$f":"ROW()","v":24}]
[null,67,null,null,null,null,null,"Операц. финпоток от экспл-ции оборуд-ия"]
[null,{"$f":"ROW()","v":26}]
[null,{"$f":"ROW()","v":27},null,null,null,null,null,"Поступление операционного финпотока",null,null,null,null,null,null,null,"CF(+)",null,null,null,null,{"$f":"SUM(INDIRECT(ADDRESS($B27,X$2)&\":\"&ADDRESS($B27,MAX($2:$2))))","v":0},null,null,{"$f":"IF(X$4=\"\",0,SUM($W21:X21)*$P28)","v":0},{"$f":"IF(Y$4=\"\",0,SUM($W21:Y21)*$P28)","v":0},{"$f":"IF(Z$4=\"\",0,SUM($W21:Z21)*$P28)","v":0},{"$f":"IF(AA$4=\"\",0,SUM($W21:AA21)*$P28)","v":0},{"$f":"IF(AB$4=\"\",0,SUM($W21:AB21)*$P28)","v":0},{"$f":"IF(AC$4=\"\",0,SUM($W21:AC21)*$P28)","v":0},{"$f":"IF(AD$4=\"\",0,SUM($W21:AD21)*$P28)","v":0},{"$f":"IF(AE$4=\"\",0,SUM($W21:AE21)*$P28)","v":0},{"$f":"IF(AF$4=\"\",0,SUM($W21:AF21)*$P28)","v":0},{"$f":"IF(AG$4=\"\",0,SUM($W21:AG21)*$P28)","v":0},{"$f":"IF(AH$4=\"\",0,SUM($W21:AH21)*$P28)","v":0},{"$f":"IF(AI$4=\"\",0,SUM($W21:AI21)*$P28)","v":0},{"$f":"IF(AJ$4=\"\",0,SUM($W21:AJ21)*$P28)","v":0},{"$f":"IF(AK$4=\"\",0,SUM($W21:AK21)*$P28)","v":0},{"$f":"IF(AL$4=\"\",0,SUM($W21:AL21)*$P28)","v":0},{"$f":"IF(AM$4=\"\",0,SUM($W21:AM21)*$P28)","v":0},{"$f":"IF(AN$4=\"\",0,SUM($W21:AN21)*$P28)","v":0},{"$f":"IF(AO$4=\"\",0,SUM($W21:AO21)*$P28)","v":0},{"$f":"IF(AP$4=\"\",0,SUM($W21:AP21)*$P28)","v":0},{"$f":"IF(AQ$4=\"\",0,SUM($W21:AQ21)*$P28)","v":0},{"$f":"IF(AR$4=\"\",0,SUM($W21:AR21)*$P28)","v":0},{"$f":"IF(AS$4=\"\",0,SUM($W21:AS21)*$P28)","v":0},{"$f":"IF(AT$4=\"\",0,SUM($W21:AT21)*$P28)","v":0},{"$f":"IF(AU$4=\"\",0,SUM($W21:AU21)*$P28)","v":0},{"$f":"IF(AV$4=\"\",0,SUM($W21:AV21)*$P28)","v":0},{"$f":"IF(AW$4=\"\",0,SUM($W21:AW21)*$P28)","v":0},{"$f":"IF(AX$4=\"\",0,SUM($W21:AX21)*$P28)","v":0},{"$f":"IF(AY$4=\"\",0,SUM($W21:AY21)*$P28)","v":0},{"$f":"IF(AZ$4=\"\",0,SUM($W21:AZ21)*$P28)","v":0},{"$f":"IF(BA$4=\"\",0,SUM($W21:BA21)*$P28)","v":0},{"$f":"IF(BB$4=\"\",0,SUM($W21:BB21)*$P28)","v":0},{"$f":"IF(BC$4=\"\",0,SUM($W21:BC21)*$P28)","v":0},{"$f":"IF(BD$4=\"\",0,SUM($W21:BD21)*$P28)","v":0},{"$f":"IF(BE$4=\"\",0,SUM($W21:BE21)*$P28)","v":0},{"$f":"IF(BF$4=\"\",0,SUM($W21:BF21)*$P28)","v":0},{"$f":"IF(BG$4=\"\",0,SUM($W21:BG21)*$P28)","v":0},{"$f":"IF(BH$4=\"\",0,SUM($W21:BH21)*$P28)","v":0},{"$f":"IF(BI$4=\"\",0,SUM($W21:BI21)*$P28)","v":0},{"$f":"IF(BJ$4=\"\",0,SUM($W21:BJ21)*$P28)","v":0},{"$f":"IF(BK$4=\"\",0,SUM($W21:BK21)*$P28)","v":0},{"$f":"IF(BL$4=\"\",0,SUM($W21:BL21)*$P28)","v":0},{"$f":"IF(BM$4=\"\",0,SUM($W21:BM21)*$P28)","v":0},{"$f":"IF(BN$4=\"\",0,SUM($W21:BN21)*$P28)","v":0},{"$f":"IF(BO$4=\"\",0,SUM($W21:BO21)*$P28)","v":0},{"$f":"IF(BP$4=\"\",0,SUM($W21:BP21)*$P28)","v":0},{"$f":"IF(BQ$4=\"\",0,SUM($W21:BQ21)*$P28)","v":0},{"$f":"IF(BR$4=\"\",0,SUM($W21:BR21)*$P28)","v":0},{"$f":"IF(BS$4=\"\",0,SUM($W21:BS21)*$P28)","v":0},{"$f":"IF(BT$4=\"\",0,SUM($W21:BT21)*$P28)","v":0},{"$f":"IF(BU$4=\"\",0,SUM($W21:BU21)*$P28)","v":0},{"$f":"IF(BV$4=\"\",0,SUM($W21:BV21)*$P28)","v":0},{"$f":"IF(BW$4=\"\",0,SUM($W21:BW21)*$P28)","v":0},{"$f":"IF(BX$4=\"\",0,SUM($W21:BX21)*$P28)","v":0},{"$f":"IF(BY$4=\"\",0,SUM($W21:BY21)*$P28)","v":0},{"$f":"IF(BZ$4=\"\",0,SUM($W21:BZ21)*$P28)","v":0},{"$f":"IF(CA$4=\"\",0,SUM($W21:CA21)*$P28)","v":0},{"$f":"IF(CB$4=\"\",0,SUM($W21:CB21)*$P28)","v":0},{"$f":"IF(CC$4=\"\",0,SUM($W21:CC21)*$P28)","v":0},{"$f":"IF(CD$4=\"\",0,SUM($W21:CD21)*$P28)","v":0},{"$f":"IF(CE$4=\"\",0,SUM($W21:CE21)*$P28)","v":0},{"$f":"IF(CF$4=\"\",0,SUM($W21:CF21)*$P28)","v":0},{"$f":"IF(CG$4=\"\",0,SUM($W21:CG21)*$P28)","v":0},{"$f":"IF(CH$4=\"\",0,SUM($W21:CH21)*$P28)","v":0},{"$f":"IF(CI$4=\"\",0,SUM($W21:CI21)*$P28)","v":0},{"$f":"IF(CJ$4=\"\",0,SUM($W21:CJ21)*$P28)","v":0},{"$f":"IF(CK$4=\"\",0,SUM($W21:CK21)*$P28)","v":0},{"$f":"IF(CL$4=\"\",0,SUM($W21:CL21)*$P28)","v":0},{"$f":"IF(CM$4=\"\",0,SUM($W21:CM21)*$P28)","v":0},{"$f":"IF(CN$4=\"\",0,SUM($W21:CN21)*$P28)","v":0},{"$f":"IF(CO$4=\"\",0,SUM($W21:CO21)*$P28)","v":0},{"$f":"IF(CP$4=\"\",0,SUM($W21:CP21)*$P28)","v":0},{"$f":"IF(CQ$4=\"\",0,SUM($W21:CQ21)*$P28)","v":0},{"$f":"IF(CR$4=\"\",0,SUM($W21:CR21)*$P28)","v":0},{"$f":"IF(CS$4=\"\",0,SUM($W21:CS21)*$P28)","v":0},{"$f":"IF(CT$4=\"\",0,SUM($W21:CT21)*$P28)","v":0},{"$f":"IF(CU$4=\"\",0,SUM($W21:CU21)*$P28)","v":0},{"$f":"IF(CV$4=\"\",0,SUM($W21:CV21)*$P28)","v":0},{"$f":"IF(CW$4=\"\",0,SUM($W21:CW21)*$P28)","v":0},{"$f":"IF(CX$4=\"\",0,SUM($W21:CX21)*$P28)","v":0},{"$f":"IF(CY$4=\"\",0,SUM($W21:CY21)*$P28)","v":0},{"$f":"IF(CZ$4=\"\",0,SUM($W21:CZ21)*$P28)","v":0},{"$f":"IF(DA$4=\"\",0,SUM($W21:DA21)*$P28)","v":0},{"$f":"IF(DB$4=\"\",0,SUM($W21:DB21)*$P28)","v":0},{"$f":"IF(DC$4=\"\",0,SUM($W21:DC21)*$P28)","v":0},{"$f":"IF(DD$4=\"\",0,SUM($W21:DD21)*$P28)","v":0},{"$f":"IF(DE$4=\"\",0,SUM($W21:DE21)*$P28)","v":0},{"$f":"IF(DF$4=\"\",0,SUM($W21:DF21)*$P28)","v":0},{"$f":"IF(DG$4=\"\",0,SUM($W21:DG21)*$P28)","v":0},{"$f":"IF(DH$4=\"\",0,SUM($W21:DH21)*$P28)","v":0},{"$f":"IF(DI$4=\"\",0,SUM($W21:DI21)*$P28)","v":0},{"$f":"IF(DJ$4=\"\",0,SUM($W21:DJ21)*$P28)","v":0},{"$f":"IF(DK$4=\"\",0,SUM($W21:DK21)*$P28)","v":0},{"$f":"IF(DL$4=\"\",0,SUM($W21:DL21)*$P28)","v":0},{"$f":"IF(DM$4=\"\",0,SUM($W21:DM21)*$P28)","v":0},{"$f":"IF(DN$4=\"\",0,SUM($W21:DN21)*$P28)","v":0},{"$f":"IF(DO$4=\"\",0,SUM($W21:DO21)*$P28)","v":0},{"$f":"IF(DP$4=\"\",0,SUM($W21:DP21)*$P28)","v":0},{"$f":"IF(DQ$4=\"\",0,SUM($W21:DQ21)*$P28)","v":0},{"$f":"IF(DR$4=\"\",0,SUM($W21:DR21)*$P28)","v":0},{"$f":"IF(DS$4=\"\",0,SUM($W21:DS21)*$P28)","v":0},{"$f":"IF(DT$4=\"\",0,SUM($W21:DT21)*$P28)","v":0},{"$f":"IF(DU$4=\"\",0,SUM($W21:DU21)*$P28)","v":0},{"$f":"IF(DV$4=\"\",0,SUM($W21:DV21)*$P28)","v":0},{"$f":"IF(DW$4=\"\",0,SUM($W21:DW21)*$P28)","v":0},{"$f":"IF(DX$4=\"\",0,SUM($W21:DX21)*$P28)","v":0},{"$f":"IF(DY$4=\"\",0,SUM($W21:DY21)*$P28)","v":0},{"$f":"IF(DZ$4=\"\",0,SUM($W21:DZ21)*$P28)","v":0},{"$f":"IF(EA$4=\"\",0,SUM($W21:EA21)*$P28)","v":0},{"$f":"IF(EB$4=\"\",0,SUM($W21:EB21)*$P28)","v":0},{"$f":"IF(EC$4=\"\",0,SUM($W21:EC21)*$P28)","v":0},{"$f":"IF(ED$4=\"\",0,SUM($W21:ED21)*$P28)","v":0},{"$f":"IF(EE$4=\"\",0,SUM($W21:EE21)*$P28)","v":0},{"$f":"IF(EF$4=\"\",0,SUM($W21:EF21)*$P28)","v":0},{"$f":"IF(EG$4=\"\",0,SUM($W21:EG21)*$P28)","v":0},{"$f":"IF(EH$4=\"\",0,SUM($W21:EH21)*$P28)","v":0},{"$f":"IF(EI$4=\"\",0,SUM($W21:EI21)*$P28)","v":0},{"$f":"IF(EJ$4=\"\",0,SUM($W21:EJ21)*$P28)","v":0},{"$f":"IF(EK$4=\"\",0,SUM($W21:EK21)*$P28)","v":0},{"$f":"IF(EL$4=\"\",0,SUM($W21:EL21)*$P28)","v":0},{"$f":"IF(EM$4=\"\",0,SUM($W21:EM21)*$P28)","v":0},{"$f":"IF(EN$4=\"\",0,SUM($W21:EN21)*$P28)","v":0},{"$f":"IF(EO$4=\"\",0,SUM($W21:EO21)*$P28)","v":0},{"$f":"IF(EP$4=\"\",0,SUM($W21:EP21)*$P28)","v":0},{"$f":"IF(EQ$4=\"\",0,SUM($W21:EQ21)*$P28)","v":0},{"$f":"IF(ER$4=\"\",0,SUM($W21:ER21)*$P28)","v":0},{"$f":"IF(ES$4=\"\",0,SUM($W21:ES21)*$P28)","v":0},{"$f":"IF(ET$4=\"\",0,SUM($W21:ET21)*$P28)","v":0},{"$f":"IF(EU$4=\"\",0,SUM($W21:EU21)*$P28)","v":0},{"$f":"IF(EV$4=\"\",0,SUM($W21:EV21)*$P28)","v":0},{"$f":"IF(EW$4=\"\",0,SUM($W21:EW21)*$P28)","v":0},{"$f":"IF(EX$4=\"\",0,SUM($W21:EX21)*$P28)","v":0},{"$f":"IF(EY$4=\"\",0,SUM($W21:EY21)*$P28)","v":0},{"$f":"IF(EZ$4=\"\",0,SUM($W21:EZ21)*$P28)","v":0},{"$f":"IF(FA$4=\"\",0,SUM($W21:FA21)*$P28)","v":0},{"$f":"IF(FB$4=\"\",0,SUM($W21:FB21)*$P28)","v":0},{"$f":"IF(FC$4=\"\",0,SUM($W21:FC21)*$P28)","v":0},{"$f":"IF(FD$4=\"\",0,SUM($W21:FD21)*$P28)","v":0},{"$f":"IF(FE$4=\"\",0,SUM($W21:FE21)*$P28)","v":0},{"$f":"IF(FF$4=\"\",0,SUM($W21:FF21)*$P28)","v":0},{"$f":"IF(FG$4=\"\",0,SUM($W21:FG21)*$P28)","v":0},{"$f":"IF(FH$4=\"\",0,SUM($W21:FH21)*$P28)","v":0},{"$f":"IF(FI$4=\"\",0,SUM($W21:FI21)*$P28)","v":0},{"$f":"IF(FJ$4=\"\",0,SUM($W21:FJ21)*$P28)","v":0},{"$f":"IF(FK$4=\"\",0,SUM($W21:FK21)*$P28)","v":0},{"$f":"IF(FL$4=\"\",0,SUM($W21:FL21)*$P28)","v":0},{"$f":"IF(FM$4=\"\",0,SUM($W21:FM21)*$P28)","v":0},{"$f":"IF(FN$4=\"\",0,SUM($W21:FN21)*$P28)","v":0},{"$f":"IF(FO$4=\"\",0,SUM($W21:FO21)*$P28)","v":0},{"$f":"IF(FP$4=\"\",0,SUM($W21:FP21)*$P28)","v":0},{"$f":"IF(FQ$4=\"\",0,SUM($W21:FQ21)*$P28)","v":0},{"$f":"IF(FR$4=\"\",0,SUM($W21:FR21)*$P28)","v":0},{"$f":"IF(FS$4=\"\",0,SUM($W21:FS21)*$P28)","v":0},{"$f":"IF(FT$4=\"\",0,SUM($W21:FT21)*$P28)","v":0},{"$f":"IF(FU$4=\"\",0,SUM($W21:FU21)*$P28)","v":0},{"$f":"IF(FV$4=\"\",0,SUM($W21:FV21)*$P28)","v":0},{"$f":"IF(FW$4=\"\",0,SUM($W21:FW21)*$P28)","v":0},{"$f":"IF(FX$4=\"\",0,SUM($W21:FX21)*$P28)","v":0},{"$f":"IF(FY$4=\"\",0,SUM($W21:FY21)*$P28)","v":0},{"$f":"IF(FZ$4=\"\",0,SUM($W21:FZ21)*$P28)","v":0},{"$f":"IF(GA$4=\"\",0,SUM($W21:GA21)*$P28)","v":0},{"$f":"IF(GB$4=\"\",0,SUM($W21:GB21)*$P28)","v":0},{"$f":"IF(GC$4=\"\",0,SUM($W21:GC21)*$P28)","v":0},{"$f":"IF(GD$4=\"\",0,SUM($W21:GD21)*$P28)","v":0},{"$f":"IF(GE$4=\"\",0,SUM($W21:GE21)*$P28)","v":0},{"$f":"IF(GF$4=\"\",0,SUM($W21:GF21)*$P28)","v":0},{"$f":"IF(GG$4=\"\",0,SUM($W21:GG21)*$P28)","v":0},{"$f":"IF(GH$4=\"\",0,SUM($W21:GH21)*$P28)","v":0},{"$f":"IF(GI$4=\"\",0,SUM($W21:GI21)*$P28)","v":0},{"$f":"IF(GJ$4=\"\",0,SUM($W21:GJ21)*$P28)","v":0},{"$f":"IF(GK$4=\"\",0,SUM($W21:GK21)*$P28)","v":0},{"$f":"IF(GL$4=\"\",0,SUM($W21:GL21)*$P28)","v":0},{"$f":"IF(GM$4=\"\",0,SUM($W21:GM21)*$P28)","v":0},{"$f":"IF(GN$4=\"\",0,SUM($W21:GN21)*$P28)","v":0},{"$f":"IF(GO$4=\"\",0,SUM($W21:GO21)*$P28)","v":0},{"$f":"IF(GP$4=\"\",0,SUM($W21:GP21)*$P28)","v":0},{"$f":"IF(GQ$4=\"\",0,SUM($W21:GQ21)*$P28)","v":0},{"$f":"IF(GR$4=\"\",0,SUM($W21:GR21)*$P28)","v":0},{"$f":"IF(GS$4=\"\",0,SUM($W21:GS21)*$P28)","v":0},{"$f":"IF(GT$4=\"\",0,SUM($W21:GT21)*$P28)","v":0},{"$f":"IF(GU$4=\"\",0,SUM($W21:GU21)*$P28)","v":0},{"$f":"IF(GV$4=\"\",0,SUM($W21:GV21)*$P28)","v":0}]
[null,{"$f":"ROW()","v":28},null,null,null,null,null,"Поступление лимитированного кредита","размер финпотока с 1ед. оборуд-ия",null,null,null,"руб./мес.",null,"*"]
[null,{"$f":"ROW()","v":29}]
[null,67,null,null,null,null,null,"Расчет источников финансирования оборуд-я"]
[null,{"$f":"ROW()","v":31}]
[null,{"$f":"ROW()","v":32},null,null,null,null,null,"Оплата собственными средствами",null,null,null,null,null,null,null,"CF(+)",null,null,null,null,{"$f":"SUM(INDIRECT(ADDRESS($B32,X$2)&\":\"&ADDRESS($B32,MAX($2:$2))))","v":0},null,null,{"$f":"IF(X$4=\"\",0,X17*$P33)","v":0},{"$f":"IF(Y$4=\"\",0,Y17*$P33)","v":0},0,0,0,0,0,0,0,0,0,0,0,0,0,0,0,0,0,0,0,0,0,0,0,0,0,0,0,0,0,{"$f":"IF(BC$4=\"\",0,BC17*$P33)","v":0},0,0,0,0,0,0,0,0,0,0,0,0,0,0,0,0,0,0,0,0,0,0,0,0,0,0,0,0,0,0,0,0,0,0,0,0,0,0,0,0,0,0,0,0,0,0,0,0,0,0,0,0,0,0,0,0,0,0,0,0,0,0,0,{"$f":"IF(DO$4=\"\",0,DO17*$P33)","v":0},0,0,0,0,0,0,0,0,0,0,0,0,0,0,0,0,0,0,0,0,0,0,0,0,0,0,0,0,0,0,0,0,0,0,0,0,0,0,0,0,0,0,0,0,0,0,0,0,0,0,0,0,0,0,0,0,0,0,0,0,0,0,0,{"$f":"IF(GA$4=\"\",0,GA17*$P33)","v":0},0,0,0,0,0,0,0,0,0,0,0,0,0,0,0,0,0,0,0,0,0]
[null,{"$f":"ROW()","v":33},null,null,null,null,null,"Поступление лимитированного кредита","Доля собственных средств",null,null,null,"%",null,"*"]
[null,{"$f":"ROW()","v":34}]
[null,{"$f":"ROW()","v":35},null,null,null,null,null,"Поступление ДС по лизингу",null,null,null,null,null,null,null,"CF(+)",null,null,null,null,{"$f":"SUM(INDIRECT(ADDRESS($B35,X$2)&\":\"&ADDRESS($B35,MAX($2:$2))))","v":0},null,null,{"$f":"IF(X$4=\"\",0,X17-X32)","v":0},{"$f":"IF(Y$4=\"\",0,Y17-Y32)","v":0},0,0,0,0,0,0,0,0,0,0,0,0,0,0,0,0,0,0,0,0,0,0,0,0,0,0,0,0,0,{"$f":"IF(BC$4=\"\",0,BC17-BC32)","v":0},0,0,0,0,0,0,0,0,0,0,0,0,0,0,0,0,0,0,0,0,0,0,0,0,0,0,0,0,0,0,0,0,0,0,0,0,0,0,0,0,0,0,0,0,0,0,0,0,0,0,0,0,0,0,0,0,0,0,0,0,0,0,0,{"$f":"IF(DO$4=\"\",0,DO17-DO32)","v":0},0,0,0,0,0,0,0,0,0,0,0,0,0,0,0,0,0,0,0,0,0,0,0,0,0,0,0,0,0,0,0,0,0,0,0,0,0,0,0,0,0,0,0,0,0,0,0,0,0,0,0,0,0,0,0,0,0,0,0,0,0,0,0,{"$f":"IF(GA$4=\"\",0,GA17-GA32)","v":0},0,0,0,0,0,0,0,0,0,0,0,0,0,0,0,0,0,0,0,0,0]
[null,{"$f":"ROW()","v":36},null,null,null,null,null,null,null,null,null,null,null,null,null,null,null,null,null,null,null,null,null,{"$f":"IF(X$4=\"\",0,IF(X$8>$P40,0,SUMPRODUCT($W40:X40,$W41:X41)))","v":0},{"$f":"IF(Y$4=\"\",0,IF(Y$8>$P40,0,SUMPRODUCT($W40:Y40,$W41:Y41)))","v":0},{"$f":"IF(Z$4=\"\",0,IF(Z$8>$P40,0,SUMPRODUCT($W40:Z40,$W41:Z41)))","v":0},{"$f":"IF(AA$4=\"\",0,IF(AA$8>$P40,0,SUMPRODUCT($W40:AA40,$W41:AA41)))","v":0},{"$f":"IF(AB$4=\"\",0,IF(AB$8>$P40,0,SUMPRODUCT($W40:AB40,$W41:AB41)))","v":0},{"$f":"IF(AC$4=\"\",0,IF(AC$8>$P40,0,SUMPRODUCT($W40:AC40,$W41:AC41)))","v":0},{"$f":"IF(AD$4=\"\",0,IF(AD$8>$P40,0,SUMPRODUCT($W40:AD40,$W41:AD41)))","v":0},{"$f":"IF(AE$4=\"\",0,IF(AE$8>$P40,0,SUMPRODUCT($W40:AE40,$W41:AE41)))","v":0},{"$f":"IF(AF$4=\"\",0,IF(AF$8>$P40,0,SUMPRODUCT($W40:AF40,$W41:AF41)))","v":0},{"$f":"IF(AG$4=\"\",0,IF(AG$8>$P40,0,SUMPRODUCT($W40:AG40,$W41:AG41)))","v":0},{"$f":"IF(AH$4=\"\",0,IF(AH$8>$P40,0,SUMPRODUCT($W40:AH40,$W41:AH41)))","v":0},{"$f":"IF(AI$4=\"\",0,IF(AI$8>$P40,0,SUMPRODUCT($W40:AI40,$W41:AI41)))","v":0},{"$f":"IF(AJ$4=\"\",0,IF(AJ$8>$P40,0,SUMPRODUCT($W40:AJ40,$W41:AJ41)))","v":0},{"$f":"IF(AK$4=\"\",0,IF(AK$8>$P40,0,SUMPRODUCT($W40:AK40,$W41:AK41)))","v":0},{"$f":"IF(AL$4=\"\",0,IF(AL$8>$P40,0,SUMPRODUCT($W40:AL40,$W41:AL41)))","v":0},{"$f":"IF(AM$4=\"\",0,IF(AM$8>$P40,0,SUMPRODUCT($W40:AM40,$W41:AM41)))","v":0},{"$f":"IF(AN$4=\"\",0,IF(AN$8>$P40,0,SUMPRODUCT($W40:AN40,$W41:AN41)))","v":0},{"$f":"IF(AO$4=\"\",0,IF(AO$8>$P40,0,SUMPRODUCT($W40:AO40,$W41:AO41)))","v":0},{"$f":"IF(AP$4=\"\",0,IF(AP$8>$P40,0,SUMPRODUCT($W40:AP40,$W41:AP41)))","v":0},{"$f":"IF(AQ$4=\"\",0,IF(AQ$8>$P40,0,SUMPRODUCT($W40:AQ40,$W41:AQ41)))","v":0},{"$f":"IF(AR$4=\"\",0,IF(AR$8>$P40,0,SUMPRODUCT($W40:AR40,$W41:AR41)))","v":0},{"$f":"IF(AS$4=\"\",0,IF(AS$8>$P40,0,SUMPRODUCT($W40:AS40,$W41:AS41)))","v":0},{"$f":"IF(AT$4=\"\",0,IF(AT$8>$P40,0,SUMPRODUCT($W40:AT40,$W41:AT41)))","v":0},{"$f":"IF(AU$4=\"\",0,IF(AU$8>$P40,0,SUMPRODUCT($W40:AU40,$W41:AU41)))","v":0},{"$f":"IF(AV$4=\"\",0,IF(AV$8>$P40,0,SUMPRODUCT($W40:AV40,$W41:AV41)))","v":0},{"$f":"IF(AW$4=\"\",0,IF(AW$8>$P40,0,SUMPRODUCT($W40:AW40,$W41:AW41)))","v":0},{"$f":"IF(AX$4=\"\",0,IF(AX$8>$P40,0,SUMPRODUCT($W40:AX40,$W41:AX41)))","v":0},{"$f":"IF(AY$4=\"\",0,IF(AY$8>$P40,0,SUMPRODUCT($W40:AY40,$W41:AY41)))","v":0},{"$f":"IF(AZ$4=\"\",0,IF(AZ$8>$P40,0,SUMPRODUCT($W40:AZ40,$W41:AZ41)))","v":0},{"$f":"IF(BA$4=\"\",0,IF(BA$8>$P40,0,SUMPRODUCT($W40:BA40,$W41:BA41)))","v":0},{"$f":"IF(BB$4=\"\",0,IF(BB$8>$P40,0,SUMPRODUCT($W40:BB40,$W41:BB41)))","v":0},{"$f":"IF(BC$4=\"\",0,IF(BC$8>$P40,0,SUMPRODUCT($W40:BC40,$W41:BC41)))","v":0},{"$f":"IF(BD$4=\"\",0,IF(BD$8>$P40,0,SUMPRODUCT($W40:BD40,$W41:BD41)))","v":0},{"$f":"IF(BE$4=\"\",0,IF(BE$8>$P40,0,SUMPRODUCT($W40:BE40,$W41:BE41)))","v":0},{"$f":"IF(BF$4=\"\",0,IF(BF$8>$P40,0,SUMPRODUCT($W40:BF40,$W41:BF41)))","v":0},{"$f":"IF(BG$4=\"\",0,IF(BG$8>$P40,0,SUMPRODUCT($W40:BG40,$W41:BG41)))","v":0},{"$f":"IF(BH$4=\"\",0,IF(BH$8>$P40,0,SUMPRODUCT($W40:BH40,$W41:BH41)))","v":0},{"$f":"IF(BI$4=\"\",0,IF(BI$8>$P40,0,SUMPRODUCT($W40:BI40,$W41:BI41)))","v":0},{"$f":"IF(BJ$4=\"\",0,IF(BJ$8>$P40,0,SUMPRODUCT($W40:BJ40,$W41:BJ41)))","v":0},{"$f":"IF(BK$4=\"\",0,IF(BK$8>$P40,0,SUMPRODUCT($W40:BK40,$W41:BK41)))","v":0},{"$f":"IF(BL$4=\"\",0,IF(BL$8>$P40,0,SUMPRODUCT($W40:BL40,$W41:BL41)))","v":0},{"$f":"IF(BM$4=\"\",0,IF(BM$8>$P40,0,SUMPRODUCT($W40:BM40,$W41:BM41)))","v":0},{"$f":"IF(BN$4=\"\",0,IF(BN$8>$P40,0,SUMPRODUCT($W40:BN40,$W41:BN41)))","v":0},{"$f":"IF(BO$4=\"\",0,IF(BO$8>$P40,0,SUMPRODUCT($W40:BO40,$W41:BO41)))","v":0},{"$f":"IF(BP$4=\"\",0,IF(BP$8>$P40,0,SUMPRODUCT($W40:BP40,$W41:BP41)))","v":0},{"$f":"IF(BQ$4=\"\",0,IF(BQ$8>$P40,0,SUMPRODUCT($W40:BQ40,$W41:BQ41)))","v":0},{"$f":"IF(BR$4=\"\",0,IF(BR$8>$P40,0,SUMPRODUCT($W40:BR40,$W41:BR41)))","v":0},{"$f":"IF(BS$4=\"\",0,IF(BS$8>$P40,0,SUMPRODUCT($W40:BS40,$W41:BS41)))","v":0},{"$f":"IF(BT$4=\"\",0,IF(BT$8>$P40,0,SUMPRODUCT($W40:BT40,$W41:BT41)))","v":0},{"$f":"IF(BU$4=\"\",0,IF(BU$8>$P40,0,SUMPRODUCT($W40:BU40,$W41:BU41)))","v":0},{"$f":"IF(BV$4=\"\",0,IF(BV$8>$P40,0,SUMPRODUCT($W40:BV40,$W41:BV41)))","v":0},{"$f":"IF(BW$4=\"\",0,IF(BW$8>$P40,0,SUMPRODUCT($W40:BW40,$W41:BW41)))","v":0},{"$f":"IF(BX$4=\"\",0,IF(BX$8>$P40,0,SUMPRODUCT($W40:BX40,$W41:BX41)))","v":0},{"$f":"IF(BY$4=\"\",0,IF(BY$8>$P40,0,SUMPRODUCT($W40:BY40,$W41:BY41)))","v":0},{"$f":"IF(BZ$4=\"\",0,IF(BZ$8>$P40,0,SUMPRODUCT($W40:BZ40,$W41:BZ41)))","v":0},{"$f":"IF(CA$4=\"\",0,IF(CA$8>$P40,0,SUMPRODUCT($W40:CA40,$W41:CA41)))","v":0},{"$f":"IF(CB$4=\"\",0,IF(CB$8>$P40,0,SUMPRODUCT($W40:CB40,$W41:CB41)))","v":0},{"$f":"IF(CC$4=\"\",0,IF(CC$8>$P40,0,SUMPRODUCT($W40:CC40,$W41:CC41)))","v":0},{"$f":"IF(CD$4=\"\",0,IF(CD$8>$P40,0,SUMPRODUCT($W40:CD40,$W41:CD41)))","v":0},{"$f":"IF(CE$4=\"\",0,IF(CE$8>$P40,0,SUMPRODUCT($W40:CE40,$W41:CE41)))","v":0},{"$f":"IF(CF$4=\"\",0,IF(CF$8>$P40,0,SUMPRODUCT($W40:CF40,$W41:CF41)))","v":0},{"$f":"IF(CG$4=\"\",0,IF(CG$8>$P40,0,SUMPRODUCT($W40:CG40,$W41:CG41)))","v":0},{"$f":"IF(CH$4=\"\",0,IF(CH$8>$P40,0,SUMPRODUCT($W40:CH40,$W41:CH41)))","v":0},{"$f":"IF(CI$4=\"\",0,IF(CI$8>$P40,0,SUMPRODUCT($W40:CI40,$W41:CI41)))","v":0},{"$f":"IF(CJ$4=\"\",0,IF(CJ$8>$P40,0,SUMPRODUCT($W40:CJ40,$W41:CJ41)))","v":0},{"$f":"IF(CK$4=\"\",0,IF(CK$8>$P40,0,SUMPRODUCT($W40:CK40,$W41:CK41)))","v":0},{"$f":"IF(CL$4=\"\",0,IF(CL$8>$P40,0,SUMPRODUCT($W40:CL40,$W41:CL41)))","v":0},{"$f":"IF(CM$4=\"\",0,IF(CM$8>$P40,0,SUMPRODUCT($W40:CM40,$W41:CM41)))","v":0},{"$f":"IF(CN$4=\"\",0,IF(CN$8>$P40,0,SUMPRODUCT($W40:CN40,$W41:CN41)))","v":0},{"$f":"IF(CO$4=\"\",0,IF(CO$8>$P40,0,SUMPRODUCT($W40:CO40,$W41:CO41)))","v":0},{"$f":"IF(CP$4=\"\",0,IF(CP$8>$P40,0,SUMPRODUCT($W40:CP40,$W41:CP41)))","v":0},{"$f":"IF(CQ$4=\"\",0,IF(CQ$8>$P40,0,SUMPRODUCT($W40:CQ40,$W41:CQ41)))","v":0},{"$f":"IF(CR$4=\"\",0,IF(CR$8>$P40,0,SUMPRODUCT($W40:CR40,$W41:CR41)))","v":0},{"$f":"IF(CS$4=\"\",0,IF(CS$8>$P40,0,SUMPRODUCT($W40:CS40,$W41:CS41)))","v":0},{"$f":"IF(CT$4=\"\",0,IF(CT$8>$P40,0,SUMPRODUCT($W40:CT40,$W41:CT41)))","v":0},{"$f":"IF(CU$4=\"\",0,IF(CU$8>$P40,0,SUMPRODUCT($W40:CU40,$W41:CU41)))","v":0},{"$f":"IF(CV$4=\"\",0,IF(CV$8>$P40,0,SUMPRODUCT($W40:CV40,$W41:CV41)))","v":0},{"$f":"IF(CW$4=\"\",0,IF(CW$8>$P40,0,SUMPRODUCT($W40:CW40,$W41:CW41)))","v":0},{"$f":"IF(CX$4=\"\",0,IF(CX$8>$P40,0,SUMPRODUCT($W40:CX40,$W41:CX41)))","v":0},{"$f":"IF(CY$4=\"\",0,IF(CY$8>$P40,0,SUMPRODUCT($W40:CY40,$W41:CY41)))","v":0},{"$f":"IF(CZ$4=\"\",0,IF(CZ$8>$P40,0,SUMPRODUCT($W40:CZ40,$W41:CZ41)))","v":0},{"$f":"IF(DA$4=\"\",0,IF(DA$8>$P40,0,SUMPRODUCT($W40:DA40,$W41:DA41)))","v":0},{"$f":"IF(DB$4=\"\",0,IF(DB$8>$P40,0,SUMPRODUCT($W40:DB40,$W41:DB41)))","v":0},{"$f":"IF(DC$4=\"\",0,IF(DC$8>$P40,0,SUMPRODUCT($W40:DC40,$W41:DC41)))","v":0},{"$f":"IF(DD$4=\"\",0,IF(DD$8>$P40,0,SUMPRODUCT($W40:DD40,$W41:DD41)))","v":0},{"$f":"IF(DE$4=\"\",0,IF(DE$8>$P40,0,SUMPRODUCT($W40:DE40,$W41:DE41)))","v":0},{"$f":"IF(DF$4=\"\",0,IF(DF$8>$P40,0,SUMPRODUCT($W40:DF40,$W41:DF41)))","v":0},{"$f":"IF(DG$4=\"\",0,IF(DG$8>$P40,0,SUMPRODUCT($W40:DG40,$W41:DG41)))","v":0},{"$f":"IF(DH$4=\"\",0,IF(DH$8>$P40,0,SUMPRODUCT($W40:DH40,$W41:DH41)))","v":0},{"$f":"IF(DI$4=\"\",0,IF(DI$8>$P40,0,SUMPRODUCT($W40:DI40,$W41:DI41)))","v":0},{"$f":"IF(DJ$4=\"\",0,IF(DJ$8>$P40,0,SUMPRODUCT($W40:DJ40,$W41:DJ41)))","v":0},{"$f":"IF(DK$4=\"\",0,IF(DK$8>$P40,0,SUMPRODUCT($W40:DK40,$W41:DK41)))","v":0},{"$f":"IF(DL$4=\"\",0,IF(DL$8>$P40,0,SUMPRODUCT($W40:DL40,$W41:DL41)))","v":0},{"$f":"IF(DM$4=\"\",0,IF(DM$8>$P40,0,SUMPRODUCT($W40:DM40,$W41:DM41)))","v":0},{"$f":"IF(DN$4=\"\",0,IF(DN$8>$P40,0,SUMPRODUCT($W40:DN40,$W41:DN41)))","v":0},{"$f":"IF(DO$4=\"\",0,IF(DO$8>$P40,0,SUMPRODUCT($W40:DO40,$W41:DO41)))","v":0},{"$f":"IF(DP$4=\"\",0,IF(DP$8>$P40,0,SUMPRODUCT($W40:DP40,$W41:DP41)))","v":0},{"$f":"IF(DQ$4=\"\",0,IF(DQ$8>$P40,0,SUMPRODUCT($W40:DQ40,$W41:DQ41)))","v":0},{"$f":"IF(DR$4=\"\",0,IF(DR$8>$P40,0,SUMPRODUCT($W40:DR40,$W41:DR41)))","v":0},{"$f":"IF(DS$4=\"\",0,IF(DS$8>$P40,0,SUMPRODUCT($W40:DS40,$W41:DS41)))","v":0},{"$f":"IF(DT$4=\"\",0,IF(DT$8>$P40,0,SUMPRODUCT($W40:DT40,$W41:DT41)))","v":0},{"$f":"IF(DU$4=\"\",0,IF(DU$8>$P40,0,SUMPRODUCT($W40:DU40,$W41:DU41)))","v":0},{"$f":"IF(DV$4=\"\",0,IF(DV$8>$P40,0,SUMPRODUCT($W40:DV40,$W41:DV41)))","v":0},{"$f":"IF(DW$4=\"\",0,IF(DW$8>$P40,0,SUMPRODUCT($W40:DW40,$W41:DW41)))","v":0},{"$f":"IF(DX$4=\"\",0,IF(DX$8>$P40,0,SUMPRODUCT($W40:DX40,$W41:DX41)))","v":0},{"$f":"IF(DY$4=\"\",0,IF(DY$8>$P40,0,SUMPRODUCT($W40:DY40,$W41:DY41)))","v":0},{"$f":"IF(DZ$4=\"\",0,IF(DZ$8>$P40,0,SUMPRODUCT($W40:DZ40,$W41:DZ41)))","v":0},{"$f":"IF(EA$4=\"\",0,IF(EA$8>$P40,0,SUMPRODUCT($W40:EA40,$W41:EA41)))","v":0},{"$f":"IF(EB$4=\"\",0,IF(EB$8>$P40,0,SUMPRODUCT($W40:EB40,$W41:EB41)))","v":0},{"$f":"IF(EC$4=\"\",0,IF(EC$8>$P40,0,SUMPRODUCT($W40:EC40,$W41:EC41)))","v":0},{"$f":"IF(ED$4=\"\",0,IF(ED$8>$P40,0,SUMPRODUCT($W40:ED40,$W41:ED41)))","v":0},{"$f":"IF(EE$4=\"\",0,IF(EE$8>$P40,0,SUMPRODUCT($W40:EE40,$W41:EE41)))","v":0},{"$f":"IF(EF$4=\"\",0,IF(EF$8>$P40,0,SUMPRODUCT($W40:EF40,$W41:EF41)))","v":0},{"$f":"IF(EG$4=\"\",0,IF(EG$8>$P40,0,SUMPRODUCT($W40:EG40,$W41:EG41)))","v":0},{"$f":"IF(EH$4=\"\",0,IF(EH$8>$P40,0,SUMPRODUCT($W40:EH40,$W41:EH41)))","v":0},{"$f":"IF(EI$4=\"\",0,IF(EI$8>$P40,0,SUMPRODUCT($W40:EI40,$W41:EI41)))","v":0},{"$f":"IF(EJ$4=\"\",0,IF(EJ$8>$P40,0,SUMPRODUCT($W40:EJ40,$W41:EJ41)))","v":0},{"$f":"IF(EK$4=\"\",0,IF(EK$8>$P40,0,SUMPRODUCT($W40:EK40,$W41:EK41)))","v":0},{"$f":"IF(EL$4=\"\",0,IF(EL$8>$P40,0,SUMPRODUCT($W40:EL40,$W41:EL41)))","v":0},{"$f":"IF(EM$4=\"\",0,IF(EM$8>$P40,0,SUMPRODUCT($W40:EM40,$W41:EM41)))","v":0},{"$f":"IF(EN$4=\"\",0,IF(EN$8>$P40,0,SUMPRODUCT($W40:EN40,$W41:EN41)))","v":0},{"$f":"IF(EO$4=\"\",0,IF(EO$8>$P40,0,SUMPRODUCT($W40:EO40,$W41:EO41)))","v":0},{"$f":"IF(EP$4=\"\",0,IF(EP$8>$P40,0,SUMPRODUCT($W40:EP40,$W41:EP41)))","v":0},{"$f":"IF(EQ$4=\"\",0,IF(EQ$8>$P40,0,SUMPRODUCT($W40:EQ40,$W41:EQ41)))","v":0},{"$f":"IF(ER$4=\"\",0,IF(ER$8>$P40,0,SUMPRODUCT($W40:ER40,$W41:ER41)))","v":0},{"$f":"IF(ES$4=\"\",0,IF(ES$8>$P40,0,SUMPRODUCT($W40:ES40,$W41:ES41)))","v":0},{"$f":"IF(ET$4=\"\",0,IF(ET$8>$P40,0,SUMPRODUCT($W40:ET40,$W41:ET41)))","v":0},{"$f":"IF(EU$4=\"\",0,IF(EU$8>$P40,0,SUMPRODUCT($W40:EU40,$W41:EU41)))","v":0},{"$f":"IF(EV$4=\"\",0,IF(EV$8>$P40,0,SUMPRODUCT($W40:EV40,$W41:EV41)))","v":0},{"$f":"IF(EW$4=\"\",0,IF(EW$8>$P40,0,SUMPRODUCT($W40:EW40,$W41:EW41)))","v":0},{"$f":"IF(EX$4=\"\",0,IF(EX$8>$P40,0,SUMPRODUCT($W40:EX40,$W41:EX41)))","v":0},{"$f":"IF(EY$4=\"\",0,IF(EY$8>$P40,0,SUMPRODUCT($W40:EY40,$W41:EY41)))","v":0},{"$f":"IF(EZ$4=\"\",0,IF(EZ$8>$P40,0,SUMPRODUCT($W40:EZ40,$W41:EZ41)))","v":0},{"$f":"IF(FA$4=\"\",0,IF(FA$8>$P40,0,SUMPRODUCT($W40:FA40,$W41:FA41)))","v":0},{"$f":"IF(FB$4=\"\",0,IF(FB$8>$P40,0,SUMPRODUCT($W40:FB40,$W41:FB41)))","v":0},{"$f":"IF(FC$4=\"\",0,IF(FC$8>$P40,0,SUMPRODUCT($W40:FC40,$W41:FC41)))","v":0},{"$f":"IF(FD$4=\"\",0,IF(FD$8>$P40,0,SUMPRODUCT($W40:FD40,$W41:FD41)))","v":0},{"$f":"IF(FE$4=\"\",0,IF(FE$8>$P40,0,SUMPRODUCT($W40:FE40,$W41:FE41)))","v":0},{"$f":"IF(FF$4=\"\",0,IF(FF$8>$P40,0,SUMPRODUCT($W40:FF40,$W41:FF41)))","v":0},{"$f":"IF(FG$4=\"\",0,IF(FG$8>$P40,0,SUMPRODUCT($W40:FG40,$W41:FG41)))","v":0},{"$f":"IF(FH$4=\"\",0,IF(FH$8>$P40,0,SUMPRODUCT($W40:FH40,$W41:FH41)))","v":0},{"$f":"IF(FI$4=\"\",0,IF(FI$8>$P40,0,SUMPRODUCT($W40:FI40,$W41:FI41)))","v":0},{"$f":"IF(FJ$4=\"\",0,IF(FJ$8>$P40,0,SUMPRODUCT($W40:FJ40,$W41:FJ41)))","v":0},{"$f":"IF(FK$4=\"\",0,IF(FK$8>$P40,0,SUMPRODUCT($W40:FK40,$W41:FK41)))","v":0},{"$f":"IF(FL$4=\"\",0,IF(FL$8>$P40,0,SUMPRODUCT($W40:FL40,$W41:FL41)))","v":0},{"$f":"IF(FM$4=\"\",0,IF(FM$8>$P40,0,SUMPRODUCT($W40:FM40,$W41:FM41)))","v":0},{"$f":"IF(FN$4=\"\",0,IF(FN$8>$P40,0,SUMPRODUCT($W40:FN40,$W41:FN41)))","v":0},{"$f":"IF(FO$4=\"\",0,IF(FO$8>$P40,0,SUMPRODUCT($W40:FO40,$W41:FO41)))","v":0},{"$f":"IF(FP$4=\"\",0,IF(FP$8>$P40,0,SUMPRODUCT($W40:FP40,$W41:FP41)))","v":0},{"$f":"IF(FQ$4=\"\",0,IF(FQ$8>$P40,0,SUMPRODUCT($W40:FQ40,$W41:FQ41)))","v":0},{"$f":"IF(FR$4=\"\",0,IF(FR$8>$P40,0,SUMPRODUCT($W40:FR40,$W41:FR41)))","v":0},{"$f":"IF(FS$4=\"\",0,IF(FS$8>$P40,0,SUMPRODUCT($W40:FS40,$W41:FS41)))","v":0},{"$f":"IF(FT$4=\"\",0,IF(FT$8>$P40,0,SUMPRODUCT($W40:FT40,$W41:FT41)))","v":0},{"$f":"IF(FU$4=\"\",0,IF(FU$8>$P40,0,SUMPRODUCT($W40:FU40,$W41:FU41)))","v":0},{"$f":"IF(FV$4=\"\",0,IF(FV$8>$P40,0,SUMPRODUCT($W40:FV40,$W41:FV41)))","v":0},{"$f":"IF(FW$4=\"\",0,IF(FW$8>$P40,0,SUMPRODUCT($W40:FW40,$W41:FW41)))","v":0},{"$f":"IF(FX$4=\"\",0,IF(FX$8>$P40,0,SUMPRODUCT($W40:FX40,$W41:FX41)))","v":0},{"$f":"IF(FY$4=\"\",0,IF(FY$8>$P40,0,SUMPRODUCT($W40:FY40,$W41:FY41)))","v":0},{"$f":"IF(FZ$4=\"\",0,IF(FZ$8>$P40,0,SUMPRODUCT($W40:FZ40,$W41:FZ41)))","v":0},{"$f":"IF(GA$4=\"\",0,IF(GA$8>$P40,0,SUMPRODUCT($W40:GA40,$W41:GA41)))","v":0},{"$f":"IF(GB$4=\"\",0,IF(GB$8>$P40,0,SUMPRODUCT($W40:GB40,$W41:GB41)))","v":0},{"$f":"IF(GC$4=\"\",0,IF(GC$8>$P40,0,SUMPRODUCT($W40:GC40,$W41:GC41)))","v":0},{"$f":"IF(GD$4=\"\",0,IF(GD$8>$P40,0,SUMPRODUCT($W40:GD40,$W41:GD41)))","v":0},{"$f":"IF(GE$4=\"\",0,IF(GE$8>$P40,0,SUMPRODUCT($W40:GE40,$W41:GE41)))","v":0},{"$f":"IF(GF$4=\"\",0,IF(GF$8>$P40,0,SUMPRODUCT($W40:GF40,$W41:GF41)))","v":0},{"$f":"IF(GG$4=\"\",0,IF(GG$8>$P40,0,SUMPRODUCT($W40:GG40,$W41:GG41)))","v":0},{"$f":"IF(GH$4=\"\",0,IF(GH$8>$P40,0,SUMPRODUCT($W40:GH40,$W41:GH41)))","v":0},{"$f":"IF(GI$4=\"\",0,IF(GI$8>$P40,0,SUMPRODUCT($W40:GI40,$W41:GI41)))","v":0},{"$f":"IF(GJ$4=\"\",0,IF(GJ$8>$P40,0,SUMPRODUCT($W40:GJ40,$W41:GJ41)))","v":0},{"$f":"IF(GK$4=\"\",0,IF(GK$8>$P40,0,SUMPRODUCT($W40:GK40,$W41:GK41)))","v":0},{"$f":"IF(GL$4=\"\",0,IF(GL$8>$P40,0,SUMPRODUCT($W40:GL40,$W41:GL41)))","v":0},{"$f":"IF(GM$4=\"\",0,IF(GM$8>$P40,0,SUMPRODUCT($W40:GM40,$W41:GM41)))","v":0},{"$f":"IF(GN$4=\"\",0,IF(GN$8>$P40,0,SUMPRODUCT($W40:GN40,$W41:GN41)))","v":0},{"$f":"IF(GO$4=\"\",0,IF(GO$8>$P40,0,SUMPRODUCT($W40:GO40,$W41:GO41)))","v":0},{"$f":"IF(GP$4=\"\",0,IF(GP$8>$P40,0,SUMPRODUCT($W40:GP40,$W41:GP41)))","v":0},{"$f":"IF(GQ$4=\"\",0,IF(GQ$8>$P40,0,SUMPRODUCT($W40:GQ40,$W41:GQ41)))","v":0},{"$f":"IF(GR$4=\"\",0,IF(GR$8>$P40,0,SUMPRODUCT($W40:GR40,$W41:GR41)))","v":0},{"$f":"IF(GS$4=\"\",0,IF(GS$8>$P40,0,SUMPRODUCT($W40:GS40,$W41:GS41)))","v":0},{"$f":"IF(GT$4=\"\",0,IF(GT$8>$P40,0,SUMPRODUCT($W40:GT40,$W41:GT41)))","v":0},{"$f":"IF(GU$4=\"\",0,IF(GU$8>$P40,0,SUMPRODUCT($W40:GU40,$W41:GU41)))","v":0},{"$f":"IF(GV$4=\"\",0,IF(GV$8>$P40,0,SUMPRODUCT($W40:GV40,$W41:GV41)))","v":0}]
[null,{"$f":"ROW()","v":37},null,null,null,null,null,"Ежемесячные платежи по лизингу",null,null,null,null,"руб.",null,null,"CF(-)",null,null,null,null,{"$f":"SUM(INDIRECT(ADDRESS($B37,X$2)&\":\"&ADDRESS($B37,MAX($2:$2))))","v":0},null,null,{"$f":"IF(X$4=\"\",0,X38+X39)","v":0},0,0,0,0,0,0,0,0,0,0,0,0,0,0,0,0,0,0,0,0,0,0,0,0,0,0,0,0,0,0,0,0,0,0,0,0,0,0,0,0,0,0,0,0,0,0,0,0,0,0,0,0,0,0,0,0,0,0,0,0,0,0,0,{"$f":"IF(CJ$4=\"\",0,CJ38+CJ39)","v":0},0,0,0,0,0,0,0,0,0,0,0,0,0,0,0,0,0,0,0,0,0,0,0,0,0,0,0,0,0,0,0,0,0,0,0,0,0,0,0,0,0,0,0,0,0,0,0,0,0,0,0,0,0,0,0,0,0,0,0,0,0,0,0,{"$f":"IF(EV$4=\"\",0,EV38+EV39)","v":0},0,0,0,0,0,0,0,0,0,0,0,0,0,0,0,0,0,0,0,0,0,0,0,0,0,0,0,0,0,0,0,0,0,0,0,0,0,0,0,0,0,0,0,0,0,0,0,0,0,0,0,{"$f":"IF(GV$4=\"\",0,GV38+GV39)","v":0}]
[null,{"$f":"ROW()","v":38},null,null,null,null,null,{"$f":"H37","v":"Ежемесячные платежи по лизингу"},"Возврат тела кредита",null,null,null,"руб.",null,null,null,null,null,null,null,{"$f":"SUM(INDIRECT(ADDRESS($B38,X$2)&\":\"&ADDRESS($B38,MAX($2:$2))))","v":0},null,null,{"$f":"IF(X$4=\"\",0,IF(X$8<=IF($P43>=$P40,0,$P43),0,IF(X$8=$P40,SUM($W35:X35)*$P42,0)+IF(X$8>$P40,0,X36-X39+SUM($W35:X35)*$P42*$P41/12)))","v":0},{"$f":"IF(Y$4=\"\",0,IF(Y$8<=IF($P43>=$P40,0,$P43),0,IF(Y$8=$P40,SUM($W35:Y35)*$P42,0)+IF(Y$8>$P40,0,Y36-Y39+SUM($W35:Y35)*$P42*$P41/12)))","v":0},{"$f":"IF(Z$4=\"\",0,IF(Z$8<=IF($P43>=$P40,0,$P43),0,IF(Z$8=$P40,SUM($W35:Z35)*$P42,0)+IF(Z$8>$P40,0,Z36-Z39+SUM($W35:Z35)*$P42*$P41/12)))","v":0},{"$f":"IF(AA$4=\"\",0,IF(AA$8<=IF($P43>=$P40,0,$P43),0,IF(AA$8=$P40,SUM($W35:AA35)*$P42,0)+IF(AA$8>$P40,0,AA36-AA39+SUM($W35:AA35)*$P42*$P41/12)))","v":0},{"$f":"IF(AB$4=\"\",0,IF(AB$8<=IF($P43>=$P40,0,$P43),0,IF(AB$8=$P40,SUM($W35:AB35)*$P42,0)+IF(AB$8>$P40,0,AB36-AB39+SUM($W35:AB35)*$P42*$P41/12)))","v":0},{"$f":"IF(AC$4=\"\",0,IF(AC$8<=IF($P43>=$P40,0,$P43),0,IF(AC$8=$P40,SUM($W35:AC35)*$P42,0)+IF(AC$8>$P40,0,AC36-AC39+SUM($W35:AC35)*$P42*$P41/12)))","v":0},{"$f":"IF(AD$4=\"\",0,IF(AD$8<=IF($P43>=$P40,0,$P43),0,IF(AD$8=$P40,SUM($W35:AD35)*$P42,0)+IF(AD$8>$P40,0,AD36-AD39+SUM($W35:AD35)*$P42*$P41/12)))","v":0},{"$f":"IF(AE$4=\"\",0,IF(AE$8<=IF($P43>=$P40,0,$P43),0,IF(AE$8=$P40,SUM($W35:AE35)*$P42,0)+IF(AE$8>$P40,0,AE36-AE39+SUM($W35:AE35)*$P42*$P41/12)))","v":0},{"$f":"IF(AF$4=\"\",0,IF(AF$8<=IF($P43>=$P40,0,$P43),0,IF(AF$8=$P40,SUM($W35:AF35)*$P42,0)+IF(AF$8>$P40,0,AF36-AF39+SUM($W35:AF35)*$P42*$P41/12)))","v":0},{"$f":"IF(AG$4=\"\",0,IF(AG$8<=IF($P43>=$P40,0,$P43),0,IF(AG$8=$P40,SUM($W35:AG35)*$P42,0)+IF(AG$8>$P40,0,AG36-AG39+SUM($W35:AG35)*$P42*$P41/12)))","v":0},{"$f":"IF(AH$4=\"\",0,IF(AH$8<=IF($P43>=$P40,0,$P43),0,IF(AH$8=$P40,SUM($W35:AH35)*$P42,0)+IF(AH$8>$P40,0,AH36-AH39+SUM($W35:AH35)*$P42*$P41/12)))","v":0},{"$f":"IF(AI$4=\"\",0,IF(AI$8<=IF($P43>=$P40,0,$P43),0,IF(AI$8=$P40,SUM($W35:AI35)*$P42,0)+IF(AI$8>$P40,0,AI36-AI39+SUM($W35:AI35)*$P42*$P41/12)))","v":0},{"$f":"IF(AJ$4=\"\",0,IF(AJ$8<=IF($P43>=$P40,0,$P43),0,IF(AJ$8=$P40,SUM($W35:AJ35)*$P42,0)+IF(AJ$8>$P40,0,AJ36-AJ39+SUM($W35:AJ35)*$P42*$P41/12)))","v":0},{"$f":"IF(AK$4=\"\",0,IF(AK$8<=IF($P43>=$P40,0,$P43),0,IF(AK$8=$P40,SUM($W35:AK35)*$P42,0)+IF(AK$8>$P40,0,AK36-AK39+SUM($W35:AK35)*$P42*$P41/12)))","v":0},{"$f":"IF(AL$4=\"\",0,IF(AL$8<=IF($P43>=$P40,0,$P43),0,IF(AL$8=$P40,SUM($W35:AL35)*$P42,0)+IF(AL$8>$P40,0,AL36-AL39+SUM($W35:AL35)*$P42*$P41/12)))","v":0},{"$f":"IF(AM$4=\"\",0,IF(AM$8<=IF($P43>=$P40,0,$P43),0,IF(AM$8=$P40,SUM($W35:AM35)*$P42,0)+IF(AM$8>$P40,0,AM36-AM39+SUM($W35:AM35)*$P42*$P41/12)))","v":0},{"$f":"IF(AN$4=\"\",0,IF(AN$8<=IF($P43>=$P40,0,$P43),0,IF(AN$8=$P40,SUM($W35:AN35)*$P42,0)+IF(AN$8>$P40,0,AN36-AN39+SUM($W35:AN35)*$P42*$P41/12)))","v":0},{"$f":"IF(AO$4=\"\",0,IF(AO$8<=IF($P43>=$P40,0,$P43),0,IF(AO$8=$P40,SUM($W35:AO35)*$P42,0)+IF(AO$8>$P40,0,AO36-AO39+SUM($W35:AO35)*$P42*$P41/12)))","v":0},{"$f":"IF(AP$4=\"\",0,IF(AP$8<=IF($P43>=$P40,0,$P43),0,IF(AP$8=$P40,SUM($W35:AP35)*$P42,0)+IF(AP$8>$P40,0,AP36-AP39+SUM($W35:AP35)*$P42*$P41/12)))","v":0},{"$f":"IF(AQ$4=\"\",0,IF(AQ$8<=IF($P43>=$P40,0,$P43),0,IF(AQ$8=$P40,SUM($W35:AQ35)*$P42,0)+IF(AQ$8>$P40,0,AQ36-AQ39+SUM($W35:AQ35)*$P42*$P41/12)))","v":0},{"$f":"IF(AR$4=\"\",0,IF(AR$8<=IF($P43>=$P40,0,$P43),0,IF(AR$8=$P40,SUM($W35:AR35)*$P42,0)+IF(AR$8>$P40,0,AR36-AR39+SUM($W35:AR35)*$P42*$P41/12)))","v":0},{"$f":"IF(AS$4=\"\",0,IF(AS$8<=IF($P43>=$P40,0,$P43),0,IF(AS$8=$P40,SUM($W35:AS35)*$P42,0)+IF(AS$8>$P40,0,AS36-AS39+SUM($W35:AS35)*$P42*$P41/12)))","v":0},{"$f":"IF(AT$4=\"\",0,IF(AT$8<=IF($P43>=$P40,0,$P43),0,IF(AT$8=$P40,SUM($W35:AT35)*$P42,0)+IF(AT$8>$P40,0,AT36-AT39+SUM($W35:AT35)*$P42*$P41/12)))","v":0},{"$f":"IF(AU$4=\"\",0,IF(AU$8<=IF($P43>=$P40,0,$P43),0,IF(AU$8=$P40,SUM($W35:AU35)*$P42,0)+IF(AU$8>$P40,0,AU36-AU39+SUM($W35:AU35)*$P42*$P41/12)))","v":0},{"$f":"IF(AV$4=\"\",0,IF(AV$8<=IF($P43>=$P40,0,$P43),0,IF(AV$8=$P40,SUM($W35:AV35)*$P42,0)+IF(AV$8>$P40,0,AV36-AV39+SUM($W35:AV35)*$P42*$P41/12)))","v":0},{"$f":"IF(AW$4=\"\",0,IF(AW$8<=IF($P43>=$P40,0,$P43),0,IF(AW$8=$P40,SUM($W35:AW35)*$P42,0)+IF(AW$8>$P40,0,AW36-AW39+SUM($W35:AW35)*$P42*$P41/12)))","v":0},{"$f":"IF(AX$4=\"\",0,IF(AX$8<=IF($P43>=$P40,0,$P43),0,IF(AX$8=$P40,SUM($W35:AX35)*$P42,0)+IF(AX$8>$P40,0,AX36-AX39+SUM($W35:AX35)*$P42*$P41/12)))","v":0},{"$f":"IF(AY$4=\"\",0,IF(AY$8<=IF($P43>=$P40,0,$P43),0,IF(AY$8=$P40,SUM($W35:AY35)*$P42,0)+IF(AY$8>$P40,0,AY36-AY39+SUM($W35:AY35)*$P42*$P41/12)))","v":0},{"$f":"IF(AZ$4=\"\",0,IF(AZ$8<=IF($P43>=$P40,0,$P43),0,IF(AZ$8=$P40,SUM($W35:AZ35)*$P42,0)+IF(AZ$8>$P40,0,AZ36-AZ39+SUM($W35:AZ35)*$P42*$P41/12)))","v":0},{"$f":"IF(BA$4=\"\",0,IF(BA$8<=IF($P43>=$P40,0,$P43),0,IF(BA$8=$P40,SUM($W35:BA35)*$P42,0)+IF(BA$8>$P40,0,BA36-BA39+SUM($W35:BA35)*$P42*$P41/12)))","v":0},{"$f":"IF(BB$4=\"\",0,IF(BB$8<=IF($P43>=$P40,0,$P43),0,IF(BB$8=$P40,SUM($W35:BB35)*$P42,0)+IF(BB$8>$P40,0,BB36-BB39+SUM($W35:BB35)*$P42*$P41/12)))","v":0},{"$f":"IF(BC$4=\"\",0,IF(BC$8<=IF($P43>=$P40,0,$P43),0,IF(BC$8=$P40,SUM($W35:BC35)*$P42,0)+IF(BC$8>$P40,0,BC36-BC39+SUM($W35:BC35)*$P42*$P41/12)))","v":0},{"$f":"IF(BD$4=\"\",0,IF(BD$8<=IF($P43>=$P40,0,$P43),0,IF(BD$8=$P40,SUM($W35:BD35)*$P42,0)+IF(BD$8>$P40,0,BD36-BD39+SUM($W35:BD35)*$P42*$P41/12)))","v":0},{"$f":"IF(BE$4=\"\",0,IF(BE$8<=IF($P43>=$P40,0,$P43),0,IF(BE$8=$P40,SUM($W35:BE35)*$P42,0)+IF(BE$8>$P40,0,BE36-BE39+SUM($W35:BE35)*$P42*$P41/12)))","v":0},{"$f":"IF(BF$4=\"\",0,IF(BF$8<=IF($P43>=$P40,0,$P43),0,IF(BF$8=$P40,SUM($W35:BF35)*$P42,0)+IF(BF$8>$P40,0,BF36-BF39+SUM($W35:BF35)*$P42*$P41/12)))","v":0},{"$f":"IF(BG$4=\"\",0,IF(BG$8<=IF($P43>=$P40,0,$P43),0,IF(BG$8=$P40,SUM($W35:BG35)*$P42,0)+IF(BG$8>$P40,0,BG36-BG39+SUM($W35:BG35)*$P42*$P41/12)))","v":0},{"$f":"IF(BH$4=\"\",0,IF(BH$8<=IF($P43>=$P40,0,$P43),0,IF(BH$8=$P40,SUM($W35:BH35)*$P42,0)+IF(BH$8>$P40,0,BH36-BH39+SUM($W35:BH35)*$P42*$P41/12)))","v":0},{"$f":"IF(BI$4=\"\",0,IF(BI$8<=IF($P43>=$P40,0,$P43),0,IF(BI$8=$P40,SUM($W35:BI35)*$P42,0)+IF(BI$8>$P40,0,BI36-BI39+SUM($W35:BI35)*$P42*$P41/12)))","v":0},{"$f":"IF(BJ$4=\"\",0,IF(BJ$8<=IF($P43>=$P40,0,$P43),0,IF(BJ$8=$P40,SUM($W35:BJ35)*$P42,0)+IF(BJ$8>$P40,0,BJ36-BJ39+SUM($W35:BJ35)*$P42*$P41/12)))","v":0},{"$f":"IF(BK$4=\"\",0,IF(BK$8<=IF($P43>=$P40,0,$P43),0,IF(BK$8=$P40,SUM($W35:BK35)*$P42,0)+IF(BK$8>$P40,0,BK36-BK39+SUM($W35:BK35)*$P42*$P41/12)))","v":0},{"$f":"IF(BL$4=\"\",0,IF(BL$8<=IF($P43>=$P40,0,$P43),0,IF(BL$8=$P40,SUM($W35:BL35)*$P42,0)+IF(BL$8>$P40,0,BL36-BL39+SUM($W35:BL35)*$P42*$P41/12)))","v":0},{"$f":"IF(BM$4=\"\",0,IF(BM$8<=IF($P43>=$P40,0,$P43),0,IF(BM$8=$P40,SUM($W35:BM35)*$P42,0)+IF(BM$8>$P40,0,BM36-BM39+SUM($W35:BM35)*$P42*$P41/12)))","v":0},{"$f":"IF(BN$4=\"\",0,IF(BN$8<=IF($P43>=$P40,0,$P43),0,IF(BN$8=$P40,SUM($W35:BN35)*$P42,0)+IF(BN$8>$P40,0,BN36-BN39+SUM($W35:BN35)*$P42*$P41/12)))","v":0},{"$f":"IF(BO$4=\"\",0,IF(BO$8<=IF($P43>=$P40,0,$P43),0,IF(BO$8=$P40,SUM($W35:BO35)*$P42,0)+IF(BO$8>$P40,0,BO36-BO39+SUM($W35:BO35)*$P42*$P41/12)))","v":0},{"$f":"IF(BP$4=\"\",0,IF(BP$8<=IF($P43>=$P40,0,$P43),0,IF(BP$8=$P40,SUM($W35:BP35)*$P42,0)+IF(BP$8>$P40,0,BP36-BP39+SUM($W35:BP35)*$P42*$P41/12)))","v":0},{"$f":"IF(BQ$4=\"\",0,IF(BQ$8<=IF($P43>=$P40,0,$P43),0,IF(BQ$8=$P40,SUM($W35:BQ35)*$P42,0)+IF(BQ$8>$P40,0,BQ36-BQ39+SUM($W35:BQ35)*$P42*$P41/12)))","v":0},{"$f":"IF(BR$4=\"\",0,IF(BR$8<=IF($P43>=$P40,0,$P43),0,IF(BR$8=$P40,SUM($W35:BR35)*$P42,0)+IF(BR$8>$P40,0,BR36-BR39+SUM($W35:BR35)*$P42*$P41/12)))","v":0},{"$f":"IF(BS$4=\"\",0,IF(BS$8<=IF($P43>=$P40,0,$P43),0,IF(BS$8=$P40,SUM($W35:BS35)*$P42,0)+IF(BS$8>$P40,0,BS36-BS39+SUM($W35:BS35)*$P42*$P41/12)))","v":0},{"$f":"IF(BT$4=\"\",0,IF(BT$8<=IF($P43>=$P40,0,$P43),0,IF(BT$8=$P40,SUM($W35:BT35)*$P42,0)+IF(BT$8>$P40,0,BT36-BT39+SUM($W35:BT35)*$P42*$P41/12)))","v":0},{"$f":"IF(BU$4=\"\",0,IF(BU$8<=IF($P43>=$P40,0,$P43),0,IF(BU$8=$P40,SUM($W35:BU35)*$P42,0)+IF(BU$8>$P40,0,BU36-BU39+SUM($W35:BU35)*$P42*$P41/12)))","v":0},{"$f":"IF(BV$4=\"\",0,IF(BV$8<=IF($P43>=$P40,0,$P43),0,IF(BV$8=$P40,SUM($W35:BV35)*$P42,0)+IF(BV$8>$P40,0,BV36-BV39+SUM($W35:BV35)*$P42*$P41/12)))","v":0},{"$f":"IF(BW$4=\"\",0,IF(BW$8<=IF($P43>=$P40,0,$P43),0,IF(BW$8=$P40,SUM($W35:BW35)*$P42,0)+IF(BW$8>$P40,0,BW36-BW39+SUM($W35:BW35)*$P42*$P41/12)))","v":0},{"$f":"IF(BX$4=\"\",0,IF(BX$8<=IF($P43>=$P40,0,$P43),0,IF(BX$8=$P40,SUM($W35:BX35)*$P42,0)+IF(BX$8>$P40,0,BX36-BX39+SUM($W35:BX35)*$P42*$P41/12)))","v":0},{"$f":"IF(BY$4=\"\",0,IF(BY$8<=IF($P43>=$P40,0,$P43),0,IF(BY$8=$P40,SUM($W35:BY35)*$P42,0)+IF(BY$8>$P40,0,BY36-BY39+SUM($W35:BY35)*$P42*$P41/12)))","v":0},{"$f":"IF(BZ$4=\"\",0,IF(BZ$8<=IF($P43>=$P40,0,$P43),0,IF(BZ$8=$P40,SUM($W35:BZ35)*$P42,0)+IF(BZ$8>$P40,0,BZ36-BZ39+SUM($W35:BZ35)*$P42*$P41/12)))","v":0},{"$f":"IF(CA$4=\"\",0,IF(CA$8<=IF($P43>=$P40,0,$P43),0,IF(CA$8=$P40,SUM($W35:CA35)*$P42,0)+IF(CA$8>$P40,0,CA36-CA39+SUM($W35:CA35)*$P42*$P41/12)))","v":0},{"$f":"IF(CB$4=\"\",0,IF(CB$8<=IF($P43>=$P40,0,$P43),0,IF(CB$8=$P40,SUM($W35:CB35)*$P42,0)+IF(CB$8>$P40,0,CB36-CB39+SUM($W35:CB35)*$P42*$P41/12)))","v":0},{"$f":"IF(CC$4=\"\",0,IF(CC$8<=IF($P43>=$P40,0,$P43),0,IF(CC$8=$P40,SUM($W35:CC35)*$P42,0)+IF(CC$8>$P40,0,CC36-CC39+SUM($W35:CC35)*$P42*$P41/12)))","v":0},{"$f":"IF(CD$4=\"\",0,IF(CD$8<=IF($P43>=$P40,0,$P43),0,IF(CD$8=$P40,SUM($W35:CD35)*$P42,0)+IF(CD$8>$P40,0,CD36-CD39+SUM($W35:CD35)*$P42*$P41/12)))","v":0},{"$f":"IF(CE$4=\"\",0,IF(CE$8<=IF($P43>=$P40,0,$P43),0,IF(CE$8=$P40,SUM($W35:CE35)*$P42,0)+IF(CE$8>$P40,0,CE36-CE39+SUM($W35:CE35)*$P42*$P41/12)))","v":0},{"$f":"IF(CF$4=\"\",0,IF(CF$8<=IF($P43>=$P40,0,$P43),0,IF(CF$8=$P40,SUM($W35:CF35)*$P42,0)+IF(CF$8>$P40,0,CF36-CF39+SUM($W35:CF35)*$P42*$P41/12)))","v":0},{"$f":"IF(CG$4=\"\",0,IF(CG$8<=IF($P43>=$P40,0,$P43),0,IF(CG$8=$P40,SUM($W35:CG35)*$P42,0)+IF(CG$8>$P40,0,CG36-CG39+SUM($W35:CG35)*$P42*$P41/12)))","v":0},{"$f":"IF(CH$4=\"\",0,IF(CH$8<=IF($P43>=$P40,0,$P43),0,IF(CH$8=$P40,SUM($W35:CH35)*$P42,0)+IF(CH$8>$P40,0,CH36-CH39+SUM($W35:CH35)*$P42*$P41/12)))","v":0},{"$f":"IF(CI$4=\"\",0,IF(CI$8<=IF($P43>=$P40,0,$P43),0,IF(CI$8=$P40,SUM($W35:CI35)*$P42,0)+IF(CI$8>$P40,0,CI36-CI39+SUM($W35:CI35)*$P42*$P41/12)))","v":0},{"$f":"IF(CJ$4=\"\",0,IF(CJ$8<=IF($P43>=$P40,0,$P43),0,IF(CJ$8=$P40,SUM($W35:CJ35)*$P42,0)+IF(CJ$8>$P40,0,CJ36-CJ39+SUM($W35:CJ35)*$P42*$P41/12)))","v":0},{"$f":"IF(CK$4=\"\",0,IF(CK$8<=IF($P43>=$P40,0,$P43),0,IF(CK$8=$P40,SUM($W35:CK35)*$P42,0)+IF(CK$8>$P40,0,CK36-CK39+SUM($W35:CK35)*$P42*$P41/12)))","v":0},{"$f":"IF(CL$4=\"\",0,IF(CL$8<=IF($P43>=$P40,0,$P43),0,IF(CL$8=$P40,SUM($W35:CL35)*$P42,0)+IF(CL$8>$P40,0,CL36-CL39+SUM($W35:CL35)*$P42*$P41/12)))","v":0},{"$f":"IF(CM$4=\"\",0,IF(CM$8<=IF($P43>=$P40,0,$P43),0,IF(CM$8=$P40,SUM($W35:CM35)*$P42,0)+IF(CM$8>$P40,0,CM36-CM39+SUM($W35:CM35)*$P42*$P41/12)))","v":0},{"$f":"IF(CN$4=\"\",0,IF(CN$8<=IF($P43>=$P40,0,$P43),0,IF(CN$8=$P40,SUM($W35:CN35)*$P42,0)+IF(CN$8>$P40,0,CN36-CN39+SUM($W35:CN35)*$P42*$P41/12)))","v":0},{"$f":"IF(CO$4=\"\",0,IF(CO$8<=IF($P43>=$P40,0,$P43),0,IF(CO$8=$P40,SUM($W35:CO35)*$P42,0)+IF(CO$8>$P40,0,CO36-CO39+SUM($W35:CO35)*$P42*$P41/12)))","v":0},{"$f":"IF(CP$4=\"\",0,IF(CP$8<=IF($P43>=$P40,0,$P43),0,IF(CP$8=$P40,SUM($W35:CP35)*$P42,0)+IF(CP$8>$P40,0,CP36-CP39+SUM($W35:CP35)*$P42*$P41/12)))","v":0},{"$f":"IF(CQ$4=\"\",0,IF(CQ$8<=IF($P43>=$P40,0,$P43),0,IF(CQ$8=$P40,SUM($W35:CQ35)*$P42,0)+IF(CQ$8>$P40,0,CQ36-CQ39+SUM($W35:CQ35)*$P42*$P41/12)))","v":0},{"$f":"IF(CR$4=\"\",0,IF(CR$8<=IF($P43>=$P40,0,$P43),0,IF(CR$8=$P40,SUM($W35:CR35)*$P42,0)+IF(CR$8>$P40,0,CR36-CR39+SUM($W35:CR35)*$P42*$P41/12)))","v":0},{"$f":"IF(CS$4=\"\",0,IF(CS$8<=IF($P43>=$P40,0,$P43),0,IF(CS$8=$P40,SUM($W35:CS35)*$P42,0)+IF(CS$8>$P40,0,CS36-CS39+SUM($W35:CS35)*$P42*$P41/12)))","v":0},{"$f":"IF(CT$4=\"\",0,IF(CT$8<=IF($P43>=$P40,0,$P43),0,IF(CT$8=$P40,SUM($W35:CT35)*$P42,0)+IF(CT$8>$P40,0,CT36-CT39+SUM($W35:CT35)*$P42*$P41/12)))","v":0},{"$f":"IF(CU$4=\"\",0,IF(CU$8<=IF($P43>=$P40,0,$P43),0,IF(CU$8=$P40,SUM($W35:CU35)*$P42,0)+IF(CU$8>$P40,0,CU36-CU39+SUM($W35:CU35)*$P42*$P41/12)))","v":0},{"$f":"IF(CV$4=\"\",0,IF(CV$8<=IF($P43>=$P40,0,$P43),0,IF(CV$8=$P40,SUM($W35:CV35)*$P42,0)+IF(CV$8>$P40,0,CV36-CV39+SUM($W35:CV35)*$P42*$P41/12)))","v":0},{"$f":"IF(CW$4=\"\",0,IF(CW$8<=IF($P43>=$P40,0,$P43),0,IF(CW$8=$P40,SUM($W35:CW35)*$P42,0)+IF(CW$8>$P40,0,CW36-CW39+SUM($W35:CW35)*$P42*$P41/12)))","v":0},{"$f":"IF(CX$4=\"\",0,IF(CX$8<=IF($P43>=$P40,0,$P43),0,IF(CX$8=$P40,SUM($W35:CX35)*$P42,0)+IF(CX$8>$P40,0,CX36-CX39+SUM($W35:CX35)*$P42*$P41/12)))","v":0},{"$f":"IF(CY$4=\"\",0,IF(CY$8<=IF($P43>=$P40,0,$P43),0,IF(CY$8=$P40,SUM($W35:CY35)*$P42,0)+IF(CY$8>$P40,0,CY36-CY39+SUM($W35:CY35)*$P42*$P41/12)))","v":0},{"$f":"IF(CZ$4=\"\",0,IF(CZ$8<=IF($P43>=$P40,0,$P43),0,IF(CZ$8=$P40,SUM($W35:CZ35)*$P42,0)+IF(CZ$8>$P40,0,CZ36-CZ39+SUM($W35:CZ35)*$P42*$P41/12)))","v":0},{"$f":"IF(DA$4=\"\",0,IF(DA$8<=IF($P43>=$P40,0,$P43),0,IF(DA$8=$P40,SUM($W35:DA35)*$P42,0)+IF(DA$8>$P40,0,DA36-DA39+SUM($W35:DA35)*$P42*$P41/12)))","v":0},{"$f":"IF(DB$4=\"\",0,IF(DB$8<=IF($P43>=$P40,0,$P43),0,IF(DB$8=$P40,SUM($W35:DB35)*$P42,0)+IF(DB$8>$P40,0,DB36-DB39+SUM($W35:DB35)*$P42*$P41/12)))","v":0},{"$f":"IF(DC$4=\"\",0,IF(DC$8<=IF($P43>=$P40,0,$P43),0,IF(DC$8=$P40,SUM($W35:DC35)*$P42,0)+IF(DC$8>$P40,0,DC36-DC39+SUM($W35:DC35)*$P42*$P41/12)))","v":0},{"$f":"IF(DD$4=\"\",0,IF(DD$8<=IF($P43>=$P40,0,$P43),0,IF(DD$8=$P40,SUM($W35:DD35)*$P42,0)+IF(DD$8>$P40,0,DD36-DD39+SUM($W35:DD35)*$P42*$P41/12)))","v":0},{"$f":"IF(DE$4=\"\",0,IF(DE$8<=IF($P43>=$P40,0,$P43),0,IF(DE$8=$P40,SUM($W35:DE35)*$P42,0)+IF(DE$8>$P40,0,DE36-DE39+SUM($W35:DE35)*$P42*$P41/12)))","v":0},{"$f":"IF(DF$4=\"\",0,IF(DF$8<=IF($P43>=$P40,0,$P43),0,IF(DF$8=$P40,SUM($W35:DF35)*$P42,0)+IF(DF$8>$P40,0,DF36-DF39+SUM($W35:DF35)*$P42*$P41/12)))","v":0},{"$f":"IF(DG$4=\"\",0,IF(DG$8<=IF($P43>=$P40,0,$P43),0,IF(DG$8=$P40,SUM($W35:DG35)*$P42,0)+IF(DG$8>$P40,0,DG36-DG39+SUM($W35:DG35)*$P42*$P41/12)))","v":0},{"$f":"IF(DH$4=\"\",0,IF(DH$8<=IF($P43>=$P40,0,$P43),0,IF(DH$8=$P40,SUM($W35:DH35)*$P42,0)+IF(DH$8>$P40,0,DH36-DH39+SUM($W35:DH35)*$P42*$P41/12)))","v":0},{"$f":"IF(DI$4=\"\",0,IF(DI$8<=IF($P43>=$P40,0,$P43),0,IF(DI$8=$P40,SUM($W35:DI35)*$P42,0)+IF(DI$8>$P40,0,DI36-DI39+SUM($W35:DI35)*$P42*$P41/12)))","v":0},{"$f":"IF(DJ$4=\"\",0,IF(DJ$8<=IF($P43>=$P40,0,$P43),0,IF(DJ$8=$P40,SUM($W35:DJ35)*$P42,0)+IF(DJ$8>$P40,0,DJ36-DJ39+SUM($W35:DJ35)*$P42*$P41/12)))","v":0},{"$f":"IF(DK$4=\"\",0,IF(DK$8<=IF($P43>=$P40,0,$P43),0,IF(DK$8=$P40,SUM($W35:DK35)*$P42,0)+IF(DK$8>$P40,0,DK36-DK39+SUM($W35:DK35)*$P42*$P41/12)))","v":0},{"$f":"IF(DL$4=\"\",0,IF(DL$8<=IF($P43>=$P40,0,$P43),0,IF(DL$8=$P40,SUM($W35:DL35)*$P42,0)+IF(DL$8>$P40,0,DL36-DL39+SUM($W35:DL35)*$P42*$P41/12)))","v":0},{"$f":"IF(DM$4=\"\",0,IF(DM$8<=IF($P43>=$P40,0,$P43),0,IF(DM$8=$P40,SUM($W35:DM35)*$P42,0)+IF(DM$8>$P40,0,DM36-DM39+SUM($W35:DM35)*$P42*$P41/12)))","v":0},{"$f":"IF(DN$4=\"\",0,IF(DN$8<=IF($P43>=$P40,0,$P43),0,IF(DN$8=$P40,SUM($W35:DN35)*$P42,0)+IF(DN$8>$P40,0,DN36-DN39+SUM($W35:DN35)*$P42*$P41/12)))","v":0},{"$f":"IF(DO$4=\"\",0,IF(DO$8<=IF($P43>=$P40,0,$P43),0,IF(DO$8=$P40,SUM($W35:DO35)*$P42,0)+IF(DO$8>$P40,0,DO36-DO39+SUM($W35:DO35)*$P42*$P41/12)))","v":0},{"$f":"IF(DP$4=\"\",0,IF(DP$8<=IF($P43>=$P40,0,$P43),0,IF(DP$8=$P40,SUM($W35:DP35)*$P42,0)+IF(DP$8>$P40,0,DP36-DP39+SUM($W35:DP35)*$P42*$P41/12)))","v":0},{"$f":"IF(DQ$4=\"\",0,IF(DQ$8<=IF($P43>=$P40,0,$P43),0,IF(DQ$8=$P40,SUM($W35:DQ35)*$P42,0)+IF(DQ$8>$P40,0,DQ36-DQ39+SUM($W35:DQ35)*$P42*$P41/12)))","v":0},{"$f":"IF(DR$4=\"\",0,IF(DR$8<=IF($P43>=$P40,0,$P43),0,IF(DR$8=$P40,SUM($W35:DR35)*$P42,0)+IF(DR$8>$P40,0,DR36-DR39+SUM($W35:DR35)*$P42*$P41/12)))","v":0},{"$f":"IF(DS$4=\"\",0,IF(DS$8<=IF($P43>=$P40,0,$P43),0,IF(DS$8=$P40,SUM($W35:DS35)*$P42,0)+IF(DS$8>$P40,0,DS36-DS39+SUM($W35:DS35)*$P42*$P41/12)))","v":0},{"$f":"IF(DT$4=\"\",0,IF(DT$8<=IF($P43>=$P40,0,$P43),0,IF(DT$8=$P40,SUM($W35:DT35)*$P42,0)+IF(DT$8>$P40,0,DT36-DT39+SUM($W35:DT35)*$P42*$P41/12)))","v":0},{"$f":"IF(DU$4=\"\",0,IF(DU$8<=IF($P43>=$P40,0,$P43),0,IF(DU$8=$P40,SUM($W35:DU35)*$P42,0)+IF(DU$8>$P40,0,DU36-DU39+SUM($W35:DU35)*$P42*$P41/12)))","v":0},{"$f":"IF(DV$4=\"\",0,IF(DV$8<=IF($P43>=$P40,0,$P43),0,IF(DV$8=$P40,SUM($W35:DV35)*$P42,0)+IF(DV$8>$P40,0,DV36-DV39+SUM($W35:DV35)*$P42*$P41/12)))","v":0},{"$f":"IF(DW$4=\"\",0,IF(DW$8<=IF($P43>=$P40,0,$P43),0,IF(DW$8=$P40,SUM($W35:DW35)*$P42,0)+IF(DW$8>$P40,0,DW36-DW39+SUM($W35:DW35)*$P42*$P41/12)))","v":0},{"$f":"IF(DX$4=\"\",0,IF(DX$8<=IF($P43>=$P40,0,$P43),0,IF(DX$8=$P40,SUM($W35:DX35)*$P42,0)+IF(DX$8>$P40,0,DX36-DX39+SUM($W35:DX35)*$P42*$P41/12)))","v":0},{"$f":"IF(DY$4=\"\",0,IF(DY$8<=IF($P43>=$P40,0,$P43),0,IF(DY$8=$P40,SUM($W35:DY35)*$P42,0)+IF(DY$8>$P40,0,DY36-DY39+SUM($W35:DY35)*$P42*$P41/12)))","v":0},{"$f":"IF(DZ$4=\"\",0,IF(DZ$8<=IF($P43>=$P40,0,$P43),0,IF(DZ$8=$P40,SUM($W35:DZ35)*$P42,0)+IF(DZ$8>$P40,0,DZ36-DZ39+SUM($W35:DZ35)*$P42*$P41/12)))","v":0},{"$f":"IF(EA$4=\"\",0,IF(EA$8<=IF($P43>=$P40,0,$P43),0,IF(EA$8=$P40,SUM($W35:EA35)*$P42,0)+IF(EA$8>$P40,0,EA36-EA39+SUM($W35:EA35)*$P42*$P41/12)))","v":0},{"$f":"IF(EB$4=\"\",0,IF(EB$8<=IF($P43>=$P40,0,$P43),0,IF(EB$8=$P40,SUM($W35:EB35)*$P42,0)+IF(EB$8>$P40,0,EB36-EB39+SUM($W35:EB35)*$P42*$P41/12)))","v":0},{"$f":"IF(EC$4=\"\",0,IF(EC$8<=IF($P43>=$P40,0,$P43),0,IF(EC$8=$P40,SUM($W35:EC35)*$P42,0)+IF(EC$8>$P40,0,EC36-EC39+SUM($W35:EC35)*$P42*$P41/12)))","v":0},{"$f":"IF(ED$4=\"\",0,IF(ED$8<=IF($P43>=$P40,0,$P43),0,IF(ED$8=$P40,SUM($W35:ED35)*$P42,0)+IF(ED$8>$P40,0,ED36-ED39+SUM($W35:ED35)*$P42*$P41/12)))","v":0},{"$f":"IF(EE$4=\"\",0,IF(EE$8<=IF($P43>=$P40,0,$P43),0,IF(EE$8=$P40,SUM($W35:EE35)*$P42,0)+IF(EE$8>$P40,0,EE36-EE39+SUM($W35:EE35)*$P42*$P41/12)))","v":0},{"$f":"IF(EF$4=\"\",0,IF(EF$8<=IF($P43>=$P40,0,$P43),0,IF(EF$8=$P40,SUM($W35:EF35)*$P42,0)+IF(EF$8>$P40,0,EF36-EF39+SUM($W35:EF35)*$P42*$P41/12)))","v":0},{"$f":"IF(EG$4=\"\",0,IF(EG$8<=IF($P43>=$P40,0,$P43),0,IF(EG$8=$P40,SUM($W35:EG35)*$P42,0)+IF(EG$8>$P40,0,EG36-EG39+SUM($W35:EG35)*$P42*$P41/12)))","v":0},{"$f":"IF(EH$4=\"\",0,IF(EH$8<=IF($P43>=$P40,0,$P43),0,IF(EH$8=$P40,SUM($W35:EH35)*$P42,0)+IF(EH$8>$P40,0,EH36-EH39+SUM($W35:EH35)*$P42*$P41/12)))","v":0},{"$f":"IF(EI$4=\"\",0,IF(EI$8<=IF($P43>=$P40,0,$P43),0,IF(EI$8=$P40,SUM($W35:EI35)*$P42,0)+IF(EI$8>$P40,0,EI36-EI39+SUM($W35:EI35)*$P42*$P41/12)))","v":0},{"$f":"IF(EJ$4=\"\",0,IF(EJ$8<=IF($P43>=$P40,0,$P43),0,IF(EJ$8=$P40,SUM($W35:EJ35)*$P42,0)+IF(EJ$8>$P40,0,EJ36-EJ39+SUM($W35:EJ35)*$P42*$P41/12)))","v":0},{"$f":"IF(EK$4=\"\",0,IF(EK$8<=IF($P43>=$P40,0,$P43),0,IF(EK$8=$P40,SUM($W35:EK35)*$P42,0)+IF(EK$8>$P40,0,EK36-EK39+SUM($W35:EK35)*$P42*$P41/12)))","v":0},{"$f":"IF(EL$4=\"\",0,IF(EL$8<=IF($P43>=$P40,0,$P43),0,IF(EL$8=$P40,SUM($W35:EL35)*$P42,0)+IF(EL$8>$P40,0,EL36-EL39+SUM($W35:EL35)*$P42*$P41/12)))","v":0},{"$f":"IF(EM$4=\"\",0,IF(EM$8<=IF($P43>=$P40,0,$P43),0,IF(EM$8=$P40,SUM($W35:EM35)*$P42,0)+IF(EM$8>$P40,0,EM36-EM39+SUM($W35:EM35)*$P42*$P41/12)))","v":0},{"$f":"IF(EN$4=\"\",0,IF(EN$8<=IF($P43>=$P40,0,$P43),0,IF(EN$8=$P40,SUM($W35:EN35)*$P42,0)+IF(EN$8>$P40,0,EN36-EN39+SUM($W35:EN35)*$P42*$P41/12)))","v":0},{"$f":"IF(EO$4=\"\",0,IF(EO$8<=IF($P43>=$P40,0,$P43),0,IF(EO$8=$P40,SUM($W35:EO35)*$P42,0)+IF(EO$8>$P40,0,EO36-EO39+SUM($W35:EO35)*$P42*$P41/12)))","v":0},{"$f":"IF(EP$4=\"\",0,IF(EP$8<=IF($P43>=$P40,0,$P43),0,IF(EP$8=$P40,SUM($W35:EP35)*$P42,0)+IF(EP$8>$P40,0,EP36-EP39+SUM($W35:EP35)*$P42*$P41/12)))","v":0},{"$f":"IF(EQ$4=\"\",0,IF(EQ$8<=IF($P43>=$P40,0,$P43),0,IF(EQ$8=$P40,SUM($W35:EQ35)*$P42,0)+IF(EQ$8>$P40,0,EQ36-EQ39+SUM($W35:EQ35)*$P42*$P41/12)))","v":0},{"$f":"IF(ER$4=\"\",0,IF(ER$8<=IF($P43>=$P40,0,$P43),0,IF(ER$8=$P40,SUM($W35:ER35)*$P42,0)+IF(ER$8>$P40,0,ER36-ER39+SUM($W35:ER35)*$P42*$P41/12)))","v":0},{"$f":"IF(ES$4=\"\",0,IF(ES$8<=IF($P43>=$P40,0,$P43),0,IF(ES$8=$P40,SUM($W35:ES35)*$P42,0)+IF(ES$8>$P40,0,ES36-ES39+SUM($W35:ES35)*$P42*$P41/12)))","v":0},{"$f":"IF(ET$4=\"\",0,IF(ET$8<=IF($P43>=$P40,0,$P43),0,IF(ET$8=$P40,SUM($W35:ET35)*$P42,0)+IF(ET$8>$P40,0,ET36-ET39+SUM($W35:ET35)*$P42*$P41/12)))","v":0},{"$f":"IF(EU$4=\"\",0,IF(EU$8<=IF($P43>=$P40,0,$P43),0,IF(EU$8=$P40,SUM($W35:EU35)*$P42,0)+IF(EU$8>$P40,0,EU36-EU39+SUM($W35:EU35)*$P42*$P41/12)))","v":0},{"$f":"IF(EV$4=\"\",0,IF(EV$8<=IF($P43>=$P40,0,$P43),0,IF(EV$8=$P40,SUM($W35:EV35)*$P42,0)+IF(EV$8>$P40,0,EV36-EV39+SUM($W35:EV35)*$P42*$P41/12)))","v":0},{"$f":"IF(EW$4=\"\",0,IF(EW$8<=IF($P43>=$P40,0,$P43),0,IF(EW$8=$P40,SUM($W35:EW35)*$P42,0)+IF(EW$8>$P40,0,EW36-EW39+SUM($W35:EW35)*$P42*$P41/12)))","v":0},{"$f":"IF(EX$4=\"\",0,IF(EX$8<=IF($P43>=$P40,0,$P43),0,IF(EX$8=$P40,SUM($W35:EX35)*$P42,0)+IF(EX$8>$P40,0,EX36-EX39+SUM($W35:EX35)*$P42*$P41/12)))","v":0},{"$f":"IF(EY$4=\"\",0,IF(EY$8<=IF($P43>=$P40,0,$P43),0,IF(EY$8=$P40,SUM($W35:EY35)*$P42,0)+IF(EY$8>$P40,0,EY36-EY39+SUM($W35:EY35)*$P42*$P41/12)))","v":0},{"$f":"IF(EZ$4=\"\",0,IF(EZ$8<=IF($P43>=$P40,0,$P43),0,IF(EZ$8=$P40,SUM($W35:EZ35)*$P42,0)+IF(EZ$8>$P40,0,EZ36-EZ39+SUM($W35:EZ35)*$P42*$P41/12)))","v":0},{"$f":"IF(FA$4=\"\",0,IF(FA$8<=IF($P43>=$P40,0,$P43),0,IF(FA$8=$P40,SUM($W35:FA35)*$P42,0)+IF(FA$8>$P40,0,FA36-FA39+SUM($W35:FA35)*$P42*$P41/12)))","v":0},{"$f":"IF(FB$4=\"\",0,IF(FB$8<=IF($P43>=$P40,0,$P43),0,IF(FB$8=$P40,SUM($W35:FB35)*$P42,0)+IF(FB$8>$P40,0,FB36-FB39+SUM($W35:FB35)*$P42*$P41/12)))","v":0},{"$f":"IF(FC$4=\"\",0,IF(FC$8<=IF($P43>=$P40,0,$P43),0,IF(FC$8=$P40,SUM($W35:FC35)*$P42,0)+IF(FC$8>$P40,0,FC36-FC39+SUM($W35:FC35)*$P42*$P41/12)))","v":0},{"$f":"IF(FD$4=\"\",0,IF(FD$8<=IF($P43>=$P40,0,$P43),0,IF(FD$8=$P40,SUM($W35:FD35)*$P42,0)+IF(FD$8>$P40,0,FD36-FD39+SUM($W35:FD35)*$P42*$P41/12)))","v":0},{"$f":"IF(FE$4=\"\",0,IF(FE$8<=IF($P43>=$P40,0,$P43),0,IF(FE$8=$P40,SUM($W35:FE35)*$P42,0)+IF(FE$8>$P40,0,FE36-FE39+SUM($W35:FE35)*$P42*$P41/12)))","v":0},{"$f":"IF(FF$4=\"\",0,IF(FF$8<=IF($P43>=$P40,0,$P43),0,IF(FF$8=$P40,SUM($W35:FF35)*$P42,0)+IF(FF$8>$P40,0,FF36-FF39+SUM($W35:FF35)*$P42*$P41/12)))","v":0},{"$f":"IF(FG$4=\"\",0,IF(FG$8<=IF($P43>=$P40,0,$P43),0,IF(FG$8=$P40,SUM($W35:FG35)*$P42,0)+IF(FG$8>$P40,0,FG36-FG39+SUM($W35:FG35)*$P42*$P41/12)))","v":0},{"$f":"IF(FH$4=\"\",0,IF(FH$8<=IF($P43>=$P40,0,$P43),0,IF(FH$8=$P40,SUM($W35:FH35)*$P42,0)+IF(FH$8>$P40,0,FH36-FH39+SUM($W35:FH35)*$P42*$P41/12)))","v":0},{"$f":"IF(FI$4=\"\",0,IF(FI$8<=IF($P43>=$P40,0,$P43),0,IF(FI$8=$P40,SUM($W35:FI35)*$P42,0)+IF(FI$8>$P40,0,FI36-FI39+SUM($W35:FI35)*$P42*$P41/12)))","v":0},{"$f":"IF(FJ$4=\"\",0,IF(FJ$8<=IF($P43>=$P40,0,$P43),0,IF(FJ$8=$P40,SUM($W35:FJ35)*$P42,0)+IF(FJ$8>$P40,0,FJ36-FJ39+SUM($W35:FJ35)*$P42*$P41/12)))","v":0},{"$f":"IF(FK$4=\"\",0,IF(FK$8<=IF($P43>=$P40,0,$P43),0,IF(FK$8=$P40,SUM($W35:FK35)*$P42,0)+IF(FK$8>$P40,0,FK36-FK39+SUM($W35:FK35)*$P42*$P41/12)))","v":0},{"$f":"IF(FL$4=\"\",0,IF(FL$8<=IF($P43>=$P40,0,$P43),0,IF(FL$8=$P40,SUM($W35:FL35)*$P42,0)+IF(FL$8>$P40,0,FL36-FL39+SUM($W35:FL35)*$P42*$P41/12)))","v":0},{"$f":"IF(FM$4=\"\",0,IF(FM$8<=IF($P43>=$P40,0,$P43),0,IF(FM$8=$P40,SUM($W35:FM35)*$P42,0)+IF(FM$8>$P40,0,FM36-FM39+SUM($W35:FM35)*$P42*$P41/12)))","v":0},{"$f":"IF(FN$4=\"\",0,IF(FN$8<=IF($P43>=$P40,0,$P43),0,IF(FN$8=$P40,SUM($W35:FN35)*$P42,0)+IF(FN$8>$P40,0,FN36-FN39+SUM($W35:FN35)*$P42*$P41/12)))","v":0},{"$f":"IF(FO$4=\"\",0,IF(FO$8<=IF($P43>=$P40,0,$P43),0,IF(FO$8=$P40,SUM($W35:FO35)*$P42,0)+IF(FO$8>$P40,0,FO36-FO39+SUM($W35:FO35)*$P42*$P41/12)))","v":0},{"$f":"IF(FP$4=\"\",0,IF(FP$8<=IF($P43>=$P40,0,$P43),0,IF(FP$8=$P40,SUM($W35:FP35)*$P42,0)+IF(FP$8>$P40,0,FP36-FP39+SUM($W35:FP35)*$P42*$P41/12)))","v":0},{"$f":"IF(FQ$4=\"\",0,IF(FQ$8<=IF($P43>=$P40,0,$P43),0,IF(FQ$8=$P40,SUM($W35:FQ35)*$P42,0)+IF(FQ$8>$P40,0,FQ36-FQ39+SUM($W35:FQ35)*$P42*$P41/12)))","v":0},{"$f":"IF(FR$4=\"\",0,IF(FR$8<=IF($P43>=$P40,0,$P43),0,IF(FR$8=$P40,SUM($W35:FR35)*$P42,0)+IF(FR$8>$P40,0,FR36-FR39+SUM($W35:FR35)*$P42*$P41/12)))","v":0},{"$f":"IF(FS$4=\"\",0,IF(FS$8<=IF($P43>=$P40,0,$P43),0,IF(FS$8=$P40,SUM($W35:FS35)*$P42,0)+IF(FS$8>$P40,0,FS36-FS39+SUM($W35:FS35)*$P42*$P41/12)))","v":0},{"$f":"IF(FT$4=\"\",0,IF(FT$8<=IF($P43>=$P40,0,$P43),0,IF(FT$8=$P40,SUM($W35:FT35)*$P42,0)+IF(FT$8>$P40,0,FT36-FT39+SUM($W35:FT35)*$P42*$P41/12)))","v":0},{"$f":"IF(FU$4=\"\",0,IF(FU$8<=IF($P43>=$P40,0,$P43),0,IF(FU$8=$P40,SUM($W35:FU35)*$P42,0)+IF(FU$8>$P40,0,FU36-FU39+SUM($W35:FU35)*$P42*$P41/12)))","v":0},{"$f":"IF(FV$4=\"\",0,IF(FV$8<=IF($P43>=$P40,0,$P43),0,IF(FV$8=$P40,SUM($W35:FV35)*$P42,0)+IF(FV$8>$P40,0,FV36-FV39+SUM($W35:FV35)*$P42*$P41/12)))","v":0},{"$f":"IF(FW$4=\"\",0,IF(FW$8<=IF($P43>=$P40,0,$P43),0,IF(FW$8=$P40,SUM($W35:FW35)*$P42,0)+IF(FW$8>$P40,0,FW36-FW39+SUM($W35:FW35)*$P42*$P41/12)))","v":0},{"$f":"IF(FX$4=\"\",0,IF(FX$8<=IF($P43>=$P40,0,$P43),0,IF(FX$8=$P40,SUM($W35:FX35)*$P42,0)+IF(FX$8>$P40,0,FX36-FX39+SUM($W35:FX35)*$P42*$P41/12)))","v":0},{"$f":"IF(FY$4=\"\",0,IF(FY$8<=IF($P43>=$P40,0,$P43),0,IF(FY$8=$P40,SUM($W35:FY35)*$P42,0)+IF(FY$8>$P40,0,FY36-FY39+SUM($W35:FY35)*$P42*$P41/12)))","v":0},{"$f":"IF(FZ$4=\"\",0,IF(FZ$8<=IF($P43>=$P40,0,$P43),0,IF(FZ$8=$P40,SUM($W35:FZ35)*$P42,0)+IF(FZ$8>$P40,0,FZ36-FZ39+SUM($W35:FZ35)*$P42*$P41/12)))","v":0},{"$f":"IF(GA$4=\"\",0,IF(GA$8<=IF($P43>=$P40,0,$P43),0,IF(GA$8=$P40,SUM($W35:GA35)*$P42,0)+IF(GA$8>$P40,0,GA36-GA39+SUM($W35:GA35)*$P42*$P41/12)))","v":0},{"$f":"IF(GB$4=\"\",0,IF(GB$8<=IF($P43>=$P40,0,$P43),0,IF(GB$8=$P40,SUM($W35:GB35)*$P42,0)+IF(GB$8>$P40,0,GB36-GB39+SUM($W35:GB35)*$P42*$P41/12)))","v":0},{"$f":"IF(GC$4=\"\",0,IF(GC$8<=IF($P43>=$P40,0,$P43),0,IF(GC$8=$P40,SUM($W35:GC35)*$P42,0)+IF(GC$8>$P40,0,GC36-GC39+SUM($W35:GC35)*$P42*$P41/12)))","v":0},{"$f":"IF(GD$4=\"\",0,IF(GD$8<=IF($P43>=$P40,0,$P43),0,IF(GD$8=$P40,SUM($W35:GD35)*$P42,0)+IF(GD$8>$P40,0,GD36-GD39+SUM($W35:GD35)*$P42*$P41/12)))","v":0},{"$f":"IF(GE$4=\"\",0,IF(GE$8<=IF($P43>=$P40,0,$P43),0,IF(GE$8=$P40,SUM($W35:GE35)*$P42,0)+IF(GE$8>$P40,0,GE36-GE39+SUM($W35:GE35)*$P42*$P41/12)))","v":0},{"$f":"IF(GF$4=\"\",0,IF(GF$8<=IF($P43>=$P40,0,$P43),0,IF(GF$8=$P40,SUM($W35:GF35)*$P42,0)+IF(GF$8>$P40,0,GF36-GF39+SUM($W35:GF35)*$P42*$P41/12)))","v":0},{"$f":"IF(GG$4=\"\",0,IF(GG$8<=IF($P43>=$P40,0,$P43),0,IF(GG$8=$P40,SUM($W35:GG35)*$P42,0)+IF(GG$8>$P40,0,GG36-GG39+SUM($W35:GG35)*$P42*$P41/12)))","v":0},{"$f":"IF(GH$4=\"\",0,IF(GH$8<=IF($P43>=$P40,0,$P43),0,IF(GH$8=$P40,SUM($W35:GH35)*$P42,0)+IF(GH$8>$P40,0,GH36-GH39+SUM($W35:GH35)*$P42*$P41/12)))","v":0},{"$f":"IF(GI$4=\"\",0,IF(GI$8<=IF($P43>=$P40,0,$P43),0,IF(GI$8=$P40,SUM($W35:GI35)*$P42,0)+IF(GI$8>$P40,0,GI36-GI39+SUM($W35:GI35)*$P42*$P41/12)))","v":0},{"$f":"IF(GJ$4=\"\",0,IF(GJ$8<=IF($P43>=$P40,0,$P43),0,IF(GJ$8=$P40,SUM($W35:GJ35)*$P42,0)+IF(GJ$8>$P40,0,GJ36-GJ39+SUM($W35:GJ35)*$P42*$P41/12)))","v":0},{"$f":"IF(GK$4=\"\",0,IF(GK$8<=IF($P43>=$P40,0,$P43),0,IF(GK$8=$P40,SUM($W35:GK35)*$P42,0)+IF(GK$8>$P40,0,GK36-GK39+SUM($W35:GK35)*$P42*$P41/12)))","v":0},{"$f":"IF(GL$4=\"\",0,IF(GL$8<=IF($P43>=$P40,0,$P43),0,IF(GL$8=$P40,SUM($W35:GL35)*$P42,0)+IF(GL$8>$P40,0,GL36-GL39+SUM($W35:GL35)*$P42*$P41/12)))","v":0},{"$f":"IF(GM$4=\"\",0,IF(GM$8<=IF($P43>=$P40,0,$P43),0,IF(GM$8=$P40,SUM($W35:GM35)*$P42,0)+IF(GM$8>$P40,0,GM36-GM39+SUM($W35:GM35)*$P42*$P41/12)))","v":0},{"$f":"IF(GN$4=\"\",0,IF(GN$8<=IF($P43>=$P40,0,$P43),0,IF(GN$8=$P40,SUM($W35:GN35)*$P42,0)+IF(GN$8>$P40,0,GN36-GN39+SUM($W35:GN35)*$P42*$P41/12)))","v":0},{"$f":"IF(GO$4=\"\",0,IF(GO$8<=IF($P43>=$P40,0,$P43),0,IF(GO$8=$P40,SUM($W35:GO35)*$P42,0)+IF(GO$8>$P40,0,GO36-GO39+SUM($W35:GO35)*$P42*$P41/12)))","v":0},{"$f":"IF(GP$4=\"\",0,IF(GP$8<=IF($P43>=$P40,0,$P43),0,IF(GP$8=$P40,SUM($W35:GP35)*$P42,0)+IF(GP$8>$P40,0,GP36-GP39+SUM($W35:GP35)*$P42*$P41/12)))","v":0},{"$f":"IF(GQ$4=\"\",0,IF(GQ$8<=IF($P43>=$P40,0,$P43),0,IF(GQ$8=$P40,SUM($W35:GQ35)*$P42,0)+IF(GQ$8>$P40,0,GQ36-GQ39+SUM($W35:GQ35)*$P42*$P41/12)))","v":0},{"$f":"IF(GR$4=\"\",0,IF(GR$8<=IF($P43>=$P40,0,$P43),0,IF(GR$8=$P40,SUM($W35:GR35)*$P42,0)+IF(GR$8>$P40,0,GR36-GR39+SUM($W35:GR35)*$P42*$P41/12)))","v":0},{"$f":"IF(GS$4=\"\",0,IF(GS$8<=IF($P43>=$P40,0,$P43),0,IF(GS$8=$P40,SUM($W35:GS35)*$P42,0)+IF(GS$8>$P40,0,GS36-GS39+SUM($W35:GS35)*$P42*$P41/12)))","v":0},{"$f":"IF(GT$4=\"\",0,IF(GT$8<=IF($P43>=$P40,0,$P43),0,IF(GT$8=$P40,SUM($W35:GT35)*$P42,0)+IF(GT$8>$P40,0,GT36-GT39+SUM($W35:GT35)*$P42*$P41/12)))","v":0},{"$f":"IF(GU$4=\"\",0,IF(GU$8<=IF($P43>=$P40,0,$P43),0,IF(GU$8=$P40,SUM($W35:GU35)*$P42,0)+IF(GU$8>$P40,0,GU36-GU39+SUM($W35:GU35)*$P42*$P41/12)))","v":0},{"$f":"IF(GV$4=\"\",0,IF(GV$8<=IF($P43>=$P40,0,$P43),0,IF(GV$8=$P40,SUM($W35:GV35)*$P42,0)+IF(GV$8>$P40,0,GV36-GV39+SUM($W35:GV35)*$P42*$P41/12)))","v":0}]
[null,{"$f":"ROW()","v":39},null,null,null,null,null,{"$f":"H38","v":"Ежемесячные платежи по лизингу"},"Возврат %% по кредиту",null,null,null,"руб.",null,null,null,null,null,null,null,{"$f":"SUM(INDIRECT(ADDRESS($B39,X$2)&\":\"&ADDRESS($B39,MAX($2:$2))))","v":0},null,null,{"$f":"IF(X$4=\"\",0,(SUM($W35:X35)-SUM($W38:W38))*$P41/12)","v":0},{"$f":"IF(Y$4=\"\",0,(SUM($W35:Y35)-SUM($W38:X38))*$P41/12)","v":0},{"$f":"IF(Z$4=\"\",0,(SUM($W35:Z35)-SUM($W38:Y38))*$P41/12)","v":0},{"$f":"IF(AA$4=\"\",0,(SUM($W35:AA35)-SUM($W38:Z38))*$P41/12)","v":0},{"$f":"IF(AB$4=\"\",0,(SUM($W35:AB35)-SUM($W38:AA38))*$P41/12)","v":0},{"$f":"IF(AC$4=\"\",0,(SUM($W35:AC35)-SUM($W38:AB38))*$P41/12)","v":0},{"$f":"IF(AD$4=\"\",0,(SUM($W35:AD35)-SUM($W38:AC38))*$P41/12)","v":0},{"$f":"IF(AE$4=\"\",0,(SUM($W35:AE35)-SUM($W38:AD38))*$P41/12)","v":0},{"$f":"IF(AF$4=\"\",0,(SUM($W35:AF35)-SUM($W38:AE38))*$P41/12)","v":0},{"$f":"IF(AG$4=\"\",0,(SUM($W35:AG35)-SUM($W38:AF38))*$P41/12)","v":0},{"$f":"IF(AH$4=\"\",0,(SUM($W35:AH35)-SUM($W38:AG38))*$P41/12)","v":0},{"$f":"IF(AI$4=\"\",0,(SUM($W35:AI35)-SUM($W38:AH38))*$P41/12)","v":0},{"$f":"IF(AJ$4=\"\",0,(SUM($W35:AJ35)-SUM($W38:AI38))*$P41/12)","v":0},{"$f":"IF(AK$4=\"\",0,(SUM($W35:AK35)-SUM($W38:AJ38))*$P41/12)","v":0},{"$f":"IF(AL$4=\"\",0,(SUM($W35:AL35)-SUM($W38:AK38))*$P41/12)","v":0},{"$f":"IF(AM$4=\"\",0,(SUM($W35:AM35)-SUM($W38:AL38))*$P41/12)","v":0},{"$f":"IF(AN$4=\"\",0,(SUM($W35:AN35)-SUM($W38:AM38))*$P41/12)","v":0},{"$f":"IF(AO$4=\"\",0,(SUM($W35:AO35)-SUM($W38:AN38))*$P41/12)","v":0},{"$f":"IF(AP$4=\"\",0,(SUM($W35:AP35)-SUM($W38:AO38))*$P41/12)","v":0},{"$f":"IF(AQ$4=\"\",0,(SUM($W35:AQ35)-SUM($W38:AP38))*$P41/12)","v":0},{"$f":"IF(AR$4=\"\",0,(SUM($W35:AR35)-SUM($W38:AQ38))*$P41/12)","v":0},{"$f":"IF(AS$4=\"\",0,(SUM($W35:AS35)-SUM($W38:AR38))*$P41/12)","v":0},{"$f":"IF(AT$4=\"\",0,(SUM($W35:AT35)-SUM($W38:AS38))*$P41/12)","v":0},{"$f":"IF(AU$4=\"\",0,(SUM($W35:AU35)-SUM($W38:AT38))*$P41/12)","v":0},{"$f":"IF(AV$4=\"\",0,(SUM($W35:AV35)-SUM($W38:AU38))*$P41/12)","v":0},{"$f":"IF(AW$4=\"\",0,(SUM($W35:AW35)-SUM($W38:AV38))*$P41/12)","v":0},{"$f":"IF(AX$4=\"\",0,(SUM($W35:AX35)-SUM($W38:AW38))*$P41/12)","v":0},{"$f":"IF(AY$4=\"\",0,(SUM($W35:AY35)-SUM($W38:AX38))*$P41/12)","v":0},{"$f":"IF(AZ$4=\"\",0,(SUM($W35:AZ35)-SUM($W38:AY38))*$P41/12)","v":0},{"$f":"IF(BA$4=\"\",0,(SUM($W35:BA35)-SUM($W38:AZ38))*$P41/12)","v":0},{"$f":"IF(BB$4=\"\",0,(SUM($W35:BB35)-SUM($W38:BA38))*$P41/12)","v":0},{"$f":"IF(BC$4=\"\",0,(SUM($W35:BC35)-SUM($W38:BB38))*$P41/12)","v":0},{"$f":"IF(BD$4=\"\",0,(SUM($W35:BD35)-SUM($W38:BC38))*$P41/12)","v":0},{"$f":"IF(BE$4=\"\",0,(SUM($W35:BE35)-SUM($W38:BD38))*$P41/12)","v":0},{"$f":"IF(BF$4=\"\",0,(SUM($W35:BF35)-SUM($W38:BE38))*$P41/12)","v":0},{"$f":"IF(BG$4=\"\",0,(SUM($W35:BG35)-SUM($W38:BF38))*$P41/12)","v":0},{"$f":"IF(BH$4=\"\",0,(SUM($W35:BH35)-SUM($W38:BG38))*$P41/12)","v":0},{"$f":"IF(BI$4=\"\",0,(SUM($W35:BI35)-SUM($W38:BH38))*$P41/12)","v":0},{"$f":"IF(BJ$4=\"\",0,(SUM($W35:BJ35)-SUM($W38:BI38))*$P41/12)","v":0},{"$f":"IF(BK$4=\"\",0,(SUM($W35:BK35)-SUM($W38:BJ38))*$P41/12)","v":0},{"$f":"IF(BL$4=\"\",0,(SUM($W35:BL35)-SUM($W38:BK38))*$P41/12)","v":0},{"$f":"IF(BM$4=\"\",0,(SUM($W35:BM35)-SUM($W38:BL38))*$P41/12)","v":0},{"$f":"IF(BN$4=\"\",0,(SUM($W35:BN35)-SUM($W38:BM38))*$P41/12)","v":0},{"$f":"IF(BO$4=\"\",0,(SUM($W35:BO35)-SUM($W38:BN38))*$P41/12)","v":0},{"$f":"IF(BP$4=\"\",0,(SUM($W35:BP35)-SUM($W38:BO38))*$P41/12)","v":0},{"$f":"IF(BQ$4=\"\",0,(SUM($W35:BQ35)-SUM($W38:BP38))*$P41/12)","v":0},{"$f":"IF(BR$4=\"\",0,(SUM($W35:BR35)-SUM($W38:BQ38))*$P41/12)","v":0},{"$f":"IF(BS$4=\"\",0,(SUM($W35:BS35)-SUM($W38:BR38))*$P41/12)","v":0},{"$f":"IF(BT$4=\"\",0,(SUM($W35:BT35)-SUM($W38:BS38))*$P41/12)","v":0},{"$f":"IF(BU$4=\"\",0,(SUM($W35:BU35)-SUM($W38:BT38))*$P41/12)","v":0},{"$f":"IF(BV$4=\"\",0,(SUM($W35:BV35)-SUM($W38:BU38))*$P41/12)","v":0},{"$f":"IF(BW$4=\"\",0,(SUM($W35:BW35)-SUM($W38:BV38))*$P41/12)","v":0},{"$f":"IF(BX$4=\"\",0,(SUM($W35:BX35)-SUM($W38:BW38))*$P41/12)","v":0},{"$f":"IF(BY$4=\"\",0,(SUM($W35:BY35)-SUM($W38:BX38))*$P41/12)","v":0},{"$f":"IF(BZ$4=\"\",0,(SUM($W35:BZ35)-SUM($W38:BY38))*$P41/12)","v":0},{"$f":"IF(CA$4=\"\",0,(SUM($W35:CA35)-SUM($W38:BZ38))*$P41/12)","v":0},{"$f":"IF(CB$4=\"\",0,(SUM($W35:CB35)-SUM($W38:CA38))*$P41/12)","v":0},{"$f":"IF(CC$4=\"\",0,(SUM($W35:CC35)-SUM($W38:CB38))*$P41/12)","v":0},{"$f":"IF(CD$4=\"\",0,(SUM($W35:CD35)-SUM($W38:CC38))*$P41/12)","v":0},{"$f":"IF(CE$4=\"\",0,(SUM($W35:CE35)-SUM($W38:CD38))*$P41/12)","v":0},{"$f":"IF(CF$4=\"\",0,(SUM($W35:CF35)-SUM($W38:CE38))*$P41/12)","v":0},{"$f":"IF(CG$4=\"\",0,(SUM($W35:CG35)-SUM($W38:CF38))*$P41/12)","v":0},{"$f":"IF(CH$4=\"\",0,(SUM($W35:CH35)-SUM($W38:CG38))*$P41/12)","v":0},{"$f":"IF(CI$4=\"\",0,(SUM($W35:CI35)-SUM($W38:CH38))*$P41/12)","v":0},{"$f":"IF(CJ$4=\"\",0,(SUM($W35:CJ35)-SUM($W38:CI38))*$P41/12)","v":0},{"$f":"IF(CK$4=\"\",0,(SUM($W35:CK35)-SUM($W38:CJ38))*$P41/12)","v":0},{"$f":"IF(CL$4=\"\",0,(SUM($W35:CL35)-SUM($W38:CK38))*$P41/12)","v":0},{"$f":"IF(CM$4=\"\",0,(SUM($W35:CM35)-SUM($W38:CL38))*$P41/12)","v":0},{"$f":"IF(CN$4=\"\",0,(SUM($W35:CN35)-SUM($W38:CM38))*$P41/12)","v":0},{"$f":"IF(CO$4=\"\",0,(SUM($W35:CO35)-SUM($W38:CN38))*$P41/12)","v":0},{"$f":"IF(CP$4=\"\",0,(SUM($W35:CP35)-SUM($W38:CO38))*$P41/12)","v":0},{"$f":"IF(CQ$4=\"\",0,(SUM($W35:CQ35)-SUM($W38:CP38))*$P41/12)","v":0},{"$f":"IF(CR$4=\"\",0,(SUM($W35:CR35)-SUM($W38:CQ38))*$P41/12)","v":0},{"$f":"IF(CS$4=\"\",0,(SUM($W35:CS35)-SUM($W38:CR38))*$P41/12)","v":0},{"$f":"IF(CT$4=\"\",0,(SUM($W35:CT35)-SUM($W38:CS38))*$P41/12)","v":0},{"$f":"IF(CU$4=\"\",0,(SUM($W35:CU35)-SUM($W38:CT38))*$P41/12)","v":0},{"$f":"IF(CV$4=\"\",0,(SUM($W35:CV35)-SUM($W38:CU38))*$P41/12)","v":0},{"$f":"IF(CW$4=\"\",0,(SUM($W35:CW35)-SUM($W38:CV38))*$P41/12)","v":0},{"$f":"IF(CX$4=\"\",0,(SUM($W35:CX35)-SUM($W38:CW38))*$P41/12)","v":0},{"$f":"IF(CY$4=\"\",0,(SUM($W35:CY35)-SUM($W38:CX38))*$P41/12)","v":0},{"$f":"IF(CZ$4=\"\",0,(SUM($W35:CZ35)-SUM($W38:CY38))*$P41/12)","v":0},{"$f":"IF(DA$4=\"\",0,(SUM($W35:DA35)-SUM($W38:CZ38))*$P41/12)","v":0},{"$f":"IF(DB$4=\"\",0,(SUM($W35:DB35)-SUM($W38:DA38))*$P41/12)","v":0},{"$f":"IF(DC$4=\"\",0,(SUM($W35:DC35)-SUM($W38:DB38))*$P41/12)","v":0},{"$f":"IF(DD$4=\"\",0,(SUM($W35:DD35)-SUM($W38:DC38))*$P41/12)","v":0},{"$f":"IF(DE$4=\"\",0,(SUM($W35:DE35)-SUM($W38:DD38))*$P41/12)","v":0},{"$f":"IF(DF$4=\"\",0,(SUM($W35:DF35)-SUM($W38:DE38))*$P41/12)","v":0},{"$f":"IF(DG$4=\"\",0,(SUM($W35:DG35)-SUM($W38:DF38))*$P41/12)","v":0},{"$f":"IF(DH$4=\"\",0,(SUM($W35:DH35)-SUM($W38:DG38))*$P41/12)","v":0},{"$f":"IF(DI$4=\"\",0,(SUM($W35:DI35)-SUM($W38:DH38))*$P41/12)","v":0},{"$f":"IF(DJ$4=\"\",0,(SUM($W35:DJ35)-SUM($W38:DI38))*$P41/12)","v":0},{"$f":"IF(DK$4=\"\",0,(SUM($W35:DK35)-SUM($W38:DJ38))*$P41/12)","v":0},{"$f":"IF(DL$4=\"\",0,(SUM($W35:DL35)-SUM($W38:DK38))*$P41/12)","v":0},{"$f":"IF(DM$4=\"\",0,(SUM($W35:DM35)-SUM($W38:DL38))*$P41/12)","v":0},{"$f":"IF(DN$4=\"\",0,(SUM($W35:DN35)-SUM($W38:DM38))*$P41/12)","v":0},{"$f":"IF(DO$4=\"\",0,(SUM($W35:DO35)-SUM($W38:DN38))*$P41/12)","v":0},{"$f":"IF(DP$4=\"\",0,(SUM($W35:DP35)-SUM($W38:DO38))*$P41/12)","v":0},{"$f":"IF(DQ$4=\"\",0,(SUM($W35:DQ35)-SUM($W38:DP38))*$P41/12)","v":0},{"$f":"IF(DR$4=\"\",0,(SUM($W35:DR35)-SUM($W38:DQ38))*$P41/12)","v":0},{"$f":"IF(DS$4=\"\",0,(SUM($W35:DS35)-SUM($W38:DR38))*$P41/12)","v":0},{"$f":"IF(DT$4=\"\",0,(SUM($W35:DT35)-SUM($W38:DS38))*$P41/12)","v":0},{"$f":"IF(DU$4=\"\",0,(SUM($W35:DU35)-SUM($W38:DT38))*$P41/12)","v":0},{"$f":"IF(DV$4=\"\",0,(SUM($W35:DV35)-SUM($W38:DU38))*$P41/12)","v":0},{"$f":"IF(DW$4=\"\",0,(SUM($W35:DW35)-SUM($W38:DV38))*$P41/12)","v":0},{"$f":"IF(DX$4=\"\",0,(SUM($W35:DX35)-SUM($W38:DW38))*$P41/12)","v":0},{"$f":"IF(DY$4=\"\",0,(SUM($W35:DY35)-SUM($W38:DX38))*$P41/12)","v":0},{"$f":"IF(DZ$4=\"\",0,(SUM($W35:DZ35)-SUM($W38:DY38))*$P41/12)","v":0},{"$f":"IF(EA$4=\"\",0,(SUM($W35:EA35)-SUM($W38:DZ38))*$P41/12)","v":0},{"$f":"IF(EB$4=\"\",0,(SUM($W35:EB35)-SUM($W38:EA38))*$P41/12)","v":0},{"$f":"IF(EC$4=\"\",0,(SUM($W35:EC35)-SUM($W38:EB38))*$P41/12)","v":0},{"$f":"IF(ED$4=\"\",0,(SUM($W35:ED35)-SUM($W38:EC38))*$P41/12)","v":0},{"$f":"IF(EE$4=\"\",0,(SUM($W35:EE35)-SUM($W38:ED38))*$P41/12)","v":0},{"$f":"IF(EF$4=\"\",0,(SUM($W35:EF35)-SUM($W38:EE38))*$P41/12)","v":0},{"$f":"IF(EG$4=\"\",0,(SUM($W35:EG35)-SUM($W38:EF38))*$P41/12)","v":0},{"$f":"IF(EH$4=\"\",0,(SUM($W35:EH35)-SUM($W38:EG38))*$P41/12)","v":0},{"$f":"IF(EI$4=\"\",0,(SUM($W35:EI35)-SUM($W38:EH38))*$P41/12)","v":0},{"$f":"IF(EJ$4=\"\",0,(SUM($W35:EJ35)-SUM($W38:EI38))*$P41/12)","v":0},{"$f":"IF(EK$4=\"\",0,(SUM($W35:EK35)-SUM($W38:EJ38))*$P41/12)","v":0},{"$f":"IF(EL$4=\"\",0,(SUM($W35:EL35)-SUM($W38:EK38))*$P41/12)","v":0},{"$f":"IF(EM$4=\"\",0,(SUM($W35:EM35)-SUM($W38:EL38))*$P41/12)","v":0},{"$f":"IF(EN$4=\"\",0,(SUM($W35:EN35)-SUM($W38:EM38))*$P41/12)","v":0},{"$f":"IF(EO$4=\"\",0,(SUM($W35:EO35)-SUM($W38:EN38))*$P41/12)","v":0},{"$f":"IF(EP$4=\"\",0,(SUM($W35:EP35)-SUM($W38:EO38))*$P41/12)","v":0},{"$f":"IF(EQ$4=\"\",0,(SUM($W35:EQ35)-SUM($W38:EP38))*$P41/12)","v":0},{"$f":"IF(ER$4=\"\",0,(SUM($W35:ER35)-SUM($W38:EQ38))*$P41/12)","v":0},{"$f":"IF(ES$4=\"\",0,(SUM($W35:ES35)-SUM($W38:ER38))*$P41/12)","v":0},{"$f":"IF(ET$4=\"\",0,(SUM($W35:ET35)-SUM($W38:ES38))*$P41/12)","v":0},{"$f":"IF(EU$4=\"\",0,(SUM($W35:EU35)-SUM($W38:ET38))*$P41/12)","v":0},{"$f":"IF(EV$4=\"\",0,(SUM($W35:EV35)-SUM($W38:EU38))*$P41/12)","v":0},{"$f":"IF(EW$4=\"\",0,(SUM($W35:EW35)-SUM($W38:EV38))*$P41/12)","v":0},{"$f":"IF(EX$4=\"\",0,(SUM($W35:EX35)-SUM($W38:EW38))*$P41/12)","v":0},{"$f":"IF(EY$4=\"\",0,(SUM($W35:EY35)-SUM($W38:EX38))*$P41/12)","v":0},{"$f":"IF(EZ$4=\"\",0,(SUM($W35:EZ35)-SUM($W38:EY38))*$P41/12)","v":0},{"$f":"IF(FA$4=\"\",0,(SUM($W35:FA35)-SUM($W38:EZ38))*$P41/12)","v":0},{"$f":"IF(FB$4=\"\",0,(SUM($W35:FB35)-SUM($W38:FA38))*$P41/12)","v":0},{"$f":"IF(FC$4=\"\",0,(SUM($W35:FC35)-SUM($W38:FB38))*$P41/12)","v":0},{"$f":"IF(FD$4=\"\",0,(SUM($W35:FD35)-SUM($W38:FC38))*$P41/12)","v":0},{"$f":"IF(FE$4=\"\",0,(SUM($W35:FE35)-SUM($W38:FD38))*$P41/12)","v":0},{"$f":"IF(FF$4=\"\",0,(SUM($W35:FF35)-SUM($W38:FE38))*$P41/12)","v":0},{"$f":"IF(FG$4=\"\",0,(SUM($W35:FG35)-SUM($W38:FF38))*$P41/12)","v":0},{"$f":"IF(FH$4=\"\",0,(SUM($W35:FH35)-SUM($W38:FG38))*$P41/12)","v":0},{"$f":"IF(FI$4=\"\",0,(SUM($W35:FI35)-SUM($W38:FH38))*$P41/12)","v":0},{"$f":"IF(FJ$4=\"\",0,(SUM($W35:FJ35)-SUM($W38:FI38))*$P41/12)","v":0},{"$f":"IF(FK$4=\"\",0,(SUM($W35:FK35)-SUM($W38:FJ38))*$P41/12)","v":0},{"$f":"IF(FL$4=\"\",0,(SUM($W35:FL35)-SUM($W38:FK38))*$P41/12)","v":0},{"$f":"IF(FM$4=\"\",0,(SUM($W35:FM35)-SUM($W38:FL38))*$P41/12)","v":0},{"$f":"IF(FN$4=\"\",0,(SUM($W35:FN35)-SUM($W38:FM38))*$P41/12)","v":0},{"$f":"IF(FO$4=\"\",0,(SUM($W35:FO35)-SUM($W38:FN38))*$P41/12)","v":0},{"$f":"IF(FP$4=\"\",0,(SUM($W35:FP35)-SUM($W38:FO38))*$P41/12)","v":0},{"$f":"IF(FQ$4=\"\",0,(SUM($W35:FQ35)-SUM($W38:FP38))*$P41/12)","v":0},{"$f":"IF(FR$4=\"\",0,(SUM($W35:FR35)-SUM($W38:FQ38))*$P41/12)","v":0},{"$f":"IF(FS$4=\"\",0,(SUM($W35:FS35)-SUM($W38:FR38))*$P41/12)","v":0},{"$f":"IF(FT$4=\"\",0,(SUM($W35:FT35)-SUM($W38:FS38))*$P41/12)","v":0},{"$f":"IF(FU$4=\"\",0,(SUM($W35:FU35)-SUM($W38:FT38))*$P41/12)","v":0},{"$f":"IF(FV$4=\"\",0,(SUM($W35:FV35)-SUM($W38:FU38))*$P41/12)","v":0},{"$f":"IF(FW$4=\"\",0,(SUM($W35:FW35)-SUM($W38:FV38))*$P41/12)","v":0},{"$f":"IF(FX$4=\"\",0,(SUM($W35:FX35)-SUM($W38:FW38))*$P41/12)","v":0},{"$f":"IF(FY$4=\"\",0,(SUM($W35:FY35)-SUM($W38:FX38))*$P41/12)","v":0},{"$f":"IF(FZ$4=\"\",0,(SUM($W35:FZ35)-SUM($W38:FY38))*$P41/12)","v":0},{"$f":"IF(GA$4=\"\",0,(SUM($W35:GA35)-SUM($W38:FZ38))*$P41/12)","v":0},{"$f":"IF(GB$4=\"\",0,(SUM($W35:GB35)-SUM($W38:GA38))*$P41/12)","v":0},{"$f":"IF(GC$4=\"\",0,(SUM($W35:GC35)-SUM($W38:GB38))*$P41/12)","v":0},{"$f":"IF(GD$4=\"\",0,(SUM($W35:GD35)-SUM($W38:GC38))*$P41/12)","v":0},{"$f":"IF(GE$4=\"\",0,(SUM($W35:GE35)-SUM($W38:GD38))*$P41/12)","v":0},{"$f":"IF(GF$4=\"\",0,(SUM($W35:GF35)-SUM($W38:GE38))*$P41/12)","v":0},{"$f":"IF(GG$4=\"\",0,(SUM($W35:GG35)-SUM($W38:GF38))*$P41/12)","v":0},{"$f":"IF(GH$4=\"\",0,(SUM($W35:GH35)-SUM($W38:GG38))*$P41/12)","v":0},{"$f":"IF(GI$4=\"\",0,(SUM($W35:GI35)-SUM($W38:GH38))*$P41/12)","v":0},{"$f":"IF(GJ$4=\"\",0,(SUM($W35:GJ35)-SUM($W38:GI38))*$P41/12)","v":0},{"$f":"IF(GK$4=\"\",0,(SUM($W35:GK35)-SUM($W38:GJ38))*$P41/12)","v":0},{"$f":"IF(GL$4=\"\",0,(SUM($W35:GL35)-SUM($W38:GK38))*$P41/12)","v":0},{"$f":"IF(GM$4=\"\",0,(SUM($W35:GM35)-SUM($W38:GL38))*$P41/12)","v":0},{"$f":"IF(GN$4=\"\",0,(SUM($W35:GN35)-SUM($W38:GM38))*$P41/12)","v":0},{"$f":"IF(GO$4=\"\",0,(SUM($W35:GO35)-SUM($W38:GN38))*$P41/12)","v":0},{"$f":"IF(GP$4=\"\",0,(SUM($W35:GP35)-SUM($W38:GO38))*$P41/12)","v":0},{"$f":"IF(GQ$4=\"\",0,(SUM($W35:GQ35)-SUM($W38:GP38))*$P41/12)","v":0},{"$f":"IF(GR$4=\"\",0,(SUM($W35:GR35)-SUM($W38:GQ38))*$P41/12)","v":0},{"$f":"IF(GS$4=\"\",0,(SUM($W35:GS35)-SUM($W38:GR38))*$P41/12)","v":0},{"$f":"IF(GT$4=\"\",0,(SUM($W35:GT35)-SUM($W38:GS38))*$P41/12)","v":0},{"$f":"IF(GU$4=\"\",0,(SUM($W35:GU35)-SUM($W38:GT38))*$P41/12)","v":0},{"$f":"IF(GV$4=\"\",0,(SUM($W35:GV35)-SUM($W38:GU38))*$P41/12)","v":0}]
[null,{"$f":"ROW()","v":40},null,null,null,null,null,"Ежемесячные платежи по лизингу",{"$f":"I39","v":"Возврат %% по кредиту"},"срок кредитования",null,null,"кол-во мес.",null,"*",null,null,null,null,null,null,null,null,{"$f":"IF(X$4=\"\",0,IF(X$8>$P40,0,IF((POWER(1+$P41/12,($P40-X$8+1))-1)=0,0,((POWER(1+$P41/12,($P40-X$8+1)))/(POWER(1+$P41/12,($P40-X$8+1))-1)))))","v":0},0,0,0,0,0,0,0,0,0,0,0,0,0,0,0,0,0,0,0,0,0,0,0,0,0,0,0,0,0,0,0,0,0,0,0,0,0,0,0,0,0,0,0,0,0,0,0,0,0,0,0,0,0,0,0,0,0,0,0,0,0,0,0,{"$f":"IF(CJ$4=\"\",0,IF(CJ$8>$P40,0,IF((POWER(1+$P41/12,($P40-CJ$8+1))-1)=0,0,((POWER(1+$P41/12,($P40-CJ$8+1)))/(POWER(1+$P41/12,($P40-CJ$8+1))-1)))))","v":0},0,0,0,0,0,0,0,0,0,0,0,0,0,0,0,0,0,0,0,0,0,0,0,0,0,0,0,0,0,0,0,0,0,0,0,0,0,0,0,0,0,0,0,0,0,0,0,0,0,0,0,0,0,0,0,0,0,0,0,0,0,0,0,{"$f":"IF(EV$4=\"\",0,IF(EV$8>$P40,0,IF((POWER(1+$P41/12,($P40-EV$8+1))-1)=0,0,((POWER(1+$P41/12,($P40-EV$8+1)))/(POWER(1+$P41/12,($P40-EV$8+1))-1)))))","v":0},0,0,0,0,0,0,0,0,0,0,0,0,0,0,0,0,0,0,0,0,0,0,0,0,0,0,0,0,0,0,0,0,0,0,0,0,0,0,0,0,0,0,0,0,0,0,0,0,0,0,0,{"$f":"IF(GV$4=\"\",0,IF(GV$8>$P40,0,IF((POWER(1+$P41/12,($P40-GV$8+1))-1)=0,0,((POWER(1+$P41/12,($P40-GV$8+1)))/(POWER(1+$P41/12,($P40-GV$8+1))-1)))))","v":0}]
[null,{"$f":"ROW()","v":41},null,null,null,null,null,"Ежемесячные платежи по лизингу",{"$f":"I40","v":"Возврат %% по кредиту"},"годовая ставка по кредиту",null,null,"%г",null,"*",null,null,null,null,null,null,null,null,{"$f":"IF(X$4=\"\",0,IF(X$8>$P40,0,IF(X$8<=IF($P43>=$P40,0,$P43),0,IF(X$8=IF($P43>=$P40,0,$P43)+1,SUM($W35:X35),X35))*(1-$P42)*$P41/12))","v":0},{"$f":"IF(Y$4=\"\",0,IF(Y$8>$P40,0,IF(Y$8<=IF($P43>=$P40,0,$P43),0,IF(Y$8=IF($P43>=$P40,0,$P43)+1,SUM($W35:Y35),Y35))*(1-$P42)*$P41/12))","v":0},{"$f":"IF(Z$4=\"\",0,IF(Z$8>$P40,0,IF(Z$8<=IF($P43>=$P40,0,$P43),0,IF(Z$8=IF($P43>=$P40,0,$P43)+1,SUM($W35:Z35),Z35))*(1-$P42)*$P41/12))","v":0},{"$f":"IF(AA$4=\"\",0,IF(AA$8>$P40,0,IF(AA$8<=IF($P43>=$P40,0,$P43),0,IF(AA$8=IF($P43>=$P40,0,$P43)+1,SUM($W35:AA35),AA35))*(1-$P42)*$P41/12))","v":0},{"$f":"IF(AB$4=\"\",0,IF(AB$8>$P40,0,IF(AB$8<=IF($P43>=$P40,0,$P43),0,IF(AB$8=IF($P43>=$P40,0,$P43)+1,SUM($W35:AB35),AB35))*(1-$P42)*$P41/12))","v":0},{"$f":"IF(AC$4=\"\",0,IF(AC$8>$P40,0,IF(AC$8<=IF($P43>=$P40,0,$P43),0,IF(AC$8=IF($P43>=$P40,0,$P43)+1,SUM($W35:AC35),AC35))*(1-$P42)*$P41/12))","v":0},{"$f":"IF(AD$4=\"\",0,IF(AD$8>$P40,0,IF(AD$8<=IF($P43>=$P40,0,$P43),0,IF(AD$8=IF($P43>=$P40,0,$P43)+1,SUM($W35:AD35),AD35))*(1-$P42)*$P41/12))","v":0},{"$f":"IF(AE$4=\"\",0,IF(AE$8>$P40,0,IF(AE$8<=IF($P43>=$P40,0,$P43),0,IF(AE$8=IF($P43>=$P40,0,$P43)+1,SUM($W35:AE35),AE35))*(1-$P42)*$P41/12))","v":0},{"$f":"IF(AF$4=\"\",0,IF(AF$8>$P40,0,IF(AF$8<=IF($P43>=$P40,0,$P43),0,IF(AF$8=IF($P43>=$P40,0,$P43)+1,SUM($W35:AF35),AF35))*(1-$P42)*$P41/12))","v":0},{"$f":"IF(AG$4=\"\",0,IF(AG$8>$P40,0,IF(AG$8<=IF($P43>=$P40,0,$P43),0,IF(AG$8=IF($P43>=$P40,0,$P43)+1,SUM($W35:AG35),AG35))*(1-$P42)*$P41/12))","v":0},{"$f":"IF(AH$4=\"\",0,IF(AH$8>$P40,0,IF(AH$8<=IF($P43>=$P40,0,$P43),0,IF(AH$8=IF($P43>=$P40,0,$P43)+1,SUM($W35:AH35),AH35))*(1-$P42)*$P41/12))","v":0},{"$f":"IF(AI$4=\"\",0,IF(AI$8>$P40,0,IF(AI$8<=IF($P43>=$P40,0,$P43),0,IF(AI$8=IF($P43>=$P40,0,$P43)+1,SUM($W35:AI35),AI35))*(1-$P42)*$P41/12))","v":0},{"$f":"IF(AJ$4=\"\",0,IF(AJ$8>$P40,0,IF(AJ$8<=IF($P43>=$P40,0,$P43),0,IF(AJ$8=IF($P43>=$P40,0,$P43)+1,SUM($W35:AJ35),AJ35))*(1-$P42)*$P41/12))","v":0},{"$f":"IF(AK$4=\"\",0,IF(AK$8>$P40,0,IF(AK$8<=IF($P43>=$P40,0,$P43),0,IF(AK$8=IF($P43>=$P40,0,$P43)+1,SUM($W35:AK35),AK35))*(1-$P42)*$P41/12))","v":0},{"$f":"IF(AL$4=\"\",0,IF(AL$8>$P40,0,IF(AL$8<=IF($P43>=$P40,0,$P43),0,IF(AL$8=IF($P43>=$P40,0,$P43)+1,SUM($W35:AL35),AL35))*(1-$P42)*$P41/12))","v":0},{"$f":"IF(AM$4=\"\",0,IF(AM$8>$P40,0,IF(AM$8<=IF($P43>=$P40,0,$P43),0,IF(AM$8=IF($P43>=$P40,0,$P43)+1,SUM($W35:AM35),AM35))*(1-$P42)*$P41/12))","v":0},{"$f":"IF(AN$4=\"\",0,IF(AN$8>$P40,0,IF(AN$8<=IF($P43>=$P40,0,$P43),0,IF(AN$8=IF($P43>=$P40,0,$P43)+1,SUM($W35:AN35),AN35))*(1-$P42)*$P41/12))","v":0},{"$f":"IF(AO$4=\"\",0,IF(AO$8>$P40,0,IF(AO$8<=IF($P43>=$P40,0,$P43),0,IF(AO$8=IF($P43>=$P40,0,$P43)+1,SUM($W35:AO35),AO35))*(1-$P42)*$P41/12))","v":0},{"$f":"IF(AP$4=\"\",0,IF(AP$8>$P40,0,IF(AP$8<=IF($P43>=$P40,0,$P43),0,IF(AP$8=IF($P43>=$P40,0,$P43)+1,SUM($W35:AP35),AP35))*(1-$P42)*$P41/12))","v":0},{"$f":"IF(AQ$4=\"\",0,IF(AQ$8>$P40,0,IF(AQ$8<=IF($P43>=$P40,0,$P43),0,IF(AQ$8=IF($P43>=$P40,0,$P43)+1,SUM($W35:AQ35),AQ35))*(1-$P42)*$P41/12))","v":0},{"$f":"IF(AR$4=\"\",0,IF(AR$8>$P40,0,IF(AR$8<=IF($P43>=$P40,0,$P43),0,IF(AR$8=IF($P43>=$P40,0,$P43)+1,SUM($W35:AR35),AR35))*(1-$P42)*$P41/12))","v":0},{"$f":"IF(AS$4=\"\",0,IF(AS$8>$P40,0,IF(AS$8<=IF($P43>=$P40,0,$P43),0,IF(AS$8=IF($P43>=$P40,0,$P43)+1,SUM($W35:AS35),AS35))*(1-$P42)*$P41/12))","v":0},{"$f":"IF(AT$4=\"\",0,IF(AT$8>$P40,0,IF(AT$8<=IF($P43>=$P40,0,$P43),0,IF(AT$8=IF($P43>=$P40,0,$P43)+1,SUM($W35:AT35),AT35))*(1-$P42)*$P41/12))","v":0},{"$f":"IF(AU$4=\"\",0,IF(AU$8>$P40,0,IF(AU$8<=IF($P43>=$P40,0,$P43),0,IF(AU$8=IF($P43>=$P40,0,$P43)+1,SUM($W35:AU35),AU35))*(1-$P42)*$P41/12))","v":0},{"$f":"IF(AV$4=\"\",0,IF(AV$8>$P40,0,IF(AV$8<=IF($P43>=$P40,0,$P43),0,IF(AV$8=IF($P43>=$P40,0,$P43)+1,SUM($W35:AV35),AV35))*(1-$P42)*$P41/12))","v":0},{"$f":"IF(AW$4=\"\",0,IF(AW$8>$P40,0,IF(AW$8<=IF($P43>=$P40,0,$P43),0,IF(AW$8=IF($P43>=$P40,0,$P43)+1,SUM($W35:AW35),AW35))*(1-$P42)*$P41/12))","v":0},{"$f":"IF(AX$4=\"\",0,IF(AX$8>$P40,0,IF(AX$8<=IF($P43>=$P40,0,$P43),0,IF(AX$8=IF($P43>=$P40,0,$P43)+1,SUM($W35:AX35),AX35))*(1-$P42)*$P41/12))","v":0},{"$f":"IF(AY$4=\"\",0,IF(AY$8>$P40,0,IF(AY$8<=IF($P43>=$P40,0,$P43),0,IF(AY$8=IF($P43>=$P40,0,$P43)+1,SUM($W35:AY35),AY35))*(1-$P42)*$P41/12))","v":0},{"$f":"IF(AZ$4=\"\",0,IF(AZ$8>$P40,0,IF(AZ$8<=IF($P43>=$P40,0,$P43),0,IF(AZ$8=IF($P43>=$P40,0,$P43)+1,SUM($W35:AZ35),AZ35))*(1-$P42)*$P41/12))","v":0},{"$f":"IF(BA$4=\"\",0,IF(BA$8>$P40,0,IF(BA$8<=IF($P43>=$P40,0,$P43),0,IF(BA$8=IF($P43>=$P40,0,$P43)+1,SUM($W35:BA35),BA35))*(1-$P42)*$P41/12))","v":0},{"$f":"IF(BB$4=\"\",0,IF(BB$8>$P40,0,IF(BB$8<=IF($P43>=$P40,0,$P43),0,IF(BB$8=IF($P43>=$P40,0,$P43)+1,SUM($W35:BB35),BB35))*(1-$P42)*$P41/12))","v":0},{"$f":"IF(BC$4=\"\",0,IF(BC$8>$P40,0,IF(BC$8<=IF($P43>=$P40,0,$P43),0,IF(BC$8=IF($P43>=$P40,0,$P43)+1,SUM($W35:BC35),BC35))*(1-$P42)*$P41/12))","v":0},{"$f":"IF(BD$4=\"\",0,IF(BD$8>$P40,0,IF(BD$8<=IF($P43>=$P40,0,$P43),0,IF(BD$8=IF($P43>=$P40,0,$P43)+1,SUM($W35:BD35),BD35))*(1-$P42)*$P41/12))","v":0},{"$f":"IF(BE$4=\"\",0,IF(BE$8>$P40,0,IF(BE$8<=IF($P43>=$P40,0,$P43),0,IF(BE$8=IF($P43>=$P40,0,$P43)+1,SUM($W35:BE35),BE35))*(1-$P42)*$P41/12))","v":0},{"$f":"IF(BF$4=\"\",0,IF(BF$8>$P40,0,IF(BF$8<=IF($P43>=$P40,0,$P43),0,IF(BF$8=IF($P43>=$P40,0,$P43)+1,SUM($W35:BF35),BF35))*(1-$P42)*$P41/12))","v":0},{"$f":"IF(BG$4=\"\",0,IF(BG$8>$P40,0,IF(BG$8<=IF($P43>=$P40,0,$P43),0,IF(BG$8=IF($P43>=$P40,0,$P43)+1,SUM($W35:BG35),BG35))*(1-$P42)*$P41/12))","v":0},{"$f":"IF(BH$4=\"\",0,IF(BH$8>$P40,0,IF(BH$8<=IF($P43>=$P40,0,$P43),0,IF(BH$8=IF($P43>=$P40,0,$P43)+1,SUM($W35:BH35),BH35))*(1-$P42)*$P41/12))","v":0},{"$f":"IF(BI$4=\"\",0,IF(BI$8>$P40,0,IF(BI$8<=IF($P43>=$P40,0,$P43),0,IF(BI$8=IF($P43>=$P40,0,$P43)+1,SUM($W35:BI35),BI35))*(1-$P42)*$P41/12))","v":0},{"$f":"IF(BJ$4=\"\",0,IF(BJ$8>$P40,0,IF(BJ$8<=IF($P43>=$P40,0,$P43),0,IF(BJ$8=IF($P43>=$P40,0,$P43)+1,SUM($W35:BJ35),BJ35))*(1-$P42)*$P41/12))","v":0},{"$f":"IF(BK$4=\"\",0,IF(BK$8>$P40,0,IF(BK$8<=IF($P43>=$P40,0,$P43),0,IF(BK$8=IF($P43>=$P40,0,$P43)+1,SUM($W35:BK35),BK35))*(1-$P42)*$P41/12))","v":0},{"$f":"IF(BL$4=\"\",0,IF(BL$8>$P40,0,IF(BL$8<=IF($P43>=$P40,0,$P43),0,IF(BL$8=IF($P43>=$P40,0,$P43)+1,SUM($W35:BL35),BL35))*(1-$P42)*$P41/12))","v":0},{"$f":"IF(BM$4=\"\",0,IF(BM$8>$P40,0,IF(BM$8<=IF($P43>=$P40,0,$P43),0,IF(BM$8=IF($P43>=$P40,0,$P43)+1,SUM($W35:BM35),BM35))*(1-$P42)*$P41/12))","v":0},{"$f":"IF(BN$4=\"\",0,IF(BN$8>$P40,0,IF(BN$8<=IF($P43>=$P40,0,$P43),0,IF(BN$8=IF($P43>=$P40,0,$P43)+1,SUM($W35:BN35),BN35))*(1-$P42)*$P41/12))","v":0},{"$f":"IF(BO$4=\"\",0,IF(BO$8>$P40,0,IF(BO$8<=IF($P43>=$P40,0,$P43),0,IF(BO$8=IF($P43>=$P40,0,$P43)+1,SUM($W35:BO35),BO35))*(1-$P42)*$P41/12))","v":0},{"$f":"IF(BP$4=\"\",0,IF(BP$8>$P40,0,IF(BP$8<=IF($P43>=$P40,0,$P43),0,IF(BP$8=IF($P43>=$P40,0,$P43)+1,SUM($W35:BP35),BP35))*(1-$P42)*$P41/12))","v":0},{"$f":"IF(BQ$4=\"\",0,IF(BQ$8>$P40,0,IF(BQ$8<=IF($P43>=$P40,0,$P43),0,IF(BQ$8=IF($P43>=$P40,0,$P43)+1,SUM($W35:BQ35),BQ35))*(1-$P42)*$P41/12))","v":0},{"$f":"IF(BR$4=\"\",0,IF(BR$8>$P40,0,IF(BR$8<=IF($P43>=$P40,0,$P43),0,IF(BR$8=IF($P43>=$P40,0,$P43)+1,SUM($W35:BR35),BR35))*(1-$P42)*$P41/12))","v":0},{"$f":"IF(BS$4=\"\",0,IF(BS$8>$P40,0,IF(BS$8<=IF($P43>=$P40,0,$P43),0,IF(BS$8=IF($P43>=$P40,0,$P43)+1,SUM($W35:BS35),BS35))*(1-$P42)*$P41/12))","v":0},{"$f":"IF(BT$4=\"\",0,IF(BT$8>$P40,0,IF(BT$8<=IF($P43>=$P40,0,$P43),0,IF(BT$8=IF($P43>=$P40,0,$P43)+1,SUM($W35:BT35),BT35))*(1-$P42)*$P41/12))","v":0},{"$f":"IF(BU$4=\"\",0,IF(BU$8>$P40,0,IF(BU$8<=IF($P43>=$P40,0,$P43),0,IF(BU$8=IF($P43>=$P40,0,$P43)+1,SUM($W35:BU35),BU35))*(1-$P42)*$P41/12))","v":0},{"$f":"IF(BV$4=\"\",0,IF(BV$8>$P40,0,IF(BV$8<=IF($P43>=$P40,0,$P43),0,IF(BV$8=IF($P43>=$P40,0,$P43)+1,SUM($W35:BV35),BV35))*(1-$P42)*$P41/12))","v":0},{"$f":"IF(BW$4=\"\",0,IF(BW$8>$P40,0,IF(BW$8<=IF($P43>=$P40,0,$P43),0,IF(BW$8=IF($P43>=$P40,0,$P43)+1,SUM($W35:BW35),BW35))*(1-$P42)*$P41/12))","v":0},{"$f":"IF(BX$4=\"\",0,IF(BX$8>$P40,0,IF(BX$8<=IF($P43>=$P40,0,$P43),0,IF(BX$8=IF($P43>=$P40,0,$P43)+1,SUM($W35:BX35),BX35))*(1-$P42)*$P41/12))","v":0},{"$f":"IF(BY$4=\"\",0,IF(BY$8>$P40,0,IF(BY$8<=IF($P43>=$P40,0,$P43),0,IF(BY$8=IF($P43>=$P40,0,$P43)+1,SUM($W35:BY35),BY35))*(1-$P42)*$P41/12))","v":0},{"$f":"IF(BZ$4=\"\",0,IF(BZ$8>$P40,0,IF(BZ$8<=IF($P43>=$P40,0,$P43),0,IF(BZ$8=IF($P43>=$P40,0,$P43)+1,SUM($W35:BZ35),BZ35))*(1-$P42)*$P41/12))","v":0},{"$f":"IF(CA$4=\"\",0,IF(CA$8>$P40,0,IF(CA$8<=IF($P43>=$P40,0,$P43),0,IF(CA$8=IF($P43>=$P40,0,$P43)+1,SUM($W35:CA35),CA35))*(1-$P42)*$P41/12))","v":0},{"$f":"IF(CB$4=\"\",0,IF(CB$8>$P40,0,IF(CB$8<=IF($P43>=$P40,0,$P43),0,IF(CB$8=IF($P43>=$P40,0,$P43)+1,SUM($W35:CB35),CB35))*(1-$P42)*$P41/12))","v":0},{"$f":"IF(CC$4=\"\",0,IF(CC$8>$P40,0,IF(CC$8<=IF($P43>=$P40,0,$P43),0,IF(CC$8=IF($P43>=$P40,0,$P43)+1,SUM($W35:CC35),CC35))*(1-$P42)*$P41/12))","v":0},{"$f":"IF(CD$4=\"\",0,IF(CD$8>$P40,0,IF(CD$8<=IF($P43>=$P40,0,$P43),0,IF(CD$8=IF($P43>=$P40,0,$P43)+1,SUM($W35:CD35),CD35))*(1-$P42)*$P41/12))","v":0},{"$f":"IF(CE$4=\"\",0,IF(CE$8>$P40,0,IF(CE$8<=IF($P43>=$P40,0,$P43),0,IF(CE$8=IF($P43>=$P40,0,$P43)+1,SUM($W35:CE35),CE35))*(1-$P42)*$P41/12))","v":0},{"$f":"IF(CF$4=\"\",0,IF(CF$8>$P40,0,IF(CF$8<=IF($P43>=$P40,0,$P43),0,IF(CF$8=IF($P43>=$P40,0,$P43)+1,SUM($W35:CF35),CF35))*(1-$P42)*$P41/12))","v":0},{"$f":"IF(CG$4=\"\",0,IF(CG$8>$P40,0,IF(CG$8<=IF($P43>=$P40,0,$P43),0,IF(CG$8=IF($P43>=$P40,0,$P43)+1,SUM($W35:CG35),CG35))*(1-$P42)*$P41/12))","v":0},{"$f":"IF(CH$4=\"\",0,IF(CH$8>$P40,0,IF(CH$8<=IF($P43>=$P40,0,$P43),0,IF(CH$8=IF($P43>=$P40,0,$P43)+1,SUM($W35:CH35),CH35))*(1-$P42)*$P41/12))","v":0},{"$f":"IF(CI$4=\"\",0,IF(CI$8>$P40,0,IF(CI$8<=IF($P43>=$P40,0,$P43),0,IF(CI$8=IF($P43>=$P40,0,$P43)+1,SUM($W35:CI35),CI35))*(1-$P42)*$P41/12))","v":0},{"$f":"IF(CJ$4=\"\",0,IF(CJ$8>$P40,0,IF(CJ$8<=IF($P43>=$P40,0,$P43),0,IF(CJ$8=IF($P43>=$P40,0,$P43)+1,SUM($W35:CJ35),CJ35))*(1-$P42)*$P41/12))","v":0},{"$f":"IF(CK$4=\"\",0,IF(CK$8>$P40,0,IF(CK$8<=IF($P43>=$P40,0,$P43),0,IF(CK$8=IF($P43>=$P40,0,$P43)+1,SUM($W35:CK35),CK35))*(1-$P42)*$P41/12))","v":0},{"$f":"IF(CL$4=\"\",0,IF(CL$8>$P40,0,IF(CL$8<=IF($P43>=$P40,0,$P43),0,IF(CL$8=IF($P43>=$P40,0,$P43)+1,SUM($W35:CL35),CL35))*(1-$P42)*$P41/12))","v":0},{"$f":"IF(CM$4=\"\",0,IF(CM$8>$P40,0,IF(CM$8<=IF($P43>=$P40,0,$P43),0,IF(CM$8=IF($P43>=$P40,0,$P43)+1,SUM($W35:CM35),CM35))*(1-$P42)*$P41/12))","v":0},{"$f":"IF(CN$4=\"\",0,IF(CN$8>$P40,0,IF(CN$8<=IF($P43>=$P40,0,$P43),0,IF(CN$8=IF($P43>=$P40,0,$P43)+1,SUM($W35:CN35),CN35))*(1-$P42)*$P41/12))","v":0},{"$f":"IF(CO$4=\"\",0,IF(CO$8>$P40,0,IF(CO$8<=IF($P43>=$P40,0,$P43),0,IF(CO$8=IF($P43>=$P40,0,$P43)+1,SUM($W35:CO35),CO35))*(1-$P42)*$P41/12))","v":0},{"$f":"IF(CP$4=\"\",0,IF(CP$8>$P40,0,IF(CP$8<=IF($P43>=$P40,0,$P43),0,IF(CP$8=IF($P43>=$P40,0,$P43)+1,SUM($W35:CP35),CP35))*(1-$P42)*$P41/12))","v":0},{"$f":"IF(CQ$4=\"\",0,IF(CQ$8>$P40,0,IF(CQ$8<=IF($P43>=$P40,0,$P43),0,IF(CQ$8=IF($P43>=$P40,0,$P43)+1,SUM($W35:CQ35),CQ35))*(1-$P42)*$P41/12))","v":0},{"$f":"IF(CR$4=\"\",0,IF(CR$8>$P40,0,IF(CR$8<=IF($P43>=$P40,0,$P43),0,IF(CR$8=IF($P43>=$P40,0,$P43)+1,SUM($W35:CR35),CR35))*(1-$P42)*$P41/12))","v":0},{"$f":"IF(CS$4=\"\",0,IF(CS$8>$P40,0,IF(CS$8<=IF($P43>=$P40,0,$P43),0,IF(CS$8=IF($P43>=$P40,0,$P43)+1,SUM($W35:CS35),CS35))*(1-$P42)*$P41/12))","v":0},{"$f":"IF(CT$4=\"\",0,IF(CT$8>$P40,0,IF(CT$8<=IF($P43>=$P40,0,$P43),0,IF(CT$8=IF($P43>=$P40,0,$P43)+1,SUM($W35:CT35),CT35))*(1-$P42)*$P41/12))","v":0},{"$f":"IF(CU$4=\"\",0,IF(CU$8>$P40,0,IF(CU$8<=IF($P43>=$P40,0,$P43),0,IF(CU$8=IF($P43>=$P40,0,$P43)+1,SUM($W35:CU35),CU35))*(1-$P42)*$P41/12))","v":0},{"$f":"IF(CV$4=\"\",0,IF(CV$8>$P40,0,IF(CV$8<=IF($P43>=$P40,0,$P43),0,IF(CV$8=IF($P43>=$P40,0,$P43)+1,SUM($W35:CV35),CV35))*(1-$P42)*$P41/12))","v":0},{"$f":"IF(CW$4=\"\",0,IF(CW$8>$P40,0,IF(CW$8<=IF($P43>=$P40,0,$P43),0,IF(CW$8=IF($P43>=$P40,0,$P43)+1,SUM($W35:CW35),CW35))*(1-$P42)*$P41/12))","v":0},{"$f":"IF(CX$4=\"\",0,IF(CX$8>$P40,0,IF(CX$8<=IF($P43>=$P40,0,$P43),0,IF(CX$8=IF($P43>=$P40,0,$P43)+1,SUM($W35:CX35),CX35))*(1-$P42)*$P41/12))","v":0},{"$f":"IF(CY$4=\"\",0,IF(CY$8>$P40,0,IF(CY$8<=IF($P43>=$P40,0,$P43),0,IF(CY$8=IF($P43>=$P40,0,$P43)+1,SUM($W35:CY35),CY35))*(1-$P42)*$P41/12))","v":0},{"$f":"IF(CZ$4=\"\",0,IF(CZ$8>$P40,0,IF(CZ$8<=IF($P43>=$P40,0,$P43),0,IF(CZ$8=IF($P43>=$P40,0,$P43)+1,SUM($W35:CZ35),CZ35))*(1-$P42)*$P41/12))","v":0},{"$f":"IF(DA$4=\"\",0,IF(DA$8>$P40,0,IF(DA$8<=IF($P43>=$P40,0,$P43),0,IF(DA$8=IF($P43>=$P40,0,$P43)+1,SUM($W35:DA35),DA35))*(1-$P42)*$P41/12))","v":0},{"$f":"IF(DB$4=\"\",0,IF(DB$8>$P40,0,IF(DB$8<=IF($P43>=$P40,0,$P43),0,IF(DB$8=IF($P43>=$P40,0,$P43)+1,SUM($W35:DB35),DB35))*(1-$P42)*$P41/12))","v":0},{"$f":"IF(DC$4=\"\",0,IF(DC$8>$P40,0,IF(DC$8<=IF($P43>=$P40,0,$P43),0,IF(DC$8=IF($P43>=$P40,0,$P43)+1,SUM($W35:DC35),DC35))*(1-$P42)*$P41/12))","v":0},{"$f":"IF(DD$4=\"\",0,IF(DD$8>$P40,0,IF(DD$8<=IF($P43>=$P40,0,$P43),0,IF(DD$8=IF($P43>=$P40,0,$P43)+1,SUM($W35:DD35),DD35))*(1-$P42)*$P41/12))","v":0},{"$f":"IF(DE$4=\"\",0,IF(DE$8>$P40,0,IF(DE$8<=IF($P43>=$P40,0,$P43),0,IF(DE$8=IF($P43>=$P40,0,$P43)+1,SUM($W35:DE35),DE35))*(1-$P42)*$P41/12))","v":0},{"$f":"IF(DF$4=\"\",0,IF(DF$8>$P40,0,IF(DF$8<=IF($P43>=$P40,0,$P43),0,IF(DF$8=IF($P43>=$P40,0,$P43)+1,SUM($W35:DF35),DF35))*(1-$P42)*$P41/12))","v":0},{"$f":"IF(DG$4=\"\",0,IF(DG$8>$P40,0,IF(DG$8<=IF($P43>=$P40,0,$P43),0,IF(DG$8=IF($P43>=$P40,0,$P43)+1,SUM($W35:DG35),DG35))*(1-$P42)*$P41/12))","v":0},{"$f":"IF(DH$4=\"\",0,IF(DH$8>$P40,0,IF(DH$8<=IF($P43>=$P40,0,$P43),0,IF(DH$8=IF($P43>=$P40,0,$P43)+1,SUM($W35:DH35),DH35))*(1-$P42)*$P41/12))","v":0},{"$f":"IF(DI$4=\"\",0,IF(DI$8>$P40,0,IF(DI$8<=IF($P43>=$P40,0,$P43),0,IF(DI$8=IF($P43>=$P40,0,$P43)+1,SUM($W35:DI35),DI35))*(1-$P42)*$P41/12))","v":0},{"$f":"IF(DJ$4=\"\",0,IF(DJ$8>$P40,0,IF(DJ$8<=IF($P43>=$P40,0,$P43),0,IF(DJ$8=IF($P43>=$P40,0,$P43)+1,SUM($W35:DJ35),DJ35))*(1-$P42)*$P41/12))","v":0},{"$f":"IF(DK$4=\"\",0,IF(DK$8>$P40,0,IF(DK$8<=IF($P43>=$P40,0,$P43),0,IF(DK$8=IF($P43>=$P40,0,$P43)+1,SUM($W35:DK35),DK35))*(1-$P42)*$P41/12))","v":0},{"$f":"IF(DL$4=\"\",0,IF(DL$8>$P40,0,IF(DL$8<=IF($P43>=$P40,0,$P43),0,IF(DL$8=IF($P43>=$P40,0,$P43)+1,SUM($W35:DL35),DL35))*(1-$P42)*$P41/12))","v":0},{"$f":"IF(DM$4=\"\",0,IF(DM$8>$P40,0,IF(DM$8<=IF($P43>=$P40,0,$P43),0,IF(DM$8=IF($P43>=$P40,0,$P43)+1,SUM($W35:DM35),DM35))*(1-$P42)*$P41/12))","v":0},{"$f":"IF(DN$4=\"\",0,IF(DN$8>$P40,0,IF(DN$8<=IF($P43>=$P40,0,$P43),0,IF(DN$8=IF($P43>=$P40,0,$P43)+1,SUM($W35:DN35),DN35))*(1-$P42)*$P41/12))","v":0},{"$f":"IF(DO$4=\"\",0,IF(DO$8>$P40,0,IF(DO$8<=IF($P43>=$P40,0,$P43),0,IF(DO$8=IF($P43>=$P40,0,$P43)+1,SUM($W35:DO35),DO35))*(1-$P42)*$P41/12))","v":0},{"$f":"IF(DP$4=\"\",0,IF(DP$8>$P40,0,IF(DP$8<=IF($P43>=$P40,0,$P43),0,IF(DP$8=IF($P43>=$P40,0,$P43)+1,SUM($W35:DP35),DP35))*(1-$P42)*$P41/12))","v":0},{"$f":"IF(DQ$4=\"\",0,IF(DQ$8>$P40,0,IF(DQ$8<=IF($P43>=$P40,0,$P43),0,IF(DQ$8=IF($P43>=$P40,0,$P43)+1,SUM($W35:DQ35),DQ35))*(1-$P42)*$P41/12))","v":0},{"$f":"IF(DR$4=\"\",0,IF(DR$8>$P40,0,IF(DR$8<=IF($P43>=$P40,0,$P43),0,IF(DR$8=IF($P43>=$P40,0,$P43)+1,SUM($W35:DR35),DR35))*(1-$P42)*$P41/12))","v":0},{"$f":"IF(DS$4=\"\",0,IF(DS$8>$P40,0,IF(DS$8<=IF($P43>=$P40,0,$P43),0,IF(DS$8=IF($P43>=$P40,0,$P43)+1,SUM($W35:DS35),DS35))*(1-$P42)*$P41/12))","v":0},{"$f":"IF(DT$4=\"\",0,IF(DT$8>$P40,0,IF(DT$8<=IF($P43>=$P40,0,$P43),0,IF(DT$8=IF($P43>=$P40,0,$P43)+1,SUM($W35:DT35),DT35))*(1-$P42)*$P41/12))","v":0},{"$f":"IF(DU$4=\"\",0,IF(DU$8>$P40,0,IF(DU$8<=IF($P43>=$P40,0,$P43),0,IF(DU$8=IF($P43>=$P40,0,$P43)+1,SUM($W35:DU35),DU35))*(1-$P42)*$P41/12))","v":0},{"$f":"IF(DV$4=\"\",0,IF(DV$8>$P40,0,IF(DV$8<=IF($P43>=$P40,0,$P43),0,IF(DV$8=IF($P43>=$P40,0,$P43)+1,SUM($W35:DV35),DV35))*(1-$P42)*$P41/12))","v":0},{"$f":"IF(DW$4=\"\",0,IF(DW$8>$P40,0,IF(DW$8<=IF($P43>=$P40,0,$P43),0,IF(DW$8=IF($P43>=$P40,0,$P43)+1,SUM($W35:DW35),DW35))*(1-$P42)*$P41/12))","v":0},{"$f":"IF(DX$4=\"\",0,IF(DX$8>$P40,0,IF(DX$8<=IF($P43>=$P40,0,$P43),0,IF(DX$8=IF($P43>=$P40,0,$P43)+1,SUM($W35:DX35),DX35))*(1-$P42)*$P41/12))","v":0},{"$f":"IF(DY$4=\"\",0,IF(DY$8>$P40,0,IF(DY$8<=IF($P43>=$P40,0,$P43),0,IF(DY$8=IF($P43>=$P40,0,$P43)+1,SUM($W35:DY35),DY35))*(1-$P42)*$P41/12))","v":0},{"$f":"IF(DZ$4=\"\",0,IF(DZ$8>$P40,0,IF(DZ$8<=IF($P43>=$P40,0,$P43),0,IF(DZ$8=IF($P43>=$P40,0,$P43)+1,SUM($W35:DZ35),DZ35))*(1-$P42)*$P41/12))","v":0},{"$f":"IF(EA$4=\"\",0,IF(EA$8>$P40,0,IF(EA$8<=IF($P43>=$P40,0,$P43),0,IF(EA$8=IF($P43>=$P40,0,$P43)+1,SUM($W35:EA35),EA35))*(1-$P42)*$P41/12))","v":0},{"$f":"IF(EB$4=\"\",0,IF(EB$8>$P40,0,IF(EB$8<=IF($P43>=$P40,0,$P43),0,IF(EB$8=IF($P43>=$P40,0,$P43)+1,SUM($W35:EB35),EB35))*(1-$P42)*$P41/12))","v":0},{"$f":"IF(EC$4=\"\",0,IF(EC$8>$P40,0,IF(EC$8<=IF($P43>=$P40,0,$P43),0,IF(EC$8=IF($P43>=$P40,0,$P43)+1,SUM($W35:EC35),EC35))*(1-$P42)*$P41/12))","v":0},{"$f":"IF(ED$4=\"\",0,IF(ED$8>$P40,0,IF(ED$8<=IF($P43>=$P40,0,$P43),0,IF(ED$8=IF($P43>=$P40,0,$P43)+1,SUM($W35:ED35),ED35))*(1-$P42)*$P41/12))","v":0},{"$f":"IF(EE$4=\"\",0,IF(EE$8>$P40,0,IF(EE$8<=IF($P43>=$P40,0,$P43),0,IF(EE$8=IF($P43>=$P40,0,$P43)+1,SUM($W35:EE35),EE35))*(1-$P42)*$P41/12))","v":0},{"$f":"IF(EF$4=\"\",0,IF(EF$8>$P40,0,IF(EF$8<=IF($P43>=$P40,0,$P43),0,IF(EF$8=IF($P43>=$P40,0,$P43)+1,SUM($W35:EF35),EF35))*(1-$P42)*$P41/12))","v":0},{"$f":"IF(EG$4=\"\",0,IF(EG$8>$P40,0,IF(EG$8<=IF($P43>=$P40,0,$P43),0,IF(EG$8=IF($P43>=$P40,0,$P43)+1,SUM($W35:EG35),EG35))*(1-$P42)*$P41/12))","v":0},{"$f":"IF(EH$4=\"\",0,IF(EH$8>$P40,0,IF(EH$8<=IF($P43>=$P40,0,$P43),0,IF(EH$8=IF($P43>=$P40,0,$P43)+1,SUM($W35:EH35),EH35))*(1-$P42)*$P41/12))","v":0},{"$f":"IF(EI$4=\"\",0,IF(EI$8>$P40,0,IF(EI$8<=IF($P43>=$P40,0,$P43),0,IF(EI$8=IF($P43>=$P40,0,$P43)+1,SUM($W35:EI35),EI35))*(1-$P42)*$P41/12))","v":0},{"$f":"IF(EJ$4=\"\",0,IF(EJ$8>$P40,0,IF(EJ$8<=IF($P43>=$P40,0,$P43),0,IF(EJ$8=IF($P43>=$P40,0,$P43)+1,SUM($W35:EJ35),EJ35))*(1-$P42)*$P41/12))","v":0},{"$f":"IF(EK$4=\"\",0,IF(EK$8>$P40,0,IF(EK$8<=IF($P43>=$P40,0,$P43),0,IF(EK$8=IF($P43>=$P40,0,$P43)+1,SUM($W35:EK35),EK35))*(1-$P42)*$P41/12))","v":0},{"$f":"IF(EL$4=\"\",0,IF(EL$8>$P40,0,IF(EL$8<=IF($P43>=$P40,0,$P43),0,IF(EL$8=IF($P43>=$P40,0,$P43)+1,SUM($W35:EL35),EL35))*(1-$P42)*$P41/12))","v":0},{"$f":"IF(EM$4=\"\",0,IF(EM$8>$P40,0,IF(EM$8<=IF($P43>=$P40,0,$P43),0,IF(EM$8=IF($P43>=$P40,0,$P43)+1,SUM($W35:EM35),EM35))*(1-$P42)*$P41/12))","v":0},{"$f":"IF(EN$4=\"\",0,IF(EN$8>$P40,0,IF(EN$8<=IF($P43>=$P40,0,$P43),0,IF(EN$8=IF($P43>=$P40,0,$P43)+1,SUM($W35:EN35),EN35))*(1-$P42)*$P41/12))","v":0},{"$f":"IF(EO$4=\"\",0,IF(EO$8>$P40,0,IF(EO$8<=IF($P43>=$P40,0,$P43),0,IF(EO$8=IF($P43>=$P40,0,$P43)+1,SUM($W35:EO35),EO35))*(1-$P42)*$P41/12))","v":0},{"$f":"IF(EP$4=\"\",0,IF(EP$8>$P40,0,IF(EP$8<=IF($P43>=$P40,0,$P43),0,IF(EP$8=IF($P43>=$P40,0,$P43)+1,SUM($W35:EP35),EP35))*(1-$P42)*$P41/12))","v":0},{"$f":"IF(EQ$4=\"\",0,IF(EQ$8>$P40,0,IF(EQ$8<=IF($P43>=$P40,0,$P43),0,IF(EQ$8=IF($P43>=$P40,0,$P43)+1,SUM($W35:EQ35),EQ35))*(1-$P42)*$P41/12))","v":0},{"$f":"IF(ER$4=\"\",0,IF(ER$8>$P40,0,IF(ER$8<=IF($P43>=$P40,0,$P43),0,IF(ER$8=IF($P43>=$P40,0,$P43)+1,SUM($W35:ER35),ER35))*(1-$P42)*$P41/12))","v":0},{"$f":"IF(ES$4=\"\",0,IF(ES$8>$P40,0,IF(ES$8<=IF($P43>=$P40,0,$P43),0,IF(ES$8=IF($P43>=$P40,0,$P43)+1,SUM($W35:ES35),ES35))*(1-$P42)*$P41/12))","v":0},{"$f":"IF(ET$4=\"\",0,IF(ET$8>$P40,0,IF(ET$8<=IF($P43>=$P40,0,$P43),0,IF(ET$8=IF($P43>=$P40,0,$P43)+1,SUM($W35:ET35),ET35))*(1-$P42)*$P41/12))","v":0},{"$f":"IF(EU$4=\"\",0,IF(EU$8>$P40,0,IF(EU$8<=IF($P43>=$P40,0,$P43),0,IF(EU$8=IF($P43>=$P40,0,$P43)+1,SUM($W35:EU35),EU35))*(1-$P42)*$P41/12))","v":0},{"$f":"IF(EV$4=\"\",0,IF(EV$8>$P40,0,IF(EV$8<=IF($P43>=$P40,0,$P43),0,IF(EV$8=IF($P43>=$P40,0,$P43)+1,SUM($W35:EV35),EV35))*(1-$P42)*$P41/12))","v":0},{"$f":"IF(EW$4=\"\",0,IF(EW$8>$P40,0,IF(EW$8<=IF($P43>=$P40,0,$P43),0,IF(EW$8=IF($P43>=$P40,0,$P43)+1,SUM($W35:EW35),EW35))*(1-$P42)*$P41/12))","v":0},{"$f":"IF(EX$4=\"\",0,IF(EX$8>$P40,0,IF(EX$8<=IF($P43>=$P40,0,$P43),0,IF(EX$8=IF($P43>=$P40,0,$P43)+1,SUM($W35:EX35),EX35))*(1-$P42)*$P41/12))","v":0},{"$f":"IF(EY$4=\"\",0,IF(EY$8>$P40,0,IF(EY$8<=IF($P43>=$P40,0,$P43),0,IF(EY$8=IF($P43>=$P40,0,$P43)+1,SUM($W35:EY35),EY35))*(1-$P42)*$P41/12))","v":0},{"$f":"IF(EZ$4=\"\",0,IF(EZ$8>$P40,0,IF(EZ$8<=IF($P43>=$P40,0,$P43),0,IF(EZ$8=IF($P43>=$P40,0,$P43)+1,SUM($W35:EZ35),EZ35))*(1-$P42)*$P41/12))","v":0},{"$f":"IF(FA$4=\"\",0,IF(FA$8>$P40,0,IF(FA$8<=IF($P43>=$P40,0,$P43),0,IF(FA$8=IF($P43>=$P40,0,$P43)+1,SUM($W35:FA35),FA35))*(1-$P42)*$P41/12))","v":0},{"$f":"IF(FB$4=\"\",0,IF(FB$8>$P40,0,IF(FB$8<=IF($P43>=$P40,0,$P43),0,IF(FB$8=IF($P43>=$P40,0,$P43)+1,SUM($W35:FB35),FB35))*(1-$P42)*$P41/12))","v":0},{"$f":"IF(FC$4=\"\",0,IF(FC$8>$P40,0,IF(FC$8<=IF($P43>=$P40,0,$P43),0,IF(FC$8=IF($P43>=$P40,0,$P43)+1,SUM($W35:FC35),FC35))*(1-$P42)*$P41/12))","v":0},{"$f":"IF(FD$4=\"\",0,IF(FD$8>$P40,0,IF(FD$8<=IF($P43>=$P40,0,$P43),0,IF(FD$8=IF($P43>=$P40,0,$P43)+1,SUM($W35:FD35),FD35))*(1-$P42)*$P41/12))","v":0},{"$f":"IF(FE$4=\"\",0,IF(FE$8>$P40,0,IF(FE$8<=IF($P43>=$P40,0,$P43),0,IF(FE$8=IF($P43>=$P40,0,$P43)+1,SUM($W35:FE35),FE35))*(1-$P42)*$P41/12))","v":0},{"$f":"IF(FF$4=\"\",0,IF(FF$8>$P40,0,IF(FF$8<=IF($P43>=$P40,0,$P43),0,IF(FF$8=IF($P43>=$P40,0,$P43)+1,SUM($W35:FF35),FF35))*(1-$P42)*$P41/12))","v":0},{"$f":"IF(FG$4=\"\",0,IF(FG$8>$P40,0,IF(FG$8<=IF($P43>=$P40,0,$P43),0,IF(FG$8=IF($P43>=$P40,0,$P43)+1,SUM($W35:FG35),FG35))*(1-$P42)*$P41/12))","v":0},{"$f":"IF(FH$4=\"\",0,IF(FH$8>$P40,0,IF(FH$8<=IF($P43>=$P40,0,$P43),0,IF(FH$8=IF($P43>=$P40,0,$P43)+1,SUM($W35:FH35),FH35))*(1-$P42)*$P41/12))","v":0},{"$f":"IF(FI$4=\"\",0,IF(FI$8>$P40,0,IF(FI$8<=IF($P43>=$P40,0,$P43),0,IF(FI$8=IF($P43>=$P40,0,$P43)+1,SUM($W35:FI35),FI35))*(1-$P42)*$P41/12))","v":0},{"$f":"IF(FJ$4=\"\",0,IF(FJ$8>$P40,0,IF(FJ$8<=IF($P43>=$P40,0,$P43),0,IF(FJ$8=IF($P43>=$P40,0,$P43)+1,SUM($W35:FJ35),FJ35))*(1-$P42)*$P41/12))","v":0},{"$f":"IF(FK$4=\"\",0,IF(FK$8>$P40,0,IF(FK$8<=IF($P43>=$P40,0,$P43),0,IF(FK$8=IF($P43>=$P40,0,$P43)+1,SUM($W35:FK35),FK35))*(1-$P42)*$P41/12))","v":0},{"$f":"IF(FL$4=\"\",0,IF(FL$8>$P40,0,IF(FL$8<=IF($P43>=$P40,0,$P43),0,IF(FL$8=IF($P43>=$P40,0,$P43)+1,SUM($W35:FL35),FL35))*(1-$P42)*$P41/12))","v":0},{"$f":"IF(FM$4=\"\",0,IF(FM$8>$P40,0,IF(FM$8<=IF($P43>=$P40,0,$P43),0,IF(FM$8=IF($P43>=$P40,0,$P43)+1,SUM($W35:FM35),FM35))*(1-$P42)*$P41/12))","v":0},{"$f":"IF(FN$4=\"\",0,IF(FN$8>$P40,0,IF(FN$8<=IF($P43>=$P40,0,$P43),0,IF(FN$8=IF($P43>=$P40,0,$P43)+1,SUM($W35:FN35),FN35))*(1-$P42)*$P41/12))","v":0},{"$f":"IF(FO$4=\"\",0,IF(FO$8>$P40,0,IF(FO$8<=IF($P43>=$P40,0,$P43),0,IF(FO$8=IF($P43>=$P40,0,$P43)+1,SUM($W35:FO35),FO35))*(1-$P42)*$P41/12))","v":0},{"$f":"IF(FP$4=\"\",0,IF(FP$8>$P40,0,IF(FP$8<=IF($P43>=$P40,0,$P43),0,IF(FP$8=IF($P43>=$P40,0,$P43)+1,SUM($W35:FP35),FP35))*(1-$P42)*$P41/12))","v":0},{"$f":"IF(FQ$4=\"\",0,IF(FQ$8>$P40,0,IF(FQ$8<=IF($P43>=$P40,0,$P43),0,IF(FQ$8=IF($P43>=$P40,0,$P43)+1,SUM($W35:FQ35),FQ35))*(1-$P42)*$P41/12))","v":0},{"$f":"IF(FR$4=\"\",0,IF(FR$8>$P40,0,IF(FR$8<=IF($P43>=$P40,0,$P43),0,IF(FR$8=IF($P43>=$P40,0,$P43)+1,SUM($W35:FR35),FR35))*(1-$P42)*$P41/12))","v":0},{"$f":"IF(FS$4=\"\",0,IF(FS$8>$P40,0,IF(FS$8<=IF($P43>=$P40,0,$P43),0,IF(FS$8=IF($P43>=$P40,0,$P43)+1,SUM($W35:FS35),FS35))*(1-$P42)*$P41/12))","v":0},{"$f":"IF(FT$4=\"\",0,IF(FT$8>$P40,0,IF(FT$8<=IF($P43>=$P40,0,$P43),0,IF(FT$8=IF($P43>=$P40,0,$P43)+1,SUM($W35:FT35),FT35))*(1-$P42)*$P41/12))","v":0},{"$f":"IF(FU$4=\"\",0,IF(FU$8>$P40,0,IF(FU$8<=IF($P43>=$P40,0,$P43),0,IF(FU$8=IF($P43>=$P40,0,$P43)+1,SUM($W35:FU35),FU35))*(1-$P42)*$P41/12))","v":0},{"$f":"IF(FV$4=\"\",0,IF(FV$8>$P40,0,IF(FV$8<=IF($P43>=$P40,0,$P43),0,IF(FV$8=IF($P43>=$P40,0,$P43)+1,SUM($W35:FV35),FV35))*(1-$P42)*$P41/12))","v":0},{"$f":"IF(FW$4=\"\",0,IF(FW$8>$P40,0,IF(FW$8<=IF($P43>=$P40,0,$P43),0,IF(FW$8=IF($P43>=$P40,0,$P43)+1,SUM($W35:FW35),FW35))*(1-$P42)*$P41/12))","v":0},{"$f":"IF(FX$4=\"\",0,IF(FX$8>$P40,0,IF(FX$8<=IF($P43>=$P40,0,$P43),0,IF(FX$8=IF($P43>=$P40,0,$P43)+1,SUM($W35:FX35),FX35))*(1-$P42)*$P41/12))","v":0},{"$f":"IF(FY$4=\"\",0,IF(FY$8>$P40,0,IF(FY$8<=IF($P43>=$P40,0,$P43),0,IF(FY$8=IF($P43>=$P40,0,$P43)+1,SUM($W35:FY35),FY35))*(1-$P42)*$P41/12))","v":0},{"$f":"IF(FZ$4=\"\",0,IF(FZ$8>$P40,0,IF(FZ$8<=IF($P43>=$P40,0,$P43),0,IF(FZ$8=IF($P43>=$P40,0,$P43)+1,SUM($W35:FZ35),FZ35))*(1-$P42)*$P41/12))","v":0},{"$f":"IF(GA$4=\"\",0,IF(GA$8>$P40,0,IF(GA$8<=IF($P43>=$P40,0,$P43),0,IF(GA$8=IF($P43>=$P40,0,$P43)+1,SUM($W35:GA35),GA35))*(1-$P42)*$P41/12))","v":0},{"$f":"IF(GB$4=\"\",0,IF(GB$8>$P40,0,IF(GB$8<=IF($P43>=$P40,0,$P43),0,IF(GB$8=IF($P43>=$P40,0,$P43)+1,SUM($W35:GB35),GB35))*(1-$P42)*$P41/12))","v":0},{"$f":"IF(GC$4=\"\",0,IF(GC$8>$P40,0,IF(GC$8<=IF($P43>=$P40,0,$P43),0,IF(GC$8=IF($P43>=$P40,0,$P43)+1,SUM($W35:GC35),GC35))*(1-$P42)*$P41/12))","v":0},{"$f":"IF(GD$4=\"\",0,IF(GD$8>$P40,0,IF(GD$8<=IF($P43>=$P40,0,$P43),0,IF(GD$8=IF($P43>=$P40,0,$P43)+1,SUM($W35:GD35),GD35))*(1-$P42)*$P41/12))","v":0},{"$f":"IF(GE$4=\"\",0,IF(GE$8>$P40,0,IF(GE$8<=IF($P43>=$P40,0,$P43),0,IF(GE$8=IF($P43>=$P40,0,$P43)+1,SUM($W35:GE35),GE35))*(1-$P42)*$P41/12))","v":0},{"$f":"IF(GF$4=\"\",0,IF(GF$8>$P40,0,IF(GF$8<=IF($P43>=$P40,0,$P43),0,IF(GF$8=IF($P43>=$P40,0,$P43)+1,SUM($W35:GF35),GF35))*(1-$P42)*$P41/12))","v":0},{"$f":"IF(GG$4=\"\",0,IF(GG$8>$P40,0,IF(GG$8<=IF($P43>=$P40,0,$P43),0,IF(GG$8=IF($P43>=$P40,0,$P43)+1,SUM($W35:GG35),GG35))*(1-$P42)*$P41/12))","v":0},{"$f":"IF(GH$4=\"\",0,IF(GH$8>$P40,0,IF(GH$8<=IF($P43>=$P40,0,$P43),0,IF(GH$8=IF($P43>=$P40,0,$P43)+1,SUM($W35:GH35),GH35))*(1-$P42)*$P41/12))","v":0},{"$f":"IF(GI$4=\"\",0,IF(GI$8>$P40,0,IF(GI$8<=IF($P43>=$P40,0,$P43),0,IF(GI$8=IF($P43>=$P40,0,$P43)+1,SUM($W35:GI35),GI35))*(1-$P42)*$P41/12))","v":0},{"$f":"IF(GJ$4=\"\",0,IF(GJ$8>$P40,0,IF(GJ$8<=IF($P43>=$P40,0,$P43),0,IF(GJ$8=IF($P43>=$P40,0,$P43)+1,SUM($W35:GJ35),GJ35))*(1-$P42)*$P41/12))","v":0},{"$f":"IF(GK$4=\"\",0,IF(GK$8>$P40,0,IF(GK$8<=IF($P43>=$P40,0,$P43),0,IF(GK$8=IF($P43>=$P40,0,$P43)+1,SUM($W35:GK35),GK35))*(1-$P42)*$P41/12))","v":0},{"$f":"IF(GL$4=\"\",0,IF(GL$8>$P40,0,IF(GL$8<=IF($P43>=$P40,0,$P43),0,IF(GL$8=IF($P43>=$P40,0,$P43)+1,SUM($W35:GL35),GL35))*(1-$P42)*$P41/12))","v":0},{"$f":"IF(GM$4=\"\",0,IF(GM$8>$P40,0,IF(GM$8<=IF($P43>=$P40,0,$P43),0,IF(GM$8=IF($P43>=$P40,0,$P43)+1,SUM($W35:GM35),GM35))*(1-$P42)*$P41/12))","v":0},{"$f":"IF(GN$4=\"\",0,IF(GN$8>$P40,0,IF(GN$8<=IF($P43>=$P40,0,$P43),0,IF(GN$8=IF($P43>=$P40,0,$P43)+1,SUM($W35:GN35),GN35))*(1-$P42)*$P41/12))","v":0},{"$f":"IF(GO$4=\"\",0,IF(GO$8>$P40,0,IF(GO$8<=IF($P43>=$P40,0,$P43),0,IF(GO$8=IF($P43>=$P40,0,$P43)+1,SUM($W35:GO35),GO35))*(1-$P42)*$P41/12))","v":0},{"$f":"IF(GP$4=\"\",0,IF(GP$8>$P40,0,IF(GP$8<=IF($P43>=$P40,0,$P43),0,IF(GP$8=IF($P43>=$P40,0,$P43)+1,SUM($W35:GP35),GP35))*(1-$P42)*$P41/12))","v":0},{"$f":"IF(GQ$4=\"\",0,IF(GQ$8>$P40,0,IF(GQ$8<=IF($P43>=$P40,0,$P43),0,IF(GQ$8=IF($P43>=$P40,0,$P43)+1,SUM($W35:GQ35),GQ35))*(1-$P42)*$P41/12))","v":0},{"$f":"IF(GR$4=\"\",0,IF(GR$8>$P40,0,IF(GR$8<=IF($P43>=$P40,0,$P43),0,IF(GR$8=IF($P43>=$P40,0,$P43)+1,SUM($W35:GR35),GR35))*(1-$P42)*$P41/12))","v":0},{"$f":"IF(GS$4=\"\",0,IF(GS$8>$P40,0,IF(GS$8<=IF($P43>=$P40,0,$P43),0,IF(GS$8=IF($P43>=$P40,0,$P43)+1,SUM($W35:GS35),GS35))*(1-$P42)*$P41/12))","v":0},{"$f":"IF(GT$4=\"\",0,IF(GT$8>$P40,0,IF(GT$8<=IF($P43>=$P40,0,$P43),0,IF(GT$8=IF($P43>=$P40,0,$P43)+1,SUM($W35:GT35),GT35))*(1-$P42)*$P41/12))","v":0},{"$f":"IF(GU$4=\"\",0,IF(GU$8>$P40,0,IF(GU$8<=IF($P43>=$P40,0,$P43),0,IF(GU$8=IF($P43>=$P40,0,$P43)+1,SUM($W35:GU35),GU35))*(1-$P42)*$P41/12))","v":0},{"$f":"IF(GV$4=\"\",0,IF(GV$8>$P40,0,IF(GV$8<=IF($P43>=$P40,0,$P43),0,IF(GV$8=IF($P43>=$P40,0,$P43)+1,SUM($W35:GV35),GV35))*(1-$P42)*$P41/12))","v":0}]
[null,{"$f":"ROW()","v":42},null,null,null,null,null,"Ежемесячные платежи по лизингу","Возврат %% по кредиту","баллон/выкупной",null,null,"%",null,"*"]
[null,{"$f":"ROW()","v":43},null,null,null,null,null,"Ежемесячные платежи по лизингу","Возврат %% по кредиту","каникулы на возврат тела кредита",null,null,"кол-во мес.",null,"*"]
[null,{"$f":"ROW()","v":44}]
[null,{"$f":"ROW()","v":45},null,null,null,null,null,"Денежный поток",null,null,null,null,null,null,null,"CF",null,null,null,null,{"$f":"SUM(INDIRECT(ADDRESS($B45,X$2)&\":\"&ADDRESS($B45,MAX($2:$2))))","v":0},null,null,{"$f":"IF(X$4=\"\",0,SUMIFS(X$10:X44,$P$10:$P44,\"CF(+)\")-SUMIFS(X$10:X44,$P$10:$P44,\"CF(-)\"))","v":0},{"$f":"IF(Y$4=\"\",0,SUMIFS(Y$10:Y44,$P$10:$P44,\"CF(+)\")-SUMIFS(Y$10:Y44,$P$10:$P44,\"CF(-)\"))","v":0},{"$f":"IF(Z$4=\"\",0,SUMIFS(Z$10:Z44,$P$10:$P44,\"CF(+)\")-SUMIFS(Z$10:Z44,$P$10:$P44,\"CF(-)\"))","v":0},{"$f":"IF(AA$4=\"\",0,SUMIFS(AA$10:AA44,$P$10:$P44,\"CF(+)\")-SUMIFS(AA$10:AA44,$P$10:$P44,\"CF(-)\"))","v":0},{"$f":"IF(AB$4=\"\",0,SUMIFS(AB$10:AB44,$P$10:$P44,\"CF(+)\")-SUMIFS(AB$10:AB44,$P$10:$P44,\"CF(-)\"))","v":0},{"$f":"IF(AC$4=\"\",0,SUMIFS(AC$10:AC44,$P$10:$P44,\"CF(+)\")-SUMIFS(AC$10:AC44,$P$10:$P44,\"CF(-)\"))","v":0},{"$f":"IF(AD$4=\"\",0,SUMIFS(AD$10:AD44,$P$10:$P44,\"CF(+)\")-SUMIFS(AD$10:AD44,$P$10:$P44,\"CF(-)\"))","v":0},{"$f":"IF(AE$4=\"\",0,SUMIFS(AE$10:AE44,$P$10:$P44,\"CF(+)\")-SUMIFS(AE$10:AE44,$P$10:$P44,\"CF(-)\"))","v":0},{"$f":"IF(AF$4=\"\",0,SUMIFS(AF$10:AF44,$P$10:$P44,\"CF(+)\")-SUMIFS(AF$10:AF44,$P$10:$P44,\"CF(-)\"))","v":0},{"$f":"IF(AG$4=\"\",0,SUMIFS(AG$10:AG44,$P$10:$P44,\"CF(+)\")-SUMIFS(AG$10:AG44,$P$10:$P44,\"CF(-)\"))","v":0},{"$f":"IF(AH$4=\"\",0,SUMIFS(AH$10:AH44,$P$10:$P44,\"CF(+)\")-SUMIFS(AH$10:AH44,$P$10:$P44,\"CF(-)\"))","v":0},{"$f":"IF(AI$4=\"\",0,SUMIFS(AI$10:AI44,$P$10:$P44,\"CF(+)\")-SUMIFS(AI$10:AI44,$P$10:$P44,\"CF(-)\"))","v":0},{"$f":"IF(AJ$4=\"\",0,SUMIFS(AJ$10:AJ44,$P$10:$P44,\"CF(+)\")-SUMIFS(AJ$10:AJ44,$P$10:$P44,\"CF(-)\"))","v":0},{"$f":"IF(AK$4=\"\",0,SUMIFS(AK$10:AK44,$P$10:$P44,\"CF(+)\")-SUMIFS(AK$10:AK44,$P$10:$P44,\"CF(-)\"))","v":0},{"$f":"IF(AL$4=\"\",0,SUMIFS(AL$10:AL44,$P$10:$P44,\"CF(+)\")-SUMIFS(AL$10:AL44,$P$10:$P44,\"CF(-)\"))","v":0},{"$f":"IF(AM$4=\"\",0,SUMIFS(AM$10:AM44,$P$10:$P44,\"CF(+)\")-SUMIFS(AM$10:AM44,$P$10:$P44,\"CF(-)\"))","v":0},{"$f":"IF(AN$4=\"\",0,SUMIFS(AN$10:AN44,$P$10:$P44,\"CF(+)\")-SUMIFS(AN$10:AN44,$P$10:$P44,\"CF(-)\"))","v":0},{"$f":"IF(AO$4=\"\",0,SUMIFS(AO$10:AO44,$P$10:$P44,\"CF(+)\")-SUMIFS(AO$10:AO44,$P$10:$P44,\"CF(-)\"))","v":0},{"$f":"IF(AP$4=\"\",0,SUMIFS(AP$10:AP44,$P$10:$P44,\"CF(+)\")-SUMIFS(AP$10:AP44,$P$10:$P44,\"CF(-)\"))","v":0},{"$f":"IF(AQ$4=\"\",0,SUMIFS(AQ$10:AQ44,$P$10:$P44,\"CF(+)\")-SUMIFS(AQ$10:AQ44,$P$10:$P44,\"CF(-)\"))","v":0},{"$f":"IF(AR$4=\"\",0,SUMIFS(AR$10:AR44,$P$10:$P44,\"CF(+)\")-SUMIFS(AR$10:AR44,$P$10:$P44,\"CF(-)\"))","v":0},{"$f":"IF(AS$4=\"\",0,SUMIFS(AS$10:AS44,$P$10:$P44,\"CF(+)\")-SUMIFS(AS$10:AS44,$P$10:$P44,\"CF(-)\"))","v":0},{"$f":"IF(AT$4=\"\",0,SUMIFS(AT$10:AT44,$P$10:$P44,\"CF(+)\")-SUMIFS(AT$10:AT44,$P$10:$P44,\"CF(-)\"))","v":0},{"$f":"IF(AU$4=\"\",0,SUMIFS(AU$10:AU44,$P$10:$P44,\"CF(+)\")-SUMIFS(AU$10:AU44,$P$10:$P44,\"CF(-)\"))","v":0},{"$f":"IF(AV$4=\"\",0,SUMIFS(AV$10:AV44,$P$10:$P44,\"CF(+)\")-SUMIFS(AV$10:AV44,$P$10:$P44,\"CF(-)\"))","v":0},{"$f":"IF(AW$4=\"\",0,SUMIFS(AW$10:AW44,$P$10:$P44,\"CF(+)\")-SUMIFS(AW$10:AW44,$P$10:$P44,\"CF(-)\"))","v":0},{"$f":"IF(AX$4=\"\",0,SUMIFS(AX$10:AX44,$P$10:$P44,\"CF(+)\")-SUMIFS(AX$10:AX44,$P$10:$P44,\"CF(-)\"))","v":0},{"$f":"IF(AY$4=\"\",0,SUMIFS(AY$10:AY44,$P$10:$P44,\"CF(+)\")-SUMIFS(AY$10:AY44,$P$10:$P44,\"CF(-)\"))","v":0},{"$f":"IF(AZ$4=\"\",0,SUMIFS(AZ$10:AZ44,$P$10:$P44,\"CF(+)\")-SUMIFS(AZ$10:AZ44,$P$10:$P44,\"CF(-)\"))","v":0},{"$f":"IF(BA$4=\"\",0,SUMIFS(BA$10:BA44,$P$10:$P44,\"CF(+)\")-SUMIFS(BA$10:BA44,$P$10:$P44,\"CF(-)\"))","v":0},{"$f":"IF(BB$4=\"\",0,SUMIFS(BB$10:BB44,$P$10:$P44,\"CF(+)\")-SUMIFS(BB$10:BB44,$P$10:$P44,\"CF(-)\"))","v":0},{"$f":"IF(BC$4=\"\",0,SUMIFS(BC$10:BC44,$P$10:$P44,\"CF(+)\")-SUMIFS(BC$10:BC44,$P$10:$P44,\"CF(-)\"))","v":0},{"$f":"IF(BD$4=\"\",0,SUMIFS(BD$10:BD44,$P$10:$P44,\"CF(+)\")-SUMIFS(BD$10:BD44,$P$10:$P44,\"CF(-)\"))","v":0},{"$f":"IF(BE$4=\"\",0,SUMIFS(BE$10:BE44,$P$10:$P44,\"CF(+)\")-SUMIFS(BE$10:BE44,$P$10:$P44,\"CF(-)\"))","v":0},{"$f":"IF(BF$4=\"\",0,SUMIFS(BF$10:BF44,$P$10:$P44,\"CF(+)\")-SUMIFS(BF$10:BF44,$P$10:$P44,\"CF(-)\"))","v":0},{"$f":"IF(BG$4=\"\",0,SUMIFS(BG$10:BG44,$P$10:$P44,\"CF(+)\")-SUMIFS(BG$10:BG44,$P$10:$P44,\"CF(-)\"))","v":0},{"$f":"IF(BH$4=\"\",0,SUMIFS(BH$10:BH44,$P$10:$P44,\"CF(+)\")-SUMIFS(BH$10:BH44,$P$10:$P44,\"CF(-)\"))","v":0},{"$f":"IF(BI$4=\"\",0,SUMIFS(BI$10:BI44,$P$10:$P44,\"CF(+)\")-SUMIFS(BI$10:BI44,$P$10:$P44,\"CF(-)\"))","v":0},{"$f":"IF(BJ$4=\"\",0,SUMIFS(BJ$10:BJ44,$P$10:$P44,\"CF(+)\")-SUMIFS(BJ$10:BJ44,$P$10:$P44,\"CF(-)\"))","v":0},{"$f":"IF(BK$4=\"\",0,SUMIFS(BK$10:BK44,$P$10:$P44,\"CF(+)\")-SUMIFS(BK$10:BK44,$P$10:$P44,\"CF(-)\"))","v":0},{"$f":"IF(BL$4=\"\",0,SUMIFS(BL$10:BL44,$P$10:$P44,\"CF(+)\")-SUMIFS(BL$10:BL44,$P$10:$P44,\"CF(-)\"))","v":0},{"$f":"IF(BM$4=\"\",0,SUMIFS(BM$10:BM44,$P$10:$P44,\"CF(+)\")-SUMIFS(BM$10:BM44,$P$10:$P44,\"CF(-)\"))","v":0},{"$f":"IF(BN$4=\"\",0,SUMIFS(BN$10:BN44,$P$10:$P44,\"CF(+)\")-SUMIFS(BN$10:BN44,$P$10:$P44,\"CF(-)\"))","v":0},{"$f":"IF(BO$4=\"\",0,SUMIFS(BO$10:BO44,$P$10:$P44,\"CF(+)\")-SUMIFS(BO$10:BO44,$P$10:$P44,\"CF(-)\"))","v":0},{"$f":"IF(BP$4=\"\",0,SUMIFS(BP$10:BP44,$P$10:$P44,\"CF(+)\")-SUMIFS(BP$10:BP44,$P$10:$P44,\"CF(-)\"))","v":0},{"$f":"IF(BQ$4=\"\",0,SUMIFS(BQ$10:BQ44,$P$10:$P44,\"CF(+)\")-SUMIFS(BQ$10:BQ44,$P$10:$P44,\"CF(-)\"))","v":0},{"$f":"IF(BR$4=\"\",0,SUMIFS(BR$10:BR44,$P$10:$P44,\"CF(+)\")-SUMIFS(BR$10:BR44,$P$10:$P44,\"CF(-)\"))","v":0},{"$f":"IF(BS$4=\"\",0,SUMIFS(BS$10:BS44,$P$10:$P44,\"CF(+)\")-SUMIFS(BS$10:BS44,$P$10:$P44,\"CF(-)\"))","v":0},{"$f":"IF(BT$4=\"\",0,SUMIFS(BT$10:BT44,$P$10:$P44,\"CF(+)\")-SUMIFS(BT$10:BT44,$P$10:$P44,\"CF(-)\"))","v":0},{"$f":"IF(BU$4=\"\",0,SUMIFS(BU$10:BU44,$P$10:$P44,\"CF(+)\")-SUMIFS(BU$10:BU44,$P$10:$P44,\"CF(-)\"))","v":0},{"$f":"IF(BV$4=\"\",0,SUMIFS(BV$10:BV44,$P$10:$P44,\"CF(+)\")-SUMIFS(BV$10:BV44,$P$10:$P44,\"CF(-)\"))","v":0},{"$f":"IF(BW$4=\"\",0,SUMIFS(BW$10:BW44,$P$10:$P44,\"CF(+)\")-SUMIFS(BW$10:BW44,$P$10:$P44,\"CF(-)\"))","v":0},{"$f":"IF(BX$4=\"\",0,SUMIFS(BX$10:BX44,$P$10:$P44,\"CF(+)\")-SUMIFS(BX$10:BX44,$P$10:$P44,\"CF(-)\"))","v":0},{"$f":"IF(BY$4=\"\",0,SUMIFS(BY$10:BY44,$P$10:$P44,\"CF(+)\")-SUMIFS(BY$10:BY44,$P$10:$P44,\"CF(-)\"))","v":0},{"$f":"IF(BZ$4=\"\",0,SUMIFS(BZ$10:BZ44,$P$10:$P44,\"CF(+)\")-SUMIFS(BZ$10:BZ44,$P$10:$P44,\"CF(-)\"))","v":0},{"$f":"IF(CA$4=\"\",0,SUMIFS(CA$10:CA44,$P$10:$P44,\"CF(+)\")-SUMIFS(CA$10:CA44,$P$10:$P44,\"CF(-)\"))","v":0},{"$f":"IF(CB$4=\"\",0,SUMIFS(CB$10:CB44,$P$10:$P44,\"CF(+)\")-SUMIFS(CB$10:CB44,$P$10:$P44,\"CF(-)\"))","v":0},{"$f":"IF(CC$4=\"\",0,SUMIFS(CC$10:CC44,$P$10:$P44,\"CF(+)\")-SUMIFS(CC$10:CC44,$P$10:$P44,\"CF(-)\"))","v":0},{"$f":"IF(CD$4=\"\",0,SUMIFS(CD$10:CD44,$P$10:$P44,\"CF(+)\")-SUMIFS(CD$10:CD44,$P$10:$P44,\"CF(-)\"))","v":0},{"$f":"IF(CE$4=\"\",0,SUMIFS(CE$10:CE44,$P$10:$P44,\"CF(+)\")-SUMIFS(CE$10:CE44,$P$10:$P44,\"CF(-)\"))","v":0},{"$f":"IF(CF$4=\"\",0,SUMIFS(CF$10:CF44,$P$10:$P44,\"CF(+)\")-SUMIFS(CF$10:CF44,$P$10:$P44,\"CF(-)\"))","v":0},{"$f":"IF(CG$4=\"\",0,SUMIFS(CG$10:CG44,$P$10:$P44,\"CF(+)\")-SUMIFS(CG$10:CG44,$P$10:$P44,\"CF(-)\"))","v":0},{"$f":"IF(CH$4=\"\",0,SUMIFS(CH$10:CH44,$P$10:$P44,\"CF(+)\")-SUMIFS(CH$10:CH44,$P$10:$P44,\"CF(-)\"))","v":0},{"$f":"IF(CI$4=\"\",0,SUMIFS(CI$10:CI44,$P$10:$P44,\"CF(+)\")-SUMIFS(CI$10:CI44,$P$10:$P44,\"CF(-)\"))","v":0},{"$f":"IF(CJ$4=\"\",0,SUMIFS(CJ$10:CJ44,$P$10:$P44,\"CF(+)\")-SUMIFS(CJ$10:CJ44,$P$10:$P44,\"CF(-)\"))","v":0},{"$f":"IF(CK$4=\"\",0,SUMIFS(CK$10:CK44,$P$10:$P44,\"CF(+)\")-SUMIFS(CK$10:CK44,$P$10:$P44,\"CF(-)\"))","v":0},{"$f":"IF(CL$4=\"\",0,SUMIFS(CL$10:CL44,$P$10:$P44,\"CF(+)\")-SUMIFS(CL$10:CL44,$P$10:$P44,\"CF(-)\"))","v":0},{"$f":"IF(CM$4=\"\",0,SUMIFS(CM$10:CM44,$P$10:$P44,\"CF(+)\")-SUMIFS(CM$10:CM44,$P$10:$P44,\"CF(-)\"))","v":0},{"$f":"IF(CN$4=\"\",0,SUMIFS(CN$10:CN44,$P$10:$P44,\"CF(+)\")-SUMIFS(CN$10:CN44,$P$10:$P44,\"CF(-)\"))","v":0},{"$f":"IF(CO$4=\"\",0,SUMIFS(CO$10:CO44,$P$10:$P44,\"CF(+)\")-SUMIFS(CO$10:CO44,$P$10:$P44,\"CF(-)\"))","v":0},{"$f":"IF(CP$4=\"\",0,SUMIFS(CP$10:CP44,$P$10:$P44,\"CF(+)\")-SUMIFS(CP$10:CP44,$P$10:$P44,\"CF(-)\"))","v":0},{"$f":"IF(CQ$4=\"\",0,SUMIFS(CQ$10:CQ44,$P$10:$P44,\"CF(+)\")-SUMIFS(CQ$10:CQ44,$P$10:$P44,\"CF(-)\"))","v":0},{"$f":"IF(CR$4=\"\",0,SUMIFS(CR$10:CR44,$P$10:$P44,\"CF(+)\")-SUMIFS(CR$10:CR44,$P$10:$P44,\"CF(-)\"))","v":0},{"$f":"IF(CS$4=\"\",0,SUMIFS(CS$10:CS44,$P$10:$P44,\"CF(+)\")-SUMIFS(CS$10:CS44,$P$10:$P44,\"CF(-)\"))","v":0},{"$f":"IF(CT$4=\"\",0,SUMIFS(CT$10:CT44,$P$10:$P44,\"CF(+)\")-SUMIFS(CT$10:CT44,$P$10:$P44,\"CF(-)\"))","v":0},{"$f":"IF(CU$4=\"\",0,SUMIFS(CU$10:CU44,$P$10:$P44,\"CF(+)\")-SUMIFS(CU$10:CU44,$P$10:$P44,\"CF(-)\"))","v":0},{"$f":"IF(CV$4=\"\",0,SUMIFS(CV$10:CV44,$P$10:$P44,\"CF(+)\")-SUMIFS(CV$10:CV44,$P$10:$P44,\"CF(-)\"))","v":0},{"$f":"IF(CW$4=\"\",0,SUMIFS(CW$10:CW44,$P$10:$P44,\"CF(+)\")-SUMIFS(CW$10:CW44,$P$10:$P44,\"CF(-)\"))","v":0},{"$f":"IF(CX$4=\"\",0,SUMIFS(CX$10:CX44,$P$10:$P44,\"CF(+)\")-SUMIFS(CX$10:CX44,$P$10:$P44,\"CF(-)\"))","v":0},{"$f":"IF(CY$4=\"\",0,SUMIFS(CY$10:CY44,$P$10:$P44,\"CF(+)\")-SUMIFS(CY$10:CY44,$P$10:$P44,\"CF(-)\"))","v":0},{"$f":"IF(CZ$4=\"\",0,SUMIFS(CZ$10:CZ44,$P$10:$P44,\"CF(+)\")-SUMIFS(CZ$10:CZ44,$P$10:$P44,\"CF(-)\"))","v":0},{"$f":"IF(DA$4=\"\",0,SUMIFS(DA$10:DA44,$P$10:$P44,\"CF(+)\")-SUMIFS(DA$10:DA44,$P$10:$P44,\"CF(-)\"))","v":0},{"$f":"IF(DB$4=\"\",0,SUMIFS(DB$10:DB44,$P$10:$P44,\"CF(+)\")-SUMIFS(DB$10:DB44,$P$10:$P44,\"CF(-)\"))","v":0},{"$f":"IF(DC$4=\"\",0,SUMIFS(DC$10:DC44,$P$10:$P44,\"CF(+)\")-SUMIFS(DC$10:DC44,$P$10:$P44,\"CF(-)\"))","v":0},{"$f":"IF(DD$4=\"\",0,SUMIFS(DD$10:DD44,$P$10:$P44,\"CF(+)\")-SUMIFS(DD$10:DD44,$P$10:$P44,\"CF(-)\"))","v":0},{"$f":"IF(DE$4=\"\",0,SUMIFS(DE$10:DE44,$P$10:$P44,\"CF(+)\")-SUMIFS(DE$10:DE44,$P$10:$P44,\"CF(-)\"))","v":0},{"$f":"IF(DF$4=\"\",0,SUMIFS(DF$10:DF44,$P$10:$P44,\"CF(+)\")-SUMIFS(DF$10:DF44,$P$10:$P44,\"CF(-)\"))","v":0},{"$f":"IF(DG$4=\"\",0,SUMIFS(DG$10:DG44,$P$10:$P44,\"CF(+)\")-SUMIFS(DG$10:DG44,$P$10:$P44,\"CF(-)\"))","v":0},{"$f":"IF(DH$4=\"\",0,SUMIFS(DH$10:DH44,$P$10:$P44,\"CF(+)\")-SUMIFS(DH$10:DH44,$P$10:$P44,\"CF(-)\"))","v":0},{"$f":"IF(DI$4=\"\",0,SUMIFS(DI$10:DI44,$P$10:$P44,\"CF(+)\")-SUMIFS(DI$10:DI44,$P$10:$P44,\"CF(-)\"))","v":0},{"$f":"IF(DJ$4=\"\",0,SUMIFS(DJ$10:DJ44,$P$10:$P44,\"CF(+)\")-SUMIFS(DJ$10:DJ44,$P$10:$P44,\"CF(-)\"))","v":0},{"$f":"IF(DK$4=\"\",0,SUMIFS(DK$10:DK44,$P$10:$P44,\"CF(+)\")-SUMIFS(DK$10:DK44,$P$10:$P44,\"CF(-)\"))","v":0},{"$f":"IF(DL$4=\"\",0,SUMIFS(DL$10:DL44,$P$10:$P44,\"CF(+)\")-SUMIFS(DL$10:DL44,$P$10:$P44,\"CF(-)\"))","v":0},{"$f":"IF(DM$4=\"\",0,SUMIFS(DM$10:DM44,$P$10:$P44,\"CF(+)\")-SUMIFS(DM$10:DM44,$P$10:$P44,\"CF(-)\"))","v":0},{"$f":"IF(DN$4=\"\",0,SUMIFS(DN$10:DN44,$P$10:$P44,\"CF(+)\")-SUMIFS(DN$10:DN44,$P$10:$P44,\"CF(-)\"))","v":0},{"$f":"IF(DO$4=\"\",0,SUMIFS(DO$10:DO44,$P$10:$P44,\"CF(+)\")-SUMIFS(DO$10:DO44,$P$10:$P44,\"CF(-)\"))","v":0},{"$f":"IF(DP$4=\"\",0,SUMIFS(DP$10:DP44,$P$10:$P44,\"CF(+)\")-SUMIFS(DP$10:DP44,$P$10:$P44,\"CF(-)\"))","v":0},{"$f":"IF(DQ$4=\"\",0,SUMIFS(DQ$10:DQ44,$P$10:$P44,\"CF(+)\")-SUMIFS(DQ$10:DQ44,$P$10:$P44,\"CF(-)\"))","v":0},{"$f":"IF(DR$4=\"\",0,SUMIFS(DR$10:DR44,$P$10:$P44,\"CF(+)\")-SUMIFS(DR$10:DR44,$P$10:$P44,\"CF(-)\"))","v":0},{"$f":"IF(DS$4=\"\",0,SUMIFS(DS$10:DS44,$P$10:$P44,\"CF(+)\")-SUMIFS(DS$10:DS44,$P$10:$P44,\"CF(-)\"))","v":0},{"$f":"IF(DT$4=\"\",0,SUMIFS(DT$10:DT44,$P$10:$P44,\"CF(+)\")-SUMIFS(DT$10:DT44,$P$10:$P44,\"CF(-)\"))","v":0},{"$f":"IF(DU$4=\"\",0,SUMIFS(DU$10:DU44,$P$10:$P44,\"CF(+)\")-SUMIFS(DU$10:DU44,$P$10:$P44,\"CF(-)\"))","v":0},{"$f":"IF(DV$4=\"\",0,SUMIFS(DV$10:DV44,$P$10:$P44,\"CF(+)\")-SUMIFS(DV$10:DV44,$P$10:$P44,\"CF(-)\"))","v":0},{"$f":"IF(DW$4=\"\",0,SUMIFS(DW$10:DW44,$P$10:$P44,\"CF(+)\")-SUMIFS(DW$10:DW44,$P$10:$P44,\"CF(-)\"))","v":0},{"$f":"IF(DX$4=\"\",0,SUMIFS(DX$10:DX44,$P$10:$P44,\"CF(+)\")-SUMIFS(DX$10:DX44,$P$10:$P44,\"CF(-)\"))","v":0},{"$f":"IF(DY$4=\"\",0,SUMIFS(DY$10:DY44,$P$10:$P44,\"CF(+)\")-SUMIFS(DY$10:DY44,$P$10:$P44,\"CF(-)\"))","v":0},{"$f":"IF(DZ$4=\"\",0,SUMIFS(DZ$10:DZ44,$P$10:$P44,\"CF(+)\")-SUMIFS(DZ$10:DZ44,$P$10:$P44,\"CF(-)\"))","v":0},{"$f":"IF(EA$4=\"\",0,SUMIFS(EA$10:EA44,$P$10:$P44,\"CF(+)\")-SUMIFS(EA$10:EA44,$P$10:$P44,\"CF(-)\"))","v":0},{"$f":"IF(EB$4=\"\",0,SUMIFS(EB$10:EB44,$P$10:$P44,\"CF(+)\")-SUMIFS(EB$10:EB44,$P$10:$P44,\"CF(-)\"))","v":0},{"$f":"IF(EC$4=\"\",0,SUMIFS(EC$10:EC44,$P$10:$P44,\"CF(+)\")-SUMIFS(EC$10:EC44,$P$10:$P44,\"CF(-)\"))","v":0},{"$f":"IF(ED$4=\"\",0,SUMIFS(ED$10:ED44,$P$10:$P44,\"CF(+)\")-SUMIFS(ED$10:ED44,$P$10:$P44,\"CF(-)\"))","v":0},{"$f":"IF(EE$4=\"\",0,SUMIFS(EE$10:EE44,$P$10:$P44,\"CF(+)\")-SUMIFS(EE$10:EE44,$P$10:$P44,\"CF(-)\"))","v":0},{"$f":"IF(EF$4=\"\",0,SUMIFS(EF$10:EF44,$P$10:$P44,\"CF(+)\")-SUMIFS(EF$10:EF44,$P$10:$P44,\"CF(-)\"))","v":0},{"$f":"IF(EG$4=\"\",0,SUMIFS(EG$10:EG44,$P$10:$P44,\"CF(+)\")-SUMIFS(EG$10:EG44,$P$10:$P44,\"CF(-)\"))","v":0},{"$f":"IF(EH$4=\"\",0,SUMIFS(EH$10:EH44,$P$10:$P44,\"CF(+)\")-SUMIFS(EH$10:EH44,$P$10:$P44,\"CF(-)\"))","v":0},{"$f":"IF(EI$4=\"\",0,SUMIFS(EI$10:EI44,$P$10:$P44,\"CF(+)\")-SUMIFS(EI$10:EI44,$P$10:$P44,\"CF(-)\"))","v":0},{"$f":"IF(EJ$4=\"\",0,SUMIFS(EJ$10:EJ44,$P$10:$P44,\"CF(+)\")-SUMIFS(EJ$10:EJ44,$P$10:$P44,\"CF(-)\"))","v":0},{"$f":"IF(EK$4=\"\",0,SUMIFS(EK$10:EK44,$P$10:$P44,\"CF(+)\")-SUMIFS(EK$10:EK44,$P$10:$P44,\"CF(-)\"))","v":0},{"$f":"IF(EL$4=\"\",0,SUMIFS(EL$10:EL44,$P$10:$P44,\"CF(+)\")-SUMIFS(EL$10:EL44,$P$10:$P44,\"CF(-)\"))","v":0},{"$f":"IF(EM$4=\"\",0,SUMIFS(EM$10:EM44,$P$10:$P44,\"CF(+)\")-SUMIFS(EM$10:EM44,$P$10:$P44,\"CF(-)\"))","v":0},{"$f":"IF(EN$4=\"\",0,SUMIFS(EN$10:EN44,$P$10:$P44,\"CF(+)\")-SUMIFS(EN$10:EN44,$P$10:$P44,\"CF(-)\"))","v":0},{"$f":"IF(EO$4=\"\",0,SUMIFS(EO$10:EO44,$P$10:$P44,\"CF(+)\")-SUMIFS(EO$10:EO44,$P$10:$P44,\"CF(-)\"))","v":0},{"$f":"IF(EP$4=\"\",0,SUMIFS(EP$10:EP44,$P$10:$P44,\"CF(+)\")-SUMIFS(EP$10:EP44,$P$10:$P44,\"CF(-)\"))","v":0},{"$f":"IF(EQ$4=\"\",0,SUMIFS(EQ$10:EQ44,$P$10:$P44,\"CF(+)\")-SUMIFS(EQ$10:EQ44,$P$10:$P44,\"CF(-)\"))","v":0},{"$f":"IF(ER$4=\"\",0,SUMIFS(ER$10:ER44,$P$10:$P44,\"CF(+)\")-SUMIFS(ER$10:ER44,$P$10:$P44,\"CF(-)\"))","v":0},{"$f":"IF(ES$4=\"\",0,SUMIFS(ES$10:ES44,$P$10:$P44,\"CF(+)\")-SUMIFS(ES$10:ES44,$P$10:$P44,\"CF(-)\"))","v":0},{"$f":"IF(ET$4=\"\",0,SUMIFS(ET$10:ET44,$P$10:$P44,\"CF(+)\")-SUMIFS(ET$10:ET44,$P$10:$P44,\"CF(-)\"))","v":0},{"$f":"IF(EU$4=\"\",0,SUMIFS(EU$10:EU44,$P$10:$P44,\"CF(+)\")-SUMIFS(EU$10:EU44,$P$10:$P44,\"CF(-)\"))","v":0},{"$f":"IF(EV$4=\"\",0,SUMIFS(EV$10:EV44,$P$10:$P44,\"CF(+)\")-SUMIFS(EV$10:EV44,$P$10:$P44,\"CF(-)\"))","v":0},{"$f":"IF(EW$4=\"\",0,SUMIFS(EW$10:EW44,$P$10:$P44,\"CF(+)\")-SUMIFS(EW$10:EW44,$P$10:$P44,\"CF(-)\"))","v":0},{"$f":"IF(EX$4=\"\",0,SUMIFS(EX$10:EX44,$P$10:$P44,\"CF(+)\")-SUMIFS(EX$10:EX44,$P$10:$P44,\"CF(-)\"))","v":0},{"$f":"IF(EY$4=\"\",0,SUMIFS(EY$10:EY44,$P$10:$P44,\"CF(+)\")-SUMIFS(EY$10:EY44,$P$10:$P44,\"CF(-)\"))","v":0},{"$f":"IF(EZ$4=\"\",0,SUMIFS(EZ$10:EZ44,$P$10:$P44,\"CF(+)\")-SUMIFS(EZ$10:EZ44,$P$10:$P44,\"CF(-)\"))","v":0},{"$f":"IF(FA$4=\"\",0,SUMIFS(FA$10:FA44,$P$10:$P44,\"CF(+)\")-SUMIFS(FA$10:FA44,$P$10:$P44,\"CF(-)\"))","v":0},{"$f":"IF(FB$4=\"\",0,SUMIFS(FB$10:FB44,$P$10:$P44,\"CF(+)\")-SUMIFS(FB$10:FB44,$P$10:$P44,\"CF(-)\"))","v":0},{"$f":"IF(FC$4=\"\",0,SUMIFS(FC$10:FC44,$P$10:$P44,\"CF(+)\")-SUMIFS(FC$10:FC44,$P$10:$P44,\"CF(-)\"))","v":0},{"$f":"IF(FD$4=\"\",0,SUMIFS(FD$10:FD44,$P$10:$P44,\"CF(+)\")-SUMIFS(FD$10:FD44,$P$10:$P44,\"CF(-)\"))","v":0},{"$f":"IF(FE$4=\"\",0,SUMIFS(FE$10:FE44,$P$10:$P44,\"CF(+)\")-SUMIFS(FE$10:FE44,$P$10:$P44,\"CF(-)\"))","v":0},{"$f":"IF(FF$4=\"\",0,SUMIFS(FF$10:FF44,$P$10:$P44,\"CF(+)\")-SUMIFS(FF$10:FF44,$P$10:$P44,\"CF(-)\"))","v":0},{"$f":"IF(FG$4=\"\",0,SUMIFS(FG$10:FG44,$P$10:$P44,\"CF(+)\")-SUMIFS(FG$10:FG44,$P$10:$P44,\"CF(-)\"))","v":0},{"$f":"IF(FH$4=\"\",0,SUMIFS(FH$10:FH44,$P$10:$P44,\"CF(+)\")-SUMIFS(FH$10:FH44,$P$10:$P44,\"CF(-)\"))","v":0},{"$f":"IF(FI$4=\"\",0,SUMIFS(FI$10:FI44,$P$10:$P44,\"CF(+)\")-SUMIFS(FI$10:FI44,$P$10:$P44,\"CF(-)\"))","v":0},{"$f":"IF(FJ$4=\"\",0,SUMIFS(FJ$10:FJ44,$P$10:$P44,\"CF(+)\")-SUMIFS(FJ$10:FJ44,$P$10:$P44,\"CF(-)\"))","v":0},{"$f":"IF(FK$4=\"\",0,SUMIFS(FK$10:FK44,$P$10:$P44,\"CF(+)\")-SUMIFS(FK$10:FK44,$P$10:$P44,\"CF(-)\"))","v":0},{"$f":"IF(FL$4=\"\",0,SUMIFS(FL$10:FL44,$P$10:$P44,\"CF(+)\")-SUMIFS(FL$10:FL44,$P$10:$P44,\"CF(-)\"))","v":0},{"$f":"IF(FM$4=\"\",0,SUMIFS(FM$10:FM44,$P$10:$P44,\"CF(+)\")-SUMIFS(FM$10:FM44,$P$10:$P44,\"CF(-)\"))","v":0},{"$f":"IF(FN$4=\"\",0,SUMIFS(FN$10:FN44,$P$10:$P44,\"CF(+)\")-SUMIFS(FN$10:FN44,$P$10:$P44,\"CF(-)\"))","v":0},{"$f":"IF(FO$4=\"\",0,SUMIFS(FO$10:FO44,$P$10:$P44,\"CF(+)\")-SUMIFS(FO$10:FO44,$P$10:$P44,\"CF(-)\"))","v":0},{"$f":"IF(FP$4=\"\",0,SUMIFS(FP$10:FP44,$P$10:$P44,\"CF(+)\")-SUMIFS(FP$10:FP44,$P$10:$P44,\"CF(-)\"))","v":0},{"$f":"IF(FQ$4=\"\",0,SUMIFS(FQ$10:FQ44,$P$10:$P44,\"CF(+)\")-SUMIFS(FQ$10:FQ44,$P$10:$P44,\"CF(-)\"))","v":0},{"$f":"IF(FR$4=\"\",0,SUMIFS(FR$10:FR44,$P$10:$P44,\"CF(+)\")-SUMIFS(FR$10:FR44,$P$10:$P44,\"CF(-)\"))","v":0},{"$f":"IF(FS$4=\"\",0,SUMIFS(FS$10:FS44,$P$10:$P44,\"CF(+)\")-SUMIFS(FS$10:FS44,$P$10:$P44,\"CF(-)\"))","v":0},{"$f":"IF(FT$4=\"\",0,SUMIFS(FT$10:FT44,$P$10:$P44,\"CF(+)\")-SUMIFS(FT$10:FT44,$P$10:$P44,\"CF(-)\"))","v":0},{"$f":"IF(FU$4=\"\",0,SUMIFS(FU$10:FU44,$P$10:$P44,\"CF(+)\")-SUMIFS(FU$10:FU44,$P$10:$P44,\"CF(-)\"))","v":0},{"$f":"IF(FV$4=\"\",0,SUMIFS(FV$10:FV44,$P$10:$P44,\"CF(+)\")-SUMIFS(FV$10:FV44,$P$10:$P44,\"CF(-)\"))","v":0},{"$f":"IF(FW$4=\"\",0,SUMIFS(FW$10:FW44,$P$10:$P44,\"CF(+)\")-SUMIFS(FW$10:FW44,$P$10:$P44,\"CF(-)\"))","v":0},{"$f":"IF(FX$4=\"\",0,SUMIFS(FX$10:FX44,$P$10:$P44,\"CF(+)\")-SUMIFS(FX$10:FX44,$P$10:$P44,\"CF(-)\"))","v":0},{"$f":"IF(FY$4=\"\",0,SUMIFS(FY$10:FY44,$P$10:$P44,\"CF(+)\")-SUMIFS(FY$10:FY44,$P$10:$P44,\"CF(-)\"))","v":0},{"$f":"IF(FZ$4=\"\",0,SUMIFS(FZ$10:FZ44,$P$10:$P44,\"CF(+)\")-SUMIFS(FZ$10:FZ44,$P$10:$P44,\"CF(-)\"))","v":0},{"$f":"IF(GA$4=\"\",0,SUMIFS(GA$10:GA44,$P$10:$P44,\"CF(+)\")-SUMIFS(GA$10:GA44,$P$10:$P44,\"CF(-)\"))","v":0},{"$f":"IF(GB$4=\"\",0,SUMIFS(GB$10:GB44,$P$10:$P44,\"CF(+)\")-SUMIFS(GB$10:GB44,$P$10:$P44,\"CF(-)\"))","v":0},{"$f":"IF(GC$4=\"\",0,SUMIFS(GC$10:GC44,$P$10:$P44,\"CF(+)\")-SUMIFS(GC$10:GC44,$P$10:$P44,\"CF(-)\"))","v":0},{"$f":"IF(GD$4=\"\",0,SUMIFS(GD$10:GD44,$P$10:$P44,\"CF(+)\")-SUMIFS(GD$10:GD44,$P$10:$P44,\"CF(-)\"))","v":0},{"$f":"IF(GE$4=\"\",0,SUMIFS(GE$10:GE44,$P$10:$P44,\"CF(+)\")-SUMIFS(GE$10:GE44,$P$10:$P44,\"CF(-)\"))","v":0},{"$f":"IF(GF$4=\"\",0,SUMIFS(GF$10:GF44,$P$10:$P44,\"CF(+)\")-SUMIFS(GF$10:GF44,$P$10:$P44,\"CF(-)\"))","v":0},{"$f":"IF(GG$4=\"\",0,SUMIFS(GG$10:GG44,$P$10:$P44,\"CF(+)\")-SUMIFS(GG$10:GG44,$P$10:$P44,\"CF(-)\"))","v":0},{"$f":"IF(GH$4=\"\",0,SUMIFS(GH$10:GH44,$P$10:$P44,\"CF(+)\")-SUMIFS(GH$10:GH44,$P$10:$P44,\"CF(-)\"))","v":0},{"$f":"IF(GI$4=\"\",0,SUMIFS(GI$10:GI44,$P$10:$P44,\"CF(+)\")-SUMIFS(GI$10:GI44,$P$10:$P44,\"CF(-)\"))","v":0},{"$f":"IF(GJ$4=\"\",0,SUMIFS(GJ$10:GJ44,$P$10:$P44,\"CF(+)\")-SUMIFS(GJ$10:GJ44,$P$10:$P44,\"CF(-)\"))","v":0},{"$f":"IF(GK$4=\"\",0,SUMIFS(GK$10:GK44,$P$10:$P44,\"CF(+)\")-SUMIFS(GK$10:GK44,$P$10:$P44,\"CF(-)\"))","v":0},{"$f":"IF(GL$4=\"\",0,SUMIFS(GL$10:GL44,$P$10:$P44,\"CF(+)\")-SUMIFS(GL$10:GL44,$P$10:$P44,\"CF(-)\"))","v":0},{"$f":"IF(GM$4=\"\",0,SUMIFS(GM$10:GM44,$P$10:$P44,\"CF(+)\")-SUMIFS(GM$10:GM44,$P$10:$P44,\"CF(-)\"))","v":0},{"$f":"IF(GN$4=\"\",0,SUMIFS(GN$10:GN44,$P$10:$P44,\"CF(+)\")-SUMIFS(GN$10:GN44,$P$10:$P44,\"CF(-)\"))","v":0},{"$f":"IF(GO$4=\"\",0,SUMIFS(GO$10:GO44,$P$10:$P44,\"CF(+)\")-SUMIFS(GO$10:GO44,$P$10:$P44,\"CF(-)\"))","v":0},{"$f":"IF(GP$4=\"\",0,SUMIFS(GP$10:GP44,$P$10:$P44,\"CF(+)\")-SUMIFS(GP$10:GP44,$P$10:$P44,\"CF(-)\"))","v":0},{"$f":"IF(GQ$4=\"\",0,SUMIFS(GQ$10:GQ44,$P$10:$P44,\"CF(+)\")-SUMIFS(GQ$10:GQ44,$P$10:$P44,\"CF(-)\"))","v":0},{"$f":"IF(GR$4=\"\",0,SUMIFS(GR$10:GR44,$P$10:$P44,\"CF(+)\")-SUMIFS(GR$10:GR44,$P$10:$P44,\"CF(-)\"))","v":0},{"$f":"IF(GS$4=\"\",0,SUMIFS(GS$10:GS44,$P$10:$P44,\"CF(+)\")-SUMIFS(GS$10:GS44,$P$10:$P44,\"CF(-)\"))","v":0},{"$f":"IF(GT$4=\"\",0,SUMIFS(GT$10:GT44,$P$10:$P44,\"CF(+)\")-SUMIFS(GT$10:GT44,$P$10:$P44,\"CF(-)\"))","v":0},{"$f":"IF(GU$4=\"\",0,SUMIFS(GU$10:GU44,$P$10:$P44,\"CF(+)\")-SUMIFS(GU$10:GU44,$P$10:$P44,\"CF(-)\"))","v":0},{"$f":"IF(GV$4=\"\",0,SUMIFS(GV$10:GV44,$P$10:$P44,\"CF(+)\")-SUMIFS(GV$10:GV44,$P$10:$P44,\"CF(-)\"))","v":0}]
[]
[null,{"$f":"ROW()","v":47},null,null,null,null,null,"Денежный поток нарастающим итогом",null,null,null,null,null,null,null,"CF",null,null,null,null,{"$f":"INDIRECT(ADDRESS($B47,MAX($2:$2)))","v":0},null,null,{"$f":"IF(X$4=\"\",0,SUM($W45:X45))","v":0},{"$f":"IF(Y$4=\"\",0,SUM($W45:Y45))","v":0},{"$f":"IF(Z$4=\"\",0,SUM($W45:Z45))","v":0},{"$f":"IF(AA$4=\"\",0,SUM($W45:AA45))","v":0},{"$f":"IF(AB$4=\"\",0,SUM($W45:AB45))","v":0},{"$f":"IF(AC$4=\"\",0,SUM($W45:AC45))","v":0},{"$f":"IF(AD$4=\"\",0,SUM($W45:AD45))","v":0},{"$f":"IF(AE$4=\"\",0,SUM($W45:AE45))","v":0},{"$f":"IF(AF$4=\"\",0,SUM($W45:AF45))","v":0},{"$f":"IF(AG$4=\"\",0,SUM($W45:AG45))","v":0},{"$f":"IF(AH$4=\"\",0,SUM($W45:AH45))","v":0},{"$f":"IF(AI$4=\"\",0,SUM($W45:AI45))","v":0},{"$f":"IF(AJ$4=\"\",0,SUM($W45:AJ45))","v":0},{"$f":"IF(AK$4=\"\",0,SUM($W45:AK45))","v":0},{"$f":"IF(AL$4=\"\",0,SUM($W45:AL45))","v":0},{"$f":"IF(AM$4=\"\",0,SUM($W45:AM45))","v":0},{"$f":"IF(AN$4=\"\",0,SUM($W45:AN45))","v":0},{"$f":"IF(AO$4=\"\",0,SUM($W45:AO45))","v":0},{"$f":"IF(AP$4=\"\",0,SUM($W45:AP45))","v":0},{"$f":"IF(AQ$4=\"\",0,SUM($W45:AQ45))","v":0},{"$f":"IF(AR$4=\"\",0,SUM($W45:AR45))","v":0},{"$f":"IF(AS$4=\"\",0,SUM($W45:AS45))","v":0},{"$f":"IF(AT$4=\"\",0,SUM($W45:AT45))","v":0},{"$f":"IF(AU$4=\"\",0,SUM($W45:AU45))","v":0},{"$f":"IF(AV$4=\"\",0,SUM($W45:AV45))","v":0},{"$f":"IF(AW$4=\"\",0,SUM($W45:AW45))","v":0},{"$f":"IF(AX$4=\"\",0,SUM($W45:AX45))","v":0},{"$f":"IF(AY$4=\"\",0,SUM($W45:AY45))","v":0},{"$f":"IF(AZ$4=\"\",0,SUM($W45:AZ45))","v":0},{"$f":"IF(BA$4=\"\",0,SUM($W45:BA45))","v":0},{"$f":"IF(BB$4=\"\",0,SUM($W45:BB45))","v":0},{"$f":"IF(BC$4=\"\",0,SUM($W45:BC45))","v":0},{"$f":"IF(BD$4=\"\",0,SUM($W45:BD45))","v":0},{"$f":"IF(BE$4=\"\",0,SUM($W45:BE45))","v":0},{"$f":"IF(BF$4=\"\",0,SUM($W45:BF45))","v":0},{"$f":"IF(BG$4=\"\",0,SUM($W45:BG45))","v":0},{"$f":"IF(BH$4=\"\",0,SUM($W45:BH45))","v":0},{"$f":"IF(BI$4=\"\",0,SUM($W45:BI45))","v":0},{"$f":"IF(BJ$4=\"\",0,SUM($W45:BJ45))","v":0},{"$f":"IF(BK$4=\"\",0,SUM($W45:BK45))","v":0},{"$f":"IF(BL$4=\"\",0,SUM($W45:BL45))","v":0},{"$f":"IF(BM$4=\"\",0,SUM($W45:BM45))","v":0},{"$f":"IF(BN$4=\"\",0,SUM($W45:BN45))","v":0},{"$f":"IF(BO$4=\"\",0,SUM($W45:BO45))","v":0},{"$f":"IF(BP$4=\"\",0,SUM($W45:BP45))","v":0},{"$f":"IF(BQ$4=\"\",0,SUM($W45:BQ45))","v":0},{"$f":"IF(BR$4=\"\",0,SUM($W45:BR45))","v":0},{"$f":"IF(BS$4=\"\",0,SUM($W45:BS45))","v":0},{"$f":"IF(BT$4=\"\",0,SUM($W45:BT45))","v":0},{"$f":"IF(BU$4=\"\",0,SUM($W45:BU45))","v":0},{"$f":"IF(BV$4=\"\",0,SUM($W45:BV45))","v":0},{"$f":"IF(BW$4=\"\",0,SUM($W45:BW45))","v":0},{"$f":"IF(BX$4=\"\",0,SUM($W45:BX45))","v":0},{"$f":"IF(BY$4=\"\",0,SUM($W45:BY45))","v":0},{"$f":"IF(BZ$4=\"\",0,SUM($W45:BZ45))","v":0},{"$f":"IF(CA$4=\"\",0,SUM($W45:CA45))","v":0},{"$f":"IF(CB$4=\"\",0,SUM($W45:CB45))","v":0},{"$f":"IF(CC$4=\"\",0,SUM($W45:CC45))","v":0},{"$f":"IF(CD$4=\"\",0,SUM($W45:CD45))","v":0},{"$f":"IF(CE$4=\"\",0,SUM($W45:CE45))","v":0},{"$f":"IF(CF$4=\"\",0,SUM($W45:CF45))","v":0},{"$f":"IF(CG$4=\"\",0,SUM($W45:CG45))","v":0},{"$f":"IF(CH$4=\"\",0,SUM($W45:CH45))","v":0},{"$f":"IF(CI$4=\"\",0,SUM($W45:CI45))","v":0},{"$f":"IF(CJ$4=\"\",0,SUM($W45:CJ45))","v":0},{"$f":"IF(CK$4=\"\",0,SUM($W45:CK45))","v":0},{"$f":"IF(CL$4=\"\",0,SUM($W45:CL45))","v":0},{"$f":"IF(CM$4=\"\",0,SUM($W45:CM45))","v":0},{"$f":"IF(CN$4=\"\",0,SUM($W45:CN45))","v":0},{"$f":"IF(CO$4=\"\",0,SUM($W45:CO45))","v":0},{"$f":"IF(CP$4=\"\",0,SUM($W45:CP45))","v":0},{"$f":"IF(CQ$4=\"\",0,SUM($W45:CQ45))","v":0},{"$f":"IF(CR$4=\"\",0,SUM($W45:CR45))","v":0},{"$f":"IF(CS$4=\"\",0,SUM($W45:CS45))","v":0},{"$f":"IF(CT$4=\"\",0,SUM($W45:CT45))","v":0},{"$f":"IF(CU$4=\"\",0,SUM($W45:CU45))","v":0},{"$f":"IF(CV$4=\"\",0,SUM($W45:CV45))","v":0},{"$f":"IF(CW$4=\"\",0,SUM($W45:CW45))","v":0},{"$f":"IF(CX$4=\"\",0,SUM($W45:CX45))","v":0},{"$f":"IF(CY$4=\"\",0,SUM($W45:CY45))","v":0},{"$f":"IF(CZ$4=\"\",0,SUM($W45:CZ45))","v":0},{"$f":"IF(DA$4=\"\",0,SUM($W45:DA45))","v":0},{"$f":"IF(DB$4=\"\",0,SUM($W45:DB45))","v":0},{"$f":"IF(DC$4=\"\",0,SUM($W45:DC45))","v":0},{"$f":"IF(DD$4=\"\",0,SUM($W45:DD45))","v":0},{"$f":"IF(DE$4=\"\",0,SUM($W45:DE45))","v":0},{"$f":"IF(DF$4=\"\",0,SUM($W45:DF45))","v":0},{"$f":"IF(DG$4=\"\",0,SUM($W45:DG45))","v":0},{"$f":"IF(DH$4=\"\",0,SUM($W45:DH45))","v":0},{"$f":"IF(DI$4=\"\",0,SUM($W45:DI45))","v":0},{"$f":"IF(DJ$4=\"\",0,SUM($W45:DJ45))","v":0},{"$f":"IF(DK$4=\"\",0,SUM($W45:DK45))","v":0},{"$f":"IF(DL$4=\"\",0,SUM($W45:DL45))","v":0},{"$f":"IF(DM$4=\"\",0,SUM($W45:DM45))","v":0},{"$f":"IF(DN$4=\"\",0,SUM($W45:DN45))","v":0},{"$f":"IF(DO$4=\"\",0,SUM($W45:DO45))","v":0},{"$f":"IF(DP$4=\"\",0,SUM($W45:DP45))","v":0},{"$f":"IF(DQ$4=\"\",0,SUM($W45:DQ45))","v":0},{"$f":"IF(DR$4=\"\",0,SUM($W45:DR45))","v":0},{"$f":"IF(DS$4=\"\",0,SUM($W45:DS45))","v":0},{"$f":"IF(DT$4=\"\",0,SUM($W45:DT45))","v":0},{"$f":"IF(DU$4=\"\",0,SUM($W45:DU45))","v":0},{"$f":"IF(DV$4=\"\",0,SUM($W45:DV45))","v":0},{"$f":"IF(DW$4=\"\",0,SUM($W45:DW45))","v":0},{"$f":"IF(DX$4=\"\",0,SUM($W45:DX45))","v":0},{"$f":"IF(DY$4=\"\",0,SUM($W45:DY45))","v":0},{"$f":"IF(DZ$4=\"\",0,SUM($W45:DZ45))","v":0},{"$f":"IF(EA$4=\"\",0,SUM($W45:EA45))","v":0},{"$f":"IF(EB$4=\"\",0,SUM($W45:EB45))","v":0},{"$f":"IF(EC$4=\"\",0,SUM($W45:EC45))","v":0},{"$f":"IF(ED$4=\"\",0,SUM($W45:ED45))","v":0},{"$f":"IF(EE$4=\"\",0,SUM($W45:EE45))","v":0},{"$f":"IF(EF$4=\"\",0,SUM($W45:EF45))","v":0},{"$f":"IF(EG$4=\"\",0,SUM($W45:EG45))","v":0},{"$f":"IF(EH$4=\"\",0,SUM($W45:EH45))","v":0},{"$f":"IF(EI$4=\"\",0,SUM($W45:EI45))","v":0},{"$f":"IF(EJ$4=\"\",0,SUM($W45:EJ45))","v":0},{"$f":"IF(EK$4=\"\",0,SUM($W45:EK45))","v":0},{"$f":"IF(EL$4=\"\",0,SUM($W45:EL45))","v":0},{"$f":"IF(EM$4=\"\",0,SUM($W45:EM45))","v":0},{"$f":"IF(EN$4=\"\",0,SUM($W45:EN45))","v":0},{"$f":"IF(EO$4=\"\",0,SUM($W45:EO45))","v":0},{"$f":"IF(EP$4=\"\",0,SUM($W45:EP45))","v":0},{"$f":"IF(EQ$4=\"\",0,SUM($W45:EQ45))","v":0},{"$f":"IF(ER$4=\"\",0,SUM($W45:ER45))","v":0},{"$f":"IF(ES$4=\"\",0,SUM($W45:ES45))","v":0},{"$f":"IF(ET$4=\"\",0,SUM($W45:ET45))","v":0},{"$f":"IF(EU$4=\"\",0,SUM($W45:EU45))","v":0},{"$f":"IF(EV$4=\"\",0,SUM($W45:EV45))","v":0},{"$f":"IF(EW$4=\"\",0,SUM($W45:EW45))","v":0},{"$f":"IF(EX$4=\"\",0,SUM($W45:EX45))","v":0},{"$f":"IF(EY$4=\"\",0,SUM($W45:EY45))","v":0},{"$f":"IF(EZ$4=\"\",0,SUM($W45:EZ45))","v":0},{"$f":"IF(FA$4=\"\",0,SUM($W45:FA45))","v":0},{"$f":"IF(FB$4=\"\",0,SUM($W45:FB45))","v":0},{"$f":"IF(FC$4=\"\",0,SUM($W45:FC45))","v":0},{"$f":"IF(FD$4=\"\",0,SUM($W45:FD45))","v":0},{"$f":"IF(FE$4=\"\",0,SUM($W45:FE45))","v":0},{"$f":"IF(FF$4=\"\",0,SUM($W45:FF45))","v":0},{"$f":"IF(FG$4=\"\",0,SUM($W45:FG45))","v":0},{"$f":"IF(FH$4=\"\",0,SUM($W45:FH45))","v":0},{"$f":"IF(FI$4=\"\",0,SUM($W45:FI45))","v":0},{"$f":"IF(FJ$4=\"\",0,SUM($W45:FJ45))","v":0},{"$f":"IF(FK$4=\"\",0,SUM($W45:FK45))","v":0},{"$f":"IF(FL$4=\"\",0,SUM($W45:FL45))","v":0},{"$f":"IF(FM$4=\"\",0,SUM($W45:FM45))","v":0},{"$f":"IF(FN$4=\"\",0,SUM($W45:FN45))","v":0},{"$f":"IF(FO$4=\"\",0,SUM($W45:FO45))","v":0},{"$f":"IF(FP$4=\"\",0,SUM($W45:FP45))","v":0},{"$f":"IF(FQ$4=\"\",0,SUM($W45:FQ45))","v":0},{"$f":"IF(FR$4=\"\",0,SUM($W45:FR45))","v":0},{"$f":"IF(FS$4=\"\",0,SUM($W45:FS45))","v":0},{"$f":"IF(FT$4=\"\",0,SUM($W45:FT45))","v":0},{"$f":"IF(FU$4=\"\",0,SUM($W45:FU45))","v":0},{"$f":"IF(FV$4=\"\",0,SUM($W45:FV45))","v":0},{"$f":"IF(FW$4=\"\",0,SUM($W45:FW45))","v":0},{"$f":"IF(FX$4=\"\",0,SUM($W45:FX45))","v":0},{"$f":"IF(FY$4=\"\",0,SUM($W45:FY45))","v":0},{"$f":"IF(FZ$4=\"\",0,SUM($W45:FZ45))","v":0},{"$f":"IF(GA$4=\"\",0,SUM($W45:GA45))","v":0},{"$f":"IF(GB$4=\"\",0,SUM($W45:GB45))","v":0},{"$f":"IF(GC$4=\"\",0,SUM($W45:GC45))","v":0},{"$f":"IF(GD$4=\"\",0,SUM($W45:GD45))","v":0},{"$f":"IF(GE$4=\"\",0,SUM($W45:GE45))","v":0},{"$f":"IF(GF$4=\"\",0,SUM($W45:GF45))","v":0},{"$f":"IF(GG$4=\"\",0,SUM($W45:GG45))","v":0},{"$f":"IF(GH$4=\"\",0,SUM($W45:GH45))","v":0},{"$f":"IF(GI$4=\"\",0,SUM($W45:GI45))","v":0},{"$f":"IF(GJ$4=\"\",0,SUM($W45:GJ45))","v":0},{"$f":"IF(GK$4=\"\",0,SUM($W45:GK45))","v":0},{"$f":"IF(GL$4=\"\",0,SUM($W45:GL45))","v":0},{"$f":"IF(GM$4=\"\",0,SUM($W45:GM45))","v":0},{"$f":"IF(GN$4=\"\",0,SUM($W45:GN45))","v":0},{"$f":"IF(GO$4=\"\",0,SUM($W45:GO45))","v":0},{"$f":"IF(GP$4=\"\",0,SUM($W45:GP45))","v":0},{"$f":"IF(GQ$4=\"\",0,SUM($W45:GQ45))","v":0},{"$f":"IF(GR$4=\"\",0,SUM($W45:GR45))","v":0},{"$f":"IF(GS$4=\"\",0,SUM($W45:GS45))","v":0},{"$f":"IF(GT$4=\"\",0,SUM($W45:GT45))","v":0},{"$f":"IF(GU$4=\"\",0,SUM($W45:GU45))","v":0},{"$f":"IF(GV$4=\"\",0,SUM($W45:GV45))","v":0}]
[]
[null,{"$f":"ROW()","v":49},null,null,null,null,null,"Кассовый разрыв",null,null,null,null,null,null,null,"CF(-)",null,null,null,null,{"$f":"IF(MIN(INDIRECT(ADDRESS($B47,X$2)&\":\"&ADDRESS($B47,MAX($2:$2))))>=0,0,MIN(INDIRECT(ADDRESS($B47,X$2)&\":\"&ADDRESS($B47,MAX($2:$2)))))","v":0}]

{"sheet":"M-Q-Y","index":1,"n_rows":38,"n_cols":204,"rows_kept":38,"cut":false,"hidden":false,"merged":[]}
[null,null,null,null,null,null,null,null,null,null,null,null,null,null,null,null,null,null,null,null,null,null,null,{"$f":"MAX($W1:W1)+1","v":1},{"$f":"MAX($W1:X1)+1","v":2},{"$f":"MAX($W1:Y1)+1","v":3},{"$f":"MAX($W1:Z1)+1","v":4},{"$f":"MAX($W1:AA1)+1","v":5},{"$f":"MAX($W1:AB1)+1","v":6},{"$f":"MAX($W1:AC1)+1","v":7},{"$f":"MAX($W1:AD1)+1","v":8},{"$f":"MAX($W1:AE1)+1","v":9},{"$f":"MAX($W1:AF1)+1","v":10},{"$f":"MAX($W1:AG1)+1","v":11},{"$f":"MAX($W1:AH1)+1","v":12},{"$f":"MAX($W1:AI1)+1","v":13},{"$f":"MAX($W1:AJ1)+1","v":14},{"$f":"MAX($W1:AK1)+1","v":15},{"$f":"MAX($W1:AL1)+1","v":16},{"$f":"MAX($W1:AM1)+1","v":17},{"$f":"MAX($W1:AN1)+1","v":18},{"$f":"MAX($W1:AO1)+1","v":19},{"$f":"MAX($W1:AP1)+1","v":20},{"$f":"MAX($W1:AQ1)+1","v":21},{"$f":"MAX($W1:AR1)+1","v":22},{"$f":"MAX($W1:AS1)+1","v":23},{"$f":"MAX($W1:AT1)+1","v":24},{"$f":"MAX($W1:AU1)+1","v":25},{"$f":"MAX($W1:AV1)+1","v":26},{"$f":"MAX($W1:AW1)+1","v":27},{"$f":"MAX($W1:AX1)+1","v":28},{"$f":"MAX($W1:AY1)+1","v":29},{"$f":"MAX($W1:AZ1)+1","v":30},{"$f":"MAX($W1:BA1)+1","v":31},{"$f":"MAX($W1:BB1)+1","v":32},{"$f":"MAX($W1:BC1)+1","v":33},{"$f":"MAX($W1:BD1)+1","v":34},{"$f":"MAX($W1:BE1)+1","v":35},{"$f":"MAX($W1:BF1)+1","v":36},{"$f":"MAX($W1:BG1)+1","v":37},{"$f":"MAX($W1:BH1)+1","v":38},{"$f":"MAX($W1:BI1)+1","v":39},{"$f":"MAX($W1:BJ1)+1","v":40},{"$f":"MAX($W1:BK1)+1","v":41},{"$f":"MAX($W1:BL1)+1","v":42},{"$f":"MAX($W1:BM1)+1","v":43},{"$f":"MAX($W1:BN1)+1","v":44},{"$f":"MAX($W1:BO1)+1","v":45},{"$f":"MAX($W1:BP1)+1","v":46},{"$f":"MAX($W1:BQ1)+1","v":47},{"$f":"MAX($W1:BR1)+1","v":48},{"$f":"MAX($W1:BS1)+1","v":49},{"$f":"MAX($W1:BT1)+1","v":50},{"$f":"MAX($W1:BU1)+1","v":51},{"$f":"MAX($W1:BV1)+1","v":52},{"$f":"MAX($W1:BW1)+1","v":53},{"$f":"MAX($W1:BX1)+1","v":54},{"$f":"MAX($W1:BY1)+1","v":55},{"$f":"MAX($W1:BZ1)+1","v":56},{"$f":"MAX($W1:CA1)+1","v":57},{"$f":"MAX($W1:CB1)+1","v":58},{"$f":"MAX($W1:CC1)+1","v":59},{"$f":"MAX($W1:CD1)+1","v":60},{"$f":"MAX($W1:CE1)+1","v":61},{"$f":"MAX($W1:CF1)+1","v":62},{"$f":"MAX($W1:CG1)+1","v":63},{"$f":"MAX($W1:CH1)+1","v":64},{"$f":"MAX($W1:CI1)+1","v":65},{"$f":"MAX($W1:CJ1)+1","v":66},{"$f":"MAX($W1:CK1)+1","v":67},{"$f":"MAX($W1:CL1)+1","v":68},{"$f":"MAX($W1:CM1)+1","v":69},{"$f":"MAX($W1:CN1)+1","v":70},{"$f":"MAX($W1:CO1)+1","v":71},{"$f":"MAX($W1:CP1)+1","v":72},{"$f":"MAX($W1:CQ1)+1","v":73},{"$f":"MAX($W1:CR1)+1","v":74},{"$f":"MAX($W1:CS1)+1","v":75},{"$f":"MAX($W1:CT1)+1","v":76},{"$f":"MAX($W1:CU1)+1","v":77},{"$f":"MAX($W1:CV1)+1","v":78},{"$f":"MAX($W1:CW1)+1","v":79},{"$f":"MAX($W1:CX1)+1","v":80},{"$f":"MAX($W1:CY1)+1","v":81},{"$f":"MAX($W1:CZ1)+1","v":82},{"$f":"MAX($W1:DA1)+1","v":83},{"$f":"MAX($W1:DB1)+1","v":84},{"$f":"MAX($W1:DC1)+1","v":85},{"$f":"MAX($W1:DD1)+1","v":86},{"$f":"MAX($W1:DE1)+1","v":87},{"$f":"MAX($W1:DF1)+1","v":88},{"$f":"MAX($W1:DG1)+1","v":89},{"$f":"MAX($W1:DH1)+1","v":90},{"$f":"MAX($W1:DI1)+1","v":91},{"$f":"MAX($W1:DJ1)+1","v":92},{"$f":"MAX($W1:DK1)+1","v":93},{"$f":"MAX($W1:DL1)+1","v":94},{"$f":"MAX($W1:DM1)+1","v":95},{"$f":"MAX($W1:DN1)+1","v":96},{"$f":"MAX($W1:DO1)+1","v":97},{"$f":"MAX($W1:DP1)+1","v":98},{"$f":"MAX($W1:DQ1)+1","v":99},{"$f":"MAX($W1:DR1)+1","v":100},{"$f":"MAX($W1:DS1)+1","v":101},{"$f":"MAX($W1:DT1)+1","v":102},{"$f":"MAX($W1:DU1)+1","v":103},{"$f":"MAX($W1:DV1)+1","v":104},{"$f":"MAX($W1:DW1)+1","v":105},{"$f":"MAX($W1:DX1)+1","v":106},{"$f":"MAX($W1:DY1)+1","v":107},{"$f":"MAX($W1:DZ1)+1","v":108},{"$f":"MAX($W1:EA1)+1","v":109},{"$f":"MAX($W1:EB1)+1","v":110},{"$f":"MAX($W1:EC1)+1","v":111},{"$f":"MAX($W1:ED1)+1","v":112},{"$f":"MAX($W1:EE1)+1","v":113},{"$f":"MAX($W1:EF1)+1","v":114},{"$f":"MAX($W1:EG1)+1","v":115},{"$f":"MAX($W1:EH1)+1","v":116},{"$f":"MAX($W1:EI1)+1","v":117},{"$f":"MAX($W1:EJ1)+1","v":118},{"$f":"MAX($W1:EK1)+1","v":119},{"$f":"MAX($W1:EL1)+1","v":120},{"$f":"MAX($W1:EM1)+1","v":121},{"$f":"MAX($W1:EN1)+1","v":122},{"$f":"MAX($W1:EO1)+1","v":123},{"$f":"MAX($W1:EP1)+1","v":124},{"$f":"MAX($W1:EQ1)+1","v":125},{"$f":"MAX($W1:ER1)+1","v":126},{"$f":"MAX($W1:ES1)+1","v":127},{"$f":"MAX($W1:ET1)+1","v":128},{"$f":"MAX($W1:EU1)+1","v":129},{"$f":"MAX($W1:EV1)+1","v":130},{"$f":"MAX($W1:EW1)+1","v":131},{"$f":"MAX($W1:EX1)+1","v":132},{"$f":"MAX($W1:EY1)+1","v":133},{"$f":"MAX($W1:EZ1)+1","v":134},{"$f":"MAX($W1:FA1)+1","v":135},{"$f":"MAX($W1:FB1)+1","v":136},{"$f":"MAX($W1:FC1)+1","v":137},{"$f":"MAX($W1:FD1)+1","v":138},{"$f":"MAX($W1:FE1)+1","v":139},{"$f":"MAX($W1:FF1)+1","v":140},{"$f":"MAX($W1:FG1)+1","v":141},{"$f":"MAX($W1:FH1)+1","v":142},{"$f":"MAX($W1:FI1)+1","v":143},{"$f":"MAX($W1:FJ1)+1","v":144},{"$f":"MAX($W1:FK1)+1","v":145},{"$f":"MAX($W1:FL1)+1","v":146},{"$f":"MAX($W1:FM1)+1","v":147},{"$f":"MAX($W1:FN1)+1","v":148},{"$f":"MAX($W1:FO1)+1","v":149},{"$f":"MAX($W1:FP1)+1","v":150},{"$f":"MAX($W1:FQ1)+1","v":151},{"$f":"MAX($W1:FR1)+1","v":152},{"$f":"MAX($W1:FS1)+1","v":153},{"$f":"MAX($W1:FT1)+1","v":154},{"$f":"MAX($W1:FU1)+1","v":155},{"$f":"MAX($W1:FV1)+1","v":156},{"$f":"MAX($W1:FW1)+1","v":157},{"$f":"MAX($W1:FX1)+1","v":158},{"$f":"MAX($W1:FY1)+1","v":159},{"$f":"MAX($W1:FZ1)+1","v":160},{"$f":"MAX($W1:GA1)+1","v":161},{"$f":"MAX($W1:GB1)+1","v":162},{"$f":"MAX($W1:GC1)+1","v":163},{"$f":"MAX($W1:GD1)+1","v":164},{"$f":"MAX($W1:GE1)+1","v":165},{"$f":"MAX($W1:GF1)+1","v":166},{"$f":"MAX($W1:GG1)+1","v":167},{"$f":"MAX($W1:GH1)+1","v":168},{"$f":"MAX($W1:GI1)+1","v":169},{"$f":"MAX($W1:GJ1)+1","v":170},{"$f":"MAX($W1:GK1)+1","v":171},{"$f":"MAX($W1:GL1)+1","v":172},{"$f":"MAX($W1:GM1)+1","v":173},{"$f":"MAX($W1:GN1)+1","v":174},{"$f":"MAX($W1:GO1)+1","v":175},{"$f":"MAX($W1:GP1)+1","v":176},{"$f":"MAX($W1:GQ1)+1","v":177},{"$f":"MAX($W1:GR1)+1","v":178},{"$f":"MAX($W1:GS1)+1","v":179},{"$f":"MAX($W1:GT1)+1","v":180},{"$f":"MAX($W1:GU1)+1","v":181}]
[null,null,null,null,null,null,null,null,null,null,null,null,null,null,null,{"$f":"COLUMN()","v":16},null,null,null,null,null,null,null,{"$f":"IF(X$4=\"\",0,COLUMN())","v":24},{"$f":"IF(Y$4=\"\",0,COLUMN())","v":25},26,27,28,29,30,31,32,33,34,35,36,37,38,39,40,41,42,43,44,45,46,47,48,49,50,51,52,53,54,55,56,57,58,59,60,61,62,63,64,65,66,67,68,69,70,71,72,73,74,75,76,77,78,79,80,81,82,83,84,85,86,87,88,{"$f":"IF(CK$4=\"\",0,COLUMN())","v":89},90,91,92,93,94,95,96,97,98,99,100,101,102,103,104,105,106,107,108,109,110,111,112,113,114,115,116,117,118,119,120,121,122,123,124,125,126,127,128,129,130,131,132,133,134,135,136,137,138,139,140,141,142,143,0,0,0,0,0,0,0,0,0,{"$f":"IF(EW$4=\"\",0,COLUMN())","v":0},0,0,0,0,0,0,0,0,0,0,0,0,0,0,0,0,0,0,0,0,0,0,0,0,0,0,0,0,0,0,0,0,0,0,0,0,0,0,0,0,0,0,0,0,0,0,0,0,0,0,0]
[null,null,null,null,null,null,null,null,null,null,null,null,null,null,null,null,null,null,null,null,null,null,null,{"$f":"IF(X$6=\"\",0,((12*(YEAR(X$7)-1)+MONTH(X$7))-(12*(YEAR(X$6)-1)+MONTH(X$6))+1))","v":12},{"$f":"IF(Y$6=\"\",0,((12*(YEAR(Y$7)-1)+MONTH(Y$7))-(12*(YEAR(Y$6)-1)+MONTH(Y$6))+1))","v":12},12,12,12,12,12,12,12,12,12,12,12,12,12,12,12,12,12,12,12,12,12,12,12,12,12,12,12,12,12,12,12,12,12,12,12,12,12,12,12,12,12,12,12,12,12,12,12,12,12,12,12,12,12,12,12,12,12,12,12,12,12,12,12,{"$f":"IF(CK$6=\"\",0,((12*(YEAR(CK$7)-1)+MONTH(CK$7))-(12*(YEAR(CK$6)-1)+MONTH(CK$6))+1))","v":12},12,12,12,12,12,12,12,12,12,12,12,12,12,12,12,12,12,12,12,12,12,12,12,12,12,12,12,12,12,12,12,12,12,12,12,12,12,12,12,12,12,12,12,12,12,12,12,12,12,12,12,12,12,12,0,0,0,0,0,0,0,0,0,{"$f":"IF(EW$6=\"\",0,((12*(YEAR(EW$7)-1)+MONTH(EW$7))-(12*(YEAR(EW$6)-1)+MONTH(EW$6))+1))","v":0},0,0,0,0,0,0,0,0,0,0,0,0,0,0,0,0,0,0,0,0,0,0,0,0,0,0,0,0,0,0,0,0,0,0,0,0,0,0,0,0,0,0,0,0,0,0,0,0,0,0,0]
[null,null,null,null,null,null,null,"показатель",null,null,null,null,"ед.изм.",null,null,"значение",null,null,null,null,"итого",null,null,{"$f":"IF(OR($P$6=\"\",$P$6=0,$P$7=\"\",$P$7=0,$P$8=\"\",$P$7<1),\"\",\nIF(X$8=\"\",\"\",\nIF($P$6=Lists!$I$6,X6,\nIF($P$6=Lists!$I$7,INT(MONTH(X7)/3)&\"кв\"&(YEAR(X7)-2000)&\"г\",\nIF($P$6=Lists!$I$8,X8&\" год\",\nIF($P$6=Lists!$I$9,YEAR(X7)&\"г.\",\"\"))))))","v":"2023г."},{"$f":"IF(OR($P$6=\"\",$P$6=0,$P$7=\"\",$P$7=0,$P$8=\"\",$P$7<1),\"\",\nIF(Y$8=\"\",\"\",\nIF($P$6=Lists!$I$6,Y6,\nIF($P$6=Lists!$I$7,INT(MONTH(Y7)/3)&\"кв\"&(YEAR(Y7)-2000)&\"г\",\nIF($P$6=Lists!$I$8,Y8&\" год\",\nIF($P$6=Lists!$I$9,YEAR(Y7)&\"г.\",\"\"))))))","v":"2024г."},{"$f":"IF(OR($P$6=\"\",$P$6=0,$P$7=\"\",$P$7=0,$P$8=\"\",$P$7<1),\"\",\nIF(Z$8=\"\",\"\",\nIF($P$6=Lists!$I$6,Z6,\nIF($P$6=Lists!$I$7,INT(MONTH(Z7)/3)&\"кв\"&(YEAR(Z7)-2000)&\"г\",\nIF($P$6=Lists!$I$8,Z8&\" год\",\nIF($P$6=Lists!$I$9,YEAR(Z7)&\"г.\",\"\"))))))","v":"2025г."},{"$f":"IF(OR($P$6=\"\",$P$6=0,$P$7=\"\",$P$7=0,$P$8=\"\",$P$7<1),\"\",\nIF(AA$8=\"\",\"\",\nIF($P$6=Lists!$I$6,AA6,\nIF($P$6=Lists!$I$7,INT(MONTH(AA7)/3)&\"кв\"&(YEAR(AA7)-2000)&\"г\",\nIF($P$6=Lists!$I$8,AA8&\" год\",\nIF($P$6=Lists!$I$9,YEAR(AA7)&\"г.\",\"\"))))))","v":"2026г."},{"$f":"IF(OR($P$6=\"\",$P$6=0,$P$7=\"\",$P$7=0,$P$8=\"\",$P$7<1),\"\",\nIF(AB$8=\"\",\"\",\nIF($P$6=Lists!$I$6,AB6,\nIF($P$6=Lists!$I$7,INT(MONTH(AB7)/3)&\"кв\"&(YEAR(AB7)-2000)&\"г\",\nIF($P$6=Lists!$I$8,AB8&\" год\",\nIF($P$6=Lists!$I$9,YEAR(AB7)&\"г.\",\"\"))))))","v":"2027г."},{"$f":"IF(OR($P$6=\"\",$P$6=0,$P$7=\"\",$P$7=0,$P$8=\"\",$P$7<1),\"\",\nIF(AC$8=\"\",\"\",\nIF($P$6=Lists!$I$6,AC6,\nIF($P$6=Lists!$I$7,INT(MONTH(AC7)/3)&\"кв\"&(YEAR(AC7)-2000)&\"г\",\nIF($P$6=Lists!$I$8,AC8&\" год\",\nIF($P$6=Lists!$I$9,YEAR(AC7)&\"г.\",\"\"))))))","v":"2028г."},{"$f":"IF(OR($P$6=\"\",$P$6=0,$P$7=\"\",$P$7=0,$P$8=\"\",$P$7<1),\"\",\nIF(AD$8=\"\",\"\",\nIF($P$6=Lists!$I$6,AD6,\nIF($P$6=Lists!$I$7,INT(MONTH(AD7)/3)&\"кв\"&(YEAR(AD7)-2000)&\"г\",\nIF($P$6=Lists!$I$8,AD8&\" год\",\nIF($P$6=Lists!$I$9,YEAR(AD7)&\"г.\",\"\"))))))","v":"2029г."},{"$f":"IF(OR($P$6=\"\",$P$6=0,$P$7=\"\",$P$7=0,$P$8=\"\",$P$7<1),\"\",\nIF(AE$8=\"\",\"\",\nIF($P$6=Lists!$I$6,AE6,\nIF($P$6=Lists!$I$7,INT(MONTH(AE7)/3)&\"кв\"&(YEAR(AE7)-2000)&\"г\",\nIF($P$6=Lists!$I$8,AE8&\" год\",\nIF($P$6=Lists!$I$9,YEAR(AE7)&\"г.\",\"\"))))))","v":"2030г."},{"$f":"IF(OR($P$6=\"\",$P$6=0,$P$7=\"\",$P$7=0,$P$8=\"\",$P$7<1),\"\",\nIF(AF$8=\"\",\"\",\nIF($P$6=Lists!$I$6,AF6,\nIF($P$6=Lists!$I$7,INT(MONTH(AF7)/3)&\"кв\"&(YEAR(AF7)-2000)&\"г\",\nIF($P$6=Lists!$I$8,AF8&\" год\",\nIF($P$6=Lists!$I$9,YEAR(AF7)&\"г.\",\"\"))))))","v":"2031г."},{"$f":"IF(OR($P$6=\"\",$P$6=0,$P$7=\"\",$P$7=0,$P$8=\"\",$P$7<1),\"\",\nIF(AG$8=\"\",\"\",\nIF($P$6=Lists!$I$6,AG6,\nIF($P$6=Lists!$I$7,INT(MONTH(AG7)/3)&\"кв\"&(YEAR(AG7)-2000)&\"г\",\nIF($P$6=Lists!$I$8,AG8&\" год\",\nIF($P$6=Lists!$I$9,YEAR(AG7)&\"г.\",\"\"))))))","v":"2032г."},{"$f":"IF(OR($P$6=\"\",$P$6=0,$P$7=\"\",$P$7=0,$P$8=\"\",$P$7<1),\"\",\nIF(AH$8=\"\",\"\",\nIF($P$6=Lists!$I$6,AH6,\nIF($P$6=Lists!$I$7,INT(MONTH(AH7)/3)&\"кв\"&(YEAR(AH7)-2000)&\"г\",\nIF($P$6=Lists!$I$8,AH8&\" год\",\nIF($P$6=Lists!$I$9,YEAR(AH7)&\"г.\",\"\"))))))","v":"2033г."},{"$f":"IF(OR($P$6=\"\",$P$6=0,$P$7=\"\",$P$7=0,$P$8=\"\",$P$7<1),\"\",\nIF(AI$8=\"\",\"\",\nIF($P$6=Lists!$I$6,AI6,\nIF($P$6=Lists!$I$7,INT(MONTH(AI7)/3)&\"кв\"&(YEAR(AI7)-2000)&\"г\",\nIF($P$6=Lists!$I$8,AI8&\" год\",\nIF($P$6=Lists!$I$9,YEAR(AI7)&\"г.\",\"\"))))))","v":"2034г."},{"$f":"IF(OR($P$6=\"\",$P$6=0,$P$7=\"\",$P$7=0,$P$8=\"\",$P$7<1),\"\",\nIF(AJ$8=\"\",\"\",\nIF($P$6=Lists!$I$6,AJ6,\nIF($P$6=Lists!$I$7,INT(MONTH(AJ7)/3)&\"кв\"&(YEAR(AJ7)-2000)&\"г\",\nIF($P$6=Lists!$I$8,AJ8&\" год\",\nIF($P$6=Lists!$I$9,YEAR(AJ7)&\"г.\",\"\"))))))","v":"2035г."},{"$f":"IF(OR($P$6=\"\",$P$6=0,$P$7=\"\",$P$7=0,$P$8=\"\",$P$7<1),\"\",\nIF(AK$8=\"\",\"\",\nIF($P$6=Lists!$I$6,AK6,\nIF($P$6=Lists!$I$7,INT(MONTH(AK7)/3)&\"кв\"&(YEAR(AK7)-2000)&\"г\",\nIF($P$6=Lists!$I$8,AK8&\" год\",\nIF($P$6=Lists!$I$9,YEAR(AK7)&\"г.\",\"\"))))))","v":"2036г."},{"$f":"IF(OR($P$6=\"\",$P$6=0,$P$7=\"\",$P$7=0,$P$8=\"\",$P$7<1),\"\",\nIF(AL$8=\"\",\"\",\nIF($P$6=Lists!$I$6,AL6,\nIF($P$6=Lists!$I$7,INT(MONTH(AL7)/3)&\"кв\"&(YEAR(AL7)-2000)&\"г\",\nIF($P$6=Lists!$I$8,AL8&\" год\",\nIF($P$6=Lists!$I$9,YEAR(AL7)&\"г.\",\"\"))))))","v":"2037г."},{"$f":"IF(OR($P$6=\"\",$P$6=0,$P$7=\"\",$P$7=0,$P$8=\"\",$P$7<1),\"\",\nIF(AM$8=\"\",\"\",\nIF($P$6=Lists!$I$6,AM6,\nIF($P$6=Lists!$I$7,INT(MONTH(AM7)/3)&\"кв\"&(YEAR(AM7)-2000)&\"г\",\nIF($P$6=Lists!$I$8,AM8&\" год\",\nIF($P$6=Lists!$I$9,YEAR(AM7)&\"г.\",\"\"))))))","v":"2038г."},{"$f":"IF(OR($P$6=\"\",$P$6=0,$P$7=\"\",$P$7=0,$P$8=\"\",$P$7<1),\"\",\nIF(AN$8=\"\",\"\",\nIF($P$6=Lists!$I$6,AN6,\nIF($P$6=Lists!$I$7,INT(MONTH(AN7)/3)&\"кв\"&(YEAR(AN7)-2000)&\"г\",\nIF($P$6=Lists!$I$8,AN8&\" год\",\nIF($P$6=Lists!$I$9,YEAR(AN7)&\"г.\",\"\"))))))","v":"2039г."},{"$f":"IF(OR($P$6=\"\",$P$6=0,$P$7=\"\",$P$7=0,$P$8=\"\",$P$7<1),\"\",\nIF(AO$8=\"\",\"\",\nIF($P$6=Lists!$I$6,AO6,\nIF($P$6=Lists!$I$7,INT(MONTH(AO7)/3)&\"кв\"&(YEAR(AO7)-2000)&\"г\",\nIF($P$6=Lists!$I$8,AO8&\" год\",\nIF($P$6=Lists!$I$9,YEAR(AO7)&\"г.\",\"\"))))))","v":"2040г."},{"$f":"IF(OR($P$6=\"\",$P$6=0,$P$7=\"\",$P$7=0,$P$8=\"\",$P$7<1),\"\",\nIF(AP$8=\"\",\"\",\nIF($P$6=Lists!$I$6,AP6,\nIF($P$6=Lists!$I$7,INT(MONTH(AP7)/3)&\"кв\"&(YEAR(AP7)-2000)&\"г\",\nIF($P$6=Lists!$I$8,AP8&\" год\",\nIF($P$6=Lists!$I$9,YEAR(AP7)&\"г.\",\"\"))))))","v":"2041г."},{"$f":"IF(OR($P$6=\"\",$P$6=0,$P$7=\"\",$P$7=0,$P$8=\"\",$P$7<1),\"\",\nIF(AQ$8=\"\",\"\",\nIF($P$6=Lists!$I$6,AQ6,\nIF($P$6=Lists!$I$7,INT(MONTH(AQ7)/3)&\"кв\"&(YEAR(AQ7)-2000)&\"г\",\nIF($P$6=Lists!$I$8,AQ8&\" год\",\nIF($P$6=Lists!$I$9,YEAR(AQ7)&\"г.\",\"\"))))))","v":"2042г."},{"$f":"IF(OR($P$6=\"\",$P$6=0,$P$7=\"\",$P$7=0,$P$8=\"\",$P$7<1),\"\",\nIF(AR$8=\"\",\"\",\nIF($P$6=Lists!$I$6,AR6,\nIF($P$6=Lists!$I$7,INT(MONTH(AR7)/3)&\"кв\"&(YEAR(AR7)-2000)&\"г\",\nIF($P$6=Lists!$I$8,AR8&\" год\",\nIF($P$6=Lists!$I$9,YEAR(AR7)&\"г.\",\"\"))))))","v":"2043г."},{"$f":"IF(OR($P$6=\"\",$P$6=0,$P$7=\"\",$P$7=0,$P$8=\"\",$P$7<1),\"\",\nIF(AS$8=\"\",\"\",\nIF($P$6=Lists!$I$6,AS6,\nIF($P$6=Lists!$I$7,INT(MONTH(AS7)/3)&\"кв\"&(YEAR(AS7)-2000)&\"г\",\nIF($P$6=Lists!$I$8,AS8&\" год\",\nIF($P$6=Lists!$I$9,YEAR(AS7)&\"г.\",\"\"))))))","v":"2044г."},{"$f":"IF(OR($P$6=\"\",$P$6=0,$P$7=\"\",$P$7=0,$P$8=\"\",$P$7<1),\"\",\nIF(AT$8=\"\",\"\",\nIF($P$6=Lists!$I$6,AT6,\nIF($P$6=Lists!$I$7,INT(MONTH(AT7)/3)&\"кв\"&(YEAR(AT7)-2000)&\"г\",\nIF($P$6=Lists!$I$8,AT8&\" год\",\nIF($P$6=Lists!$I$9,YEAR(AT7)&\"г.\",\"\"))))))","v":"2045г."},{"$f":"IF(OR($P$6=\"\",$P$6=0,$P$7=\"\",$P$7=0,$P$8=\"\",$P$7<1),\"\",\nIF(AU$8=\"\",\"\",\nIF($P$6=Lists!$I$6,AU6,\nIF($P$6=Lists!$I$7,INT(MONTH(AU7)/3)&\"кв\"&(YEAR(AU7)-2000)&\"г\",\nIF($P$6=Lists!$I$8,AU8&\" год\",\nIF($P$6=Lists!$I$9,YEAR(AU7)&\"г.\",\"\"))))))","v":"2046г."},{"$f":"IF(OR($P$6=\"\",$P$6=0,$P$7=\"\",$P$7=0,$P$8=\"\",$P$7<1),\"\",\nIF(AV$8=\"\",\"\",\nIF($P$6=Lists!$I$6,AV6,\nIF($P$6=Lists!$I$7,INT(MONTH(AV7)/3)&\"кв\"&(YEAR(AV7)-2000)&\"г\",\nIF($P$6=Lists!$I$8,AV8&\" год\",\nIF($P$6=Lists!$I$9,YEAR(AV7)&\"г.\",\"\"))))))","v":"2047г."},{"$f":"IF(OR($P$6=\"\",$P$6=0,$P$7=\"\",$P$7=0,$P$8=\"\",$P$7<1),\"\",\nIF(AW$8=\"\",\"\",\nIF($P$6=Lists!$I$6,AW6,\nIF($P$6=Lists!$I$7,INT(MONTH(AW7)/3)&\"кв\"&(YEAR(AW7)-2000)&\"г\",\nIF($P$6=Lists!$I$8,AW8&\" год\",\nIF($P$6=Lists!$I$9,YEAR(AW7)&\"г.\",\"\"))))))","v":"2048г."},{"$f":"IF(OR($P$6=\"\",$P$6=0,$P$7=\"\",$P$7=0,$P$8=\"\",$P$7<1),\"\",\nIF(AX$8=\"\",\"\",\nIF($P$6=Lists!$I$6,AX6,\nIF($P$6=Lists!$I$7,INT(MONTH(AX7)/3)&\"кв\"&(YEAR(AX7)-2000)&\"г\",\nIF($P$6=Lists!$I$8,AX8&\" год\",\nIF($P$6=Lists!$I$9,YEAR(AX7)&\"г.\",\"\"))))))","v":"2049г."},{"$f":"IF(OR($P$6=\"\",$P$6=0,$P$7=\"\",$P$7=0,$P$8=\"\",$P$7<1),\"\",\nIF(AY$8=\"\",\"\",\nIF($P$6=Lists!$I$6,AY6,\nIF($P$6=Lists!$I$7,INT(MONTH(AY7)/3)&\"кв\"&(YEAR(AY7)-2000)&\"г\",\nIF($P$6=Lists!$I$8,AY8&\" год\",\nIF($P$6=Lists!$I$9,YEAR(AY7)&\"г.\",\"\"))))))","v":"2050г."},{"$f":"IF(OR($P$6=\"\",$P$6=0,$P$7=\"\",$P$7=0,$P$8=\"\",$P$7<1),\"\",\nIF(AZ$8=\"\",\"\",\nIF($P$6=Lists!$I$6,AZ6,\nIF($P$6=Lists!$I$7,INT(MONTH(AZ7)/3)&\"кв\"&(YEAR(AZ7)-2000)&\"г\",\nIF($P$6=Lists!$I$8,AZ8&\" год\",\nIF($P$6=Lists!$I$9,YEAR(AZ7)&\"г.\",\"\"))))))","v":"2051г."},{"$f":"IF(OR($P$6=\"\",$P$6=0,$P$7=\"\",$P$7=0,$P$8=\"\",$P$7<1),\"\",\nIF(BA$8=\"\",\"\",\nIF($P$6=Lists!$I$6,BA6,\nIF($P$6=Lists!$I$7,INT(MONTH(BA7)/3)&\"кв\"&(YEAR(BA7)-2000)&\"г\",\nIF($P$6=Lists!$I$8,BA8&\" год\",\nIF($P$6=Lists!$I$9,YEAR(BA7)&\"г.\",\"\"))))))","v":"2052г."},{"$f":"IF(OR($P$6=\"\",$P$6=0,$P$7=\"\",$P$7=0,$P$8=\"\",$P$7<1),\"\",\nIF(BB$8=\"\",\"\",\nIF($P$6=Lists!$I$6,BB6,\nIF($P$6=Lists!$I$7,INT(MONTH(BB7)/3)&\"кв\"&(YEAR(BB7)-2000)&\"г\",\nIF($P$6=Lists!$I$8,BB8&\" год\",\nIF($P$6=Lists!$I$9,YEAR(BB7)&\"г.\",\"\"))))))","v":"2053г."},{"$f":"IF(OR($P$6=\"\",$P$6=0,$P$7=\"\",$P$7=0,$P$8=\"\",$P$7<1),\"\",\nIF(BC$8=\"\",\"\",\nIF($P$6=Lists!$I$6,BC6,\nIF($P$6=Lists!$I$7,INT(MONTH(BC7)/3)&\"кв\"&(YEAR(BC7)-2000)&\"г\",\nIF($P$6=Lists!$I$8,BC8&\" год\",\nIF($P$6=Lists!$I$9,YEAR(BC7)&\"г.\",\"\"))))))","v":"2054г."},{"$f":"IF(OR($P$6=\"\",$P$6=0,$P$7=\"\",$P$7=0,$P$8=\"\",$P$7<1),\"\",\nIF(BD$8=\"\",\"\",\nIF($P$6=Lists!$I$6,BD6,\nIF($P$6=Lists!$I$7,INT(MONTH(BD7)/3)&\"кв\"&(YEAR(BD7)-2000)&\"г\",\nIF($P$6=Lists!$I$8,BD8&\" год\",\nIF($P$6=Lists!$I$9,YEAR(BD7)&\"г.\",\"\"))))))","v":"2055г."},{"$f":"IF(OR($P$6=\"\",$P$6=0,$P$7=\"\",$P$7=0,$P$8=\"\",$P$7<1),\"\",\nIF(BE$8=\"\",\"\",\nIF($P$6=Lists!$I$6,BE6,\nIF($P$6=Lists!$I$7,INT(MONTH(BE7)/3)&\"кв\"&(YEAR(BE7)-2000)&\"г\",\nIF($P$6=Lists!$I$8,BE8&\" год\",\nIF($P$6=Lists!$I$9,YEAR(BE7)&\"г.\",\"\"))))))","v":"2056г."},{"$f":"IF(OR($P$6=\"\",$P$6=0,$P$7=\"\",$P$7=0,$P$8=\"\",$P$7<1),\"\",\nIF(BF$8=\"\",\"\",\nIF($P$6=Lists!$I$6,BF6,\nIF($P$6=Lists!$I$7,INT(MONTH(BF7)/3)&\"кв\"&(YEAR(BF7)-2000)&\"г\",\nIF($P$6=Lists!$I$8,BF8&\" год\",\nIF($P$6=Lists!$I$9,YEAR(BF7)&\"г.\",\"\"))))))","v":"2057г."},{"$f":"IF(OR($P$6=\"\",$P$6=0,$P$7=\"\",$P$7=0,$P$8=\"\",$P$7<1),\"\",\nIF(BG$8=\"\",\"\",\nIF($P$6=Lists!$I$6,BG6,\nIF($P$6=Lists!$I$7,INT(MONTH(BG7)/3)&\"кв\"&(YEAR(BG7)-2000)&\"г\",\nIF($P$6=Lists!$I$8,BG8&\" год\",\nIF($P$6=Lists!$I$9,YEAR(BG7)&\"г.\",\"\"))))))","v":"2058г."},{"$f":"IF(OR($P$6=\"\",$P$6=0,$P$7=\"\",$P$7=0,$P$8=\"\",$P$7<1),\"\",\nIF(BH$8=\"\",\"\",\nIF($P$6=Lists!$I$6,BH6,\nIF($P$6=Lists!$I$7,INT(MONTH(BH7)/3)&\"кв\"&(YEAR(BH7)-2000)&\"г\",\nIF($P$6=Lists!$I$8,BH8&\" год\",\nIF($P$6=Lists!$I$9,YEAR(BH7)&\"г.\",\"\"))))))","v":"2059г."},{"$f":"IF(OR($P$6=\"\",$P$6=0,$P$7=\"\",$P$7=0,$P$8=\"\",$P$7<1),\"\",\nIF(BI$8=\"\",\"\",\nIF($P$6=Lists!$I$6,BI6,\nIF($P$6=Lists!$I$7,INT(MONTH(BI7)/3)&\"кв\"&(YEAR(BI7)-2000)&\"г\",\nIF($P$6=Lists!$I$8,BI8&\" год\",\nIF($P$6=Lists!$I$9,YEAR(BI7)&\"г.\",\"\"))))))","v":"2060г."},{"$f":"IF(OR($P$6=\"\",$P$6=0,$P$7=\"\",$P$7=0,$P$8=\"\",$P$7<1),\"\",\nIF(BJ$8=\"\",\"\",\nIF($P$6=Lists!$I$6,BJ6,\nIF($P$6=Lists!$I$7,INT(MONTH(BJ7)/3)&\"кв\"&(YEAR(BJ7)-2000)&\"г\",\nIF($P$6=Lists!$I$8,BJ8&\" год\",\nIF($P$6=Lists!$I$9,YEAR(BJ7)&\"г.\",\"\"))))))","v":"2061г."},{"$f":"IF(OR($P$6=\"\",$P$6=0,$P$7=\"\",$P$7=0,$P$8=\"\",$P$7<1),\"\",\nIF(BK$8=\"\",\"\",\nIF($P$6=Lists!$I$6,BK6,\nIF($P$6=Lists!$I$7,INT(MONTH(BK7)/3)&\"кв\"&(YEAR(BK7)-2000)&\"г\",\nIF($P$6=Lists!$I$8,BK8&\" год\",\nIF($P$6=Lists!$I$9,YEAR(BK7)&\"г.\",\"\"))))))","v":"2062г."},{"$f":"IF(OR($P$6=\"\",$P$6=0,$P$7=\"\",$P$7=0,$P$8=\"\",$P$7<1),\"\",\nIF(BL$8=\"\",\"\",\nIF($P$6=Lists!$I$6,BL6,\nIF($P$6=Lists!$I$7,INT(MONTH(BL7)/3)&\"кв\"&(YEAR(BL7)-2000)&\"г\",\nIF($P$6=Lists!$I$8,BL8&\" год\",\nIF($P$6=Lists!$I$9,YEAR(BL7)&\"г.\",\"\"))))))","v":"2063г."},{"$f":"IF(OR($P$6=\"\",$P$6=0,$P$7=\"\",$P$7=0,$P$8=\"\",$P$7<1),\"\",\nIF(BM$8=\"\",\"\",\nIF($P$6=Lists!$I$6,BM6,\nIF($P$6=Lists!$I$7,INT(MONTH(BM7)/3)&\"кв\"&(YEAR(BM7)-2000)&\"г\",\nIF($P$6=Lists!$I$8,BM8&\" год\",\nIF($P$6=Lists!$I$9,YEAR(BM7)&\"г.\",\"\"))))))","v":"2064г."},{"$f":"IF(OR($P$6=\"\",$P$6=0,$P$7=\"\",$P$7=0,$P$8=\"\",$P$7<1),\"\",\nIF(BN$8=\"\",\"\",\nIF($P$6=Lists!$I$6,BN6,\nIF($P$6=Lists!$I$7,INT(MONTH(BN7)/3)&\"кв\"&(YEAR(BN7)-2000)&\"г\",\nIF($P$6=Lists!$I$8,BN8&\" год\",\nIF($P$6=Lists!$I$9,YEAR(BN7)&\"г.\",\"\"))))))","v":"2065г."},{"$f":"IF(OR($P$6=\"\",$P$6=0,$P$7=\"\",$P$7=0,$P$8=\"\",$P$7<1),\"\",\nIF(BO$8=\"\",\"\",\nIF($P$6=Lists!$I$6,BO6,\nIF($P$6=Lists!$I$7,INT(MONTH(BO7)/3)&\"кв\"&(YEAR(BO7)-2000)&\"г\",\nIF($P$6=Lists!$I$8,BO8&\" год\",\nIF($P$6=Lists!$I$9,YEAR(BO7)&\"г.\",\"\"))))))","v":"2066г."},{"$f":"IF(OR($P$6=\"\",$P$6=0,$P$7=\"\",$P$7=0,$P$8=\"\",$P$7<1),\"\",\nIF(BP$8=\"\",\"\",\nIF($P$6=Lists!$I$6,BP6,\nIF($P$6=Lists!$I$7,INT(MONTH(BP7)/3)&\"кв\"&(YEAR(BP7)-2000)&\"г\",\nIF($P$6=Lists!$I$8,BP8&\" год\",\nIF($P$6=Lists!$I$9,YEAR(BP7)&\"г.\",\"\"))))))","v":"2067г."},{"$f":"IF(OR($P$6=\"\",$P$6=0,$P$7=\"\",$P$7=0,$P$8=\"\",$P$7<1),\"\",\nIF(BQ$8=\"\",\"\",\nIF($P$6=Lists!$I$6,BQ6,\nIF($P$6=Lists!$I$7,INT(MONTH(BQ7)/3)&\"кв\"&(YEAR(BQ7)-2000)&\"г\",\nIF($P$6=Lists!$I$8,BQ8&\" год\",\nIF($P$6=Lists!$I$9,YEAR(BQ7)&\"г.\",\"\"))))))","v":"2068г."},{"$f":"IF(OR($P$6=\"\",$P$6=0,$P$7=\"\",$P$7=0,$P$8=\"\",$P$7<1),\"\",\nIF(BR$8=\"\",\"\",\nIF($P$6=Lists!$I$6,BR6,\nIF($P$6=Lists!$I$7,INT(MONTH(BR7)/3)&\"кв\"&(YEAR(BR7)-2000)&\"г\",\nIF($P$6=Lists!$I$8,BR8&\" год\",\nIF($P$6=Lists!$I$9,YEAR(BR7)&\"г.\",\"\"))))))","v":"2069г."},{"$f":"IF(OR($P$6=\"\",$P$6=0,$P$7=\"\",$P$7=0,$P$8=\"\",$P$7<1),\"\",\nIF(BS$8=\"\",\"\",\nIF($P$6=Lists!$I$6,BS6,\nIF($P$6=Lists!$I$7,INT(MONTH(BS7)/3)&\"кв\"&(YEAR(BS7)-2000)&\"г\",\nIF($P$6=Lists!$I$8,BS8&\" год\",\nIF($P$6=Lists!$I$9,YEAR(BS7)&\"г.\",\"\"))))))","v":"2070г."},{"$f":"IF(OR($P$6=\"\",$P$6=0,$P$7=\"\",$P$7=0,$P$8=\"\",$P$7<1),\"\",\nIF(BT$8=\"\",\"\",\nIF($P$6=Lists!$I$6,BT6,\nIF($P$6=Lists!$I$7,INT(MONTH(BT7)/3)&\"кв\"&(YEAR(BT7)-2000)&\"г\",\nIF($P$6=Lists!$I$8,BT8&\" год\",\nIF($P$6=Lists!$I$9,YEAR(BT7)&\"г.\",\"\"))))))","v":"2071г."},{"$f":"IF(OR($P$6=\"\",$P$6=0,$P$7=\"\",$P$7=0,$P$8=\"\",$P$7<1),\"\",\nIF(BU$8=\"\",\"\",\nIF($P$6=Lists!$I$6,BU6,\nIF($P$6=Lists!$I$7,INT(MONTH(BU7)/3)&\"кв\"&(YEAR(BU7)-2000)&\"г\",\nIF($P$6=Lists!$I$8,BU8&\" год\",\nIF($P$6=Lists!$I$9,YEAR(BU7)&\"г.\",\"\"))))))","v":"2072г."},{"$f":"IF(OR($P$6=\"\",$P$6=0,$P$7=\"\",$P$7=0,$P$8=\"\",$P$7<1),\"\",\nIF(BV$8=\"\",\"\",\nIF($P$6=Lists!$I$6,BV6,\nIF($P$6=Lists!$I$7,INT(MONTH(BV7)/3)&\"кв\"&(YEAR(BV7)-2000)&\"г\",\nIF($P$6=Lists!$I$8,BV8&\" год\",\nIF($P$6=Lists!$I$9,YEAR(BV7)&\"г.\",\"\"))))))","v":"2073г."},{"$f":"IF(OR($P$6=\"\",$P$6=0,$P$7=\"\",$P$7=0,$P$8=\"\",$P$7<1),\"\",\nIF(BW$8=\"\",\"\",\nIF($P$6=Lists!$I$6,BW6,\nIF($P$6=Lists!$I$7,INT(MONTH(BW7)/3)&\"кв\"&(YEAR(BW7)-2000)&\"г\",\nIF($P$6=Lists!$I$8,BW8&\" год\",\nIF($P$6=Lists!$I$9,YEAR(BW7)&\"г.\",\"\"))))))","v":"2074г."},{"$f":"IF(OR($P$6=\"\",$P$6=0,$P$7=\"\",$P$7=0,$P$8=\"\",$P$7<1),\"\",\nIF(BX$8=\"\",\"\",\nIF($P$6=Lists!$I$6,BX6,\nIF($P$6=Lists!$I$7,INT(MONTH(BX7)/3)&\"кв\"&(YEAR(BX7)-2000)&\"г\",\nIF($P$6=Lists!$I$8,BX8&\" год\",\nIF($P$6=Lists!$I$9,YEAR(BX7)&\"г.\",\"\"))))))","v":"2075г."},{"$f":"IF(OR($P$6=\"\",$P$6=0,$P$7=\"\",$P$7=0,$P$8=\"\",$P$7<1),\"\",\nIF(BY$8=\"\",\"\",\nIF($P$6=Lists!$I$6,BY6,\nIF($P$6=Lists!$I$7,INT(MONTH(BY7)/3)&\"кв\"&(YEAR(BY7)-2000)&\"г\",\nIF($P$6=Lists!$I$8,BY8&\" год\",\nIF($P$6=Lists!$I$9,YEAR(BY7)&\"г.\",\"\"))))))","v":"2076г."},{"$f":"IF(OR($P$6=\"\",$P$6=0,$P$7=\"\",$P$7=0,$P$8=\"\",$P$7<1),\"\",\nIF(BZ$8=\"\",\"\",\nIF($P$6=Lists!$I$6,BZ6,\nIF($P$6=Lists!$I$7,INT(MONTH(BZ7)/3)&\"кв\"&(YEAR(BZ7)-2000)&\"г\",\nIF($P$6=Lists!$I$8,BZ8&\" год\",\nIF($P$6=Lists!$I$9,YEAR(BZ7)&\"г.\",\"\"))))))","v":"2077г."},{"$f":"IF(OR($P$6=\"\",$P$6=0,$P$7=\"\",$P$7=0,$P$8=\"\",$P$7<1),\"\",\nIF(CA$8=\"\",\"\",\nIF($P$6=Lists!$I$6,CA6,\nIF($P$6=Lists!$I$7,INT(MONTH(CA7)/3)&\"кв\"&(YEAR(CA7)-2000)&\"г\",\nIF($P$6=Lists!$I$8,CA8&\" год\",\nIF($P$6=Lists!$I$9,YEAR(CA7)&\"г.\",\"\"))))))","v":"2078г."},{"$f":"IF(OR($P$6=\"\",$P$6=0,$P$7=\"\",$P$7=0,$P$8=\"\",$P$7<1),\"\",\nIF(CB$8=\"\",\"\",\nIF($P$6=Lists!$I$6,CB6,\nIF($P$6=Lists!$I$7,INT(MONTH(CB7)/3)&\"кв\"&(YEAR(CB7)-2000)&\"г\",\nIF($P$6=Lists!$I$8,CB8&\" год\",\nIF($P$6=Lists!$I$9,YEAR(CB7)&\"г.\",\"\"))))))","v":"2079г."},{"$f":"IF(OR($P$6=\"\",$P$6=0,$P$7=\"\",$P$7=0,$P$8=\"\",$P$7<1),\"\",\nIF(CC$8=\"\",\"\",\nIF($P$6=Lists!$I$6,CC6,\nIF($P$6=Lists!$I$7,INT(MONTH(CC7)/3)&\"кв\"&(YEAR(CC7)-2000)&\"г\",\nIF($P$6=Lists!$I$8,CC8&\" год\",\nIF($P$6=Lists!$I$9,YEAR(CC7)&\"г.\",\"\"))))))","v":"2080г."},{"$f":"IF(OR($P$6=\"\",$P$6=0,$P$7=\"\",$P$7=0,$P$8=\"\",$P$7<1),\"\",\nIF(CD$8=\"\",\"\",\nIF($P$6=Lists!$I$6,CD6,\nIF($P$6=Lists!$I$7,INT(MONTH(CD7)/3)&\"кв\"&(YEAR(CD7)-2000)&\"г\",\nIF($P$6=Lists!$I$8,CD8&\" год\",\nIF($P$6=Lists!$I$9,YEAR(CD7)&\"г.\",\"\"))))))","v":"2081г."},{"$f":"IF(OR($P$6=\"\",$P$6=0,$P$7=\"\",$P$7=0,$P$8=\"\",$P$7<1),\"\",\nIF(CE$8=\"\",\"\",\nIF($P$6=Lists!$I$6,CE6,\nIF($P$6=Lists!$I$7,INT(MONTH(CE7)/3)&\"кв\"&(YEAR(CE7)-2000)&\"г\",\nIF($P$6=Lists!$I$8,CE8&\" год\",\nIF($P$6=Lists!$I$9,YEAR(CE7)&\"г.\",\"\"))))))","v":"2082г."},{"$f":"IF(OR($P$6=\"\",$P$6=0,$P$7=\"\",$P$7=0,$P$8=\"\",$P$7<1),\"\",\nIF(CF$8=\"\",\"\",\nIF($P$6=Lists!$I$6,CF6,\nIF($P$6=Lists!$I$7,INT(MONTH(CF7)/3)&\"кв\"&(YEAR(CF7)-2000)&\"г\",\nIF($P$6=Lists!$I$8,CF8&\" год\",\nIF($P$6=Lists!$I$9,YEAR(CF7)&\"г.\",\"\"))))))","v":"2083г."},{"$f":"IF(OR($P$6=\"\",$P$6=0,$P$7=\"\",$P$7=0,$P$8=\"\",$P$7<1),\"\",\nIF(CG$8=\"\",\"\",\nIF($P$6=Lists!$I$6,CG6,\nIF($P$6=Lists!$I$7,INT(MONTH(CG7)/3)&\"кв\"&(YEAR(CG7)-2000)&\"г\",\nIF($P$6=Lists!$I$8,CG8&\" год\",\nIF($P$6=Lists!$I$9,YEAR(CG7)&\"г.\",\"\"))))))","v":"2084г."},{"$f":"IF(OR($P$6=\"\",$P$6=0,$P$7=\"\",$P$7=0,$P$8=\"\",$P$7<1),\"\",\nIF(CH$8=\"\",\"\",\nIF($P$6=Lists!$I$6,CH6,\nIF($P$6=Lists!$I$7,INT(MONTH(CH7)/3)&\"кв\"&(YEAR(CH7)-2000)&\"г\",\nIF($P$6=Lists!$I$8,CH8&\" год\",\nIF($P$6=Lists!$I$9,YEAR(CH7)&\"г.\",\"\"))))))","v":"2085г."},{"$f":"IF(OR($P$6=\"\",$P$6=0,$P$7=\"\",$P$7=0,$P$8=\"\",$P$7<1),\"\",\nIF(CI$8=\"\",\"\",\nIF($P$6=Lists!$I$6,CI6,\nIF($P$6=Lists!$I$7,INT(MONTH(CI7)/3)&\"кв\"&(YEAR(CI7)-2000)&\"г\",\nIF($P$6=Lists!$I$8,CI8&\" год\",\nIF($P$6=Lists!$I$9,YEAR(CI7)&\"г.\",\"\"))))))","v":"2086г."},{"$f":"IF(OR($P$6=\"\",$P$6=0,$P$7=\"\",$P$7=0,$P$8=\"\",$P$7<1),\"\",\nIF(CJ$8=\"\",\"\",\nIF($P$6=Lists!$I$6,CJ6,\nIF($P$6=Lists!$I$7,INT(MONTH(CJ7)/3)&\"кв\"&(YEAR(CJ7)-2000)&\"г\",\nIF($P$6=Lists!$I$8,CJ8&\" год\",\nIF($P$6=Lists!$I$9,YEAR(CJ7)&\"г.\",\"\"))))))","v":"2087г."},{"$f":"IF(OR($P$6=\"\",$P$6=0,$P$7=\"\",$P$7=0,$P$8=\"\",$P$7<1),\"\",\nIF(CK$8=\"\",\"\",\nIF($P$6=Lists!$I$6,CK6,\nIF($P$6=Lists!$I$7,INT(MONTH(CK7)/3)&\"кв\"&(YEAR(CK7)-2000)&\"г\",\nIF($P$6=Lists!$I$8,CK8&\" год\",\nIF($P$6=Lists!$I$9,YEAR(CK7)&\"г.\",\"\"))))))","v":"2088г."},{"$f":"IF(OR($P$6=\"\",$P$6=0,$P$7=\"\",$P$7=0,$P$8=\"\",$P$7<1),\"\",\nIF(CL$8=\"\",\"\",\nIF($P$6=Lists!$I$6,CL6,\nIF($P$6=Lists!$I$7,INT(MONTH(CL7)/3)&\"кв\"&(YEAR(CL7)-2000)&\"г\",\nIF($P$6=Lists!$I$8,CL8&\" год\",\nIF($P$6=Lists!$I$9,YEAR(CL7)&\"г.\",\"\"))))))","v":"2089г."},{"$f":"IF(OR($P$6=\"\",$P$6=0,$P$7=\"\",$P$7=0,$P$8=\"\",$P$7<1),\"\",\nIF(CM$8=\"\",\"\",\nIF($P$6=Lists!$I$6,CM6,\nIF($P$6=Lists!$I$7,INT(MONTH(CM7)/3)&\"кв\"&(YEAR(CM7)-2000)&\"г\",\nIF($P$6=Lists!$I$8,CM8&\" год\",\nIF($P$6=Lists!$I$9,YEAR(CM7)&\"г.\",\"\"))))))","v":"2090г."},{"$f":"IF(OR($P$6=\"\",$P$6=0,$P$7=\"\",$P$7=0,$P$8=\"\",$P$7<1),\"\",\nIF(CN$8=\"\",\"\",\nIF($P$6=Lists!$I$6,CN6,\nIF($P$6=Lists!$I$7,INT(MONTH(CN7)/3)&\"кв\"&(YEAR(CN7)-2000)&\"г\",\nIF($P$6=Lists!$I$8,CN8&\" год\",\nIF($P$6=Lists!$I$9,YEAR(CN7)&\"г.\",\"\"))))))","v":"2091г."},{"$f":"IF(OR($P$6=\"\",$P$6=0,$P$7=\"\",$P$7=0,$P$8=\"\",$P$7<1),\"\",\nIF(CO$8=\"\",\"\",\nIF($P$6=Lists!$I$6,CO6,\nIF($P$6=Lists!$I$7,INT(MONTH(CO7)/3)&\"кв\"&(YEAR(CO7)-2000)&\"г\",\nIF($P$6=Lists!$I$8,CO8&\" год\",\nIF($P$6=Lists!$I$9,YEAR(CO7)&\"г.\",\"\"))))))","v":"2092г."},{"$f":"IF(OR($P$6=\"\",$P$6=0,$P$7=\"\",$P$7=0,$P$8=\"\",$P$7<1),\"\",\nIF(CP$8=\"\",\"\",\nIF($P$6=Lists!$I$6,CP6,\nIF($P$6=Lists!$I$7,INT(MONTH(CP7)/3)&\"кв\"&(YEAR(CP7)-2000)&\"г\",\nIF($P$6=Lists!$I$8,CP8&\" год\",\nIF($P$6=Lists!$I$9,YEAR(CP7)&\"г.\",\"\"))))))","v":"2093г."},{"$f":"IF(OR($P$6=\"\",$P$6=0,$P$7=\"\",$P$7=0,$P$8=\"\",$P$7<1),\"\",\nIF(CQ$8=\"\",\"\",\nIF($P$6=Lists!$I$6,CQ6,\nIF($P$6=Lists!$I$7,INT(MONTH(CQ7)/3)&\"кв\"&(YEAR(CQ7)-2000)&\"г\",\nIF($P$6=Lists!$I$8,CQ8&\" год\",\nIF($P$6=Lists!$I$9,YEAR(CQ7)&\"г.\",\"\"))))))","v":"2094г."},{"$f":"IF(OR($P$6=\"\",$P$6=0,$P$7=\"\",$P$7=0,$P$8=\"\",$P$7<1),\"\",\nIF(CR$8=\"\",\"\",\nIF($P$6=Lists!$I$6,CR6,\nIF($P$6=Lists!$I$7,INT(MONTH(CR7)/3)&\"кв\"&(YEAR(CR7)-2000)&\"г\",\nIF($P$6=Lists!$I$8,CR8&\" год\",\nIF($P$6=Lists!$I$9,YEAR(CR7)&\"г.\",\"\"))))))","v":"2095г."},{"$f":"IF(OR($P$6=\"\",$P$6=0,$P$7=\"\",$P$7=0,$P$8=\"\",$P$7<1),\"\",\nIF(CS$8=\"\",\"\",\nIF($P$6=Lists!$I$6,CS6,\nIF($P$6=Lists!$I$7,INT(MONTH(CS7)/3)&\"кв\"&(YEAR(CS7)-2000)&\"г\",\nIF($P$6=Lists!$I$8,CS8&\" год\",\nIF($P$6=Lists!$I$9,YEAR(CS7)&\"г.\",\"\"))))))","v":"2096г."},{"$f":"IF(OR($P$6=\"\",$P$6=0,$P$7=\"\",$P$7=0,$P$8=\"\",$P$7<1),\"\",\nIF(CT$8=\"\",\"\",\nIF($P$6=Lists!$I$6,CT6,\nIF($P$6=Lists!$I$7,INT(MONTH(CT7)/3)&\"кв\"&(YEAR(CT7)-2000)&\"г\",\nIF($P$6=Lists!$I$8,CT8&\" год\",\nIF($P$6=Lists!$I$9,YEAR(CT7)&\"г.\",\"\"))))))","v":"2097г."},{"$f":"IF(OR($P$6=\"\",$P$6=0,$P$7=\"\",$P$7=0,$P$8=\"\",$P$7<1),\"\",\nIF(CU$8=\"\",\"\",\nIF($P$6=Lists!$I$6,CU6,\nIF($P$6=Lists!$I$7,INT(MONTH(CU7)/3)&\"кв\"&(YEAR(CU7)-2000)&\"г\",\nIF($P$6=Lists!$I$8,CU8&\" год\",\nIF($P$6=Lists!$I$9,YEAR(CU7)&\"г.\",\"\"))))))","v":"2098г."},{"$f":"IF(OR($P$6=\"\",$P$6=0,$P$7=\"\",$P$7=0,$P$8=\"\",$P$7<1),\"\",\nIF(CV$8=\"\",\"\",\nIF($P$6=Lists!$I$6,CV6,\nIF($P$6=Lists!$I$7,INT(MONTH(CV7)/3)&\"кв\"&(YEAR(CV7)-2000)&\"г\",\nIF($P$6=Lists!$I$8,CV8&\" год\",\nIF($P$6=Lists!$I$9,YEAR(CV7)&\"г.\",\"\"))))))","v":"2099г."},{"$f":"IF(OR($P$6=\"\",$P$6=0,$P$7=\"\",$P$7=0,$P$8=\"\",$P$7<1),\"\",\nIF(CW$8=\"\",\"\",\nIF($P$6=Lists!$I$6,CW6,\nIF($P$6=Lists!$I$7,INT(MONTH(CW7)/3)&\"кв\"&(YEAR(CW7)-2000)&\"г\",\nIF($P$6=Lists!$I$8,CW8&\" год\",\nIF($P$6=Lists!$I$9,YEAR(CW7)&\"г.\",\"\"))))))","v":"2100г."},{"$f":"IF(OR($P$6=\"\",$P$6=0,$P$7=\"\",$P$7=0,$P$8=\"\",$P$7<1),\"\",\nIF(CX$8=\"\",\"\",\nIF($P$6=Lists!$I$6,CX6,\nIF($P$6=Lists!$I$7,INT(MONTH(CX7)/3)&\"кв\"&(YEAR(CX7)-2000)&\"г\",\nIF($P$6=Lists!$I$8,CX8&\" год\",\nIF($P$6=Lists!$I$9,YEAR(CX7)&\"г.\",\"\"))))))","v":"2101г."},{"$f":"IF(OR($P$6=\"\",$P$6=0,$P$7=\"\",$P$7=0,$P$8=\"\",$P$7<1),\"\",\nIF(CY$8=\"\",\"\",\nIF($P$6=Lists!$I$6,CY6,\nIF($P$6=Lists!$I$7,INT(MONTH(CY7)/3)&\"кв\"&(YEAR(CY7)-2000)&\"г\",\nIF($P$6=Lists!$I$8,CY8&\" год\",\nIF($P$6=Lists!$I$9,YEAR(CY7)&\"г.\",\"\"))))))","v":"2102г."},{"$f":"IF(OR($P$6=\"\",$P$6=0,$P$7=\"\",$P$7=0,$P$8=\"\",$P$7<1),\"\",\nIF(CZ$8=\"\",\"\",\nIF($P$6=Lists!$I$6,CZ6,\nIF($P$6=Lists!$I$7,INT(MONTH(CZ7)/3)&\"кв\"&(YEAR(CZ7)-2000)&\"г\",\nIF($P$6=Lists!$I$8,CZ8&\" год\",\nIF($P$6=Lists!$I$9,YEAR(CZ7)&\"г.\",\"\"))))))","v":"2103г."},{"$f":"IF(OR($P$6=\"\",$P$6=0,$P$7=\"\",$P$7=0,$P$8=\"\",$P$7<1),\"\",\nIF(DA$8=\"\",\"\",\nIF($P$6=Lists!$I$6,DA6,\nIF($P$6=Lists!$I$7,INT(MONTH(DA7)/3)&\"кв\"&(YEAR(DA7)-2000)&\"г\",\nIF($P$6=Lists!$I$8,DA8&\" год\",\nIF($P$6=Lists!$I$9,YEAR(DA7)&\"г.\",\"\"))))))","v":"2104г."},{"$f":"IF(OR($P$6=\"\",$P$6=0,$P$7=\"\",$P$7=0,$P$8=\"\",$P$7<1),\"\",\nIF(DB$8=\"\",\"\",\nIF($P$6=Lists!$I$6,DB6,\nIF($P$6=Lists!$I$7,INT(MONTH(DB7)/3)&\"кв\"&(YEAR(DB7)-2000)&\"г\",\nIF($P$6=Lists!$I$8,DB8&\" год\",\nIF($P$6=Lists!$I$9,YEAR(DB7)&\"г.\",\"\"))))))","v":"2105г."},{"$f":"IF(OR($P$6=\"\",$P$6=0,$P$7=\"\",$P$7=0,$P$8=\"\",$P$7<1),\"\",\nIF(DC$8=\"\",\"\",\nIF($P$6=Lists!$I$6,DC6,\nIF($P$6=Lists!$I$7,INT(MONTH(DC7)/3)&\"кв\"&(YEAR(DC7)-2000)&\"г\",\nIF($P$6=Lists!$I$8,DC8&\" год\",\nIF($P$6=Lists!$I$9,YEAR(DC7)&\"г.\",\"\"))))))","v":"2106г."},{"$f":"IF(OR($P$6=\"\",$P$6=0,$P$7=\"\",$P$7=0,$P$8=\"\",$P$7<1),\"\",\nIF(DD$8=\"\",\"\",\nIF($P$6=Lists!$I$6,DD6,\nIF($P$6=Lists!$I$7,INT(MONTH(DD7)/3)&\"кв\"&(YEAR(DD7)-2000)&\"г\",\nIF($P$6=Lists!$I$8,DD8&\" год\",\nIF($P$6=Lists!$I$9,YEAR(DD7)&\"г.\",\"\"))))))","v":"2107г."},{"$f":"IF(OR($P$6=\"\",$P$6=0,$P$7=\"\",$P$7=0,$P$8=\"\",$P$7<1),\"\",\nIF(DE$8=\"\",\"\",\nIF($P$6=Lists!$I$6,DE6,\nIF($P$6=Lists!$I$7,INT(MONTH(DE7)/3)&\"кв\"&(YEAR(DE7)-2000)&\"г\",\nIF($P$6=Lists!$I$8,DE8&\" год\",\nIF($P$6=Lists!$I$9,YEAR(DE7)&\"г.\",\"\"))))))","v":"2108г."},{"$f":"IF(OR($P$6=\"\",$P$6=0,$P$7=\"\",$P$7=0,$P$8=\"\",$P$7<1),\"\",\nIF(DF$8=\"\",\"\",\nIF($P$6=Lists!$I$6,DF6,\nIF($P$6=Lists!$I$7,INT(MONTH(DF7)/3)&\"кв\"&(YEAR(DF7)-2000)&\"г\",\nIF($P$6=Lists!$I$8,DF8&\" год\",\nIF($P$6=Lists!$I$9,YEAR(DF7)&\"г.\",\"\"))))))","v":"2109г."},{"$f":"IF(OR($P$6=\"\",$P$6=0,$P$7=\"\",$P$7=0,$P$8=\"\",$P$7<1),\"\",\nIF(DG$8=\"\",\"\",\nIF($P$6=Lists!$I$6,DG6,\nIF($P$6=Lists!$I$7,INT(MONTH(DG7)/3)&\"кв\"&(YEAR(DG7)-2000)&\"г\",\nIF($P$6=Lists!$I$8,DG8&\" год\",\nIF($P$6=Lists!$I$9,YEAR(DG7)&\"г.\",\"\"))))))","v":"2110г."},{"$f":"IF(OR($P$6=\"\",$P$6=0,$P$7=\"\",$P$7=0,$P$8=\"\",$P$7<1),\"\",\nIF(DH$8=\"\",\"\",\nIF($P$6=Lists!$I$6,DH6,\nIF($P$6=Lists!$I$7,INT(MONTH(DH7)/3)&\"кв\"&(YEAR(DH7)-2000)&\"г\",\nIF($P$6=Lists!$I$8,DH8&\" год\",\nIF($P$6=Lists!$I$9,YEAR(DH7)&\"г.\",\"\"))))))","v":"2111г."},{"$f":"IF(OR($P$6=\"\",$P$6=0,$P$7=\"\",$P$7=0,$P$8=\"\",$P$7<1),\"\",\nIF(DI$8=\"\",\"\",\nIF($P$6=Lists!$I$6,DI6,\nIF($P$6=Lists!$I$7,INT(MONTH(DI7)/3)&\"кв\"&(YEAR(DI7)-2000)&\"г\",\nIF($P$6=Lists!$I$8,DI8&\" год\",\nIF($P$6=Lists!$I$9,YEAR(DI7)&\"г.\",\"\"))))))","v":"2112г."},{"$f":"IF(OR($P$6=\"\",$P$6=0,$P$7=\"\",$P$7=0,$P$8=\"\",$P$7<1),\"\",\nIF(DJ$8=\"\",\"\",\nIF($P$6=Lists!$I$6,DJ6,\nIF($P$6=Lists!$I$7,INT(MONTH(DJ7)/3)&\"кв\"&(YEAR(DJ7)-2000)&\"г\",\nIF($P$6=Lists!$I$8,DJ8&\" год\",\nIF($P$6=Lists!$I$9,YEAR(DJ7)&\"г.\",\"\"))))))","v":"2113г."},{"$f":"IF(OR($P$6=\"\",$P$6=0,$P$7=\"\",$P$7=0,$P$8=\"\",$P$7<1),\"\",\nIF(DK$8=\"\",\"\",\nIF($P$6=Lists!$I$6,DK6,\nIF($P$6=Lists!$I$7,INT(MONTH(DK7)/3)&\"кв\"&(YEAR(DK7)-2000)&\"г\",\nIF($P$6=Lists!$I$8,DK8&\" год\",\nIF($P$6=Lists!$I$9,YEAR(DK7)&\"г.\",\"\"))))))","v":"2114г."},{"$f":"IF(OR($P$6=\"\",$P$6=0,$P$7=\"\",$P$7=0,$P$8=\"\",$P$7<1),\"\",\nIF(DL$8=\"\",\"\",\nIF($P$6=Lists!$I$6,DL6,\nIF($P$6=Lists!$I$7,INT(MONTH(DL7)/3)&\"кв\"&(YEAR(DL7)-2000)&\"г\",\nIF($P$6=Lists!$I$8,DL8&\" год\",\nIF($P$6=Lists!$I$9,YEAR(DL7)&\"г.\",\"\"))))))","v":"2115г."},{"$f":"IF(OR($P$6=\"\",$P$6=0,$P$7=\"\",$P$7=0,$P$8=\"\",$P$7<1),\"\",\nIF(DM$8=\"\",\"\",\nIF($P$6=Lists!$I$6,DM6,\nIF($P$6=Lists!$I$7,INT(MONTH(DM7)/3)&\"кв\"&(YEAR(DM7)-2000)&\"г\",\nIF($P$6=Lists!$I$8,DM8&\" год\",\nIF($P$6=Lists!$I$9,YEAR(DM7)&\"г.\",\"\"))))))","v":"2116г."},{"$f":"IF(OR($P$6=\"\",$P$6=0,$P$7=\"\",$P$7=0,$P$8=\"\",$P$7<1),\"\",\nIF(DN$8=\"\",\"\",\nIF($P$6=Lists!$I$6,DN6,\nIF($P$6=Lists!$I$7,INT(MONTH(DN7)/3)&\"кв\"&(YEAR(DN7)-2000)&\"г\",\nIF($P$6=Lists!$I$8,DN8&\" год\",\nIF($P$6=Lists!$I$9,YEAR(DN7)&\"г.\",\"\"))))))","v":"2117г."},{"$f":"IF(OR($P$6=\"\",$P$6=0,$P$7=\"\",$P$7=0,$P$8=\"\",$P$7<1),\"\",\nIF(DO$8=\"\",\"\",\nIF($P$6=Lists!$I$6,DO6,\nIF($P$6=Lists!$I$7,INT(MONTH(DO7)/3)&\"кв\"&(YEAR(DO7)-2000)&\"г\",\nIF($P$6=Lists!$I$8,DO8&\" год\",\nIF($P$6=Lists!$I$9,YEAR(DO7)&\"г.\",\"\"))))))","v":"2118г."},{"$f":"IF(OR($P$6=\"\",$P$6=0,$P$7=\"\",$P$7=0,$P$8=\"\",$P$7<1),\"\",\nIF(DP$8=\"\",\"\",\nIF($P$6=Lists!$I$6,DP6,\nIF($P$6=Lists!$I$7,INT(MONTH(DP7)/3)&\"кв\"&(YEAR(DP7)-2000)&\"г\",\nIF($P$6=Lists!$I$8,DP8&\" год\",\nIF($P$6=Lists!$I$9,YEAR(DP7)&\"г.\",\"\"))))))","v":"2119г."},{"$f":"IF(OR($P$6=\"\",$P$6=0,$P$7=\"\",$P$7=0,$P$8=\"\",$P$7<1),\"\",\nIF(DQ$8=\"\",\"\",\nIF($P$6=Lists!$I$6,DQ6,\nIF($P$6=Lists!$I$7,INT(MONTH(DQ7)/3)&\"кв\"&(YEAR(DQ7)-2000)&\"г\",\nIF($P$6=Lists!$I$8,DQ8&\" год\",\nIF($P$6=Lists!$I$9,YEAR(DQ7)&\"г.\",\"\"))))))","v":"2120г."},{"$f":"IF(OR($P$6=\"\",$P$6=0,$P$7=\"\",$P$7=0,$P$8=\"\",$P$7<1),\"\",\nIF(DR$8=\"\",\"\",\nIF($P$6=Lists!$I$6,DR6,\nIF($P$6=Lists!$I$7,INT(MONTH(DR7)/3)&\"кв\"&(YEAR(DR7)-2000)&\"г\",\nIF($P$6=Lists!$I$8,DR8&\" год\",\nIF($P$6=Lists!$I$9,YEAR(DR7)&\"г.\",\"\"))))))","v":"2121г."},{"$f":"IF(OR($P$6=\"\",$P$6=0,$P$7=\"\",$P$7=0,$P$8=\"\",$P$7<1),\"\",\nIF(DS$8=\"\",\"\",\nIF($P$6=Lists!$I$6,DS6,\nIF($P$6=Lists!$I$7,INT(MONTH(DS7)/3)&\"кв\"&(YEAR(DS7)-2000)&\"г\",\nIF($P$6=Lists!$I$8,DS8&\" год\",\nIF($P$6=Lists!$I$9,YEAR(DS7)&\"г.\",\"\"))))))","v":"2122г."},{"$f":"IF(OR($P$6=\"\",$P$6=0,$P$7=\"\",$P$7=0,$P$8=\"\",$P$7<1),\"\",\nIF(DT$8=\"\",\"\",\nIF($P$6=Lists!$I$6,DT6,\nIF($P$6=Lists!$I$7,INT(MONTH(DT7)/3)&\"кв\"&(YEAR(DT7)-2000)&\"г\",\nIF($P$6=Lists!$I$8,DT8&\" год\",\nIF($P$6=Lists!$I$9,YEAR(DT7)&\"г.\",\"\"))))))","v":"2123г."},{"$f":"IF(OR($P$6=\"\",$P$6=0,$P$7=\"\",$P$7=0,$P$8=\"\",$P$7<1),\"\",\nIF(DU$8=\"\",\"\",\nIF($P$6=Lists!$I$6,DU6,\nIF($P$6=Lists!$I$7,INT(MONTH(DU7)/3)&\"кв\"&(YEAR(DU7)-2000)&\"г\",\nIF($P$6=Lists!$I$8,DU8&\" год\",\nIF($P$6=Lists!$I$9,YEAR(DU7)&\"г.\",\"\"))))))","v":"2124г."},{"$f":"IF(OR($P$6=\"\",$P$6=0,$P$7=\"\",$P$7=0,$P$8=\"\",$P$7<1),\"\",\nIF(DV$8=\"\",\"\",\nIF($P$6=Lists!$I$6,DV6,\nIF($P$6=Lists!$I$7,INT(MONTH(DV7)/3)&\"кв\"&(YEAR(DV7)-2000)&\"г\",\nIF($P$6=Lists!$I$8,DV8&\" год\",\nIF($P$6=Lists!$I$9,YEAR(DV7)&\"г.\",\"\"))))))","v":"2125г."},{"$f":"IF(OR($P$6=\"\",$P$6=0,$P$7=\"\",$P$7=0,$P$8=\"\",$P$7<1),\"\",\nIF(DW$8=\"\",\"\",\nIF($P$6=Lists!$I$6,DW6,\nIF($P$6=Lists!$I$7,INT(MONTH(DW7)/3)&\"кв\"&(YEAR(DW7)-2000)&\"г\",\nIF($P$6=Lists!$I$8,DW8&\" год\",\nIF($P$6=Lists!$I$9,YEAR(DW7)&\"г.\",\"\"))))))","v":"2126г."},{"$f":"IF(OR($P$6=\"\",$P$6=0,$P$7=\"\",$P$7=0,$P$8=\"\",$P$7<1),\"\",\nIF(DX$8=\"\",\"\",\nIF($P$6=Lists!$I$6,DX6,\nIF($P$6=Lists!$I$7,INT(MONTH(DX7)/3)&\"кв\"&(YEAR(DX7)-2000)&\"г\",\nIF($P$6=Lists!$I$8,DX8&\" год\",\nIF($P$6=Lists!$I$9,YEAR(DX7)&\"г.\",\"\"))))))","v":"2127г."},{"$f":"IF(OR($P$6=\"\",$P$6=0,$P$7=\"\",$P$7=0,$P$8=\"\",$P$7<1),\"\",\nIF(DY$8=\"\",\"\",\nIF($P$6=Lists!$I$6,DY6,\nIF($P$6=Lists!$I$7,INT(MONTH(DY7)/3)&\"кв\"&(YEAR(DY7)-2000)&\"г\",\nIF($P$6=Lists!$I$8,DY8&\" год\",\nIF($P$6=Lists!$I$9,YEAR(DY7)&\"г.\",\"\"))))))","v":"2128г."},{"$f":"IF(OR($P$6=\"\",$P$6=0,$P$7=\"\",$P$7=0,$P$8=\"\",$P$7<1),\"\",\nIF(DZ$8=\"\",\"\",\nIF($P$6=Lists!$I$6,DZ6,\nIF($P$6=Lists!$I$7,INT(MONTH(DZ7)/3)&\"кв\"&(YEAR(DZ7)-2000)&\"г\",\nIF($P$6=Lists!$I$8,DZ8&\" год\",\nIF($P$6=Lists!$I$9,YEAR(DZ7)&\"г.\",\"\"))))))","v":"2129г."},{"$f":"IF(OR($P$6=\"\",$P$6=0,$P$7=\"\",$P$7=0,$P$8=\"\",$P$7<1),\"\",\nIF(EA$8=\"\",\"\",\nIF($P$6=Lists!$I$6,EA6,\nIF($P$6=Lists!$I$7,INT(MONTH(EA7)/3)&\"кв\"&(YEAR(EA7)-2000)&\"г\",\nIF($P$6=Lists!$I$8,EA8&\" год\",\nIF($P$6=Lists!$I$9,YEAR(EA7)&\"г.\",\"\"))))))","v":"2130г."},{"$f":"IF(OR($P$6=\"\",$P$6=0,$P$7=\"\",$P$7=0,$P$8=\"\",$P$7<1),\"\",\nIF(EB$8=\"\",\"\",\nIF($P$6=Lists!$I$6,EB6,\nIF($P$6=Lists!$I$7,INT(MONTH(EB7)/3)&\"кв\"&(YEAR(EB7)-2000)&\"г\",\nIF($P$6=Lists!$I$8,EB8&\" год\",\nIF($P$6=Lists!$I$9,YEAR(EB7)&\"г.\",\"\"))))))","v":"2131г."},{"$f":"IF(OR($P$6=\"\",$P$6=0,$P$7=\"\",$P$7=0,$P$8=\"\",$P$7<1),\"\",\nIF(EC$8=\"\",\"\",\nIF($P$6=Lists!$I$6,EC6,\nIF($P$6=Lists!$I$7,INT(MONTH(EC7)/3)&\"кв\"&(YEAR(EC7)-2000)&\"г\",\nIF($P$6=Lists!$I$8,EC8&\" год\",\nIF($P$6=Lists!$I$9,YEAR(EC7)&\"г.\",\"\"))))))","v":"2132г."},{"$f":"IF(OR($P$6=\"\",$P$6=0,$P$7=\"\",$P$7=0,$P$8=\"\",$P$7<1),\"\",\nIF(ED$8=\"\",\"\",\nIF($P$6=Lists!$I$6,ED6,\nIF($P$6=Lists!$I$7,INT(MONTH(ED7)/3)&\"кв\"&(YEAR(ED7)-2000)&\"г\",\nIF($P$6=Lists!$I$8,ED8&\" год\",\nIF($P$6=Lists!$I$9,YEAR(ED7)&\"г.\",\"\"))))))","v":"2133г."},{"$f":"IF(OR($P$6=\"\",$P$6=0,$P$7=\"\",$P$7=0,$P$8=\"\",$P$7<1),\"\",\nIF(EE$8=\"\",\"\",\nIF($P$6=Lists!$I$6,EE6,\nIF($P$6=Lists!$I$7,INT(MONTH(EE7)/3)&\"кв\"&(YEAR(EE7)-2000)&\"г\",\nIF($P$6=Lists!$I$8,EE8&\" год\",\nIF($P$6=Lists!$I$9,YEAR(EE7)&\"г.\",\"\"))))))","v":"2134г."},{"$f":"IF(OR($P$6=\"\",$P$6=0,$P$7=\"\",$P$7=0,$P$8=\"\",$P$7<1),\"\",\nIF(EF$8=\"\",\"\",\nIF($P$6=Lists!$I$6,EF6,\nIF($P$6=Lists!$I$7,INT(MONTH(EF7)/3)&\"кв\"&(YEAR(EF7)-2000)&\"г\",\nIF($P$6=Lists!$I$8,EF8&\" год\",\nIF($P$6=Lists!$I$9,YEAR(EF7)&\"г.\",\"\"))))))","v":"2135г."},{"$f":"IF(OR($P$6=\"\",$P$6=0,$P$7=\"\",$P$7=0,$P$8=\"\",$P$7<1),\"\",\nIF(EG$8=\"\",\"\",\nIF($P$6=Lists!$I$6,EG6,\nIF($P$6=Lists!$I$7,INT(MONTH(EG7)/3)&\"кв\"&(YEAR(EG7)-2000)&\"г\",\nIF($P$6=Lists!$I$8,EG8&\" год\",\nIF($P$6=Lists!$I$9,YEAR(EG7)&\"г.\",\"\"))))))","v":"2136г."},{"$f":"IF(OR($P$6=\"\",$P$6=0,$P$7=\"\",$P$7=0,$P$8=\"\",$P$7<1),\"\",\nIF(EH$8=\"\",\"\",\nIF($P$6=Lists!$I$6,EH6,\nIF($P$6=Lists!$I$7,INT(MONTH(EH7)/3)&\"кв\"&(YEAR(EH7)-2000)&\"г\",\nIF($P$6=Lists!$I$8,EH8&\" год\",\nIF($P$6=Lists!$I$9,YEAR(EH7)&\"г.\",\"\"))))))","v":"2137г."},{"$f":"IF(OR($P$6=\"\",$P$6=0,$P$7=\"\",$P$7=0,$P$8=\"\",$P$7<1),\"\",\nIF(EI$8=\"\",\"\",\nIF($P$6=Lists!$I$6,EI6,\nIF($P$6=Lists!$I$7,INT(MONTH(EI7)/3)&\"кв\"&(YEAR(EI7)-2000)&\"г\",\nIF($P$6=Lists!$I$8,EI8&\" год\",\nIF($P$6=Lists!$I$9,YEAR(EI7)&\"г.\",\"\"))))))","v":"2138г."},{"$f":"IF(OR($P$6=\"\",$P$6=0,$P$7=\"\",$P$7=0,$P$8=\"\",$P$7<1),\"\",\nIF(EJ$8=\"\",\"\",\nIF($P$6=Lists!$I$6,EJ6,\nIF($P$6=Lists!$I$7,INT(MONTH(EJ7)/3)&\"кв\"&(YEAR(EJ7)-2000)&\"г\",\nIF($P$6=Lists!$I$8,EJ8&\" год\",\nIF($P$6=Lists!$I$9,YEAR(EJ7)&\"г.\",\"\"))))))","v":"2139г."},{"$f":"IF(OR($P$6=\"\",$P$6=0,$P$7=\"\",$P$7=0,$P$8=\"\",$P$7<1),\"\",\nIF(EK$8=\"\",\"\",\nIF($P$6=Lists!$I$6,EK6,\nIF($P$6=Lists!$I$7,INT(MONTH(EK7)/3)&\"кв\"&(YEAR(EK7)-2000)&\"г\",\nIF($P$6=Lists!$I$8,EK8&\" год\",\nIF($P$6=Lists!$I$9,YEAR(EK7)&\"г.\",\"\"))))))","v":"2140г."},{"$f":"IF(OR($P$6=\"\",$P$6=0,$P$7=\"\",$P$7=0,$P$8=\"\",$P$7<1),\"\",\nIF(EL$8=\"\",\"\",\nIF($P$6=Lists!$I$6,EL6,\nIF($P$6=Lists!$I$7,INT(MONTH(EL7)/3)&\"кв\"&(YEAR(EL7)-2000)&\"г\",\nIF($P$6=Lists!$I$8,EL8&\" год\",\nIF($P$6=Lists!$I$9,YEAR(EL7)&\"г.\",\"\"))))))","v":"2141г."},{"$f":"IF(OR($P$6=\"\",$P$6=0,$P$7=\"\",$P$7=0,$P$8=\"\",$P$7<1),\"\",\nIF(EM$8=\"\",\"\",\nIF($P$6=Lists!$I$6,EM6,\nIF($P$6=Lists!$I$7,INT(MONTH(EM7)/3)&\"кв\"&(YEAR(EM7)-2000)&\"г\",\nIF($P$6=Lists!$I$8,EM8&\" год\",\nIF($P$6=Lists!$I$9,YEAR(EM7)&\"г.\",\"\"))))))","v":"2142г."},{"$f":"IF(OR($P$6=\"\",$P$6=0,$P$7=\"\",$P$7=0,$P$8=\"\",$P$7<1),\"\",\nIF(EN$8=\"\",\"\",\nIF($P$6=Lists!$I$6,EN6,\nIF($P$6=Lists!$I$7,INT(MONTH(EN7)/3)&\"кв\"&(YEAR(EN7)-2000)&\"г\",\nIF($P$6=Lists!$I$8,EN8&\" год\",\nIF($P$6=Lists!$I$9,YEAR(EN7)&\"г.\",\"\"))))))","v":""},{"$f":"IF(OR($P$6=\"\",$P$6=0,$P$7=\"\",$P$7=0,$P$8=\"\",$P$7<1),\"\",\nIF(EO$8=\"\",\"\",\nIF($P$6=Lists!$I$6,EO6,\nIF($P$6=Lists!$I$7,INT(MONTH(EO7)/3)&\"кв\"&(YEAR(EO7)-2000)&\"г\",\nIF($P$6=Lists!$I$8,EO8&\" год\",\nIF($P$6=Lists!$I$9,YEAR(EO7)&\"г.\",\"\"))))))","v":""},{"$f":"IF(OR($P$6=\"\",$P$6=0,$P$7=\"\",$P$7=0,$P$8=\"\",$P$7<1),\"\",\nIF(EP$8=\"\",\"\",\nIF($P$6=Lists!$I$6,EP6,\nIF($P$6=Lists!$I$7,INT(MONTH(EP7)/3)&\"кв\"&(YEAR(EP7)-2000)&\"г\",\nIF($P$6=Lists!$I$8,EP8&\" год\",\nIF($P$6=Lists!$I$9,YEAR(EP7)&\"г.\",\"\"))))))","v":""},{"$f":"IF(OR($P$6=\"\",$P$6=0,$P$7=\"\",$P$7=0,$P$8=\"\",$P$7<1),\"\",\nIF(EQ$8=\"\",\"\",\nIF($P$6=Lists!$I$6,EQ6,\nIF($P$6=Lists!$I$7,INT(MONTH(EQ7)/3)&\"кв\"&(YEAR(EQ7)-2000)&\"г\",\nIF($P$6=Lists!$I$8,EQ8&\" год\",\nIF($P$6=Lists!$I$9,YEAR(EQ7)&\"г.\",\"\"))))))","v":""},{"$f":"IF(OR($P$6=\"\",$P$6=0,$P$7=\"\",$P$7=0,$P$8=\"\",$P$7<1),\"\",\nIF(ER$8=\"\",\"\",\nIF($P$6=Lists!$I$6,ER6,\nIF($P$6=Lists!$I$7,INT(MONTH(ER7)/3)&\"кв\"&(YEAR(ER7)-2000)&\"г\",\nIF($P$6=Lists!$I$8,ER8&\" год\",\nIF($P$6=Lists!$I$9,YEAR(ER7)&\"г.\",\"\"))))))","v":""},{"$f":"IF(OR($P$6=\"\",$P$6=0,$P$7=\"\",$P$7=0,$P$8=\"\",$P$7<1),\"\",\nIF(ES$8=\"\",\"\",\nIF($P$6=Lists!$I$6,ES6,\nIF($P$6=Lists!$I$7,INT(MONTH(ES7)/3)&\"кв\"&(YEAR(ES7)-2000)&\"г\",\nIF($P$6=Lists!$I$8,ES8&\" год\",\nIF($P$6=Lists!$I$9,YEAR(ES7)&\"г.\",\"\"))))))","v":""},{"$f":"IF(OR($P$6=\"\",$P$6=0,$P$7=\"\",$P$7=0,$P$8=\"\",$P$7<1),\"\",\nIF(ET$8=\"\",\"\",\nIF($P$6=Lists!$I$6,ET6,\nIF($P$6=Lists!$I$7,INT(MONTH(ET7)/3)&\"кв\"&(YEAR(ET7)-2000)&\"г\",\nIF($P$6=Lists!$I$8,ET8&\" год\",\nIF($P$6=Lists!$I$9,YEAR(ET7)&\"г.\",\"\"))))))","v":""},{"$f":"IF(OR($P$6=\"\",$P$6=0,$P$7=\"\",$P$7=0,$P$8=\"\",$P$7<1),\"\",\nIF(EU$8=\"\",\"\",\nIF($P$6=Lists!$I$6,EU6,\nIF($P$6=Lists!$I$7,INT(MONTH(EU7)/3)&\"кв\"&(YEAR(EU7)-2000)&\"г\",\nIF($P$6=Lists!$I$8,EU8&\" год\",\nIF($P$6=Lists!$I$9,YEAR(EU7)&\"г.\",\"\"))))))","v":""},{"$f":"IF(OR($P$6=\"\",$P$6=0,$P$7=\"\",$P$7=0,$P$8=\"\",$P$7<1),\"\",\nIF(EV$8=\"\",\"\",\nIF($P$6=Lists!$I$6,EV6,\nIF($P$6=Lists!$I$7,INT(MONTH(EV7)/3)&\"кв\"&(YEAR(EV7)-2000)&\"г\",\nIF($P$6=Lists!$I$8,EV8&\" год\",\nIF($P$6=Lists!$I$9,YEAR(EV7)&\"г.\",\"\"))))))","v":""},{"$f":"IF(OR($P$6=\"\",$P$6=0,$P$7=\"\",$P$7=0,$P$8=\"\",$P$7<1),\"\",\nIF(EW$8=\"\",\"\",\nIF($P$6=Lists!$I$6,EW6,\nIF($P$6=Lists!$I$7,INT(MONTH(EW7)/3)&\"кв\"&(YEAR(EW7)-2000)&\"г\",\nIF($P$6=Lists!$I$8,EW8&\" год\",\nIF($P$6=Lists!$I$9,YEAR(EW7)&\"г.\",\"\"))))))","v":""},{"$f":"IF(OR($P$6=\"\",$P$6=0,$P$7=\"\",$P$7=0,$P$8=\"\",$P$7<1),\"\",\nIF(EX$8=\"\",\"\",\nIF($P$6=Lists!$I$6,EX6,\nIF($P$6=Lists!$I$7,INT(MONTH(EX7)/3)&\"кв\"&(YEAR(EX7)-2000)&\"г\",\nIF($P$6=Lists!$I$8,EX8&\" год\",\nIF($P$6=Lists!$I$9,YEAR(EX7)&\"г.\",\"\"))))))","v":""},{"$f":"IF(OR($P$6=\"\",$P$6=0,$P$7=\"\",$P$7=0,$P$8=\"\",$P$7<1),\"\",\nIF(EY$8=\"\",\"\",\nIF($P$6=Lists!$I$6,EY6,\nIF($P$6=Lists!$I$7,INT(MONTH(EY7)/3)&\"кв\"&(YEAR(EY7)-2000)&\"г\",\nIF($P$6=Lists!$I$8,EY8&\" год\",\nIF($P$6=Lists!$I$9,YEAR(EY7)&\"г.\",\"\"))))))","v":""},{"$f":"IF(OR($P$6=\"\",$P$6=0,$P$7=\"\",$P$7=0,$P$8=\"\",$P$7<1),\"\",\nIF(EZ$8=\"\",\"\",\nIF($P$6=Lists!$I$6,EZ6,\nIF($P$6=Lists!$I$7,INT(MONTH(EZ7)/3)&\"кв\"&(YEAR(EZ7)-2000)&\"г\",\nIF($P$6=Lists!$I$8,EZ8&\" год\",\nIF($P$6=Lists!$I$9,YEAR(EZ7)&\"г.\",\"\"))))))","v":""},{"$f":"IF(OR($P$6=\"\",$P$6=0,$P$7=\"\",$P$7=0,$P$8=\"\",$P$7<1),\"\",\nIF(FA$8=\"\",\"\",\nIF($P$6=Lists!$I$6,FA6,\nIF($P$6=Lists!$I$7,INT(MONTH(FA7)/3)&\"кв\"&(YEAR(FA7)-2000)&\"г\",\nIF($P$6=Lists!$I$8,FA8&\" год\",\nIF($P$6=Lists!$I$9,YEAR(FA7)&\"г.\",\"\"))))))","v":""},{"$f":"IF(OR($P$6=\"\",$P$6=0,$P$7=\"\",$P$7=0,$P$8=\"\",$P$7<1),\"\",\nIF(FB$8=\"\",\"\",\nIF($P$6=Lists!$I$6,FB6,\nIF($P$6=Lists!$I$7,INT(MONTH(FB7)/3)&\"кв\"&(YEAR(FB7)-2000)&\"г\",\nIF($P$6=Lists!$I$8,FB8&\" год\",\nIF($P$6=Lists!$I$9,YEAR(FB7)&\"г.\",\"\"))))))","v":""},{"$f":"IF(OR($P$6=\"\",$P$6=0,$P$7=\"\",$P$7=0,$P$8=\"\",$P$7<1),\"\",\nIF(FC$8=\"\",\"\",\nIF($P$6=Lists!$I$6,FC6,\nIF($P$6=Lists!$I$7,INT(MONTH(FC7)/3)&\"кв\"&(YEAR(FC7)-2000)&\"г\",\nIF($P$6=Lists!$I$8,FC8&\" год\",\nIF($P$6=Lists!$I$9,YEAR(FC7)&\"г.\",\"\"))))))","v":""},{"$f":"IF(OR($P$6=\"\",$P$6=0,$P$7=\"\",$P$7=0,$P$8=\"\",$P$7<1),\"\",\nIF(FD$8=\"\",\"\",\nIF($P$6=Lists!$I$6,FD6,\nIF($P$6=Lists!$I$7,INT(MONTH(FD7)/3)&\"кв\"&(YEAR(FD7)-2000)&\"г\",\nIF($P$6=Lists!$I$8,FD8&\" год\",\nIF($P$6=Lists!$I$9,YEAR(FD7)&\"г.\",\"\"))))))","v":""},{"$f":"IF(OR($P$6=\"\",$P$6=0,$P$7=\"\",$P$7=0,$P$8=\"\",$P$7<1),\"\",\nIF(FE$8=\"\",\"\",\nIF($P$6=Lists!$I$6,FE6,\nIF($P$6=Lists!$I$7,INT(MONTH(FE7)/3)&\"кв\"&(YEAR(FE7)-2000)&\"г\",\nIF($P$6=Lists!$I$8,FE8&\" год\",\nIF($P$6=Lists!$I$9,YEAR(FE7)&\"г.\",\"\"))))))","v":""},{"$f":"IF(OR($P$6=\"\",$P$6=0,$P$7=\"\",$P$7=0,$P$8=\"\",$P$7<1),\"\",\nIF(FF$8=\"\",\"\",\nIF($P$6=Lists!$I$6,FF6,\nIF($P$6=Lists!$I$7,INT(MONTH(FF7)/3)&\"кв\"&(YEAR(FF7)-2000)&\"г\",\nIF($P$6=Lists!$I$8,FF8&\" год\",\nIF($P$6=Lists!$I$9,YEAR(FF7)&\"г.\",\"\"))))))","v":""},{"$f":"IF(OR($P$6=\"\",$P$6=0,$P$7=\"\",$P$7=0,$P$8=\"\",$P$7<1),\"\",\nIF(FG$8=\"\",\"\",\nIF($P$6=Lists!$I$6,FG6,\nIF($P$6=Lists!$I$7,INT(MONTH(FG7)/3)&\"кв\"&(YEAR(FG7)-2000)&\"г\",\nIF($P$6=Lists!$I$8,FG8&\" год\",\nIF($P$6=Lists!$I$9,YEAR(FG7)&\"г.\",\"\"))))))","v":""},{"$f":"IF(OR($P$6=\"\",$P$6=0,$P$7=\"\",$P$7=0,$P$8=\"\",$P$7<1),\"\",\nIF(FH$8=\"\",\"\",\nIF($P$6=Lists!$I$6,FH6,\nIF($P$6=Lists!$I$7,INT(MONTH(FH7)/3)&\"кв\"&(YEAR(FH7)-2000)&\"г\",\nIF($P$6=Lists!$I$8,FH8&\" год\",\nIF($P$6=Lists!$I$9,YEAR(FH7)&\"г.\",\"\"))))))","v":""},{"$f":"IF(OR($P$6=\"\",$P$6=0,$P$7=\"\",$P$7=0,$P$8=\"\",$P$7<1),\"\",\nIF(FI$8=\"\",\"\",\nIF($P$6=Lists!$I$6,FI6,\nIF($P$6=Lists!$I$7,INT(MONTH(FI7)/3)&\"кв\"&(YEAR(FI7)-2000)&\"г\",\nIF($P$6=Lists!$I$8,FI8&\" год\",\nIF($P$6=Lists!$I$9,YEAR(FI7)&\"г.\",\"\"))))))","v":""},{"$f":"IF(OR($P$6=\"\",$P$6=0,$P$7=\"\",$P$7=0,$P$8=\"\",$P$7<1),\"\",\nIF(FJ$8=\"\",\"\",\nIF($P$6=Lists!$I$6,FJ6,\nIF($P$6=Lists!$I$7,INT(MONTH(FJ7)/3)&\"кв\"&(YEAR(FJ7)-2000)&\"г\",\nIF($P$6=Lists!$I$8,FJ8&\" год\",\nIF($P$6=Lists!$I$9,YEAR(FJ7)&\"г.\",\"\"))))))","v":""},{"$f":"IF(OR($P$6=\"\",$P$6=0,$P$7=\"\",$P$7=0,$P$8=\"\",$P$7<1),\"\",\nIF(FK$8=\"\",\"\",\nIF($P$6=Lists!$I$6,FK6,\nIF($P$6=Lists!$I$7,INT(MONTH(FK7)/3)&\"кв\"&(YEAR(FK7)-2000)&\"г\",\nIF($P$6=Lists!$I$8,FK8&\" год\",\nIF($P$6=Lists!$I$9,YEAR(FK7)&\"г.\",\"\"))))))","v":""},{"$f":"IF(OR($P$6=\"\",$P$6=0,$P$7=\"\",$P$7=0,$P$8=\"\",$P$7<1),\"\",\nIF(FL$8=\"\",\"\",\nIF($P$6=Lists!$I$6,FL6,\nIF($P$6=Lists!$I$7,INT(MONTH(FL7)/3)&\"кв\"&(YEAR(FL7)-2000)&\"г\",\nIF($P$6=Lists!$I$8,FL8&\" год\",\nIF($P$6=Lists!$I$9,YEAR(FL7)&\"г.\",\"\"))))))","v":""},{"$f":"IF(OR($P$6=\"\",$P$6=0,$P$7=\"\",$P$7=0,$P$8=\"\",$P$7<1),\"\",\nIF(FM$8=\"\",\"\",\nIF($P$6=Lists!$I$6,FM6,\nIF($P$6=Lists!$I$7,INT(MONTH(FM7)/3)&\"кв\"&(YEAR(FM7)-2000)&\"г\",\nIF($P$6=Lists!$I$8,FM8&\" год\",\nIF($P$6=Lists!$I$9,YEAR(FM7)&\"г.\",\"\"))))))","v":""},{"$f":"IF(OR($P$6=\"\",$P$6=0,$P$7=\"\",$P$7=0,$P$8=\"\",$P$7<1),\"\",\nIF(FN$8=\"\",\"\",\nIF($P$6=Lists!$I$6,FN6,\nIF($P$6=Lists!$I$7,INT(MONTH(FN7)/3)&\"кв\"&(YEAR(FN7)-2000)&\"г\",\nIF($P$6=Lists!$I$8,FN8&\" год\",\nIF($P$6=Lists!$I$9,YEAR(FN7)&\"г.\",\"\"))))))","v":""},{"$f":"IF(OR($P$6=\"\",$P$6=0,$P$7=\"\",$P$7=0,$P$8=\"\",$P$7<1),\"\",\nIF(FO$8=\"\",\"\",\nIF($P$6=Lists!$I$6,FO6,\nIF($P$6=Lists!$I$7,INT(MONTH(FO7)/3)&\"кв\"&(YEAR(FO7)-2000)&\"г\",\nIF($P$6=Lists!$I$8,FO8&\" год\",\nIF($P$6=Lists!$I$9,YEAR(FO7)&\"г.\",\"\"))))))","v":""},{"$f":"IF(OR($P$6=\"\",$P$6=0,$P$7=\"\",$P$7=0,$P$8=\"\",$P$7<1),\"\",\nIF(FP$8=\"\",\"\",\nIF($P$6=Lists!$I$6,FP6,\nIF($P$6=Lists!$I$7,INT(MONTH(FP7)/3)&\"кв\"&(YEAR(FP7)-2000)&\"г\",\nIF($P$6=Lists!$I$8,FP8&\" год\",\nIF($P$6=Lists!$I$9,YEAR(FP7)&\"г.\",\"\"))))))","v":""},{"$f":"IF(OR($P$6=\"\",$P$6=0,$P$7=\"\",$P$7=0,$P$8=\"\",$P$7<1),\"\",\nIF(FQ$8=\"\",\"\",\nIF($P$6=Lists!$I$6,FQ6,\nIF($P$6=Lists!$I$7,INT(MONTH(FQ7)/3)&\"кв\"&(YEAR(FQ7)-2000)&\"г\",\nIF($P$6=Lists!$I$8,FQ8&\" год\",\nIF($P$6=Lists!$I$9,YEAR(FQ7)&\"г.\",\"\"))))))","v":""},{"$f":"IF(OR($P$6=\"\",$P$6=0,$P$7=\"\",$P$7=0,$P$8=\"\",$P$7<1),\"\",\nIF(FR$8=\"\",\"\",\nIF($P$6=Lists!$I$6,FR6,\nIF($P$6=Lists!$I$7,INT(MONTH(FR7)/3)&\"кв\"&(YEAR(FR7)-2000)&\"г\",\nIF($P$6=Lists!$I$8,FR8&\" год\",\nIF($P$6=Lists!$I$9,YEAR(FR7)&\"г.\",\"\"))))))","v":""},{"$f":"IF(OR($P$6=\"\",$P$6=0,$P$7=\"\",$P$7=0,$P$8=\"\",$P$7<1),\"\",\nIF(FS$8=\"\",\"\",\nIF($P$6=Lists!$I$6,FS6,\nIF($P$6=Lists!$I$7,INT(MONTH(FS7)/3)&\"кв\"&(YEAR(FS7)-2000)&\"г\",\nIF($P$6=Lists!$I$8,FS8&\" год\",\nIF($P$6=Lists!$I$9,YEAR(FS7)&\"г.\",\"\"))))))","v":""},{"$f":"IF(OR($P$6=\"\",$P$6=0,$P$7=\"\",$P$7=0,$P$8=\"\",$P$7<1),\"\",\nIF(FT$8=\"\",\"\",\nIF($P$6=Lists!$I$6,FT6,\nIF($P$6=Lists!$I$7,INT(MONTH(FT7)/3)&\"кв\"&(YEAR(FT7)-2000)&\"г\",\nIF($P$6=Lists!$I$8,FT8&\" год\",\nIF($P$6=Lists!$I$9,YEAR(FT7)&\"г.\",\"\"))))))","v":""},{"$f":"IF(OR($P$6=\"\",$P$6=0,$P$7=\"\",$P$7=0,$P$8=\"\",$P$7<1),\"\",\nIF(FU$8=\"\",\"\",\nIF($P$6=Lists!$I$6,FU6,\nIF($P$6=Lists!$I$7,INT(MONTH(FU7)/3)&\"кв\"&(YEAR(FU7)-2000)&\"г\",\nIF($P$6=Lists!$I$8,FU8&\" год\",\nIF($P$6=Lists!$I$9,YEAR(FU7)&\"г.\",\"\"))))))","v":""},{"$f":"IF(OR($P$6=\"\",$P$6=0,$P$7=\"\",$P$7=0,$P$8=\"\",$P$7<1),\"\",\nIF(FV$8=\"\",\"\",\nIF($P$6=Lists!$I$6,FV6,\nIF($P$6=Lists!$I$7,INT(MONTH(FV7)/3)&\"кв\"&(YEAR(FV7)-2000)&\"г\",\nIF($P$6=Lists!$I$8,FV8&\" год\",\nIF($P$6=Lists!$I$9,YEAR(FV7)&\"г.\",\"\"))))))","v":""},{"$f":"IF(OR($P$6=\"\",$P$6=0,$P$7=\"\",$P$7=0,$P$8=\"\",$P$7<1),\"\",\nIF(FW$8=\"\",\"\",\nIF($P$6=Lists!$I$6,FW6,\nIF($P$6=Lists!$I$7,INT(MONTH(FW7)/3)&\"кв\"&(YEAR(FW7)-2000)&\"г\",\nIF($P$6=Lists!$I$8,FW8&\" год\",\nIF($P$6=Lists!$I$9,YEAR(FW7)&\"г.\",\"\"))))))","v":""},{"$f":"IF(OR($P$6=\"\",$P$6=0,$P$7=\"\",$P$7=0,$P$8=\"\",$P$7<1),\"\",\nIF(FX$8=\"\",\"\",\nIF($P$6=Lists!$I$6,FX6,\nIF($P$6=Lists!$I$7,INT(MONTH(FX7)/3)&\"кв\"&(YEAR(FX7)-2000)&\"г\",\nIF($P$6=Lists!$I$8,FX8&\" год\",\nIF($P$6=Lists!$I$9,YEAR(FX7)&\"г.\",\"\"))))))","v":""},{"$f":"IF(OR($P$6=\"\",$P$6=0,$P$7=\"\",$P$7=0,$P$8=\"\",$P$7<1),\"\",\nIF(FY$8=\"\",\"\",\nIF($P$6=Lists!$I$6,FY6,\nIF($P$6=Lists!$I$7,INT(MONTH(FY7)/3)&\"кв\"&(YEAR(FY7)-2000)&\"г\",\nIF($P$6=Lists!$I$8,FY8&\" год\",\nIF($P$6=Lists!$I$9,YEAR(FY7)&\"г.\",\"\"))))))","v":""},{"$f":"IF(OR($P$6=\"\",$P$6=0,$P$7=\"\",$P$7=0,$P$8=\"\",$P$7<1),\"\",\nIF(FZ$8=\"\",\"\",\nIF($P$6=Lists!$I$6,FZ6,\nIF($P$6=Lists!$I$7,INT(MONTH(FZ7)/3)&\"кв\"&(YEAR(FZ7)-2000)&\"г\",\nIF($P$6=Lists!$I$8,FZ8&\" год\",\nIF($P$6=Lists!$I$9,YEAR(FZ7)&\"г.\",\"\"))))))","v":""},{"$f":"IF(OR($P$6=\"\",$P$6=0,$P$7=\"\",$P$7=0,$P$8=\"\",$P$7<1),\"\",\nIF(GA$8=\"\",\"\",\nIF($P$6=Lists!$I$6,GA6,\nIF($P$6=Lists!$I$7,INT(MONTH(GA7)/3)&\"кв\"&(YEAR(GA7)-2000)&\"г\",\nIF($P$6=Lists!$I$8,GA8&\" год\",\nIF($P$6=Lists!$I$9,YEAR(GA7)&\"г.\",\"\"))))))","v":""},{"$f":"IF(OR($P$6=\"\",$P$6=0,$P$7=\"\",$P$7=0,$P$8=\"\",$P$7<1),\"\",\nIF(GB$8=\"\",\"\",\nIF($P$6=Lists!$I$6,GB6,\nIF($P$6=Lists!$I$7,INT(MONTH(GB7)/3)&\"кв\"&(YEAR(GB7)-2000)&\"г\",\nIF($P$6=Lists!$I$8,GB8&\" год\",\nIF($P$6=Lists!$I$9,YEAR(GB7)&\"г.\",\"\"))))))","v":""},{"$f":"IF(OR($P$6=\"\",$P$6=0,$P$7=\"\",$P$7=0,$P$8=\"\",$P$7<1),\"\",\nIF(GC$8=\"\",\"\",\nIF($P$6=Lists!$I$6,GC6,\nIF($P$6=Lists!$I$7,INT(MONTH(GC7)/3)&\"кв\"&(YEAR(GC7)-2000)&\"г\",\nIF($P$6=Lists!$I$8,GC8&\" год\",\nIF($P$6=Lists!$I$9,YEAR(GC7)&\"г.\",\"\"))))))","v":""},{"$f":"IF(OR($P$6=\"\",$P$6=0,$P$7=\"\",$P$7=0,$P$8=\"\",$P$7<1),\"\",\nIF(GD$8=\"\",\"\",\nIF($P$6=Lists!$I$6,GD6,\nIF($P$6=Lists!$I$7,INT(MONTH(GD7)/3)&\"кв\"&(YEAR(GD7)-2000)&\"г\",\nIF($P$6=Lists!$I$8,GD8&\" год\",\nIF($P$6=Lists!$I$9,YEAR(GD7)&\"г.\",\"\"))))))","v":""},{"$f":"IF(OR($P$6=\"\",$P$6=0,$P$7=\"\",$P$7=0,$P$8=\"\",$P$7<1),\"\",\nIF(GE$8=\"\",\"\",\nIF($P$6=Lists!$I$6,GE6,\nIF($P$6=Lists!$I$7,INT(MONTH(GE7)/3)&\"кв\"&(YEAR(GE7)-2000)&\"г\",\nIF($P$6=Lists!$I$8,GE8&\" год\",\nIF($P$6=Lists!$I$9,YEAR(GE7)&\"г.\",\"\"))))))","v":""},{"$f":"IF(OR($P$6=\"\",$P$6=0,$P$7=\"\",$P$7=0,$P$8=\"\",$P$7<1),\"\",\nIF(GF$8=\"\",\"\",\nIF($P$6=Lists!$I$6,GF6,\nIF($P$6=Lists!$I$7,INT(MONTH(GF7)/3)&\"кв\"&(YEAR(GF7)-2000)&\"г\",\nIF($P$6=Lists!$I$8,GF8&\" год\",\nIF($P$6=Lists!$I$9,YEAR(GF7)&\"г.\",\"\"))))))","v":""},{"$f":"IF(OR($P$6=\"\",$P$6=0,$P$7=\"\",$P$7=0,$P$8=\"\",$P$7<1),\"\",\nIF(GG$8=\"\",\"\",\nIF($P$6=Lists!$I$6,GG6,\nIF($P$6=Lists!$I$7,INT(MONTH(GG7)/3)&\"кв\"&(YEAR(GG7)-2000)&\"г\",\nIF($P$6=Lists!$I$8,GG8&\" год\",\nIF($P$6=Lists!$I$9,YEAR(GG7)&\"г.\",\"\"))))))","v":""},{"$f":"IF(OR($P$6=\"\",$P$6=0,$P$7=\"\",$P$7=0,$P$8=\"\",$P$7<1),\"\",\nIF(GH$8=\"\",\"\",\nIF($P$6=Lists!$I$6,GH6,\nIF($P$6=Lists!$I$7,INT(MONTH(GH7)/3)&\"кв\"&(YEAR(GH7)-2000)&\"г\",\nIF($P$6=Lists!$I$8,GH8&\" год\",\nIF($P$6=Lists!$I$9,YEAR(GH7)&\"г.\",\"\"))))))","v":""},{"$f":"IF(OR($P$6=\"\",$P$6=0,$P$7=\"\",$P$7=0,$P$8=\"\",$P$7<1),\"\",\nIF(GI$8=\"\",\"\",\nIF($P$6=Lists!$I$6,GI6,\nIF($P$6=Lists!$I$7,INT(MONTH(GI7)/3)&\"кв\"&(YEAR(GI7)-2000)&\"г\",\nIF($P$6=Lists!$I$8,GI8&\" год\",\nIF($P$6=Lists!$I$9,YEAR(GI7)&\"г.\",\"\"))))))","v":""},{"$f":"IF(OR($P$6=\"\",$P$6=0,$P$7=\"\",$P$7=0,$P$8=\"\",$P$7<1),\"\",\nIF(GJ$8=\"\",\"\",\nIF($P$6=Lists!$I$6,GJ6,\nIF($P$6=Lists!$I$7,INT(MONTH(GJ7)/3)&\"кв\"&(YEAR(GJ7)-2000)&\"г\",\nIF($P$6=Lists!$I$8,GJ8&\" год\",\nIF($P$6=Lists!$I$9,YEAR(GJ7)&\"г.\",\"\"))))))","v":""},{"$f":"IF(OR($P$6=\"\",$P$6=0,$P$7=\"\",$P$7=0,$P$8=\"\",$P$7<1),\"\",\nIF(GK$8=\"\",\"\",\nIF($P$6=Lists!$I$6,GK6,\nIF($P$6=Lists!$I$7,INT(MONTH(GK7)/3)&\"кв\"&(YEAR(GK7)-2000)&\"г\",\nIF($P$6=Lists!$I$8,GK8&\" год\",\nIF($P$6=Lists!$I$9,YEAR(GK7)&\"г.\",\"\"))))))","v":""},{"$f":"IF(OR($P$6=\"\",$P$6=0,$P$7=\"\",$P$7=0,$P$8=\"\",$P$7<1),\"\",\nIF(GL$8=\"\",\"\",\nIF($P$6=Lists!$I$6,GL6,\nIF($P$6=Lists!$I$7,INT(MONTH(GL7)/3)&\"кв\"&(YEAR(GL7)-2000)&\"г\",\nIF($P$6=Lists!$I$8,GL8&\" год\",\nIF($P$6=Lists!$I$9,YEAR(GL7)&\"г.\",\"\"))))))","v":""},{"$f":"IF(OR($P$6=\"\",$P$6=0,$P$7=\"\",$P$7=0,$P$8=\"\",$P$7<1),\"\",\nIF(GM$8=\"\",\"\",\nIF($P$6=Lists!$I$6,GM6,\nIF($P$6=Lists!$I$7,INT(MONTH(GM7)/3)&\"кв\"&(YEAR(GM7)-2000)&\"г\",\nIF($P$6=Lists!$I$8,GM8&\" год\",\nIF($P$6=Lists!$I$9,YEAR(GM7)&\"г.\",\"\"))))))","v":""},{"$f":"IF(OR($P$6=\"\",$P$6=0,$P$7=\"\",$P$7=0,$P$8=\"\",$P$7<1),\"\",\nIF(GN$8=\"\",\"\",\nIF($P$6=Lists!$I$6,GN6,\nIF($P$6=Lists!$I$7,INT(MONTH(GN7)/3)&\"кв\"&(YEAR(GN7)-2000)&\"г\",\nIF($P$6=Lists!$I$8,GN8&\" год\",\nIF($P$6=Lists!$I$9,YEAR(GN7)&\"г.\",\"\"))))))","v":""},{"$f":"IF(OR($P$6=\"\",$P$6=0,$P$7=\"\",$P$7=0,$P$8=\"\",$P$7<1),\"\",\nIF(GO$8=\"\",\"\",\nIF($P$6=Lists!$I$6,GO6,\nIF($P$6=Lists!$I$7,INT(MONTH(GO7)/3)&\"кв\"&(YEAR(GO7)-2000)&\"г\",\nIF($P$6=Lists!$I$8,GO8&\" год\",\nIF($P$6=Lists!$I$9,YEAR(GO7)&\"г.\",\"\"))))))","v":""},{"$f":"IF(OR($P$6=\"\",$P$6=0,$P$7=\"\",$P$7=0,$P$8=\"\",$P$7<1),\"\",\nIF(GP$8=\"\",\"\",\nIF($P$6=Lists!$I$6,GP6,\nIF($P$6=Lists!$I$7,INT(MONTH(GP7)/3)&\"кв\"&(YEAR(GP7)-2000)&\"г\",\nIF($P$6=Lists!$I$8,GP8&\" год\",\nIF($P$6=Lists!$I$9,YEAR(GP7)&\"г.\",\"\"))))))","v":""},{"$f":"IF(OR($P$6=\"\",$P$6=0,$P$7=\"\",$P$7=0,$P$8=\"\",$P$7<1),\"\",\nIF(GQ$8=\"\",\"\",\nIF($P$6=Lists!$I$6,GQ6,\nIF($P$6=Lists!$I$7,INT(MONTH(GQ7)/3)&\"кв\"&(YEAR(GQ7)-2000)&\"г\",\nIF($P$6=Lists!$I$8,GQ8&\" год\",\nIF($P$6=Lists!$I$9,YEAR(GQ7)&\"г.\",\"\"))))))","v":""},{"$f":"IF(OR($P$6=\"\",$P$6=0,$P$7=\"\",$P$7=0,$P$8=\"\",$P$7<1),\"\",\nIF(GR$8=\"\",\"\",\nIF($P$6=Lists!$I$6,GR6,\nIF($P$6=Lists!$I$7,INT(MONTH(GR7)/3)&\"кв\"&(YEAR(GR7)-2000)&\"г\",\nIF($P$6=Lists!$I$8,GR8&\" год\",\nIF($P$6=Lists!$I$9,YEAR(GR7)&\"г.\",\"\"))))))","v":""},{"$f":"IF(OR($P$6=\"\",$P$6=0,$P$7=\"\",$P$7=0,$P$8=\"\",$P$7<1),\"\",\nIF(GS$8=\"\",\"\",\nIF($P$6=Lists!$I$6,GS6,\nIF($P$6=Lists!$I$7,INT(MONTH(GS7)/3)&\"кв\"&(YEAR(GS7)-2000)&\"г\",\nIF($P$6=Lists!$I$8,GS8&\" год\",\nIF($P$6=Lists!$I$9,YEAR(GS7)&\"г.\",\"\"))))))","v":""},{"$f":"IF(OR($P$6=\"\",$P$6=0,$P$7=\"\",$P$7=0,$P$8=\"\",$P$7<1),\"\",\nIF(GT$8=\"\",\"\",\nIF($P$6=Lists!$I$6,GT6,\nIF($P$6=Lists!$I$7,INT(MONTH(GT7)/3)&\"кв\"&(YEAR(GT7)-2000)&\"г\",\nIF($P$6=Lists!$I$8,GT8&\" год\",\nIF($P$6=Lists!$I$9,YEAR(GT7)&\"г.\",\"\"))))))","v":""},{"$f":"IF(OR($P$6=\"\",$P$6=0,$P$7=\"\",$P$7=0,$P$8=\"\",$P$7<1),\"\",\nIF(GU$8=\"\",\"\",\nIF($P$6=Lists!$I$6,GU6,\nIF($P$6=Lists!$I$7,INT(MONTH(GU7)/3)&\"кв\"&(YEAR(GU7)-2000)&\"г\",\nIF($P$6=Lists!$I$8,GU8&\" год\",\nIF($P$6=Lists!$I$9,YEAR(GU7)&\"г.\",\"\"))))))","v":""},{"$f":"IF(OR($P$6=\"\",$P$6=0,$P$7=\"\",$P$7=0,$P$8=\"\",$P$7<1),\"\",\nIF(GV$8=\"\",\"\",\nIF($P$6=Lists!$I$6,GV6,\nIF($P$6=Lists!$I$7,INT(MONTH(GV7)/3)&\"кв\"&(YEAR(GV7)-2000)&\"г\",\nIF($P$6=Lists!$I$8,GV8&\" год\",\nIF($P$6=Lists!$I$9,YEAR(GV7)&\"г.\",\"\"))))))","v":""}]
[]
[null,{"$f":"ROW()","v":6},null,null,null,null,null,"минимальный период расчетов","минимальный период расчетов",null,null,null,"тип периода",null,"*","год календарный","^",null,null,null,{"$f":"X6","v":"2023-01-01"},null,null,{"$f":"IF(OR($P$6=\"\",$P$6=0,$P$7=\"\",$P$7=0,$P$8=\"\",$P$7<1),\"\",\nIF(X$8=\"\",\"\",\nIF(X$8=1,EOMONTH($P$7,-1)+1,W7+1)))","v":"2023-01-01"},{"$f":"IF(OR($P$6=\"\",$P$6=0,$P$7=\"\",$P$7=0,$P$8=\"\",$P$7<1),\"\",\nIF(Y$8=\"\",\"\",\nIF(Y$8=1,EOMONTH($P$7,-1)+1,X7+1)))","v":"2024-01-01"},"2025-01-01","2026-01-01","2027-01-01","2028-01-01","2029-01-01","2030-01-01","2031-01-01","2032-01-01","2033-01-01","2034-01-01","2035-01-01","2036-01-01","2037-01-01","2038-01-01","2039-01-01","2040-01-01","2041-01-01","2042-01-01","2043-01-01","2044-01-01","2045-01-01","2046-01-01","2047-01-01","2048-01-01","2049-01-01","2050-01-01","2051-01-01","2052-01-01","2053-01-01","2054-01-01","2055-01-01","2056-01-01","2057-01-01","2058-01-01","2059-01-01","2060-01-01","2061-01-01","2062-01-01","2063-01-01","2064-01-01","2065-01-01","2066-01-01","2067-01-01","2068-01-01","2069-01-01","2070-01-01","2071-01-01","2072-01-01","2073-01-01","2074-01-01","2075-01-01","2076-01-01","2077-01-01","2078-01-01","2079-01-01","2080-01-01","2081-01-01","2082-01-01","2083-01-01","2084-01-01","2085-01-01","2086-01-01","2087-01-01",{"$f":"IF(OR($P$6=\"\",$P$6=0,$P$7=\"\",$P$7=0,$P$8=\"\",$P$7<1),\"\",\nIF(CK$8=\"\",\"\",\nIF(CK$8=1,EOMONTH($P$7,-1)+1,CJ7+1)))","v":"2088-01-01"},"2089-01-01","2090-01-01","2091-01-01","2092-01-01","2093-01-01","2094-01-01","2095-01-01","2096-01-01","2097-01-01","2098-01-01","2099-01-01","2100-01-01","2101-01-01","2102-01-01","2103-01-01","2104-01-01","2105-01-01","2106-01-01","2107-01-01","2108-01-01","2109-01-01","2110-01-01","2111-01-01","2112-01-01","2113-01-01","2114-01-01","2115-01-01","2116-01-01","2117-01-01","2118-01-01","2119-01-01","2120-01-01","2121-01-01","2122-01-01","2123-01-01","2124-01-01","2125-01-01","2126-01-01","2127-01-01","2128-01-01","2129-01-01","2130-01-01","2131-01-01","2132-01-01","2133-01-01","2134-01-01","2135-01-01","2136-01-01","2137-01-01","2138-01-01","2139-01-01","2140-01-01","2141-01-01","2142-01-01","","","","","","","","","",{"$f":"IF(OR($P$6=\"\",$P$6=0,$P$7=\"\",$P$7=0,$P$8=\"\",$P$7<1),\"\",\nIF(EW$8=\"\",\"\",\nIF(EW$8=1,EOMONTH($P$7,-1)+1,EV7+1)))","v":""},"","","","","","","","","","","","","","","","","","","","","","","","","","","","","","","","","","","","","","","","","","","","","","","","","","",""]
[null,{"$f":"ROW()","v":7},null,null,null,null,null,"старт моделирования","старт моделирования",null,null,null,"месяц",null,null,{"$f":"Model!P7","v":"2023-01-01"},null,null,null,null,{"$f":"MAX(INDIRECT(ADDRESS($B7,X$2)&\":\"&ADDRESS($B7,MAX($2:$2))))","v":"2142-12-31"},null,null,{"$f":"IF(OR($P$6=\"\",$P$6=0,$P$7=\"\",$P$7=0,$P$8=\"\",$P$7<1),\"\",\nIF(X$8=\"\",\"\",\nIF($P$6=Lists!$I$6,EOMONTH(X6,0),\nIF($P$6=Lists!$I$7,EOMONTH(X6,2-(MONTH(X6)-1-3*INT((MONTH(X6)-1)/3))),\nIF($P$6=Lists!$I$8,EOMONTH(X6,11),\nIF($P$6=Lists!$I$9,EOMONTH(X6,12-MONTH(X6)),\"\"))))))","v":"2023-12-31"},{"$f":"IF(OR($P$6=\"\",$P$6=0,$P$7=\"\",$P$7=0,$P$8=\"\",$P$7<1),\"\",\nIF(Y$8=\"\",\"\",\nIF($P$6=Lists!$I$6,EOMONTH(Y6,0),\nIF($P$6=Lists!$I$7,EOMONTH(Y6,2-(MONTH(Y6)-1-3*INT((MONTH(Y6)-1)/3))),\nIF($P$6=Lists!$I$8,EOMONTH(Y6,11),\nIF($P$6=Lists!$I$9,EOMONTH(Y6,12-MONTH(Y6)),\"\"))))))","v":"2024-12-31"},{"$f":"IF(OR($P$6=\"\",$P$6=0,$P$7=\"\",$P$7=0,$P$8=\"\",$P$7<1),\"\",\nIF(Z$8=\"\",\"\",\nIF($P$6=Lists!$I$6,EOMONTH(Z6,0),\nIF($P$6=Lists!$I$7,EOMONTH(Z6,2-(MONTH(Z6)-1-3*INT((MONTH(Z6)-1)/3))),\nIF($P$6=Lists!$I$8,EOMONTH(Z6,11),\nIF($P$6=Lists!$I$9,EOMONTH(Z6,12-MONTH(Z6)),\"\"))))))","v":"2025-12-31"},{"$f":"IF(OR($P$6=\"\",$P$6=0,$P$7=\"\",$P$7=0,$P$8=\"\",$P$7<1),\"\",\nIF(AA$8=\"\",\"\",\nIF($P$6=Lists!$I$6,EOMONTH(AA6,0),\nIF($P$6=Lists!$I$7,EOMONTH(AA6,2-(MONTH(AA6)-1-3*INT((MONTH(AA6)-1)/3))),\nIF($P$6=Lists!$I$8,EOMONTH(AA6,11),\nIF($P$6=Lists!$I$9,EOMONTH(AA6,12-MONTH(AA6)),\"\"))))))","v":"2026-12-31"},{"$f":"IF(OR($P$6=\"\",$P$6=0,$P$7=\"\",$P$7=0,$P$8=\"\",$P$7<1),\"\",\nIF(AB$8=\"\",\"\",\nIF($P$6=Lists!$I$6,EOMONTH(AB6,0),\nIF($P$6=Lists!$I$7,EOMONTH(AB6,2-(MONTH(AB6)-1-3*INT((MONTH(AB6)-1)/3))),\nIF($P$6=Lists!$I$8,EOMONTH(AB6,11),\nIF($P$6=Lists!$I$9,EOMONTH(AB6,12-MONTH(AB6)),\"\"))))))","v":"2027-12-31"},{"$f":"IF(OR($P$6=\"\",$P$6=0,$P$7=\"\",$P$7=0,$P$8=\"\",$P$7<1),\"\",\nIF(AC$8=\"\",\"\",\nIF($P$6=Lists!$I$6,EOMONTH(AC6,0),\nIF($P$6=Lists!$I$7,EOMONTH(AC6,2-(MONTH(AC6)-1-3*INT((MONTH(AC6)-1)/3))),\nIF($P$6=Lists!$I$8,EOMONTH(AC6,11),\nIF($P$6=Lists!$I$9,EOMONTH(AC6,12-MONTH(AC6)),\"\"))))))","v":"2028-12-31"},{"$f":"IF(OR($P$6=\"\",$P$6=0,$P$7=\"\",$P$7=0,$P$8=\"\",$P$7<1),\"\",\nIF(AD$8=\"\",\"\",\nIF($P$6=Lists!$I$6,EOMONTH(AD6,0),\nIF($P$6=Lists!$I$7,EOMONTH(AD6,2-(MONTH(AD6)-1-3*INT((MONTH(AD6)-1)/3))),\nIF($P$6=Lists!$I$8,EOMONTH(AD6,11),\nIF($P$6=Lists!$I$9,EOMONTH(AD6,12-MONTH(AD6)),\"\"))))))","v":"2029-12-31"},{"$f":"IF(OR($P$6=\"\",$P$6=0,$P$7=\"\",$P$7=0,$P$8=\"\",$P$7<1),\"\",\nIF(AE$8=\"\",\"\",\nIF($P$6=Lists!$I$6,EOMONTH(AE6,0),\nIF($P$6=Lists!$I$7,EOMONTH(AE6,2-(MONTH(AE6)-1-3*INT((MONTH(AE6)-1)/3))),\nIF($P$6=Lists!$I$8,EOMONTH(AE6,11),\nIF($P$6=Lists!$I$9,EOMONTH(AE6,12-MONTH(AE6)),\"\"))))))","v":"2030-12-31"},{"$f":"IF(OR($P$6=\"\",$P$6=0,$P$7=\"\",$P$7=0,$P$8=\"\",$P$7<1),\"\",\nIF(AF$8=\"\",\"\",\nIF($P$6=Lists!$I$6,EOMONTH(AF6,0),\nIF($P$6=Lists!$I$7,EOMONTH(AF6,2-(MONTH(AF6)-1-3*INT((MONTH(AF6)-1)/3))),\nIF($P$6=Lists!$I$8,EOMONTH(AF6,11),\nIF($P$6=Lists!$I$9,EOMONTH(AF6,12-MONTH(AF6)),\"\"))))))","v":"2031-12-31"},{"$f":"IF(OR($P$6=\"\",$P$6=0,$P$7=\"\",$P$7=0,$P$8=\"\",$P$7<1),\"\",\nIF(AG$8=\"\",\"\",\nIF($P$6=Lists!$I$6,EOMONTH(AG6,0),\nIF($P$6=Lists!$I$7,EOMONTH(AG6,2-(MONTH(AG6)-1-3*INT((MONTH(AG6)-1)/3))),\nIF($P$6=Lists!$I$8,EOMONTH(AG6,11),\nIF($P$6=Lists!$I$9,EOMONTH(AG6,12-MONTH(AG6)),\"\"))))))","v":"2032-12-31"},{"$f":"IF(OR($P$6=\"\",$P$6=0,$P$7=\"\",$P$7=0,$P$8=\"\",$P$7<1),\"\",\nIF(AH$8=\"\",\"\",\nIF($P$6=Lists!$I$6,EOMONTH(AH6,0),\nIF($P$6=Lists!$I$7,EOMONTH(AH6,2-(MONTH(AH6)-1-3*INT((MONTH(AH6)-1)/3))),\nIF($P$6=Lists!$I$8,EOMONTH(AH6,11),\nIF($P$6=Lists!$I$9,EOMONTH(AH6,12-MONTH(AH6)),\"\"))))))","v":"2033-12-31"},{"$f":"IF(OR($P$6=\"\",$P$6=0,$P$7=\"\",$P$7=0,$P$8=\"\",$P$7<1),\"\",\nIF(AI$8=\"\",\"\",\nIF($P$6=Lists!$I$6,EOMONTH(AI6,0),\nIF($P$6=Lists!$I$7,EOMONTH(AI6,2-(MONTH(AI6)-1-3*INT((MONTH(AI6)-1)/3))),\nIF($P$6=Lists!$I$8,EOMONTH(AI6,11),\nIF($P$6=Lists!$I$9,EOMONTH(AI6,12-MONTH(AI6)),\"\"))))))","v":"2034-12-31"},{"$f":"IF(OR($P$6=\"\",$P$6=0,$P$7=\"\",$P$7=0,$P$8=\"\",$P$7<1),\"\",\nIF(AJ$8=\"\",\"\",\nIF($P$6=Lists!$I$6,EOMONTH(AJ6,0),\nIF($P$6=Lists!$I$7,EOMONTH(AJ6,2-(MONTH(AJ6)-1-3*INT((MONTH(AJ6)-1)/3))),\nIF($P$6=Lists!$I$8,EOMONTH(AJ6,11),\nIF($P$6=Lists!$I$9,EOMONTH(AJ6,12-MONTH(AJ6)),\"\"))))))","v":"2035-12-31"},{"$f":"IF(OR($P$6=\"\",$P$6=0,$P$7=\"\",$P$7=0,$P$8=\"\",$P$7<1),\"\",\nIF(AK$8=\"\",\"\",\nIF($P$6=Lists!$I$6,EOMONTH(AK6,0),\nIF($P$6=Lists!$I$7,EOMONTH(AK6,2-(MONTH(AK6)-1-3*INT((MONTH(AK6)-1)/3))),\nIF($P$6=Lists!$I$8,EOMONTH(AK6,11),\nIF($P$6=Lists!$I$9,EOMONTH(AK6,12-MONTH(AK6)),\"\"))))))","v":"2036-12-31"},{"$f":"IF(OR($P$6=\"\",$P$6=0,$P$7=\"\",$P$7=0,$P$8=\"\",$P$7<1),\"\",\nIF(AL$8=\"\",\"\",\nIF($P$6=Lists!$I$6,EOMONTH(AL6,0),\nIF($P$6=Lists!$I$7,EOMONTH(AL6,2-(MONTH(AL6)-1-3*INT((MONTH(AL6)-1)/3))),\nIF($P$6=Lists!$I$8,EOMONTH(AL6,11),\nIF($P$6=Lists!$I$9,EOMONTH(AL6,12-MONTH(AL6)),\"\"))))))","v":"2037-12-31"},{"$f":"IF(OR($P$6=\"\",$P$6=0,$P$7=\"\",$P$7=0,$P$8=\"\",$P$7<1),\"\",\nIF(AM$8=\"\",\"\",\nIF($P$6=Lists!$I$6,EOMONTH(AM6,0),\nIF($P$6=Lists!$I$7,EOMONTH(AM6,2-(MONTH(AM6)-1-3*INT((MONTH(AM6)-1)/3))),\nIF($P$6=Lists!$I$8,EOMONTH(AM6,11),\nIF($P$6=Lists!$I$9,EOMONTH(AM6,12-MONTH(AM6)),\"\"))))))","v":"2038-12-31"},{"$f":"IF(OR($P$6=\"\",$P$6=0,$P$7=\"\",$P$7=0,$P$8=\"\",$P$7<1),\"\",\nIF(AN$8=\"\",\"\",\nIF($P$6=Lists!$I$6,EOMONTH(AN6,0),\nIF($P$6=Lists!$I$7,EOMONTH(AN6,2-(MONTH(AN6)-1-3*INT((MONTH(AN6)-1)/3))),\nIF($P$6=Lists!$I$8,EOMONTH(AN6,11),\nIF($P$6=Lists!$I$9,EOMONTH(AN6,12-MONTH(AN6)),\"\"))))))","v":"2039-12-31"},{"$f":"IF(OR($P$6=\"\",$P$6=0,$P$7=\"\",$P$7=0,$P$8=\"\",$P$7<1),\"\",\nIF(AO$8=\"\",\"\",\nIF($P$6=Lists!$I$6,EOMONTH(AO6,0),\nIF($P$6=Lists!$I$7,EOMONTH(AO6,2-(MONTH(AO6)-1-3*INT((MONTH(AO6)-1)/3))),\nIF($P$6=Lists!$I$8,EOMONTH(AO6,11),\nIF($P$6=Lists!$I$9,EOMONTH(AO6,12-MONTH(AO6)),\"\"))))))","v":"2040-12-31"},{"$f":"IF(OR($P$6=\"\",$P$6=0,$P$7=\"\",$P$7=0,$P$8=\"\",$P$7<1),\"\",\nIF(AP$8=\"\",\"\",\nIF($P$6=Lists!$I$6,EOMONTH(AP6,0),\nIF($P$6=Lists!$I$7,EOMONTH(AP6,2-(MONTH(AP6)-1-3*INT((MONTH(AP6)-1)/3))),\nIF($P$6=Lists!$I$8,EOMONTH(AP6,11),\nIF($P$6=Lists!$I$9,EOMONTH(AP6,12-MONTH(AP6)),\"\"))))))","v":"2041-12-31"},{"$f":"IF(OR($P$6=\"\",$P$6=0,$P$7=\"\",$P$7=0,$P$8=\"\",$P$7<1),\"\",\nIF(AQ$8=\"\",\"\",\nIF($P$6=Lists!$I$6,EOMONTH(AQ6,0),\nIF($P$6=Lists!$I$7,EOMONTH(AQ6,2-(MONTH(AQ6)-1-3*INT((MONTH(AQ6)-1)/3))),\nIF($P$6=Lists!$I$8,EOMONTH(AQ6,11),\nIF($P$6=Lists!$I$9,EOMONTH(AQ6,12-MONTH(AQ6)),\"\"))))))","v":"2042-12-31"},{"$f":"IF(OR($P$6=\"\",$P$6=0,$P$7=\"\",$P$7=0,$P$8=\"\",$P$7<1),\"\",\nIF(AR$8=\"\",\"\",\nIF($P$6=Lists!$I$6,EOMONTH(AR6,0),\nIF($P$6=Lists!$I$7,EOMONTH(AR6,2-(MONTH(AR6)-1-3*INT((MONTH(AR6)-1)/3))),\nIF($P$6=Lists!$I$8,EOMONTH(AR6,11),\nIF($P$6=Lists!$I$9,EOMONTH(AR6,12-MONTH(AR6)),\"\"))))))","v":"2043-12-31"},{"$f":"IF(OR($P$6=\"\",$P$6=0,$P$7=\"\",$P$7=0,$P$8=\"\",$P$7<1),\"\",\nIF(AS$8=\"\",\"\",\nIF($P$6=Lists!$I$6,EOMONTH(AS6,0),\nIF($P$6=Lists!$I$7,EOMONTH(AS6,2-(MONTH(AS6)-1-3*INT((MONTH(AS6)-1)/3))),\nIF($P$6=Lists!$I$8,EOMONTH(AS6,11),\nIF($P$6=Lists!$I$9,EOMONTH(AS6,12-MONTH(AS6)),\"\"))))))","v":"2044-12-31"},{"$f":"IF(OR($P$6=\"\",$P$6=0,$P$7=\"\",$P$7=0,$P$8=\"\",$P$7<1),\"\",\nIF(AT$8=\"\",\"\",\nIF($P$6=Lists!$I$6,EOMONTH(AT6,0),\nIF($P$6=Lists!$I$7,EOMONTH(AT6,2-(MONTH(AT6)-1-3*INT((MONTH(AT6)-1)/3))),\nIF($P$6=Lists!$I$8,EOMONTH(AT6,11),\nIF($P$6=Lists!$I$9,EOMONTH(AT6,12-MONTH(AT6)),\"\"))))))","v":"2045-12-31"},{"$f":"IF(OR($P$6=\"\",$P$6=0,$P$7=\"\",$P$7=0,$P$8=\"\",$P$7<1),\"\",\nIF(AU$8=\"\",\"\",\nIF($P$6=Lists!$I$6,EOMONTH(AU6,0),\nIF($P$6=Lists!$I$7,EOMONTH(AU6,2-(MONTH(AU6)-1-3*INT((MONTH(AU6)-1)/3))),\nIF($P$6=Lists!$I$8,EOMONTH(AU6,11),\nIF($P$6=Lists!$I$9,EOMONTH(AU6,12-MONTH(AU6)),\"\"))))))","v":"2046-12-31"},{"$f":"IF(OR($P$6=\"\",$P$6=0,$P$7=\"\",$P$7=0,$P$8=\"\",$P$7<1),\"\",\nIF(AV$8=\"\",\"\",\nIF($P$6=Lists!$I$6,EOMONTH(AV6,0),\nIF($P$6=Lists!$I$7,EOMONTH(AV6,2-(MONTH(AV6)-1-3*INT((MONTH(AV6)-1)/3))),\nIF($P$6=Lists!$I$8,EOMONTH(AV6,11),\nIF($P$6=Lists!$I$9,EOMONTH(AV6,12-MONTH(AV6)),\"\"))))))","v":"2047-12-31"},{"$f":"IF(OR($P$6=\"\",$P$6=0,$P$7=\"\",$P$7=0,$P$8=\"\",$P$7<1),\"\",\nIF(AW$8=\"\",\"\",\nIF($P$6=Lists!$I$6,EOMONTH(AW6,0),\nIF($P$6=Lists!$I$7,EOMONTH(AW6,2-(MONTH(AW6)-1-3*INT((MONTH(AW6)-1)/3))),\nIF($P$6=Lists!$I$8,EOMONTH(AW6,11),\nIF($P$6=Lists!$I$9,EOMONTH(AW6,12-MONTH(AW6)),\"\"))))))","v":"2048-12-31"},{"$f":"IF(OR($P$6=\"\",$P$6=0,$P$7=\"\",$P$7=0,$P$8=\"\",$P$7<1),\"\",\nIF(AX$8=\"\",\"\",\nIF($P$6=Lists!$I$6,EOMONTH(AX6,0),\nIF($P$6=Lists!$I$7,EOMONTH(AX6,2-(MONTH(AX6)-1-3*INT((MONTH(AX6)-1)/3))),\nIF($P$6=Lists!$I$8,EOMONTH(AX6,11),\nIF($P$6=Lists!$I$9,EOMONTH(AX6,12-MONTH(AX6)),\"\"))))))","v":"2049-12-31"},{"$f":"IF(OR($P$6=\"\",$P$6=0,$P$7=\"\",$P$7=0,$P$8=\"\",$P$7<1),\"\",\nIF(AY$8=\"\",\"\",\nIF($P$6=Lists!$I$6,EOMONTH(AY6,0),\nIF($P$6=Lists!$I$7,EOMONTH(AY6,2-(MONTH(AY6)-1-3*INT((MONTH(AY6)-1)/3))),\nIF($P$6=Lists!$I$8,EOMONTH(AY6,11),\nIF($P$6=Lists!$I$9,EOMONTH(AY6,12-MONTH(AY6)),\"\"))))))","v":"2050-12-31"},{"$f":"IF(OR($P$6=\"\",$P$6=0,$P$7=\"\",$P$7=0,$P$8=\"\",$P$7<1),\"\",\nIF(AZ$8=\"\",\"\",\nIF($P$6=Lists!$I$6,EOMONTH(AZ6,0),\nIF($P$6=Lists!$I$7,EOMONTH(AZ6,2-(MONTH(AZ6)-1-3*INT((MONTH(AZ6)-1)/3))),\nIF($P$6=Lists!$I$8,EOMONTH(AZ6,11),\nIF($P$6=Lists!$I$9,EOMONTH(AZ6,12-MONTH(AZ6)),\"\"))))))","v":"2051-12-31"},{"$f":"IF(OR($P$6=\"\",$P$6=0,$P$7=\"\",$P$7=0,$P$8=\"\",$P$7<1),\"\",\nIF(BA$8=\"\",\"\",\nIF($P$6=Lists!$I$6,EOMONTH(BA6,0),\nIF($P$6=Lists!$I$7,EOMONTH(BA6,2-(MONTH(BA6)-1-3*INT((MONTH(BA6)-1)/3))),\nIF($P$6=Lists!$I$8,EOMONTH(BA6,11),\nIF($P$6=Lists!$I$9,EOMONTH(BA6,12-MONTH(BA6)),\"\"))))))","v":"2052-12-31"},{"$f":"IF(OR($P$6=\"\",$P$6=0,$P$7=\"\",$P$7=0,$P$8=\"\",$P$7<1),\"\",\nIF(BB$8=\"\",\"\",\nIF($P$6=Lists!$I$6,EOMONTH(BB6,0),\nIF($P$6=Lists!$I$7,EOMONTH(BB6,2-(MONTH(BB6)-1-3*INT((MONTH(BB6)-1)/3))),\nIF($P$6=Lists!$I$8,EOMONTH(BB6,11),\nIF($P$6=Lists!$I$9,EOMONTH(BB6,12-MONTH(BB6)),\"\"))))))","v":"2053-12-31"},{"$f":"IF(OR($P$6=\"\",$P$6=0,$P$7=\"\",$P$7=0,$P$8=\"\",$P$7<1),\"\",\nIF(BC$8=\"\",\"\",\nIF($P$6=Lists!$I$6,EOMONTH(BC6,0),\nIF($P$6=Lists!$I$7,EOMONTH(BC6,2-(MONTH(BC6)-1-3*INT((MONTH(BC6)-1)/3))),\nIF($P$6=Lists!$I$8,EOMONTH(BC6,11),\nIF($P$6=Lists!$I$9,EOMONTH(BC6,12-MONTH(BC6)),\"\"))))))","v":"2054-12-31"},{"$f":"IF(OR($P$6=\"\",$P$6=0,$P$7=\"\",$P$7=0,$P$8=\"\",$P$7<1),\"\",\nIF(BD$8=\"\",\"\",\nIF($P$6=Lists!$I$6,EOMONTH(BD6,0),\nIF($P$6=Lists!$I$7,EOMONTH(BD6,2-(MONTH(BD6)-1-3*INT((MONTH(BD6)-1)/3))),\nIF($P$6=Lists!$I$8,EOMONTH(BD6,11),\nIF($P$6=Lists!$I$9,EOMONTH(BD6,12-MONTH(BD6)),\"\"))))))","v":"2055-12-31"},{"$f":"IF(OR($P$6=\"\",$P$6=0,$P$7=\"\",$P$7=0,$P$8=\"\",$P$7<1),\"\",\nIF(BE$8=\"\",\"\",\nIF($P$6=Lists!$I$6,EOMONTH(BE6,0),\nIF($P$6=Lists!$I$7,EOMONTH(BE6,2-(MONTH(BE6)-1-3*INT((MONTH(BE6)-1)/3))),\nIF($P$6=Lists!$I$8,EOMONTH(BE6,11),\nIF($P$6=Lists!$I$9,EOMONTH(BE6,12-MONTH(BE6)),\"\"))))))","v":"2056-12-31"},{"$f":"IF(OR($P$6=\"\",$P$6=0,$P$7=\"\",$P$7=0,$P$8=\"\",$P$7<1),\"\",\nIF(BF$8=\"\",\"\",\nIF($P$6=Lists!$I$6,EOMONTH(BF6,0),\nIF($P$6=Lists!$I$7,EOMONTH(BF6,2-(MONTH(BF6)-1-3*INT((MONTH(BF6)-1)/3))),\nIF($P$6=Lists!$I$8,EOMONTH(BF6,11),\nIF($P$6=Lists!$I$9,EOMONTH(BF6,12-MONTH(BF6)),\"\"))))))","v":"2057-12-31"},{"$f":"IF(OR($P$6=\"\",$P$6=0,$P$7=\"\",$P$7=0,$P$8=\"\",$P$7<1),\"\",\nIF(BG$8=\"\",\"\",\nIF($P$6=Lists!$I$6,EOMONTH(BG6,0),\nIF($P$6=Lists!$I$7,EOMONTH(BG6,2-(MONTH(BG6)-1-3*INT((MONTH(BG6)-1)/3))),\nIF($P$6=Lists!$I$8,EOMONTH(BG6,11),\nIF($P$6=Lists!$I$9,EOMONTH(BG6,12-MONTH(BG6)),\"\"))))))","v":"2058-12-31"},{"$f":"IF(OR($P$6=\"\",$P$6=0,$P$7=\"\",$P$7=0,$P$8=\"\",$P$7<1),\"\",\nIF(BH$8=\"\",\"\",\nIF($P$6=Lists!$I$6,EOMONTH(BH6,0),\nIF($P$6=Lists!$I$7,EOMONTH(BH6,2-(MONTH(BH6)-1-3*INT((MONTH(BH6)-1)/3))),\nIF($P$6=Lists!$I$8,EOMONTH(BH6,11),\nIF($P$6=Lists!$I$9,EOMONTH(BH6,12-MONTH(BH6)),\"\"))))))","v":"2059-12-31"},{"$f":"IF(OR($P$6=\"\",$P$6=0,$P$7=\"\",$P$7=0,$P$8=\"\",$P$7<1),\"\",\nIF(BI$8=\"\",\"\",\nIF($P$6=Lists!$I$6,EOMONTH(BI6,0),\nIF($P$6=Lists!$I$7,EOMONTH(BI6,2-(MONTH(BI6)-1-3*INT((MONTH(BI6)-1)/3))),\nIF($P$6=Lists!$I$8,EOMONTH(BI6,11),\nIF($P$6=Lists!$I$9,EOMONTH(BI6,12-MONTH(BI6)),\"\"))))))","v":"2060-12-31"},{"$f":"IF(OR($P$6=\"\",$P$6=0,$P$7=\"\",$P$7=0,$P$8=\"\",$P$7<1),\"\",\nIF(BJ$8=\"\",\"\",\nIF($P$6=Lists!$I$6,EOMONTH(BJ6,0),\nIF($P$6=Lists!$I$7,EOMONTH(BJ6,2-(MONTH(BJ6)-1-3*INT((MONTH(BJ6)-1)/3))),\nIF($P$6=Lists!$I$8,EOMONTH(BJ6,11),\nIF($P$6=Lists!$I$9,EOMONTH(BJ6,12-MONTH(BJ6)),\"\"))))))","v":"2061-12-31"},{"$f":"IF(OR($P$6=\"\",$P$6=0,$P$7=\"\",$P$7=0,$P$8=\"\",$P$7<1),\"\",\nIF(BK$8=\"\",\"\",\nIF($P$6=Lists!$I$6,EOMONTH(BK6,0),\nIF($P$6=Lists!$I$7,EOMONTH(BK6,2-(MONTH(BK6)-1-3*INT((MONTH(BK6)-1)/3))),\nIF($P$6=Lists!$I$8,EOMONTH(BK6,11),\nIF($P$6=Lists!$I$9,EOMONTH(BK6,12-MONTH(BK6)),\"\"))))))","v":"2062-12-31"},{"$f":"IF(OR($P$6=\"\",$P$6=0,$P$7=\"\",$P$7=0,$P$8=\"\",$P$7<1),\"\",\nIF(BL$8=\"\",\"\",\nIF($P$6=Lists!$I$6,EOMONTH(BL6,0),\nIF($P$6=Lists!$I$7,EOMONTH(BL6,2-(MONTH(BL6)-1-3*INT((MONTH(BL6)-1)/3))),\nIF($P$6=Lists!$I$8,EOMONTH(BL6,11),\nIF($P$6=Lists!$I$9,EOMONTH(BL6,12-MONTH(BL6)),\"\"))))))","v":"2063-12-31"},{"$f":"IF(OR($P$6=\"\",$P$6=0,$P$7=\"\",$P$7=0,$P$8=\"\",$P$7<1),\"\",\nIF(BM$8=\"\",\"\",\nIF($P$6=Lists!$I$6,EOMONTH(BM6,0),\nIF($P$6=Lists!$I$7,EOMONTH(BM6,2-(MONTH(BM6)-1-3*INT((MONTH(BM6)-1)/3))),\nIF($P$6=Lists!$I$8,EOMONTH(BM6,11),\nIF($P$6=Lists!$I$9,EOMONTH(BM6,12-MONTH(BM6)),\"\"))))))","v":"2064-12-31"},{"$f":"IF(OR($P$6=\"\",$P$6=0,$P$7=\"\",$P$7=0,$P$8=\"\",$P$7<1),\"\",\nIF(BN$8=\"\",\"\",\nIF($P$6=Lists!$I$6,EOMONTH(BN6,0),\nIF($P$6=Lists!$I$7,EOMONTH(BN6,2-(MONTH(BN6)-1-3*INT((MONTH(BN6)-1)/3))),\nIF($P$6=Lists!$I$8,EOMONTH(BN6,11),\nIF($P$6=Lists!$I$9,EOMONTH(BN6,12-MONTH(BN6)),\"\"))))))","v":"2065-12-31"},{"$f":"IF(OR($P$6=\"\",$P$6=0,$P$7=\"\",$P$7=0,$P$8=\"\",$P$7<1),\"\",\nIF(BO$8=\"\",\"\",\nIF($P$6=Lists!$I$6,EOMONTH(BO6,0),\nIF($P$6=Lists!$I$7,EOMONTH(BO6,2-(MONTH(BO6)-1-3*INT((MONTH(BO6)-1)/3))),\nIF($P$6=Lists!$I$8,EOMONTH(BO6,11),\nIF($P$6=Lists!$I$9,EOMONTH(BO6,12-MONTH(BO6)),\"\"))))))","v":"2066-12-31"},{"$f":"IF(OR($P$6=\"\",$P$6=0,$P$7=\"\",$P$7=0,$P$8=\"\",$P$7<1),\"\",\nIF(BP$8=\"\",\"\",\nIF($P$6=Lists!$I$6,EOMONTH(BP6,0),\nIF($P$6=Lists!$I$7,EOMONTH(BP6,2-(MONTH(BP6)-1-3*INT((MONTH(BP6)-1)/3))),\nIF($P$6=Lists!$I$8,EOMONTH(BP6,11),\nIF($P$6=Lists!$I$9,EOMONTH(BP6,12-MONTH(BP6)),\"\"))))))","v":"2067-12-31"},{"$f":"IF(OR($P$6=\"\",$P$6=0,$P$7=\"\",$P$7=0,$P$8=\"\",$P$7<1),\"\",\nIF(BQ$8=\"\",\"\",\nIF($P$6=Lists!$I$6,EOMONTH(BQ6,0),\nIF($P$6=Lists!$I$7,EOMONTH(BQ6,2-(MONTH(BQ6)-1-3*INT((MONTH(BQ6)-1)/3))),\nIF($P$6=Lists!$I$8,EOMONTH(BQ6,11),\nIF($P$6=Lists!$I$9,EOMONTH(BQ6,12-MONTH(BQ6)),\"\"))))))","v":"2068-12-31"},{"$f":"IF(OR($P$6=\"\",$P$6=0,$P$7=\"\",$P$7=0,$P$8=\"\",$P$7<1),\"\",\nIF(BR$8=\"\",\"\",\nIF($P$6=Lists!$I$6,EOMONTH(BR6,0),\nIF($P$6=Lists!$I$7,EOMONTH(BR6,2-(MONTH(BR6)-1-3*INT((MONTH(BR6)-1)/3))),\nIF($P$6=Lists!$I$8,EOMONTH(BR6,11),\nIF($P$6=Lists!$I$9,EOMONTH(BR6,12-MONTH(BR6)),\"\"))))))","v":"2069-12-31"},{"$f":"IF(OR($P$6=\"\",$P$6=0,$P$7=\"\",$P$7=0,$P$8=\"\",$P$7<1),\"\",\nIF(BS$8=\"\",\"\",\nIF($P$6=Lists!$I$6,EOMONTH(BS6,0),\nIF($P$6=Lists!$I$7,EOMONTH(BS6,2-(MONTH(BS6)-1-3*INT((MONTH(BS6)-1)/3))),\nIF($P$6=Lists!$I$8,EOMONTH(BS6,11),\nIF($P$6=Lists!$I$9,EOMONTH(BS6,12-MONTH(BS6)),\"\"))))))","v":"2070-12-31"},{"$f":"IF(OR($P$6=\"\",$P$6=0,$P$7=\"\",$P$7=0,$P$8=\"\",$P$7<1),\"\",\nIF(BT$8=\"\",\"\",\nIF($P$6=Lists!$I$6,EOMONTH(BT6,0),\nIF($P$6=Lists!$I$7,EOMONTH(BT6,2-(MONTH(BT6)-1-3*INT((MONTH(BT6)-1)/3))),\nIF($P$6=Lists!$I$8,EOMONTH(BT6,11),\nIF($P$6=Lists!$I$9,EOMONTH(BT6,12-MONTH(BT6)),\"\"))))))","v":"2071-12-31"},{"$f":"IF(OR($P$6=\"\",$P$6=0,$P$7=\"\",$P$7=0,$P$8=\"\",$P$7<1),\"\",\nIF(BU$8=\"\",\"\",\nIF($P$6=Lists!$I$6,EOMONTH(BU6,0),\nIF($P$6=Lists!$I$7,EOMONTH(BU6,2-(MONTH(BU6)-1-3*INT((MONTH(BU6)-1)/3))),\nIF($P$6=Lists!$I$8,EOMONTH(BU6,11),\nIF($P$6=Lists!$I$9,EOMONTH(BU6,12-MONTH(BU6)),\"\"))))))","v":"2072-12-31"},{"$f":"IF(OR($P$6=\"\",$P$6=0,$P$7=\"\",$P$7=0,$P$8=\"\",$P$7<1),\"\",\nIF(BV$8=\"\",\"\",\nIF($P$6=Lists!$I$6,EOMONTH(BV6,0),\nIF($P$6=Lists!$I$7,EOMONTH(BV6,2-(MONTH(BV6)-1-3*INT((MONTH(BV6)-1)/3))),\nIF($P$6=Lists!$I$8,EOMONTH(BV6,11),\nIF($P$6=Lists!$I$9,EOMONTH(BV6,12-MONTH(BV6)),\"\"))))))","v":"2073-12-31"},{"$f":"IF(OR($P$6=\"\",$P$6=0,$P$7=\"\",$P$7=0,$P$8=\"\",$P$7<1),\"\",\nIF(BW$8=\"\",\"\",\nIF($P$6=Lists!$I$6,EOMONTH(BW6,0),\nIF($P$6=Lists!$I$7,EOMONTH(BW6,2-(MONTH(BW6)-1-3*INT((MONTH(BW6)-1)/3))),\nIF($P$6=Lists!$I$8,EOMONTH(BW6,11),\nIF($P$6=Lists!$I$9,EOMONTH(BW6,12-MONTH(BW6)),\"\"))))))","v":"2074-12-31"},{"$f":"IF(OR($P$6=\"\",$P$6=0,$P$7=\"\",$P$7=0,$P$8=\"\",$P$7<1),\"\",\nIF(BX$8=\"\",\"\",\nIF($P$6=Lists!$I$6,EOMONTH(BX6,0),\nIF($P$6=Lists!$I$7,EOMONTH(BX6,2-(MONTH(BX6)-1-3*INT((MONTH(BX6)-1)/3))),\nIF($P$6=Lists!$I$8,EOMONTH(BX6,11),\nIF($P$6=Lists!$I$9,EOMONTH(BX6,12-MONTH(BX6)),\"\"))))))","v":"2075-12-31"},{"$f":"IF(OR($P$6=\"\",$P$6=0,$P$7=\"\",$P$7=0,$P$8=\"\",$P$7<1),\"\",\nIF(BY$8=\"\",\"\",\nIF($P$6=Lists!$I$6,EOMONTH(BY6,0),\nIF($P$6=Lists!$I$7,EOMONTH(BY6,2-(MONTH(BY6)-1-3*INT((MONTH(BY6)-1)/3))),\nIF($P$6=Lists!$I$8,EOMONTH(BY6,11),\nIF($P$6=Lists!$I$9,EOMONTH(BY6,12-MONTH(BY6)),\"\"))))))","v":"2076-12-31"},{"$f":"IF(OR($P$6=\"\",$P$6=0,$P$7=\"\",$P$7=0,$P$8=\"\",$P$7<1),\"\",\nIF(BZ$8=\"\",\"\",\nIF($P$6=Lists!$I$6,EOMONTH(BZ6,0),\nIF($P$6=Lists!$I$7,EOMONTH(BZ6,2-(MONTH(BZ6)-1-3*INT((MONTH(BZ6)-1)/3))),\nIF($P$6=Lists!$I$8,EOMONTH(BZ6,11),\nIF($P$6=Lists!$I$9,EOMONTH(BZ6,12-MONTH(BZ6)),\"\"))))))","v":"2077-12-31"},{"$f":"IF(OR($P$6=\"\",$P$6=0,$P$7=\"\",$P$7=0,$P$8=\"\",$P$7<1),\"\",\nIF(CA$8=\"\",\"\",\nIF($P$6=Lists!$I$6,EOMONTH(CA6,0),\nIF($P$6=Lists!$I$7,EOMONTH(CA6,2-(MONTH(CA6)-1-3*INT((MONTH(CA6)-1)/3))),\nIF($P$6=Lists!$I$8,EOMONTH(CA6,11),\nIF($P$6=Lists!$I$9,EOMONTH(CA6,12-MONTH(CA6)),\"\"))))))","v":"2078-12-31"},{"$f":"IF(OR($P$6=\"\",$P$6=0,$P$7=\"\",$P$7=0,$P$8=\"\",$P$7<1),\"\",\nIF(CB$8=\"\",\"\",\nIF($P$6=Lists!$I$6,EOMONTH(CB6,0),\nIF($P$6=Lists!$I$7,EOMONTH(CB6,2-(MONTH(CB6)-1-3*INT((MONTH(CB6)-1)/3))),\nIF($P$6=Lists!$I$8,EOMONTH(CB6,11),\nIF($P$6=Lists!$I$9,EOMONTH(CB6,12-MONTH(CB6)),\"\"))))))","v":"2079-12-31"},{"$f":"IF(OR($P$6=\"\",$P$6=0,$P$7=\"\",$P$7=0,$P$8=\"\",$P$7<1),\"\",\nIF(CC$8=\"\",\"\",\nIF($P$6=Lists!$I$6,EOMONTH(CC6,0),\nIF($P$6=Lists!$I$7,EOMONTH(CC6,2-(MONTH(CC6)-1-3*INT((MONTH(CC6)-1)/3))),\nIF($P$6=Lists!$I$8,EOMONTH(CC6,11),\nIF($P$6=Lists!$I$9,EOMONTH(CC6,12-MONTH(CC6)),\"\"))))))","v":"2080-12-31"},{"$f":"IF(OR($P$6=\"\",$P$6=0,$P$7=\"\",$P$7=0,$P$8=\"\",$P$7<1),\"\",\nIF(CD$8=\"\",\"\",\nIF($P$6=Lists!$I$6,EOMONTH(CD6,0),\nIF($P$6=Lists!$I$7,EOMONTH(CD6,2-(MONTH(CD6)-1-3*INT((MONTH(CD6)-1)/3))),\nIF($P$6=Lists!$I$8,EOMONTH(CD6,11),\nIF($P$6=Lists!$I$9,EOMONTH(CD6,12-MONTH(CD6)),\"\"))))))","v":"2081-12-31"},{"$f":"IF(OR($P$6=\"\",$P$6=0,$P$7=\"\",$P$7=0,$P$8=\"\",$P$7<1),\"\",\nIF(CE$8=\"\",\"\",\nIF($P$6=Lists!$I$6,EOMONTH(CE6,0),\nIF($P$6=Lists!$I$7,EOMONTH(CE6,2-(MONTH(CE6)-1-3*INT((MONTH(CE6)-1)/3))),\nIF($P$6=Lists!$I$8,EOMONTH(CE6,11),\nIF($P$6=Lists!$I$9,EOMONTH(CE6,12-MONTH(CE6)),\"\"))))))","v":"2082-12-31"},{"$f":"IF(OR($P$6=\"\",$P$6=0,$P$7=\"\",$P$7=0,$P$8=\"\",$P$7<1),\"\",\nIF(CF$8=\"\",\"\",\nIF($P$6=Lists!$I$6,EOMONTH(CF6,0),\nIF($P$6=Lists!$I$7,EOMONTH(CF6,2-(MONTH(CF6)-1-3*INT((MONTH(CF6)-1)/3))),\nIF($P$6=Lists!$I$8,EOMONTH(CF6,11),\nIF($P$6=Lists!$I$9,EOMONTH(CF6,12-MONTH(CF6)),\"\"))))))","v":"2083-12-31"},{"$f":"IF(OR($P$6=\"\",$P$6=0,$P$7=\"\",$P$7=0,$P$8=\"\",$P$7<1),\"\",\nIF(CG$8=\"\",\"\",\nIF($P$6=Lists!$I$6,EOMONTH(CG6,0),\nIF($P$6=Lists!$I$7,EOMONTH(CG6,2-(MONTH(CG6)-1-3*INT((MONTH(CG6)-1)/3))),\nIF($P$6=Lists!$I$8,EOMONTH(CG6,11),\nIF($P$6=Lists!$I$9,EOMONTH(CG6,12-MONTH(CG6)),\"\"))))))","v":"2084-12-31"},{"$f":"IF(OR($P$6=\"\",$P$6=0,$P$7=\"\",$P$7=0,$P$8=\"\",$P$7<1),\"\",\nIF(CH$8=\"\",\"\",\nIF($P$6=Lists!$I$6,EOMONTH(CH6,0),\nIF($P$6=Lists!$I$7,EOMONTH(CH6,2-(MONTH(CH6)-1-3*INT((MONTH(CH6)-1)/3))),\nIF($P$6=Lists!$I$8,EOMONTH(CH6,11),\nIF($P$6=Lists!$I$9,EOMONTH(CH6,12-MONTH(CH6)),\"\"))))))","v":"2085-12-31"},{"$f":"IF(OR($P$6=\"\",$P$6=0,$P$7=\"\",$P$7=0,$P$8=\"\",$P$7<1),\"\",\nIF(CI$8=\"\",\"\",\nIF($P$6=Lists!$I$6,EOMONTH(CI6,0),\nIF($P$6=Lists!$I$7,EOMONTH(CI6,2-(MONTH(CI6)-1-3*INT((MONTH(CI6)-1)/3))),\nIF($P$6=Lists!$I$8,EOMONTH(CI6,11),\nIF($P$6=Lists!$I$9,EOMONTH(CI6,12-MONTH(CI6)),\"\"))))))","v":"2086-12-31"},{"$f":"IF(OR($P$6=\"\",$P$6=0,$P$7=\"\",$P$7=0,$P$8=\"\",$P$7<1),\"\",\nIF(CJ$8=\"\",\"\",\nIF($P$6=Lists!$I$6,EOMONTH(CJ6,0),\nIF($P$6=Lists!$I$7,EOMONTH(CJ6,2-(MONTH(CJ6)-1-3*INT((MONTH(CJ6)-1)/3))),\nIF($P$6=Lists!$I$8,EOMONTH(CJ6,11),\nIF($P$6=Lists!$I$9,EOMONTH(CJ6,12-MONTH(CJ6)),\"\"))))))","v":"2087-12-31"},{"$f":"IF(OR($P$6=\"\",$P$6=0,$P$7=\"\",$P$7=0,$P$8=\"\",$P$7<1),\"\",\nIF(CK$8=\"\",\"\",\nIF($P$6=Lists!$I$6,EOMONTH(CK6,0),\nIF($P$6=Lists!$I$7,EOMONTH(CK6,2-(MONTH(CK6)-1-3*INT((MONTH(CK6)-1)/3))),\nIF($P$6=Lists!$I$8,EOMONTH(CK6,11),\nIF($P$6=Lists!$I$9,EOMONTH(CK6,12-MONTH(CK6)),\"\"))))))","v":"2088-12-31"},{"$f":"IF(OR($P$6=\"\",$P$6=0,$P$7=\"\",$P$7=0,$P$8=\"\",$P$7<1),\"\",\nIF(CL$8=\"\",\"\",\nIF($P$6=Lists!$I$6,EOMONTH(CL6,0),\nIF($P$6=Lists!$I$7,EOMONTH(CL6,2-(MONTH(CL6)-1-3*INT((MONTH(CL6)-1)/3))),\nIF($P$6=Lists!$I$8,EOMONTH(CL6,11),\nIF($P$6=Lists!$I$9,EOMONTH(CL6,12-MONTH(CL6)),\"\"))))))","v":"2089-12-31"},{"$f":"IF(OR($P$6=\"\",$P$6=0,$P$7=\"\",$P$7=0,$P$8=\"\",$P$7<1),\"\",\nIF(CM$8=\"\",\"\",\nIF($P$6=Lists!$I$6,EOMONTH(CM6,0),\nIF($P$6=Lists!$I$7,EOMONTH(CM6,2-(MONTH(CM6)-1-3*INT((MONTH(CM6)-1)/3))),\nIF($P$6=Lists!$I$8,EOMONTH(CM6,11),\nIF($P$6=Lists!$I$9,EOMONTH(CM6,12-MONTH(CM6)),\"\"))))))","v":"2090-12-31"},{"$f":"IF(OR($P$6=\"\",$P$6=0,$P$7=\"\",$P$7=0,$P$8=\"\",$P$7<1),\"\",\nIF(CN$8=\"\",\"\",\nIF($P$6=Lists!$I$6,EOMONTH(CN6,0),\nIF($P$6=Lists!$I$7,EOMONTH(CN6,2-(MONTH(CN6)-1-3*INT((MONTH(CN6)-1)/3))),\nIF($P$6=Lists!$I$8,EOMONTH(CN6,11),\nIF($P$6=Lists!$I$9,EOMONTH(CN6,12-MONTH(CN6)),\"\"))))))","v":"2091-12-31"},{"$f":"IF(OR($P$6=\"\",$P$6=0,$P$7=\"\",$P$7=0,$P$8=\"\",$P$7<1),\"\",\nIF(CO$8=\"\",\"\",\nIF($P$6=Lists!$I$6,EOMONTH(CO6,0),\nIF($P$6=Lists!$I$7,EOMONTH(CO6,2-(MONTH(CO6)-1-3*INT((MONTH(CO6)-1)/3))),\nIF($P$6=Lists!$I$8,EOMONTH(CO6,11),\nIF($P$6=Lists!$I$9,EOMONTH(CO6,12-MONTH(CO6)),\"\"))))))","v":"2092-12-31"},{"$f":"IF(OR($P$6=\"\",$P$6=0,$P$7=\"\",$P$7=0,$P$8=\"\",$P$7<1),\"\",\nIF(CP$8=\"\",\"\",\nIF($P$6=Lists!$I$6,EOMONTH(CP6,0),\nIF($P$6=Lists!$I$7,EOMONTH(CP6,2-(MONTH(CP6)-1-3*INT((MONTH(CP6)-1)/3))),\nIF($P$6=Lists!$I$8,EOMONTH(CP6,11),\nIF($P$6=Lists!$I$9,EOMONTH(CP6,12-MONTH(CP6)),\"\"))))))","v":"2093-12-31"},{"$f":"IF(OR($P$6=\"\",$P$6=0,$P$7=\"\",$P$7=0,$P$8=\"\",$P$7<1),\"\",\nIF(CQ$8=\"\",\"\",\nIF($P$6=Lists!$I$6,EOMONTH(CQ6,0),\nIF($P$6=Lists!$I$7,EOMONTH(CQ6,2-(MONTH(CQ6)-1-3*INT((MONTH(CQ6)-1)/3))),\nIF($P$6=Lists!$I$8,EOMONTH(CQ6,11),\nIF($P$6=Lists!$I$9,EOMONTH(CQ6,12-MONTH(CQ6)),\"\"))))))","v":"2094-12-31"},{"$f":"IF(OR($P$6=\"\",$P$6=0,$P$7=\"\",$P$7=0,$P$8=\"\",$P$7<1),\"\",\nIF(CR$8=\"\",\"\",\nIF($P$6=Lists!$I$6,EOMONTH(CR6,0),\nIF($P$6=Lists!$I$7,EOMONTH(CR6,2-(MONTH(CR6)-1-3*INT((MONTH(CR6)-1)/3))),\nIF($P$6=Lists!$I$8,EOMONTH(CR6,11),\nIF($P$6=Lists!$I$9,EOMONTH(CR6,12-MONTH(CR6)),\"\"))))))","v":"2095-12-31"},{"$f":"IF(OR($P$6=\"\",$P$6=0,$P$7=\"\",$P$7=0,$P$8=\"\",$P$7<1),\"\",\nIF(CS$8=\"\",\"\",\nIF($P$6=Lists!$I$6,EOMONTH(CS6,0),\nIF($P$6=Lists!$I$7,EOMONTH(CS6,2-(MONTH(CS6)-1-3*INT((MONTH(CS6)-1)/3))),\nIF($P$6=Lists!$I$8,EOMONTH(CS6,11),\nIF($P$6=Lists!$I$9,EOMONTH(CS6,12-MONTH(CS6)),\"\"))))))","v":"2096-12-31"},{"$f":"IF(OR($P$6=\"\",$P$6=0,$P$7=\"\",$P$7=0,$P$8=\"\",$P$7<1),\"\",\nIF(CT$8=\"\",\"\",\nIF($P$6=Lists!$I$6,EOMONTH(CT6,0),\nIF($P$6=Lists!$I$7,EOMONTH(CT6,2-(MONTH(CT6)-1-3*INT((MONTH(CT6)-1)/3))),\nIF($P$6=Lists!$I$8,EOMONTH(CT6,11),\nIF($P$6=Lists!$I$9,EOMONTH(CT6,12-MONTH(CT6)),\"\"))))))","v":"2097-12-31"},{"$f":"IF(OR($P$6=\"\",$P$6=0,$P$7=\"\",$P$7=0,$P$8=\"\",$P$7<1),\"\",\nIF(CU$8=\"\",\"\",\nIF($P$6=Lists!$I$6,EOMONTH(CU6,0),\nIF($P$6=Lists!$I$7,EOMONTH(CU6,2-(MONTH(CU6)-1-3*INT((MONTH(CU6)-1)/3))),\nIF($P$6=Lists!$I$8,EOMONTH(CU6,11),\nIF($P$6=Lists!$I$9,EOMONTH(CU6,12-MONTH(CU6)),\"\"))))))","v":"2098-12-31"},{"$f":"IF(OR($P$6=\"\",$P$6=0,$P$7=\"\",$P$7=0,$P$8=\"\",$P$7<1),\"\",\nIF(CV$8=\"\",\"\",\nIF($P$6=Lists!$I$6,EOMONTH(CV6,0),\nIF($P$6=Lists!$I$7,EOMONTH(CV6,2-(MONTH(CV6)-1-3*INT((MONTH(CV6)-1)/3))),\nIF($P$6=Lists!$I$8,EOMONTH(CV6,11),\nIF($P$6=Lists!$I$9,EOMONTH(CV6,12-MONTH(CV6)),\"\"))))))","v":"2099-12-31"},{"$f":"IF(OR($P$6=\"\",$P$6=0,$P$7=\"\",$P$7=0,$P$8=\"\",$P$7<1),\"\",\nIF(CW$8=\"\",\"\",\nIF($P$6=Lists!$I$6,EOMONTH(CW6,0),\nIF($P$6=Lists!$I$7,EOMONTH(CW6,2-(MONTH(CW6)-1-3*INT((MONTH(CW6)-1)/3))),\nIF($P$6=Lists!$I$8,EOMONTH(CW6,11),\nIF($P$6=Lists!$I$9,EOMONTH(CW6,12-MONTH(CW6)),\"\"))))))","v":"2100-12-31"},{"$f":"IF(OR($P$6=\"\",$P$6=0,$P$7=\"\",$P$7=0,$P$8=\"\",$P$7<1),\"\",\nIF(CX$8=\"\",\"\",\nIF($P$6=Lists!$I$6,EOMONTH(CX6,0),\nIF($P$6=Lists!$I$7,EOMONTH(CX6,2-(MONTH(CX6)-1-3*INT((MONTH(CX6)-1)/3))),\nIF($P$6=Lists!$I$8,EOMONTH(CX6,11),\nIF($P$6=Lists!$I$9,EOMONTH(CX6,12-MONTH(CX6)),\"\"))))))","v":"2101-12-31"},{"$f":"IF(OR($P$6=\"\",$P$6=0,$P$7=\"\",$P$7=0,$P$8=\"\",$P$7<1),\"\",\nIF(CY$8=\"\",\"\",\nIF($P$6=Lists!$I$6,EOMONTH(CY6,0),\nIF($P$6=Lists!$I$7,EOMONTH(CY6,2-(MONTH(CY6)-1-3*INT((MONTH(CY6)-1)/3))),\nIF($P$6=Lists!$I$8,EOMONTH(CY6,11),\nIF($P$6=Lists!$I$9,EOMONTH(CY6,12-MONTH(CY6)),\"\"))))))","v":"2102-12-31"},{"$f":"IF(OR($P$6=\"\",$P$6=0,$P$7=\"\",$P$7=0,$P$8=\"\",$P$7<1),\"\",\nIF(CZ$8=\"\",\"\",\nIF($P$6=Lists!$I$6,EOMONTH(CZ6,0),\nIF($P$6=Lists!$I$7,EOMONTH(CZ6,2-(MONTH(CZ6)-1-3*INT((MONTH(CZ6)-1)/3))),\nIF($P$6=Lists!$I$8,EOMONTH(CZ6,11),\nIF($P$6=Lists!$I$9,EOMONTH(CZ6,12-MONTH(CZ6)),\"\"))))))","v":"2103-12-31"},{"$f":"IF(OR($P$6=\"\",$P$6=0,$P$7=\"\",$P$7=0,$P$8=\"\",$P$7<1),\"\",\nIF(DA$8=\"\",\"\",\nIF($P$6=Lists!$I$6,EOMONTH(DA6,0),\nIF($P$6=Lists!$I$7,EOMONTH(DA6,2-(MONTH(DA6)-1-3*INT((MONTH(DA6)-1)/3))),\nIF($P$6=Lists!$I$8,EOMONTH(DA6,11),\nIF($P$6=Lists!$I$9,EOMONTH(DA6,12-MONTH(DA6)),\"\"))))))","v":"2104-12-31"},{"$f":"IF(OR($P$6=\"\",$P$6=0,$P$7=\"\",$P$7=0,$P$8=\"\",$P$7<1),\"\",\nIF(DB$8=\"\",\"\",\nIF($P$6=Lists!$I$6,EOMONTH(DB6,0),\nIF($P$6=Lists!$I$7,EOMONTH(DB6,2-(MONTH(DB6)-1-3*INT((MONTH(DB6)-1)/3))),\nIF($P$6=Lists!$I$8,EOMONTH(DB6,11),\nIF($P$6=Lists!$I$9,EOMONTH(DB6,12-MONTH(DB6)),\"\"))))))","v":"2105-12-31"},{"$f":"IF(OR($P$6=\"\",$P$6=0,$P$7=\"\",$P$7=0,$P$8=\"\",$P$7<1),\"\",\nIF(DC$8=\"\",\"\",\nIF($P$6=Lists!$I$6,EOMONTH(DC6,0),\nIF($P$6=Lists!$I$7,EOMONTH(DC6,2-(MONTH(DC6)-1-3*INT((MONTH(DC6)-1)/3))),\nIF($P$6=Lists!$I$8,EOMONTH(DC6,11),\nIF($P$6=Lists!$I$9,EOMONTH(DC6,12-MONTH(DC6)),\"\"))))))","v":"2106-12-31"},{"$f":"IF(OR($P$6=\"\",$P$6=0,$P$7=\"\",$P$7=0,$P$8=\"\",$P$7<1),\"\",\nIF(DD$8=\"\",\"\",\nIF($P$6=Lists!$I$6,EOMONTH(DD6,0),\nIF($P$6=Lists!$I$7,EOMONTH(DD6,2-(MONTH(DD6)-1-3*INT((MONTH(DD6)-1)/3))),\nIF($P$6=Lists!$I$8,EOMONTH(DD6,11),\nIF($P$6=Lists!$I$9,EOMONTH(DD6,12-MONTH(DD6)),\"\"))))))","v":"2107-12-31"},{"$f":"IF(OR($P$6=\"\",$P$6=0,$P$7=\"\",$P$7=0,$P$8=\"\",$P$7<1),\"\",\nIF(DE$8=\"\",\"\",\nIF($P$6=Lists!$I$6,EOMONTH(DE6,0),\nIF($P$6=Lists!$I$7,EOMONTH(DE6,2-(MONTH(DE6)-1-3*INT((MONTH(DE6)-1)/3))),\nIF($P$6=Lists!$I$8,EOMONTH(DE6,11),\nIF($P$6=Lists!$I$9,EOMONTH(DE6,12-MONTH(DE6)),\"\"))))))","v":"2108-12-31"},{"$f":"IF(OR($P$6=\"\",$P$6=0,$P$7=\"\",$P$7=0,$P$8=\"\",$P$7<1),\"\",\nIF(DF$8=\"\",\"\",\nIF($P$6=Lists!$I$6,EOMONTH(DF6,0),\nIF($P$6=Lists!$I$7,EOMONTH(DF6,2-(MONTH(DF6)-1-3*INT((MONTH(DF6)-1)/3))),\nIF($P$6=Lists!$I$8,EOMONTH(DF6,11),\nIF($P$6=Lists!$I$9,EOMONTH(DF6,12-MONTH(DF6)),\"\"))))))","v":"2109-12-31"},{"$f":"IF(OR($P$6=\"\",$P$6=0,$P$7=\"\",$P$7=0,$P$8=\"\",$P$7<1),\"\",\nIF(DG$8=\"\",\"\",\nIF($P$6=Lists!$I$6,EOMONTH(DG6,0),\nIF($P$6=Lists!$I$7,EOMONTH(DG6,2-(MONTH(DG6)-1-3*INT((MONTH(DG6)-1)/3))),\nIF($P$6=Lists!$I$8,EOMONTH(DG6,11),\nIF($P$6=Lists!$I$9,EOMONTH(DG6,12-MONTH(DG6)),\"\"))))))","v":"2110-12-31"},{"$f":"IF(OR($P$6=\"\",$P$6=0,$P$7=\"\",$P$7=0,$P$8=\"\",$P$7<1),\"\",\nIF(DH$8=\"\",\"\",\nIF($P$6=Lists!$I$6,EOMONTH(DH6,0),\nIF($P$6=Lists!$I$7,EOMONTH(DH6,2-(MONTH(DH6)-1-3*INT((MONTH(DH6)-1)/3))),\nIF($P$6=Lists!$I$8,EOMONTH(DH6,11),\nIF($P$6=Lists!$I$9,EOMONTH(DH6,12-MONTH(DH6)),\"\"))))))","v":"2111-12-31"},{"$f":"IF(OR($P$6=\"\",$P$6=0,$P$7=\"\",$P$7=0,$P$8=\"\",$P$7<1),\"\",\nIF(DI$8=\"\",\"\",\nIF($P$6=Lists!$I$6,EOMONTH(DI6,0),\nIF($P$6=Lists!$I$7,EOMONTH(DI6,2-(MONTH(DI6)-1-3*INT((MONTH(DI6)-1)/3))),\nIF($P$6=Lists!$I$8,EOMONTH(DI6,11),\nIF($P$6=Lists!$I$9,EOMONTH(DI6,12-MONTH(DI6)),\"\"))))))","v":"2112-12-31"},{"$f":"IF(OR($P$6=\"\",$P$6=0,$P$7=\"\",$P$7=0,$P$8=\"\",$P$7<1),\"\",\nIF(DJ$8=\"\",\"\",\nIF($P$6=Lists!$I$6,EOMONTH(DJ6,0),\nIF($P$6=Lists!$I$7,EOMONTH(DJ6,2-(MONTH(DJ6)-1-3*INT((MONTH(DJ6)-1)/3))),\nIF($P$6=Lists!$I$8,EOMONTH(DJ6,11),\nIF($P$6=Lists!$I$9,EOMONTH(DJ6,12-MONTH(DJ6)),\"\"))))))","v":"2113-12-31"},{"$f":"IF(OR($P$6=\"\",$P$6=0,$P$7=\"\",$P$7=0,$P$8=\"\",$P$7<1),\"\",\nIF(DK$8=\"\",\"\",\nIF($P$6=Lists!$I$6,EOMONTH(DK6,0),\nIF($P$6=Lists!$I$7,EOMONTH(DK6,2-(MONTH(DK6)-1-3*INT((MONTH(DK6)-1)/3))),\nIF($P$6=Lists!$I$8,EOMONTH(DK6,11),\nIF($P$6=Lists!$I$9,EOMONTH(DK6,12-MONTH(DK6)),\"\"))))))","v":"2114-12-31"},{"$f":"IF(OR($P$6=\"\",$P$6=0,$P$7=\"\",$P$7=0,$P$8=\"\",$P$7<1),\"\",\nIF(DL$8=\"\",\"\",\nIF($P$6=Lists!$I$6,EOMONTH(DL6,0),\nIF($P$6=Lists!$I$7,EOMONTH(DL6,2-(MONTH(DL6)-1-3*INT((MONTH(DL6)-1)/3))),\nIF($P$6=Lists!$I$8,EOMONTH(DL6,11),\nIF($P$6=Lists!$I$9,EOMONTH(DL6,12-MONTH(DL6)),\"\"))))))","v":"2115-12-31"},{"$f":"IF(OR($P$6=\"\",$P$6=0,$P$7=\"\",$P$7=0,$P$8=\"\",$P$7<1),\"\",\nIF(DM$8=\"\",\"\",\nIF($P$6=Lists!$I$6,EOMONTH(DM6,0),\nIF($P$6=Lists!$I$7,EOMONTH(DM6,2-(MONTH(DM6)-1-3*INT((MONTH(DM6)-1)/3))),\nIF($P$6=Lists!$I$8,EOMONTH(DM6,11),\nIF($P$6=Lists!$I$9,EOMONTH(DM6,12-MONTH(DM6)),\"\"))))))","v":"2116-12-31"},{"$f":"IF(OR($P$6=\"\",$P$6=0,$P$7=\"\",$P$7=0,$P$8=\"\",$P$7<1),\"\",\nIF(DN$8=\"\",\"\",\nIF($P$6=Lists!$I$6,EOMONTH(DN6,0),\nIF($P$6=Lists!$I$7,EOMONTH(DN6,2-(MONTH(DN6)-1-3*INT((MONTH(DN6)-1)/3))),\nIF($P$6=Lists!$I$8,EOMONTH(DN6,11),\nIF($P$6=Lists!$I$9,EOMONTH(DN6,12-MONTH(DN6)),\"\"))))))","v":"2117-12-31"},{"$f":"IF(OR($P$6=\"\",$P$6=0,$P$7=\"\",$P$7=0,$P$8=\"\",$P$7<1),\"\",\nIF(DO$8=\"\",\"\",\nIF($P$6=Lists!$I$6,EOMONTH(DO6,0),\nIF($P$6=Lists!$I$7,EOMONTH(DO6,2-(MONTH(DO6)-1-3*INT((MONTH(DO6)-1)/3))),\nIF($P$6=Lists!$I$8,EOMONTH(DO6,11),\nIF($P$6=Lists!$I$9,EOMONTH(DO6,12-MONTH(DO6)),\"\"))))))","v":"2118-12-31"},{"$f":"IF(OR($P$6=\"\",$P$6=0,$P$7=\"\",$P$7=0,$P$8=\"\",$P$7<1),\"\",\nIF(DP$8=\"\",\"\",\nIF($P$6=Lists!$I$6,EOMONTH(DP6,0),\nIF($P$6=Lists!$I$7,EOMONTH(DP6,2-(MONTH(DP6)-1-3*INT((MONTH(DP6)-1)/3))),\nIF($P$6=Lists!$I$8,EOMONTH(DP6,11),\nIF($P$6=Lists!$I$9,EOMONTH(DP6,12-MONTH(DP6)),\"\"))))))","v":"2119-12-31"},{"$f":"IF(OR($P$6=\"\",$P$6=0,$P$7=\"\",$P$7=0,$P$8=\"\",$P$7<1),\"\",\nIF(DQ$8=\"\",\"\",\nIF($P$6=Lists!$I$6,EOMONTH(DQ6,0),\nIF($P$6=Lists!$I$7,EOMONTH(DQ6,2-(MONTH(DQ6)-1-3*INT((MONTH(DQ6)-1)/3))),\nIF($P$6=Lists!$I$8,EOMONTH(DQ6,11),\nIF($P$6=Lists!$I$9,EOMONTH(DQ6,12-MONTH(DQ6)),\"\"))))))","v":"2120-12-31"},{"$f":"IF(OR($P$6=\"\",$P$6=0,$P$7=\"\",$P$7=0,$P$8=\"\",$P$7<1),\"\",\nIF(DR$8=\"\",\"\",\nIF($P$6=Lists!$I$6,EOMONTH(DR6,0),\nIF($P$6=Lists!$I$7,EOMONTH(DR6,2-(MONTH(DR6)-1-3*INT((MONTH(DR6)-1)/3))),\nIF($P$6=Lists!$I$8,EOMONTH(DR6,11),\nIF($P$6=Lists!$I$9,EOMONTH(DR6,12-MONTH(DR6)),\"\"))))))","v":"2121-12-31"},{"$f":"IF(OR($P$6=\"\",$P$6=0,$P$7=\"\",$P$7=0,$P$8=\"\",$P$7<1),\"\",\nIF(DS$8=\"\",\"\",\nIF($P$6=Lists!$I$6,EOMONTH(DS6,0),\nIF($P$6=Lists!$I$7,EOMONTH(DS6,2-(MONTH(DS6)-1-3*INT((MONTH(DS6)-1)/3))),\nIF($P$6=Lists!$I$8,EOMONTH(DS6,11),\nIF($P$6=Lists!$I$9,EOMONTH(DS6,12-MONTH(DS6)),\"\"))))))","v":"2122-12-31"},{"$f":"IF(OR($P$6=\"\",$P$6=0,$P$7=\"\",$P$7=0,$P$8=\"\",$P$7<1),\"\",\nIF(DT$8=\"\",\"\",\nIF($P$6=Lists!$I$6,EOMONTH(DT6,0),\nIF($P$6=Lists!$I$7,EOMONTH(DT6,2-(MONTH(DT6)-1-3*INT((MONTH(DT6)-1)/3))),\nIF($P$6=Lists!$I$8,EOMONTH(DT6,11),\nIF($P$6=Lists!$I$9,EOMONTH(DT6,12-MONTH(DT6)),\"\"))))))","v":"2123-12-31"},{"$f":"IF(OR($P$6=\"\",$P$6=0,$P$7=\"\",$P$7=0,$P$8=\"\",$P$7<1),\"\",\nIF(DU$8=\"\",\"\",\nIF($P$6=Lists!$I$6,EOMONTH(DU6,0),\nIF($P$6=Lists!$I$7,EOMONTH(DU6,2-(MONTH(DU6)-1-3*INT((MONTH(DU6)-1)/3))),\nIF($P$6=Lists!$I$8,EOMONTH(DU6,11),\nIF($P$6=Lists!$I$9,EOMONTH(DU6,12-MONTH(DU6)),\"\"))))))","v":"2124-12-31"},{"$f":"IF(OR($P$6=\"\",$P$6=0,$P$7=\"\",$P$7=0,$P$8=\"\",$P$7<1),\"\",\nIF(DV$8=\"\",\"\",\nIF($P$6=Lists!$I$6,EOMONTH(DV6,0),\nIF($P$6=Lists!$I$7,EOMONTH(DV6,2-(MONTH(DV6)-1-3*INT((MONTH(DV6)-1)/3))),\nIF($P$6=Lists!$I$8,EOMONTH(DV6,11),\nIF($P$6=Lists!$I$9,EOMONTH(DV6,12-MONTH(DV6)),\"\"))))))","v":"2125-12-31"},{"$f":"IF(OR($P$6=\"\",$P$6=0,$P$7=\"\",$P$7=0,$P$8=\"\",$P$7<1),\"\",\nIF(DW$8=\"\",\"\",\nIF($P$6=Lists!$I$6,EOMONTH(DW6,0),\nIF($P$6=Lists!$I$7,EOMONTH(DW6,2-(MONTH(DW6)-1-3*INT((MONTH(DW6)-1)/3))),\nIF($P$6=Lists!$I$8,EOMONTH(DW6,11),\nIF($P$6=Lists!$I$9,EOMONTH(DW6,12-MONTH(DW6)),\"\"))))))","v":"2126-12-31"},{"$f":"IF(OR($P$6=\"\",$P$6=0,$P$7=\"\",$P$7=0,$P$8=\"\",$P$7<1),\"\",\nIF(DX$8=\"\",\"\",\nIF($P$6=Lists!$I$6,EOMONTH(DX6,0),\nIF($P$6=Lists!$I$7,EOMONTH(DX6,2-(MONTH(DX6)-1-3*INT((MONTH(DX6)-1)/3))),\nIF($P$6=Lists!$I$8,EOMONTH(DX6,11),\nIF($P$6=Lists!$I$9,EOMONTH(DX6,12-MONTH(DX6)),\"\"))))))","v":"2127-12-31"},{"$f":"IF(OR($P$6=\"\",$P$6=0,$P$7=\"\",$P$7=0,$P$8=\"\",$P$7<1),\"\",\nIF(DY$8=\"\",\"\",\nIF($P$6=Lists!$I$6,EOMONTH(DY6,0),\nIF($P$6=Lists!$I$7,EOMONTH(DY6,2-(MONTH(DY6)-1-3*INT((MONTH(DY6)-1)/3))),\nIF($P$6=Lists!$I$8,EOMONTH(DY6,11),\nIF($P$6=Lists!$I$9,EOMONTH(DY6,12-MONTH(DY6)),\"\"))))))","v":"2128-12-31"},{"$f":"IF(OR($P$6=\"\",$P$6=0,$P$7=\"\",$P$7=0,$P$8=\"\",$P$7<1),\"\",\nIF(DZ$8=\"\",\"\",\nIF($P$6=Lists!$I$6,EOMONTH(DZ6,0),\nIF($P$6=Lists!$I$7,EOMONTH(DZ6,2-(MONTH(DZ6)-1-3*INT((MONTH(DZ6)-1)/3))),\nIF($P$6=Lists!$I$8,EOMONTH(DZ6,11),\nIF($P$6=Lists!$I$9,EOMONTH(DZ6,12-MONTH(DZ6)),\"\"))))))","v":"2129-12-31"},{"$f":"IF(OR($P$6=\"\",$P$6=0,$P$7=\"\",$P$7=0,$P$8=\"\",$P$7<1),\"\",\nIF(EA$8=\"\",\"\",\nIF($P$6=Lists!$I$6,EOMONTH(EA6,0),\nIF($P$6=Lists!$I$7,EOMONTH(EA6,2-(MONTH(EA6)-1-3*INT((MONTH(EA6)-1)/3))),\nIF($P$6=Lists!$I$8,EOMONTH(EA6,11),\nIF($P$6=Lists!$I$9,EOMONTH(EA6,12-MONTH(EA6)),\"\"))))))","v":"2130-12-31"},{"$f":"IF(OR($P$6=\"\",$P$6=0,$P$7=\"\",$P$7=0,$P$8=\"\",$P$7<1),\"\",\nIF(EB$8=\"\",\"\",\nIF($P$6=Lists!$I$6,EOMONTH(EB6,0),\nIF($P$6=Lists!$I$7,EOMONTH(EB6,2-(MONTH(EB6)-1-3*INT((MONTH(EB6)-1)/3))),\nIF($P$6=Lists!$I$8,EOMONTH(EB6,11),\nIF($P$6=Lists!$I$9,EOMONTH(EB6,12-MONTH(EB6)),\"\"))))))","v":"2131-12-31"},{"$f":"IF(OR($P$6=\"\",$P$6=0,$P$7=\"\",$P$7=0,$P$8=\"\",$P$7<1),\"\",\nIF(EC$8=\"\",\"\",\nIF($P$6=Lists!$I$6,EOMONTH(EC6,0),\nIF($P$6=Lists!$I$7,EOMONTH(EC6,2-(MONTH(EC6)-1-3*INT((MONTH(EC6)-1)/3))),\nIF($P$6=Lists!$I$8,EOMONTH(EC6,11),\nIF($P$6=Lists!$I$9,EOMONTH(EC6,12-MONTH(EC6)),\"\"))))))","v":"2132-12-31"},{"$f":"IF(OR($P$6=\"\",$P$6=0,$P$7=\"\",$P$7=0,$P$8=\"\",$P$7<1),\"\",\nIF(ED$8=\"\",\"\",\nIF($P$6=Lists!$I$6,EOMONTH(ED6,0),\nIF($P$6=Lists!$I$7,EOMONTH(ED6,2-(MONTH(ED6)-1-3*INT((MONTH(ED6)-1)/3))),\nIF($P$6=Lists!$I$8,EOMONTH(ED6,11),\nIF($P$6=Lists!$I$9,EOMONTH(ED6,12-MONTH(ED6)),\"\"))))))","v":"2133-12-31"},{"$f":"IF(OR($P$6=\"\",$P$6=0,$P$7=\"\",$P$7=0,$P$8=\"\",$P$7<1),\"\",\nIF(EE$8=\"\",\"\",\nIF($P$6=Lists!$I$6,EOMONTH(EE6,0),\nIF($P$6=Lists!$I$7,EOMONTH(EE6,2-(MONTH(EE6)-1-3*INT((MONTH(EE6)-1)/3))),\nIF($P$6=Lists!$I$8,EOMONTH(EE6,11),\nIF($P$6=Lists!$I$9,EOMONTH(EE6,12-MONTH(EE6)),\"\"))))))","v":"2134-12-31"},{"$f":"IF(OR($P$6=\"\",$P$6=0,$P$7=\"\",$P$7=0,$P$8=\"\",$P$7<1),\"\",\nIF(EF$8=\"\",\"\",\nIF($P$6=Lists!$I$6,EOMONTH(EF6,0),\nIF($P$6=Lists!$I$7,EOMONTH(EF6,2-(MONTH(EF6)-1-3*INT((MONTH(EF6)-1)/3))),\nIF($P$6=Lists!$I$8,EOMONTH(EF6,11),\nIF($P$6=Lists!$I$9,EOMONTH(EF6,12-MONTH(EF6)),\"\"))))))","v":"2135-12-31"},{"$f":"IF(OR($P$6=\"\",$P$6=0,$P$7=\"\",$P$7=0,$P$8=\"\",$P$7<1),\"\",\nIF(EG$8=\"\",\"\",\nIF($P$6=Lists!$I$6,EOMONTH(EG6,0),\nIF($P$6=Lists!$I$7,EOMONTH(EG6,2-(MONTH(EG6)-1-3*INT((MONTH(EG6)-1)/3))),\nIF($P$6=Lists!$I$8,EOMONTH(EG6,11),\nIF($P$6=Lists!$I$9,EOMONTH(EG6,12-MONTH(EG6)),\"\"))))))","v":"2136-12-31"},{"$f":"IF(OR($P$6=\"\",$P$6=0,$P$7=\"\",$P$7=0,$P$8=\"\",$P$7<1),\"\",\nIF(EH$8=\"\",\"\",\nIF($P$6=Lists!$I$6,EOMONTH(EH6,0),\nIF($P$6=Lists!$I$7,EOMONTH(EH6,2-(MONTH(EH6)-1-3*INT((MONTH(EH6)-1)/3))),\nIF($P$6=Lists!$I$8,EOMONTH(EH6,11),\nIF($P$6=Lists!$I$9,EOMONTH(EH6,12-MONTH(EH6)),\"\"))))))","v":"2137-12-31"},{"$f":"IF(OR($P$6=\"\",$P$6=0,$P$7=\"\",$P$7=0,$P$8=\"\",$P$7<1),\"\",\nIF(EI$8=\"\",\"\",\nIF($P$6=Lists!$I$6,EOMONTH(EI6,0),\nIF($P$6=Lists!$I$7,EOMONTH(EI6,2-(MONTH(EI6)-1-3*INT((MONTH(EI6)-1)/3))),\nIF($P$6=Lists!$I$8,EOMONTH(EI6,11),\nIF($P$6=Lists!$I$9,EOMONTH(EI6,12-MONTH(EI6)),\"\"))))))","v":"2138-12-31"},{"$f":"IF(OR($P$6=\"\",$P$6=0,$P$7=\"\",$P$7=0,$P$8=\"\",$P$7<1),\"\",\nIF(EJ$8=\"\",\"\",\nIF($P$6=Lists!$I$6,EOMONTH(EJ6,0),\nIF($P$6=Lists!$I$7,EOMONTH(EJ6,2-(MONTH(EJ6)-1-3*INT((MONTH(EJ6)-1)/3))),\nIF($P$6=Lists!$I$8,EOMONTH(EJ6,11),\nIF($P$6=Lists!$I$9,EOMONTH(EJ6,12-MONTH(EJ6)),\"\"))))))","v":"2139-12-31"},{"$f":"IF(OR($P$6=\"\",$P$6=0,$P$7=\"\",$P$7=0,$P$8=\"\",$P$7<1),\"\",\nIF(EK$8=\"\",\"\",\nIF($P$6=Lists!$I$6,EOMONTH(EK6,0),\nIF($P$6=Lists!$I$7,EOMONTH(EK6,2-(MONTH(EK6)-1-3*INT((MONTH(EK6)-1)/3))),\nIF($P$6=Lists!$I$8,EOMONTH(EK6,11),\nIF($P$6=Lists!$I$9,EOMONTH(EK6,12-MONTH(EK6)),\"\"))))))","v":"2140-12-31"},{"$f":"IF(OR($P$6=\"\",$P$6=0,$P$7=\"\",$P$7=0,$P$8=\"\",$P$7<1),\"\",\nIF(EL$8=\"\",\"\",\nIF($P$6=Lists!$I$6,EOMONTH(EL6,0),\nIF($P$6=Lists!$I$7,EOMONTH(EL6,2-(MONTH(EL6)-1-3*INT((MONTH(EL6)-1)/3))),\nIF($P$6=Lists!$I$8,EOMONTH(EL6,11),\nIF($P$6=Lists!$I$9,EOMONTH(EL6,12-MONTH(EL6)),\"\"))))))","v":"2141-12-31"},{"$f":"IF(OR($P$6=\"\",$P$6=0,$P$7=\"\",$P$7=0,$P$8=\"\",$P$7<1),\"\",\nIF(EM$8=\"\",\"\",\nIF($P$6=Lists!$I$6,EOMONTH(EM6,0),\nIF($P$6=Lists!$I$7,EOMONTH(EM6,2-(MONTH(EM6)-1-3*INT((MONTH(EM6)-1)/3))),\nIF($P$6=Lists!$I$8,EOMONTH(EM6,11),\nIF($P$6=Lists!$I$9,EOMONTH(EM6,12-MONTH(EM6)),\"\"))))))","v":"2142-12-31"},{"$f":"IF(OR($P$6=\"\",$P$6=0,$P$7=\"\",$P$7=0,$P$8=\"\",$P$7<1),\"\",\nIF(EN$8=\"\",\"\",\nIF($P$6=Lists!$I$6,EOMONTH(EN6,0),\nIF($P$6=Lists!$I$7,EOMONTH(EN6,2-(MONTH(EN6)-1-3*INT((MONTH(EN6)-1)/3))),\nIF($P$6=Lists!$I$8,EOMONTH(EN6,11),\nIF($P$6=Lists!$I$9,EOMONTH(EN6,12-MONTH(EN6)),\"\"))))))","v":""},{"$f":"IF(OR($P$6=\"\",$P$6=0,$P$7=\"\",$P$7=0,$P$8=\"\",$P$7<1),\"\",\nIF(EO$8=\"\",\"\",\nIF($P$6=Lists!$I$6,EOMONTH(EO6,0),\nIF($P$6=Lists!$I$7,EOMONTH(EO6,2-(MONTH(EO6)-1-3*INT((MONTH(EO6)-1)/3))),\nIF($P$6=Lists!$I$8,EOMONTH(EO6,11),\nIF($P$6=Lists!$I$9,EOMONTH(EO6,12-MONTH(EO6)),\"\"))))))","v":""},{"$f":"IF(OR($P$6=\"\",$P$6=0,$P$7=\"\",$P$7=0,$P$8=\"\",$P$7<1),\"\",\nIF(EP$8=\"\",\"\",\nIF($P$6=Lists!$I$6,EOMONTH(EP6,0),\nIF($P$6=Lists!$I$7,EOMONTH(EP6,2-(MONTH(EP6)-1-3*INT((MONTH(EP6)-1)/3))),\nIF($P$6=Lists!$I$8,EOMONTH(EP6,11),\nIF($P$6=Lists!$I$9,EOMONTH(EP6,12-MONTH(EP6)),\"\"))))))","v":""},{"$f":"IF(OR($P$6=\"\",$P$6=0,$P$7=\"\",$P$7=0,$P$8=\"\",$P$7<1),\"\",\nIF(EQ$8=\"\",\"\",\nIF($P$6=Lists!$I$6,EOMONTH(EQ6,0),\nIF($P$6=Lists!$I$7,EOMONTH(EQ6,2-(MONTH(EQ6)-1-3*INT((MONTH(EQ6)-1)/3))),\nIF($P$6=Lists!$I$8,EOMONTH(EQ6,11),\nIF($P$6=Lists!$I$9,EOMONTH(EQ6,12-MONTH(EQ6)),\"\"))))))","v":""},{"$f":"IF(OR($P$6=\"\",$P$6=0,$P$7=\"\",$P$7=0,$P$8=\"\",$P$7<1),\"\",\nIF(ER$8=\"\",\"\",\nIF($P$6=Lists!$I$6,EOMONTH(ER6,0),\nIF($P$6=Lists!$I$7,EOMONTH(ER6,2-(MONTH(ER6)-1-3*INT((MONTH(ER6)-1)/3))),\nIF($P$6=Lists!$I$8,EOMONTH(ER6,11),\nIF($P$6=Lists!$I$9,EOMONTH(ER6,12-MONTH(ER6)),\"\"))))))","v":""},{"$f":"IF(OR($P$6=\"\",$P$6=0,$P$7=\"\",$P$7=0,$P$8=\"\",$P$7<1),\"\",\nIF(ES$8=\"\",\"\",\nIF($P$6=Lists!$I$6,EOMONTH(ES6,0),\nIF($P$6=Lists!$I$7,EOMONTH(ES6,2-(MONTH(ES6)-1-3*INT((MONTH(ES6)-1)/3))),\nIF($P$6=Lists!$I$8,EOMONTH(ES6,11),\nIF($P$6=Lists!$I$9,EOMONTH(ES6,12-MONTH(ES6)),\"\"))))))","v":""},{"$f":"IF(OR($P$6=\"\",$P$6=0,$P$7=\"\",$P$7=0,$P$8=\"\",$P$7<1),\"\",\nIF(ET$8=\"\",\"\",\nIF($P$6=Lists!$I$6,EOMONTH(ET6,0),\nIF($P$6=Lists!$I$7,EOMONTH(ET6,2-(MONTH(ET6)-1-3*INT((MONTH(ET6)-1)/3))),\nIF($P$6=Lists!$I$8,EOMONTH(ET6,11),\nIF($P$6=Lists!$I$9,EOMONTH(ET6,12-MONTH(ET6)),\"\"))))))","v":""},{"$f":"IF(OR($P$6=\"\",$P$6=0,$P$7=\"\",$P$7=0,$P$8=\"\",$P$7<1),\"\",\nIF(EU$8=\"\",\"\",\nIF($P$6=Lists!$I$6,EOMONTH(EU6,0),\nIF($P$6=Lists!$I$7,EOMONTH(EU6,2-(MONTH(EU6)-1-3*INT((MONTH(EU6)-1)/3))),\nIF($P$6=Lists!$I$8,EOMONTH(EU6,11),\nIF($P$6=Lists!$I$9,EOMONTH(EU6,12-MONTH(EU6)),\"\"))))))","v":""},{"$f":"IF(OR($P$6=\"\",$P$6=0,$P$7=\"\",$P$7=0,$P$8=\"\",$P$7<1),\"\",\nIF(EV$8=\"\",\"\",\nIF($P$6=Lists!$I$6,EOMONTH(EV6,0),\nIF($P$6=Lists!$I$7,EOMONTH(EV6,2-(MONTH(EV6)-1-3*INT((MONTH(EV6)-1)/3))),\nIF($P$6=Lists!$I$8,EOMONTH(EV6,11),\nIF($P$6=Lists!$I$9,EOMONTH(EV6,12-MONTH(EV6)),\"\"))))))","v":""},{"$f":"IF(OR($P$6=\"\",$P$6=0,$P$7=\"\",$P$7=0,$P$8=\"\",$P$7<1),\"\",\nIF(EW$8=\"\",\"\",\nIF($P$6=Lists!$I$6,EOMONTH(EW6,0),\nIF($P$6=Lists!$I$7,EOMONTH(EW6,2-(MONTH(EW6)-1-3*INT((MONTH(EW6)-1)/3))),\nIF($P$6=Lists!$I$8,EOMONTH(EW6,11),\nIF($P$6=Lists!$I$9,EOMONTH(EW6,12-MONTH(EW6)),\"\"))))))","v":""},{"$f":"IF(OR($P$6=\"\",$P$6=0,$P$7=\"\",$P$7=0,$P$8=\"\",$P$7<1),\"\",\nIF(EX$8=\"\",\"\",\nIF($P$6=Lists!$I$6,EOMONTH(EX6,0),\nIF($P$6=Lists!$I$7,EOMONTH(EX6,2-(MONTH(EX6)-1-3*INT((MONTH(EX6)-1)/3))),\nIF($P$6=Lists!$I$8,EOMONTH(EX6,11),\nIF($P$6=Lists!$I$9,EOMONTH(EX6,12-MONTH(EX6)),\"\"))))))","v":""},{"$f":"IF(OR($P$6=\"\",$P$6=0,$P$7=\"\",$P$7=0,$P$8=\"\",$P$7<1),\"\",\nIF(EY$8=\"\",\"\",\nIF($P$6=Lists!$I$6,EOMONTH(EY6,0),\nIF($P$6=Lists!$I$7,EOMONTH(EY6,2-(MONTH(EY6)-1-3*INT((MONTH(EY6)-1)/3))),\nIF($P$6=Lists!$I$8,EOMONTH(EY6,11),\nIF($P$6=Lists!$I$9,EOMONTH(EY6,12-MONTH(EY6)),\"\"))))))","v":""},{"$f":"IF(OR($P$6=\"\",$P$6=0,$P$7=\"\",$P$7=0,$P$8=\"\",$P$7<1),\"\",\nIF(EZ$8=\"\",\"\",\nIF($P$6=Lists!$I$6,EOMONTH(EZ6,0),\nIF($P$6=Lists!$I$7,EOMONTH(EZ6,2-(MONTH(EZ6)-1-3*INT((MONTH(EZ6)-1)/3))),\nIF($P$6=Lists!$I$8,EOMONTH(EZ6,11),\nIF($P$6=Lists!$I$9,EOMONTH(EZ6,12-MONTH(EZ6)),\"\"))))))","v":""},{"$f":"IF(OR($P$6=\"\",$P$6=0,$P$7=\"\",$P$7=0,$P$8=\"\",$P$7<1),\"\",\nIF(FA$8=\"\",\"\",\nIF($P$6=Lists!$I$6,EOMONTH(FA6,0),\nIF($P$6=Lists!$I$7,EOMONTH(FA6,2-(MONTH(FA6)-1-3*INT((MONTH(FA6)-1)/3))),\nIF($P$6=Lists!$I$8,EOMONTH(FA6,11),\nIF($P$6=Lists!$I$9,EOMONTH(FA6,12-MONTH(FA6)),\"\"))))))","v":""},{"$f":"IF(OR($P$6=\"\",$P$6=0,$P$7=\"\",$P$7=0,$P$8=\"\",$P$7<1),\"\",\nIF(FB$8=\"\",\"\",\nIF($P$6=Lists!$I$6,EOMONTH(FB6,0),\nIF($P$6=Lists!$I$7,EOMONTH(FB6,2-(MONTH(FB6)-1-3*INT((MONTH(FB6)-1)/3))),\nIF($P$6=Lists!$I$8,EOMONTH(FB6,11),\nIF($P$6=Lists!$I$9,EOMONTH(FB6,12-MONTH(FB6)),\"\"))))))","v":""},{"$f":"IF(OR($P$6=\"\",$P$6=0,$P$7=\"\",$P$7=0,$P$8=\"\",$P$7<1),\"\",\nIF(FC$8=\"\",\"\",\nIF($P$6=Lists!$I$6,EOMONTH(FC6,0),\nIF($P$6=Lists!$I$7,EOMONTH(FC6,2-(MONTH(FC6)-1-3*INT((MONTH(FC6)-1)/3))),\nIF($P$6=Lists!$I$8,EOMONTH(FC6,11),\nIF($P$6=Lists!$I$9,EOMONTH(FC6,12-MONTH(FC6)),\"\"))))))","v":""},{"$f":"IF(OR($P$6=\"\",$P$6=0,$P$7=\"\",$P$7=0,$P$8=\"\",$P$7<1),\"\",\nIF(FD$8=\"\",\"\",\nIF($P$6=Lists!$I$6,EOMONTH(FD6,0),\nIF($P$6=Lists!$I$7,EOMONTH(FD6,2-(MONTH(FD6)-1-3*INT((MONTH(FD6)-1)/3))),\nIF($P$6=Lists!$I$8,EOMONTH(FD6,11),\nIF($P$6=Lists!$I$9,EOMONTH(FD6,12-MONTH(FD6)),\"\"))))))","v":""},{"$f":"IF(OR($P$6=\"\",$P$6=0,$P$7=\"\",$P$7=0,$P$8=\"\",$P$7<1),\"\",\nIF(FE$8=\"\",\"\",\nIF($P$6=Lists!$I$6,EOMONTH(FE6,0),\nIF($P$6=Lists!$I$7,EOMONTH(FE6,2-(MONTH(FE6)-1-3*INT((MONTH(FE6)-1)/3))),\nIF($P$6=Lists!$I$8,EOMONTH(FE6,11),\nIF($P$6=Lists!$I$9,EOMONTH(FE6,12-MONTH(FE6)),\"\"))))))","v":""},{"$f":"IF(OR($P$6=\"\",$P$6=0,$P$7=\"\",$P$7=0,$P$8=\"\",$P$7<1),\"\",\nIF(FF$8=\"\",\"\",\nIF($P$6=Lists!$I$6,EOMONTH(FF6,0),\nIF($P$6=Lists!$I$7,EOMONTH(FF6,2-(MONTH(FF6)-1-3*INT((MONTH(FF6)-1)/3))),\nIF($P$6=Lists!$I$8,EOMONTH(FF6,11),\nIF($P$6=Lists!$I$9,EOMONTH(FF6,12-MONTH(FF6)),\"\"))))))","v":""},{"$f":"IF(OR($P$6=\"\",$P$6=0,$P$7=\"\",$P$7=0,$P$8=\"\",$P$7<1),\"\",\nIF(FG$8=\"\",\"\",\nIF($P$6=Lists!$I$6,EOMONTH(FG6,0),\nIF($P$6=Lists!$I$7,EOMONTH(FG6,2-(MONTH(FG6)-1-3*INT((MONTH(FG6)-1)/3))),\nIF($P$6=Lists!$I$8,EOMONTH(FG6,11),\nIF($P$6=Lists!$I$9,EOMONTH(FG6,12-MONTH(FG6)),\"\"))))))","v":""},{"$f":"IF(OR($P$6=\"\",$P$6=0,$P$7=\"\",$P$7=0,$P$8=\"\",$P$7<1),\"\",\nIF(FH$8=\"\",\"\",\nIF($P$6=Lists!$I$6,EOMONTH(FH6,0),\nIF($P$6=Lists!$I$7,EOMONTH(FH6,2-(MONTH(FH6)-1-3*INT((MONTH(FH6)-1)/3))),\nIF($P$6=Lists!$I$8,EOMONTH(FH6,11),\nIF($P$6=Lists!$I$9,EOMONTH(FH6,12-MONTH(FH6)),\"\"))))))","v":""},{"$f":"IF(OR($P$6=\"\",$P$6=0,$P$7=\"\",$P$7=0,$P$8=\"\",$P$7<1),\"\",\nIF(FI$8=\"\",\"\",\nIF($P$6=Lists!$I$6,EOMONTH(FI6,0),\nIF($P$6=Lists!$I$7,EOMONTH(FI6,2-(MONTH(FI6)-1-3*INT((MONTH(FI6)-1)/3))),\nIF($P$6=Lists!$I$8,EOMONTH(FI6,11),\nIF($P$6=Lists!$I$9,EOMONTH(FI6,12-MONTH(FI6)),\"\"))))))","v":""},{"$f":"IF(OR($P$6=\"\",$P$6=0,$P$7=\"\",$P$7=0,$P$8=\"\",$P$7<1),\"\",\nIF(FJ$8=\"\",\"\",\nIF($P$6=Lists!$I$6,EOMONTH(FJ6,0),\nIF($P$6=Lists!$I$7,EOMONTH(FJ6,2-(MONTH(FJ6)-1-3*INT((MONTH(FJ6)-1)/3))),\nIF($P$6=Lists!$I$8,EOMONTH(FJ6,11),\nIF($P$6=Lists!$I$9,EOMONTH(FJ6,12-MONTH(FJ6)),\"\"))))))","v":""},{"$f":"IF(OR($P$6=\"\",$P$6=0,$P$7=\"\",$P$7=0,$P$8=\"\",$P$7<1),\"\",\nIF(FK$8=\"\",\"\",\nIF($P$6=Lists!$I$6,EOMONTH(FK6,0),\nIF($P$6=Lists!$I$7,EOMONTH(FK6,2-(MONTH(FK6)-1-3*INT((MONTH(FK6)-1)/3))),\nIF($P$6=Lists!$I$8,EOMONTH(FK6,11),\nIF($P$6=Lists!$I$9,EOMONTH(FK6,12-MONTH(FK6)),\"\"))))))","v":""},{"$f":"IF(OR($P$6=\"\",$P$6=0,$P$7=\"\",$P$7=0,$P$8=\"\",$P$7<1),\"\",\nIF(FL$8=\"\",\"\",\nIF($P$6=Lists!$I$6,EOMONTH(FL6,0),\nIF($P$6=Lists!$I$7,EOMONTH(FL6,2-(MONTH(FL6)-1-3*INT((MONTH(FL6)-1)/3))),\nIF($P$6=Lists!$I$8,EOMONTH(FL6,11),\nIF($P$6=Lists!$I$9,EOMONTH(FL6,12-MONTH(FL6)),\"\"))))))","v":""},{"$f":"IF(OR($P$6=\"\",$P$6=0,$P$7=\"\",$P$7=0,$P$8=\"\",$P$7<1),\"\",\nIF(FM$8=\"\",\"\",\nIF($P$6=Lists!$I$6,EOMONTH(FM6,0),\nIF($P$6=Lists!$I$7,EOMONTH(FM6,2-(MONTH(FM6)-1-3*INT((MONTH(FM6)-1)/3))),\nIF($P$6=Lists!$I$8,EOMONTH(FM6,11),\nIF($P$6=Lists!$I$9,EOMONTH(FM6,12-MONTH(FM6)),\"\"))))))","v":""},{"$f":"IF(OR($P$6=\"\",$P$6=0,$P$7=\"\",$P$7=0,$P$8=\"\",$P$7<1),\"\",\nIF(FN$8=\"\",\"\",\nIF($P$6=Lists!$I$6,EOMONTH(FN6,0),\nIF($P$6=Lists!$I$7,EOMONTH(FN6,2-(MONTH(FN6)-1-3*INT((MONTH(FN6)-1)/3))),\nIF($P$6=Lists!$I$8,EOMONTH(FN6,11),\nIF($P$6=Lists!$I$9,EOMONTH(FN6,12-MONTH(FN6)),\"\"))))))","v":""},{"$f":"IF(OR($P$6=\"\",$P$6=0,$P$7=\"\",$P$7=0,$P$8=\"\",$P$7<1),\"\",\nIF(FO$8=\"\",\"\",\nIF($P$6=Lists!$I$6,EOMONTH(FO6,0),\nIF($P$6=Lists!$I$7,EOMONTH(FO6,2-(MONTH(FO6)-1-3*INT((MONTH(FO6)-1)/3))),\nIF($P$6=Lists!$I$8,EOMONTH(FO6,11),\nIF($P$6=Lists!$I$9,EOMONTH(FO6,12-MONTH(FO6)),\"\"))))))","v":""},{"$f":"IF(OR($P$6=\"\",$P$6=0,$P$7=\"\",$P$7=0,$P$8=\"\",$P$7<1),\"\",\nIF(FP$8=\"\",\"\",\nIF($P$6=Lists!$I$6,EOMONTH(FP6,0),\nIF($P$6=Lists!$I$7,EOMONTH(FP6,2-(MONTH(FP6)-1-3*INT((MONTH(FP6)-1)/3))),\nIF($P$6=Lists!$I$8,EOMONTH(FP6,11),\nIF($P$6=Lists!$I$9,EOMONTH(FP6,12-MONTH(FP6)),\"\"))))))","v":""},{"$f":"IF(OR($P$6=\"\",$P$6=0,$P$7=\"\",$P$7=0,$P$8=\"\",$P$7<1),\"\",\nIF(FQ$8=\"\",\"\",\nIF($P$6=Lists!$I$6,EOMONTH(FQ6,0),\nIF($P$6=Lists!$I$7,EOMONTH(FQ6,2-(MONTH(FQ6)-1-3*INT((MONTH(FQ6)-1)/3))),\nIF($P$6=Lists!$I$8,EOMONTH(FQ6,11),\nIF($P$6=Lists!$I$9,EOMONTH(FQ6,12-MONTH(FQ6)),\"\"))))))","v":""},{"$f":"IF(OR($P$6=\"\",$P$6=0,$P$7=\"\",$P$7=0,$P$8=\"\",$P$7<1),\"\",\nIF(FR$8=\"\",\"\",\nIF($P$6=Lists!$I$6,EOMONTH(FR6,0),\nIF($P$6=Lists!$I$7,EOMONTH(FR6,2-(MONTH(FR6)-1-3*INT((MONTH(FR6)-1)/3))),\nIF($P$6=Lists!$I$8,EOMONTH(FR6,11),\nIF($P$6=Lists!$I$9,EOMONTH(FR6,12-MONTH(FR6)),\"\"))))))","v":""},{"$f":"IF(OR($P$6=\"\",$P$6=0,$P$7=\"\",$P$7=0,$P$8=\"\",$P$7<1),\"\",\nIF(FS$8=\"\",\"\",\nIF($P$6=Lists!$I$6,EOMONTH(FS6,0),\nIF($P$6=Lists!$I$7,EOMONTH(FS6,2-(MONTH(FS6)-1-3*INT((MONTH(FS6)-1)/3))),\nIF($P$6=Lists!$I$8,EOMONTH(FS6,11),\nIF($P$6=Lists!$I$9,EOMONTH(FS6,12-MONTH(FS6)),\"\"))))))","v":""},{"$f":"IF(OR($P$6=\"\",$P$6=0,$P$7=\"\",$P$7=0,$P$8=\"\",$P$7<1),\"\",\nIF(FT$8=\"\",\"\",\nIF($P$6=Lists!$I$6,EOMONTH(FT6,0),\nIF($P$6=Lists!$I$7,EOMONTH(FT6,2-(MONTH(FT6)-1-3*INT((MONTH(FT6)-1)/3))),\nIF($P$6=Lists!$I$8,EOMONTH(FT6,11),\nIF($P$6=Lists!$I$9,EOMONTH(FT6,12-MONTH(FT6)),\"\"))))))","v":""},{"$f":"IF(OR($P$6=\"\",$P$6=0,$P$7=\"\",$P$7=0,$P$8=\"\",$P$7<1),\"\",\nIF(FU$8=\"\",\"\",\nIF($P$6=Lists!$I$6,EOMONTH(FU6,0),\nIF($P$6=Lists!$I$7,EOMONTH(FU6,2-(MONTH(FU6)-1-3*INT((MONTH(FU6)-1)/3))),\nIF($P$6=Lists!$I$8,EOMONTH(FU6,11),\nIF($P$6=Lists!$I$9,EOMONTH(FU6,12-MONTH(FU6)),\"\"))))))","v":""},{"$f":"IF(OR($P$6=\"\",$P$6=0,$P$7=\"\",$P$7=0,$P$8=\"\",$P$7<1),\"\",\nIF(FV$8=\"\",\"\",\nIF($P$6=Lists!$I$6,EOMONTH(FV6,0),\nIF($P$6=Lists!$I$7,EOMONTH(FV6,2-(MONTH(FV6)-1-3*INT((MONTH(FV6)-1)/3))),\nIF($P$6=Lists!$I$8,EOMONTH(FV6,11),\nIF($P$6=Lists!$I$9,EOMONTH(FV6,12-MONTH(FV6)),\"\"))))))","v":""},{"$f":"IF(OR($P$6=\"\",$P$6=0,$P$7=\"\",$P$7=0,$P$8=\"\",$P$7<1),\"\",\nIF(FW$8=\"\",\"\",\nIF($P$6=Lists!$I$6,EOMONTH(FW6,0),\nIF($P$6=Lists!$I$7,EOMONTH(FW6,2-(MONTH(FW6)-1-3*INT((MONTH(FW6)-1)/3))),\nIF($P$6=Lists!$I$8,EOMONTH(FW6,11),\nIF($P$6=Lists!$I$9,EOMONTH(FW6,12-MONTH(FW6)),\"\"))))))","v":""},{"$f":"IF(OR($P$6=\"\",$P$6=0,$P$7=\"\",$P$7=0,$P$8=\"\",$P$7<1),\"\",\nIF(FX$8=\"\",\"\",\nIF($P$6=Lists!$I$6,EOMONTH(FX6,0),\nIF($P$6=Lists!$I$7,EOMONTH(FX6,2-(MONTH(FX6)-1-3*INT((MONTH(FX6)-1)/3))),\nIF($P$6=Lists!$I$8,EOMONTH(FX6,11),\nIF($P$6=Lists!$I$9,EOMONTH(FX6,12-MONTH(FX6)),\"\"))))))","v":""},{"$f":"IF(OR($P$6=\"\",$P$6=0,$P$7=\"\",$P$7=0,$P$8=\"\",$P$7<1),\"\",\nIF(FY$8=\"\",\"\",\nIF($P$6=Lists!$I$6,EOMONTH(FY6,0),\nIF($P$6=Lists!$I$7,EOMONTH(FY6,2-(MONTH(FY6)-1-3*INT((MONTH(FY6)-1)/3))),\nIF($P$6=Lists!$I$8,EOMONTH(FY6,11),\nIF($P$6=Lists!$I$9,EOMONTH(FY6,12-MONTH(FY6)),\"\"))))))","v":""},{"$f":"IF(OR($P$6=\"\",$P$6=0,$P$7=\"\",$P$7=0,$P$8=\"\",$P$7<1),\"\",\nIF(FZ$8=\"\",\"\",\nIF($P$6=Lists!$I$6,EOMONTH(FZ6,0),\nIF($P$6=Lists!$I$7,EOMONTH(FZ6,2-(MONTH(FZ6)-1-3*INT((MONTH(FZ6)-1)/3))),\nIF($P$6=Lists!$I$8,EOMONTH(FZ6,11),\nIF($P$6=Lists!$I$9,EOMONTH(FZ6,12-MONTH(FZ6)),\"\"))))))","v":""},{"$f":"IF(OR($P$6=\"\",$P$6=0,$P$7=\"\",$P$7=0,$P$8=\"\",$P$7<1),\"\",\nIF(GA$8=\"\",\"\",\nIF($P$6=Lists!$I$6,EOMONTH(GA6,0),\nIF($P$6=Lists!$I$7,EOMONTH(GA6,2-(MONTH(GA6)-1-3*INT((MONTH(GA6)-1)/3))),\nIF($P$6=Lists!$I$8,EOMONTH(GA6,11),\nIF($P$6=Lists!$I$9,EOMONTH(GA6,12-MONTH(GA6)),\"\"))))))","v":""},{"$f":"IF(OR($P$6=\"\",$P$6=0,$P$7=\"\",$P$7=0,$P$8=\"\",$P$7<1),\"\",\nIF(GB$8=\"\",\"\",\nIF($P$6=Lists!$I$6,EOMONTH(GB6,0),\nIF($P$6=Lists!$I$7,EOMONTH(GB6,2-(MONTH(GB6)-1-3*INT((MONTH(GB6)-1)/3))),\nIF($P$6=Lists!$I$8,EOMONTH(GB6,11),\nIF($P$6=Lists!$I$9,EOMONTH(GB6,12-MONTH(GB6)),\"\"))))))","v":""},{"$f":"IF(OR($P$6=\"\",$P$6=0,$P$7=\"\",$P$7=0,$P$8=\"\",$P$7<1),\"\",\nIF(GC$8=\"\",\"\",\nIF($P$6=Lists!$I$6,EOMONTH(GC6,0),\nIF($P$6=Lists!$I$7,EOMONTH(GC6,2-(MONTH(GC6)-1-3*INT((MONTH(GC6)-1)/3))),\nIF($P$6=Lists!$I$8,EOMONTH(GC6,11),\nIF($P$6=Lists!$I$9,EOMONTH(GC6,12-MONTH(GC6)),\"\"))))))","v":""},{"$f":"IF(OR($P$6=\"\",$P$6=0,$P$7=\"\",$P$7=0,$P$8=\"\",$P$7<1),\"\",\nIF(GD$8=\"\",\"\",\nIF($P$6=Lists!$I$6,EOMONTH(GD6,0),\nIF($P$6=Lists!$I$7,EOMONTH(GD6,2-(MONTH(GD6)-1-3*INT((MONTH(GD6)-1)/3))),\nIF($P$6=Lists!$I$8,EOMONTH(GD6,11),\nIF($P$6=Lists!$I$9,EOMONTH(GD6,12-MONTH(GD6)),\"\"))))))","v":""},{"$f":"IF(OR($P$6=\"\",$P$6=0,$P$7=\"\",$P$7=0,$P$8=\"\",$P$7<1),\"\",\nIF(GE$8=\"\",\"\",\nIF($P$6=Lists!$I$6,EOMONTH(GE6,0),\nIF($P$6=Lists!$I$7,EOMONTH(GE6,2-(MONTH(GE6)-1-3*INT((MONTH(GE6)-1)/3))),\nIF($P$6=Lists!$I$8,EOMONTH(GE6,11),\nIF($P$6=Lists!$I$9,EOMONTH(GE6,12-MONTH(GE6)),\"\"))))))","v":""},{"$f":"IF(OR($P$6=\"\",$P$6=0,$P$7=\"\",$P$7=0,$P$8=\"\",$P$7<1),\"\",\nIF(GF$8=\"\",\"\",\nIF($P$6=Lists!$I$6,EOMONTH(GF6,0),\nIF($P$6=Lists!$I$7,EOMONTH(GF6,2-(MONTH(GF6)-1-3*INT((MONTH(GF6)-1)/3))),\nIF($P$6=Lists!$I$8,EOMONTH(GF6,11),\nIF($P$6=Lists!$I$9,EOMONTH(GF6,12-MONTH(GF6)),\"\"))))))","v":""},{"$f":"IF(OR($P$6=\"\",$P$6=0,$P$7=\"\",$P$7=0,$P$8=\"\",$P$7<1),\"\",\nIF(GG$8=\"\",\"\",\nIF($P$6=Lists!$I$6,EOMONTH(GG6,0),\nIF($P$6=Lists!$I$7,EOMONTH(GG6,2-(MONTH(GG6)-1-3*INT((MONTH(GG6)-1)/3))),\nIF($P$6=Lists!$I$8,EOMONTH(GG6,11),\nIF($P$6=Lists!$I$9,EOMONTH(GG6,12-MONTH(GG6)),\"\"))))))","v":""},{"$f":"IF(OR($P$6=\"\",$P$6=0,$P$7=\"\",$P$7=0,$P$8=\"\",$P$7<1),\"\",\nIF(GH$8=\"\",\"\",\nIF($P$6=Lists!$I$6,EOMONTH(GH6,0),\nIF($P$6=Lists!$I$7,EOMONTH(GH6,2-(MONTH(GH6)-1-3*INT((MONTH(GH6)-1)/3))),\nIF($P$6=Lists!$I$8,EOMONTH(GH6,11),\nIF($P$6=Lists!$I$9,EOMONTH(GH6,12-MONTH(GH6)),\"\"))))))","v":""},{"$f":"IF(OR($P$6=\"\",$P$6=0,$P$7=\"\",$P$7=0,$P$8=\"\",$P$7<1),\"\",\nIF(GI$8=\"\",\"\",\nIF($P$6=Lists!$I$6,EOMONTH(GI6,0),\nIF($P$6=Lists!$I$7,EOMONTH(GI6,2-(MONTH(GI6)-1-3*INT((MONTH(GI6)-1)/3))),\nIF($P$6=Lists!$I$8,EOMONTH(GI6,11),\nIF($P$6=Lists!$I$9,EOMONTH(GI6,12-MONTH(GI6)),\"\"))))))","v":""},{"$f":"IF(OR($P$6=\"\",$P$6=0,$P$7=\"\",$P$7=0,$P$8=\"\",$P$7<1),\"\",\nIF(GJ$8=\"\",\"\",\nIF($P$6=Lists!$I$6,EOMONTH(GJ6,0),\nIF($P$6=Lists!$I$7,EOMONTH(GJ6,2-(MONTH(GJ6)-1-3*INT((MONTH(GJ6)-1)/3))),\nIF($P$6=Lists!$I$8,EOMONTH(GJ6,11),\nIF($P$6=Lists!$I$9,EOMONTH(GJ6,12-MONTH(GJ6)),\"\"))))))","v":""},{"$f":"IF(OR($P$6=\"\",$P$6=0,$P$7=\"\",$P$7=0,$P$8=\"\",$P$7<1),\"\",\nIF(GK$8=\"\",\"\",\nIF($P$6=Lists!$I$6,EOMONTH(GK6,0),\nIF($P$6=Lists!$I$7,EOMONTH(GK6,2-(MONTH(GK6)-1-3*INT((MONTH(GK6)-1)/3))),\nIF($P$6=Lists!$I$8,EOMONTH(GK6,11),\nIF($P$6=Lists!$I$9,EOMONTH(GK6,12-MONTH(GK6)),\"\"))))))","v":""},{"$f":"IF(OR($P$6=\"\",$P$6=0,$P$7=\"\",$P$7=0,$P$8=\"\",$P$7<1),\"\",\nIF(GL$8=\"\",\"\",\nIF($P$6=Lists!$I$6,EOMONTH(GL6,0),\nIF($P$6=Lists!$I$7,EOMONTH(GL6,2-(MONTH(GL6)-1-3*INT((MONTH(GL6)-1)/3))),\nIF($P$6=Lists!$I$8,EOMONTH(GL6,11),\nIF($P$6=Lists!$I$9,EOMONTH(GL6,12-MONTH(GL6)),\"\"))))))","v":""},{"$f":"IF(OR($P$6=\"\",$P$6=0,$P$7=\"\",$P$7=0,$P$8=\"\",$P$7<1),\"\",\nIF(GM$8=\"\",\"\",\nIF($P$6=Lists!$I$6,EOMONTH(GM6,0),\nIF($P$6=Lists!$I$7,EOMONTH(GM6,2-(MONTH(GM6)-1-3*INT((MONTH(GM6)-1)/3))),\nIF($P$6=Lists!$I$8,EOMONTH(GM6,11),\nIF($P$6=Lists!$I$9,EOMONTH(GM6,12-MONTH(GM6)),\"\"))))))","v":""},{"$f":"IF(OR($P$6=\"\",$P$6=0,$P$7=\"\",$P$7=0,$P$8=\"\",$P$7<1),\"\",\nIF(GN$8=\"\",\"\",\nIF($P$6=Lists!$I$6,EOMONTH(GN6,0),\nIF($P$6=Lists!$I$7,EOMONTH(GN6,2-(MONTH(GN6)-1-3*INT((MONTH(GN6)-1)/3))),\nIF($P$6=Lists!$I$8,EOMONTH(GN6,11),\nIF($P$6=Lists!$I$9,EOMONTH(GN6,12-MONTH(GN6)),\"\"))))))","v":""},{"$f":"IF(OR($P$6=\"\",$P$6=0,$P$7=\"\",$P$7=0,$P$8=\"\",$P$7<1),\"\",\nIF(GO$8=\"\",\"\",\nIF($P$6=Lists!$I$6,EOMONTH(GO6,0),\nIF($P$6=Lists!$I$7,EOMONTH(GO6,2-(MONTH(GO6)-1-3*INT((MONTH(GO6)-1)/3))),\nIF($P$6=Lists!$I$8,EOMONTH(GO6,11),\nIF($P$6=Lists!$I$9,EOMONTH(GO6,12-MONTH(GO6)),\"\"))))))","v":""},{"$f":"IF(OR($P$6=\"\",$P$6=0,$P$7=\"\",$P$7=0,$P$8=\"\",$P$7<1),\"\",\nIF(GP$8=\"\",\"\",\nIF($P$6=Lists!$I$6,EOMONTH(GP6,0),\nIF($P$6=Lists!$I$7,EOMONTH(GP6,2-(MONTH(GP6)-1-3*INT((MONTH(GP6)-1)/3))),\nIF($P$6=Lists!$I$8,EOMONTH(GP6,11),\nIF($P$6=Lists!$I$9,EOMONTH(GP6,12-MONTH(GP6)),\"\"))))))","v":""},{"$f":"IF(OR($P$6=\"\",$P$6=0,$P$7=\"\",$P$7=0,$P$8=\"\",$P$7<1),\"\",\nIF(GQ$8=\"\",\"\",\nIF($P$6=Lists!$I$6,EOMONTH(GQ6,0),\nIF($P$6=Lists!$I$7,EOMONTH(GQ6,2-(MONTH(GQ6)-1-3*INT((MONTH(GQ6)-1)/3))),\nIF($P$6=Lists!$I$8,EOMONTH(GQ6,11),\nIF($P$6=Lists!$I$9,EOMONTH(GQ6,12-MONTH(GQ6)),\"\"))))))","v":""},{"$f":"IF(OR($P$6=\"\",$P$6=0,$P$7=\"\",$P$7=0,$P$8=\"\",$P$7<1),\"\",\nIF(GR$8=\"\",\"\",\nIF($P$6=Lists!$I$6,EOMONTH(GR6,0),\nIF($P$6=Lists!$I$7,EOMONTH(GR6,2-(MONTH(GR6)-1-3*INT((MONTH(GR6)-1)/3))),\nIF($P$6=Lists!$I$8,EOMONTH(GR6,11),\nIF($P$6=Lists!$I$9,EOMONTH(GR6,12-MONTH(GR6)),\"\"))))))","v":""},{"$f":"IF(OR($P$6=\"\",$P$6=0,$P$7=\"\",$P$7=0,$P$8=\"\",$P$7<1),\"\",\nIF(GS$8=\"\",\"\",\nIF($P$6=Lists!$I$6,EOMONTH(GS6,0),\nIF($P$6=Lists!$I$7,EOMONTH(GS6,2-(MONTH(GS6)-1-3*INT((MONTH(GS6)-1)/3))),\nIF($P$6=Lists!$I$8,EOMONTH(GS6,11),\nIF($P$6=Lists!$I$9,EOMONTH(GS6,12-MONTH(GS6)),\"\"))))))","v":""},{"$f":"IF(OR($P$6=\"\",$P$6=0,$P$7=\"\",$P$7=0,$P$8=\"\",$P$7<1),\"\",\nIF(GT$8=\"\",\"\",\nIF($P$6=Lists!$I$6,EOMONTH(GT6,0),\nIF($P$6=Lists!$I$7,EOMONTH(GT6,2-(MONTH(GT6)-1-3*INT((MONTH(GT6)-1)/3))),\nIF($P$6=Lists!$I$8,EOMONTH(GT6,11),\nIF($P$6=Lists!$I$9,EOMONTH(GT6,12-MONTH(GT6)),\"\"))))))","v":""},{"$f":"IF(OR($P$6=\"\",$P$6=0,$P$7=\"\",$P$7=0,$P$8=\"\",$P$7<1),\"\",\nIF(GU$8=\"\",\"\",\nIF($P$6=Lists!$I$6,EOMONTH(GU6,0),\nIF($P$6=Lists!$I$7,EOMONTH(GU6,2-(MONTH(GU6)-1-3*INT((MONTH(GU6)-1)/3))),\nIF($P$6=Lists!$I$8,EOMONTH(GU6,11),\nIF($P$6=Lists!$I$9,EOMONTH(GU6,12-MONTH(GU6)),\"\"))))))","v":""},{"$f":"IF(OR($P$6=\"\",$P$6=0,$P$7=\"\",$P$7=0,$P$8=\"\",$P$7<1),\"\",\nIF(GV$8=\"\",\"\",\nIF($P$6=Lists!$I$6,EOMONTH(GV6,0),\nIF($P$6=Lists!$I$7,EOMONTH(GV6,2-(MONTH(GV6)-1-3*INT((MONTH(GV6)-1)/3))),\nIF($P$6=Lists!$I$8,EOMONTH(GV6,11),\nIF($P$6=Lists!$I$9,EOMONTH(GV6,12-MONTH(GV6)),\"\"))))))","v":""}]
[null,{"$f":"ROW()","v":8},null,null,null,null,null,"горизонт моделирования","горизонт моделирования",null,null,null,"кол-во пер.",null,null,{"$f":"Model!P8","v":120},null,null,null,null,{"$f":"MAX(INDIRECT(ADDRESS($B8,X$2)&\":\"&ADDRESS($B8,MAX($2:$2))))","v":120},null,null,{"$f":"IF(OR($P$6=\"\",$P$6=0,$P$7=\"\",$P$7=0,$P$8=\"\",$P$7<1),\"\",\nIF(MAX($W8:W8)+1>$P$8,\"\",MAX($W8:W8)+1))","v":1},{"$f":"IF(OR($P$6=\"\",$P$6=0,$P$7=\"\",$P$7=0,$P$8=\"\",$P$7<1),\"\",\nIF(MAX($W8:X8)+1>$P$8,\"\",MAX($W8:X8)+1))","v":2},{"$f":"IF(OR($P$6=\"\",$P$6=0,$P$7=\"\",$P$7=0,$P$8=\"\",$P$7<1),\"\",\nIF(MAX($W8:Y8)+1>$P$8,\"\",MAX($W8:Y8)+1))","v":3},{"$f":"IF(OR($P$6=\"\",$P$6=0,$P$7=\"\",$P$7=0,$P$8=\"\",$P$7<1),\"\",\nIF(MAX($W8:Z8)+1>$P$8,\"\",MAX($W8:Z8)+1))","v":4},{"$f":"IF(OR($P$6=\"\",$P$6=0,$P$7=\"\",$P$7=0,$P$8=\"\",$P$7<1),\"\",\nIF(MAX($W8:AA8)+1>$P$8,\"\",MAX($W8:AA8)+1))","v":5},{"$f":"IF(OR($P$6=\"\",$P$6=0,$P$7=\"\",$P$7=0,$P$8=\"\",$P$7<1),\"\",\nIF(MAX($W8:AB8)+1>$P$8,\"\",MAX($W8:AB8)+1))","v":6},{"$f":"IF(OR($P$6=\"\",$P$6=0,$P$7=\"\",$P$7=0,$P$8=\"\",$P$7<1),\"\",\nIF(MAX($W8:AC8)+1>$P$8,\"\",MAX($W8:AC8)+1))","v":7},{"$f":"IF(OR($P$6=\"\",$P$6=0,$P$7=\"\",$P$7=0,$P$8=\"\",$P$7<1),\"\",\nIF(MAX($W8:AD8)+1>$P$8,\"\",MAX($W8:AD8)+1))","v":8},{"$f":"IF(OR($P$6=\"\",$P$6=0,$P$7=\"\",$P$7=0,$P$8=\"\",$P$7<1),\"\",\nIF(MAX($W8:AE8)+1>$P$8,\"\",MAX($W8:AE8)+1))","v":9},{"$f":"IF(OR($P$6=\"\",$P$6=0,$P$7=\"\",$P$7=0,$P$8=\"\",$P$7<1),\"\",\nIF(MAX($W8:AF8)+1>$P$8,\"\",MAX($W8:AF8)+1))","v":10},{"$f":"IF(OR($P$6=\"\",$P$6=0,$P$7=\"\",$P$7=0,$P$8=\"\",$P$7<1),\"\",\nIF(MAX($W8:AG8)+1>$P$8,\"\",MAX($W8:AG8)+1))","v":11},{"$f":"IF(OR($P$6=\"\",$P$6=0,$P$7=\"\",$P$7=0,$P$8=\"\",$P$7<1),\"\",\nIF(MAX($W8:AH8)+1>$P$8,\"\",MAX($W8:AH8)+1))","v":12},{"$f":"IF(OR($P$6=\"\",$P$6=0,$P$7=\"\",$P$7=0,$P$8=\"\",$P$7<1),\"\",\nIF(MAX($W8:AI8)+1>$P$8,\"\",MAX($W8:AI8)+1))","v":13},{"$f":"IF(OR($P$6=\"\",$P$6=0,$P$7=\"\",$P$7=0,$P$8=\"\",$P$7<1),\"\",\nIF(MAX($W8:AJ8)+1>$P$8,\"\",MAX($W8:AJ8)+1))","v":14},{"$f":"IF(OR($P$6=\"\",$P$6=0,$P$7=\"\",$P$7=0,$P$8=\"\",$P$7<1),\"\",\nIF(MAX($W8:AK8)+1>$P$8,\"\",MAX($W8:AK8)+1))","v":15},{"$f":"IF(OR($P$6=\"\",$P$6=0,$P$7=\"\",$P$7=0,$P$8=\"\",$P$7<1),\"\",\nIF(MAX($W8:AL8)+1>$P$8,\"\",MAX($W8:AL8)+1))","v":16},{"$f":"IF(OR($P$6=\"\",$P$6=0,$P$7=\"\",$P$7=0,$P$8=\"\",$P$7<1),\"\",\nIF(MAX($W8:AM8)+1>$P$8,\"\",MAX($W8:AM8)+1))","v":17},{"$f":"IF(OR($P$6=\"\",$P$6=0,$P$7=\"\",$P$7=0,$P$8=\"\",$P$7<1),\"\",\nIF(MAX($W8:AN8)+1>$P$8,\"\",MAX($W8:AN8)+1))","v":18},{"$f":"IF(OR($P$6=\"\",$P$6=0,$P$7=\"\",$P$7=0,$P$8=\"\",$P$7<1),\"\",\nIF(MAX($W8:AO8)+1>$P$8,\"\",MAX($W8:AO8)+1))","v":19},{"$f":"IF(OR($P$6=\"\",$P$6=0,$P$7=\"\",$P$7=0,$P$8=\"\",$P$7<1),\"\",\nIF(MAX($W8:AP8)+1>$P$8,\"\",MAX($W8:AP8)+1))","v":20},{"$f":"IF(OR($P$6=\"\",$P$6=0,$P$7=\"\",$P$7=0,$P$8=\"\",$P$7<1),\"\",\nIF(MAX($W8:AQ8)+1>$P$8,\"\",MAX($W8:AQ8)+1))","v":21},{"$f":"IF(OR($P$6=\"\",$P$6=0,$P$7=\"\",$P$7=0,$P$8=\"\",$P$7<1),\"\",\nIF(MAX($W8:AR8)+1>$P$8,\"\",MAX($W8:AR8)+1))","v":22},{"$f":"IF(OR($P$6=\"\",$P$6=0,$P$7=\"\",$P$7=0,$P$8=\"\",$P$7<1),\"\",\nIF(MAX($W8:AS8)+1>$P$8,\"\",MAX($W8:AS8)+1))","v":23},{"$f":"IF(OR($P$6=\"\",$P$6=0,$P$7=\"\",$P$7=0,$P$8=\"\",$P$7<1),\"\",\nIF(MAX($W8:AT8)+1>$P$8,\"\",MAX($W8:AT8)+1))","v":24},{"$f":"IF(OR($P$6=\"\",$P$6=0,$P$7=\"\",$P$7=0,$P$8=\"\",$P$7<1),\"\",\nIF(MAX($W8:AU8)+1>$P$8,\"\",MAX($W8:AU8)+1))","v":25},{"$f":"IF(OR($P$6=\"\",$P$6=0,$P$7=\"\",$P$7=0,$P$8=\"\",$P$7<1),\"\",\nIF(MAX($W8:AV8)+1>$P$8,\"\",MAX($W8:AV8)+1))","v":26},{"$f":"IF(OR($P$6=\"\",$P$6=0,$P$7=\"\",$P$7=0,$P$8=\"\",$P$7<1),\"\",\nIF(MAX($W8:AW8)+1>$P$8,\"\",MAX($W8:AW8)+1))","v":27},{"$f":"IF(OR($P$6=\"\",$P$6=0,$P$7=\"\",$P$7=0,$P$8=\"\",$P$7<1),\"\",\nIF(MAX($W8:AX8)+1>$P$8,\"\",MAX($W8:AX8)+1))","v":28},{"$f":"IF(OR($P$6=\"\",$P$6=0,$P$7=\"\",$P$7=0,$P$8=\"\",$P$7<1),\"\",\nIF(MAX($W8:AY8)+1>$P$8,\"\",MAX($W8:AY8)+1))","v":29},{"$f":"IF(OR($P$6=\"\",$P$6=0,$P$7=\"\",$P$7=0,$P$8=\"\",$P$7<1),\"\",\nIF(MAX($W8:AZ8)+1>$P$8,\"\",MAX($W8:AZ8)+1))","v":30},{"$f":"IF(OR($P$6=\"\",$P$6=0,$P$7=\"\",$P$7=0,$P$8=\"\",$P$7<1),\"\",\nIF(MAX($W8:BA8)+1>$P$8,\"\",MAX($W8:BA8)+1))","v":31},{"$f":"IF(OR($P$6=\"\",$P$6=0,$P$7=\"\",$P$7=0,$P$8=\"\",$P$7<1),\"\",\nIF(MAX($W8:BB8)+1>$P$8,\"\",MAX($W8:BB8)+1))","v":32},{"$f":"IF(OR($P$6=\"\",$P$6=0,$P$7=\"\",$P$7=0,$P$8=\"\",$P$7<1),\"\",\nIF(MAX($W8:BC8)+1>$P$8,\"\",MAX($W8:BC8)+1))","v":33},{"$f":"IF(OR($P$6=\"\",$P$6=0,$P$7=\"\",$P$7=0,$P$8=\"\",$P$7<1),\"\",\nIF(MAX($W8:BD8)+1>$P$8,\"\",MAX($W8:BD8)+1))","v":34},{"$f":"IF(OR($P$6=\"\",$P$6=0,$P$7=\"\",$P$7=0,$P$8=\"\",$P$7<1),\"\",\nIF(MAX($W8:BE8)+1>$P$8,\"\",MAX($W8:BE8)+1))","v":35},{"$f":"IF(OR($P$6=\"\",$P$6=0,$P$7=\"\",$P$7=0,$P$8=\"\",$P$7<1),\"\",\nIF(MAX($W8:BF8)+1>$P$8,\"\",MAX($W8:BF8)+1))","v":36},{"$f":"IF(OR($P$6=\"\",$P$6=0,$P$7=\"\",$P$7=0,$P$8=\"\",$P$7<1),\"\",\nIF(MAX($W8:BG8)+1>$P$8,\"\",MAX($W8:BG8)+1))","v":37},{"$f":"IF(OR($P$6=\"\",$P$6=0,$P$7=\"\",$P$7=0,$P$8=\"\",$P$7<1),\"\",\nIF(MAX($W8:BH8)+1>$P$8,\"\",MAX($W8:BH8)+1))","v":38},{"$f":"IF(OR($P$6=\"\",$P$6=0,$P$7=\"\",$P$7=0,$P$8=\"\",$P$7<1),\"\",\nIF(MAX($W8:BI8)+1>$P$8,\"\",MAX($W8:BI8)+1))","v":39},{"$f":"IF(OR($P$6=\"\",$P$6=0,$P$7=\"\",$P$7=0,$P$8=\"\",$P$7<1),\"\",\nIF(MAX($W8:BJ8)+1>$P$8,\"\",MAX($W8:BJ8)+1))","v":40},{"$f":"IF(OR($P$6=\"\",$P$6=0,$P$7=\"\",$P$7=0,$P$8=\"\",$P$7<1),\"\",\nIF(MAX($W8:BK8)+1>$P$8,\"\",MAX($W8:BK8)+1))","v":41},{"$f":"IF(OR($P$6=\"\",$P$6=0,$P$7=\"\",$P$7=0,$P$8=\"\",$P$7<1),\"\",\nIF(MAX($W8:BL8)+1>$P$8,\"\",MAX($W8:BL8)+1))","v":42},{"$f":"IF(OR($P$6=\"\",$P$6=0,$P$7=\"\",$P$7=0,$P$8=\"\",$P$7<1),\"\",\nIF(MAX($W8:BM8)+1>$P$8,\"\",MAX($W8:BM8)+1))","v":43},{"$f":"IF(OR($P$6=\"\",$P$6=0,$P$7=\"\",$P$7=0,$P$8=\"\",$P$7<1),\"\",\nIF(MAX($W8:BN8)+1>$P$8,\"\",MAX($W8:BN8)+1))","v":44},{"$f":"IF(OR($P$6=\"\",$P$6=0,$P$7=\"\",$P$7=0,$P$8=\"\",$P$7<1),\"\",\nIF(MAX($W8:BO8)+1>$P$8,\"\",MAX($W8:BO8)+1))","v":45},{"$f":"IF(OR($P$6=\"\",$P$6=0,$P$7=\"\",$P$7=0,$P$8=\"\",$P$7<1),\"\",\nIF(MAX($W8:BP8)+1>$P$8,\"\",MAX($W8:BP8)+1))","v":46},{"$f":"IF(OR($P$6=\"\",$P$6=0,$P$7=\"\",$P$7=0,$P$8=\"\",$P$7<1),\"\",\nIF(MAX($W8:BQ8)+1>$P$8,\"\",MAX($W8:BQ8)+1))","v":47},{"$f":"IF(OR($P$6=\"\",$P$6=0,$P$7=\"\",$P$7=0,$P$8=\"\",$P$7<1),\"\",\nIF(MAX($W8:BR8)+1>$P$8,\"\",MAX($W8:BR8)+1))","v":48},{"$f":"IF(OR($P$6=\"\",$P$6=0,$P$7=\"\",$P$7=0,$P$8=\"\",$P$7<1),\"\",\nIF(MAX($W8:BS8)+1>$P$8,\"\",MAX($W8:BS8)+1))","v":49},{"$f":"IF(OR($P$6=\"\",$P$6=0,$P$7=\"\",$P$7=0,$P$8=\"\",$P$7<1),\"\",\nIF(MAX($W8:BT8)+1>$P$8,\"\",MAX($W8:BT8)+1))","v":50},{"$f":"IF(OR($P$6=\"\",$P$6=0,$P$7=\"\",$P$7=0,$P$8=\"\",$P$7<1),\"\",\nIF(MAX($W8:BU8)+1>$P$8,\"\",MAX($W8:BU8)+1))","v":51},{"$f":"IF(OR($P$6=\"\",$P$6=0,$P$7=\"\",$P$7=0,$P$8=\"\",$P$7<1),\"\",\nIF(MAX($W8:BV8)+1>$P$8,\"\",MAX($W8:BV8)+1))","v":52},{"$f":"IF(OR($P$6=\"\",$P$6=0,$P$7=\"\",$P$7=0,$P$8=\"\",$P$7<1),\"\",\nIF(MAX($W8:BW8)+1>$P$8,\"\",MAX($W8:BW8)+1))","v":53},{"$f":"IF(OR($P$6=\"\",$P$6=0,$P$7=\"\",$P$7=0,$P$8=\"\",$P$7<1),\"\",\nIF(MAX($W8:BX8)+1>$P$8,\"\",MAX($W8:BX8)+1))","v":54},{"$f":"IF(OR($P$6=\"\",$P$6=0,$P$7=\"\",$P$7=0,$P$8=\"\",$P$7<1),\"\",\nIF(MAX($W8:BY8)+1>$P$8,\"\",MAX($W8:BY8)+1))","v":55},{"$f":"IF(OR($P$6=\"\",$P$6=0,$P$7=\"\",$P$7=0,$P$8=\"\",$P$7<1),\"\",\nIF(MAX($W8:BZ8)+1>$P$8,\"\",MAX($W8:BZ8)+1))","v":56},{"$f":"IF(OR($P$6=\"\",$P$6=0,$P$7=\"\",$P$7=0,$P$8=\"\",$P$7<1),\"\",\nIF(MAX($W8:CA8)+1>$P$8,\"\",MAX($W8:CA8)+1))","v":57},{"$f":"IF(OR($P$6=\"\",$P$6=0,$P$7=\"\",$P$7=0,$P$8=\"\",$P$7<1),\"\",\nIF(MAX($W8:CB8)+1>$P$8,\"\",MAX($W8:CB8)+1))","v":58},{"$f":"IF(OR($P$6=\"\",$P$6=0,$P$7=\"\",$P$7=0,$P$8=\"\",$P$7<1),\"\",\nIF(MAX($W8:CC8)+1>$P$8,\"\",MAX($W8:CC8)+1))","v":59},{"$f":"IF(OR($P$6=\"\",$P$6=0,$P$7=\"\",$P$7=0,$P$8=\"\",$P$7<1),\"\",\nIF(MAX($W8:CD8)+1>$P$8,\"\",MAX($W8:CD8)+1))","v":60},{"$f":"IF(OR($P$6=\"\",$P$6=0,$P$7=\"\",$P$7=0,$P$8=\"\",$P$7<1),\"\",\nIF(MAX($W8:CE8)+1>$P$8,\"\",MAX($W8:CE8)+1))","v":61},{"$f":"IF(OR($P$6=\"\",$P$6=0,$P$7=\"\",$P$7=0,$P$8=\"\",$P$7<1),\"\",\nIF(MAX($W8:CF8)+1>$P$8,\"\",MAX($W8:CF8)+1))","v":62},{"$f":"IF(OR($P$6=\"\",$P$6=0,$P$7=\"\",$P$7=0,$P$8=\"\",$P$7<1),\"\",\nIF(MAX($W8:CG8)+1>$P$8,\"\",MAX($W8:CG8)+1))","v":63},{"$f":"IF(OR($P$6=\"\",$P$6=0,$P$7=\"\",$P$7=0,$P$8=\"\",$P$7<1),\"\",\nIF(MAX($W8:CH8)+1>$P$8,\"\",MAX($W8:CH8)+1))","v":64},{"$f":"IF(OR($P$6=\"\",$P$6=0,$P$7=\"\",$P$7=0,$P$8=\"\",$P$7<1),\"\",\nIF(MAX($W8:CI8)+1>$P$8,\"\",MAX($W8:CI8)+1))","v":65},{"$f":"IF(OR($P$6=\"\",$P$6=0,$P$7=\"\",$P$7=0,$P$8=\"\",$P$7<1),\"\",\nIF(MAX($W8:CJ8)+1>$P$8,\"\",MAX($W8:CJ8)+1))","v":66},{"$f":"IF(OR($P$6=\"\",$P$6=0,$P$7=\"\",$P$7=0,$P$8=\"\",$P$7<1),\"\",\nIF(MAX($W8:CK8)+1>$P$8,\"\",MAX($W8:CK8)+1))","v":67},{"$f":"IF(OR($P$6=\"\",$P$6=0,$P$7=\"\",$P$7=0,$P$8=\"\",$P$7<1),\"\",\nIF(MAX($W8:CL8)+1>$P$8,\"\",MAX($W8:CL8)+1))","v":68},{"$f":"IF(OR($P$6=\"\",$P$6=0,$P$7=\"\",$P$7=0,$P$8=\"\",$P$7<1),\"\",\nIF(MAX($W8:CM8)+1>$P$8,\"\",MAX($W8:CM8)+1))","v":69},{"$f":"IF(OR($P$6=\"\",$P$6=0,$P$7=\"\",$P$7=0,$P$8=\"\",$P$7<1),\"\",\nIF(MAX($W8:CN8)+1>$P$8,\"\",MAX($W8:CN8)+1))","v":70},{"$f":"IF(OR($P$6=\"\",$P$6=0,$P$7=\"\",$P$7=0,$P$8=\"\",$P$7<1),\"\",\nIF(MAX($W8:CO8)+1>$P$8,\"\",MAX($W8:CO8)+1))","v":71},{"$f":"IF(OR($P$6=\"\",$P$6=0,$P$7=\"\",$P$7=0,$P$8=\"\",$P$7<1),\"\",\nIF(MAX($W8:CP8)+1>$P$8,\"\",MAX($W8:CP8)+1))","v":72},{"$f":"IF(OR($P$6=\"\",$P$6=0,$P$7=\"\",$P$7=0,$P$8=\"\",$P$7<1),\"\",\nIF(MAX($W8:CQ8)+1>$P$8,\"\",MAX($W8:CQ8)+1))","v":73},{"$f":"IF(OR($P$6=\"\",$P$6=0,$P$7=\"\",$P$7=0,$P$8=\"\",$P$7<1),\"\",\nIF(MAX($W8:CR8)+1>$P$8,\"\",MAX($W8:CR8)+1))","v":74},{"$f":"IF(OR($P$6=\"\",$P$6=0,$P$7=\"\",$P$7=0,$P$8=\"\",$P$7<1),\"\",\nIF(MAX($W8:CS8)+1>$P$8,\"\",MAX($W8:CS8)+1))","v":75},{"$f":"IF(OR($P$6=\"\",$P$6=0,$P$7=\"\",$P$7=0,$P$8=\"\",$P$7<1),\"\",\nIF(MAX($W8:CT8)+1>$P$8,\"\",MAX($W8:CT8)+1))","v":76},{"$f":"IF(OR($P$6=\"\",$P$6=0,$P$7=\"\",$P$7=0,$P$8=\"\",$P$7<1),\"\",\nIF(MAX($W8:CU8)+1>$P$8,\"\",MAX($W8:CU8)+1))","v":77},{"$f":"IF(OR($P$6=\"\",$P$6=0,$P$7=\"\",$P$7=0,$P$8=\"\",$P$7<1),\"\",\nIF(MAX($W8:CV8)+1>$P$8,\"\",MAX($W8:CV8)+1))","v":78},{"$f":"IF(OR($P$6=\"\",$P$6=0,$P$7=\"\",$P$7=0,$P$8=\"\",$P$7<1),\"\",\nIF(MAX($W8:CW8)+1>$P$8,\"\",MAX($W8:CW8)+1))","v":79},{"$f":"IF(OR($P$6=\"\",$P$6=0,$P$7=\"\",$P$7=0,$P$8=\"\",$P$7<1),\"\",\nIF(MAX($W8:CX8)+1>$P$8,\"\",MAX($W8:CX8)+1))","v":80},{"$f":"IF(OR($P$6=\"\",$P$6=0,$P$7=\"\",$P$7=0,$P$8=\"\",$P$7<1),\"\",\nIF(MAX($W8:CY8)+1>$P$8,\"\",MAX($W8:CY8)+1))","v":81},{"$f":"IF(OR($P$6=\"\",$P$6=0,$P$7=\"\",$P$7=0,$P$8=\"\",$P$7<1),\"\",\nIF(MAX($W8:CZ8)+1>$P$8,\"\",MAX($W8:CZ8)+1))","v":82},{"$f":"IF(OR($P$6=\"\",$P$6=0,$P$7=\"\",$P$7=0,$P$8=\"\",$P$7<1),\"\",\nIF(MAX($W8:DA8)+1>$P$8,\"\",MAX($W8:DA8)+1))","v":83},{"$f":"IF(OR($P$6=\"\",$P$6=0,$P$7=\"\",$P$7=0,$P$8=\"\",$P$7<1),\"\",\nIF(MAX($W8:DB8)+1>$P$8,\"\",MAX($W8:DB8)+1))","v":84},{"$f":"IF(OR($P$6=\"\",$P$6=0,$P$7=\"\",$P$7=0,$P$8=\"\",$P$7<1),\"\",\nIF(MAX($W8:DC8)+1>$P$8,\"\",MAX($W8:DC8)+1))","v":85},{"$f":"IF(OR($P$6=\"\",$P$6=0,$P$7=\"\",$P$7=0,$P$8=\"\",$P$7<1),\"\",\nIF(MAX($W8:DD8)+1>$P$8,\"\",MAX($W8:DD8)+1))","v":86},{"$f":"IF(OR($P$6=\"\",$P$6=0,$P$7=\"\",$P$7=0,$P$8=\"\",$P$7<1),\"\",\nIF(MAX($W8:DE8)+1>$P$8,\"\",MAX($W8:DE8)+1))","v":87},{"$f":"IF(OR($P$6=\"\",$P$6=0,$P$7=\"\",$P$7=0,$P$8=\"\",$P$7<1),\"\",\nIF(MAX($W8:DF8)+1>$P$8,\"\",MAX($W8:DF8)+1))","v":88},{"$f":"IF(OR($P$6=\"\",$P$6=0,$P$7=\"\",$P$7=0,$P$8=\"\",$P$7<1),\"\",\nIF(MAX($W8:DG8)+1>$P$8,\"\",MAX($W8:DG8)+1))","v":89},{"$f":"IF(OR($P$6=\"\",$P$6=0,$P$7=\"\",$P$7=0,$P$8=\"\",$P$7<1),\"\",\nIF(MAX($W8:DH8)+1>$P$8,\"\",MAX($W8:DH8)+1))","v":90},{"$f":"IF(OR($P$6=\"\",$P$6=0,$P$7=\"\",$P$7=0,$P$8=\"\",$P$7<1),\"\",\nIF(MAX($W8:DI8)+1>$P$8,\"\",MAX($W8:DI8)+1))","v":91},{"$f":"IF(OR($P$6=\"\",$P$6=0,$P$7=\"\",$P$7=0,$P$8=\"\",$P$7<1),\"\",\nIF(MAX($W8:DJ8)+1>$P$8,\"\",MAX($W8:DJ8)+1))","v":92},{"$f":"IF(OR($P$6=\"\",$P$6=0,$P$7=\"\",$P$7=0,$P$8=\"\",$P$7<1),\"\",\nIF(MAX($W8:DK8)+1>$P$8,\"\",MAX($W8:DK8)+1))","v":93},{"$f":"IF(OR($P$6=\"\",$P$6=0,$P$7=\"\",$P$7=0,$P$8=\"\",$P$7<1),\"\",\nIF(MAX($W8:DL8)+1>$P$8,\"\",MAX($W8:DL8)+1))","v":94},{"$f":"IF(OR($P$6=\"\",$P$6=0,$P$7=\"\",$P$7=0,$P$8=\"\",$P$7<1),\"\",\nIF(MAX($W8:DM8)+1>$P$8,\"\",MAX($W8:DM8)+1))","v":95},{"$f":"IF(OR($P$6=\"\",$P$6=0,$P$7=\"\",$P$7=0,$P$8=\"\",$P$7<1),\"\",\nIF(MAX($W8:DN8)+1>$P$8,\"\",MAX($W8:DN8)+1))","v":96},{"$f":"IF(OR($P$6=\"\",$P$6=0,$P$7=\"\",$P$7=0,$P$8=\"\",$P$7<1),\"\",\nIF(MAX($W8:DO8)+1>$P$8,\"\",MAX($W8:DO8)+1))","v":97},{"$f":"IF(OR($P$6=\"\",$P$6=0,$P$7=\"\",$P$7=0,$P$8=\"\",$P$7<1),\"\",\nIF(MAX($W8:DP8)+1>$P$8,\"\",MAX($W8:DP8)+1))","v":98},{"$f":"IF(OR($P$6=\"\",$P$6=0,$P$7=\"\",$P$7=0,$P$8=\"\",$P$7<1),\"\",\nIF(MAX($W8:DQ8)+1>$P$8,\"\",MAX($W8:DQ8)+1))","v":99},{"$f":"IF(OR($P$6=\"\",$P$6=0,$P$7=\"\",$P$7=0,$P$8=\"\",$P$7<1),\"\",\nIF(MAX($W8:DR8)+1>$P$8,\"\",MAX($W8:DR8)+1))","v":100},{"$f":"IF(OR($P$6=\"\",$P$6=0,$P$7=\"\",$P$7=0,$P$8=\"\",$P$7<1),\"\",\nIF(MAX($W8:DS8)+1>$P$8,\"\",MAX($W8:DS8)+1))","v":101},{"$f":"IF(OR($P$6=\"\",$P$6=0,$P$7=\"\",$P$7=0,$P$8=\"\",$P$7<1),\"\",\nIF(MAX($W8:DT8)+1>$P$8,\"\",MAX($W8:DT8)+1))","v":102},{"$f":"IF(OR($P$6=\"\",$P$6=0,$P$7=\"\",$P$7=0,$P$8=\"\",$P$7<1),\"\",\nIF(MAX($W8:DU8)+1>$P$8,\"\",MAX($W8:DU8)+1))","v":103},{"$f":"IF(OR($P$6=\"\",$P$6=0,$P$7=\"\",$P$7=0,$P$8=\"\",$P$7<1),\"\",\nIF(MAX($W8:DV8)+1>$P$8,\"\",MAX($W8:DV8)+1))","v":104},{"$f":"IF(OR($P$6=\"\",$P$6=0,$P$7=\"\",$P$7=0,$P$8=\"\",$P$7<1),\"\",\nIF(MAX($W8:DW8)+1>$P$8,\"\",MAX($W8:DW8)+1))","v":105},{"$f":"IF(OR($P$6=\"\",$P$6=0,$P$7=\"\",$P$7=0,$P$8=\"\",$P$7<1),\"\",\nIF(MAX($W8:DX8)+1>$P$8,\"\",MAX($W8:DX8)+1))","v":106},{"$f":"IF(OR($P$6=\"\",$P$6=0,$P$7=\"\",$P$7=0,$P$8=\"\",$P$7<1),\"\",\nIF(MAX($W8:DY8)+1>$P$8,\"\",MAX($W8:DY8)+1))","v":107},{"$f":"IF(OR($P$6=\"\",$P$6=0,$P$7=\"\",$P$7=0,$P$8=\"\",$P$7<1),\"\",\nIF(MAX($W8:DZ8)+1>$P$8,\"\",MAX($W8:DZ8)+1))","v":108},{"$f":"IF(OR($P$6=\"\",$P$6=0,$P$7=\"\",$P$7=0,$P$8=\"\",$P$7<1),\"\",\nIF(MAX($W8:EA8)+1>$P$8,\"\",MAX($W8:EA8)+1))","v":109},{"$f":"IF(OR($P$6=\"\",$P$6=0,$P$7=\"\",$P$7=0,$P$8=\"\",$P$7<1),\"\",\nIF(MAX($W8:EB8)+1>$P$8,\"\",MAX($W8:EB8)+1))","v":110},{"$f":"IF(OR($P$6=\"\",$P$6=0,$P$7=\"\",$P$7=0,$P$8=\"\",$P$7<1),\"\",\nIF(MAX($W8:EC8)+1>$P$8,\"\",MAX($W8:EC8)+1))","v":111},{"$f":"IF(OR($P$6=\"\",$P$6=0,$P$7=\"\",$P$7=0,$P$8=\"\",$P$7<1),\"\",\nIF(MAX($W8:ED8)+1>$P$8,\"\",MAX($W8:ED8)+1))","v":112},{"$f":"IF(OR($P$6=\"\",$P$6=0,$P$7=\"\",$P$7=0,$P$8=\"\",$P$7<1),\"\",\nIF(MAX($W8:EE8)+1>$P$8,\"\",MAX($W8:EE8)+1))","v":113},{"$f":"IF(OR($P$6=\"\",$P$6=0,$P$7=\"\",$P$7=0,$P$8=\"\",$P$7<1),\"\",\nIF(MAX($W8:EF8)+1>$P$8,\"\",MAX($W8:EF8)+1))","v":114},{"$f":"IF(OR($P$6=\"\",$P$6=0,$P$7=\"\",$P$7=0,$P$8=\"\",$P$7<1),\"\",\nIF(MAX($W8:EG8)+1>$P$8,\"\",MAX($W8:EG8)+1))","v":115},{"$f":"IF(OR($P$6=\"\",$P$6=0,$P$7=\"\",$P$7=0,$P$8=\"\",$P$7<1),\"\",\nIF(MAX($W8:EH8)+1>$P$8,\"\",MAX($W8:EH8)+1))","v":116},{"$f":"IF(OR($P$6=\"\",$P$6=0,$P$7=\"\",$P$7=0,$P$8=\"\",$P$7<1),\"\",\nIF(MAX($W8:EI8)+1>$P$8,\"\",MAX($W8:EI8)+1))","v":117},{"$f":"IF(OR($P$6=\"\",$P$6=0,$P$7=\"\",$P$7=0,$P$8=\"\",$P$7<1),\"\",\nIF(MAX($W8:EJ8)+1>$P$8,\"\",MAX($W8:EJ8)+1))","v":118},{"$f":"IF(OR($P$6=\"\",$P$6=0,$P$7=\"\",$P$7=0,$P$8=\"\",$P$7<1),\"\",\nIF(MAX($W8:EK8)+1>$P$8,\"\",MAX($W8:EK8)+1))","v":119},{"$f":"IF(OR($P$6=\"\",$P$6=0,$P$7=\"\",$P$7=0,$P$8=\"\",$P$7<1),\"\",\nIF(MAX($W8:EL8)+1>$P$8,\"\",MAX($W8:EL8)+1))","v":120},{"$f":"IF(OR($P$6=\"\",$P$6=0,$P$7=\"\",$P$7=0,$P$8=\"\",$P$7<1),\"\",\nIF(MAX($W8:EM8)+1>$P$8,\"\",MAX($W8:EM8)+1))","v":""},{"$f":"IF(OR($P$6=\"\",$P$6=0,$P$7=\"\",$P$7=0,$P$8=\"\",$P$7<1),\"\",\nIF(MAX($W8:EN8)+1>$P$8,\"\",MAX($W8:EN8)+1))","v":""},{"$f":"IF(OR($P$6=\"\",$P$6=0,$P$7=\"\",$P$7=0,$P$8=\"\",$P$7<1),\"\",\nIF(MAX($W8:EO8)+1>$P$8,\"\",MAX($W8:EO8)+1))","v":""},{"$f":"IF(OR($P$6=\"\",$P$6=0,$P$7=\"\",$P$7=0,$P$8=\"\",$P$7<1),\"\",\nIF(MAX($W8:EP8)+1>$P$8,\"\",MAX($W8:EP8)+1))","v":""},{"$f":"IF(OR($P$6=\"\",$P$6=0,$P$7=\"\",$P$7=0,$P$8=\"\",$P$7<1),\"\",\nIF(MAX($W8:EQ8)+1>$P$8,\"\",MAX($W8:EQ8)+1))","v":""},{"$f":"IF(OR($P$6=\"\",$P$6=0,$P$7=\"\",$P$7=0,$P$8=\"\",$P$7<1),\"\",\nIF(MAX($W8:ER8)+1>$P$8,\"\",MAX($W8:ER8)+1))","v":""},{"$f":"IF(OR($P$6=\"\",$P$6=0,$P$7=\"\",$P$7=0,$P$8=\"\",$P$7<1),\"\",\nIF(MAX($W8:ES8)+1>$P$8,\"\",MAX($W8:ES8)+1))","v":""},{"$f":"IF(OR($P$6=\"\",$P$6=0,$P$7=\"\",$P$7=0,$P$8=\"\",$P$7<1),\"\",\nIF(MAX($W8:ET8)+1>$P$8,\"\",MAX($W8:ET8)+1))","v":""},{"$f":"IF(OR($P$6=\"\",$P$6=0,$P$7=\"\",$P$7=0,$P$8=\"\",$P$7<1),\"\",\nIF(MAX($W8:EU8)+1>$P$8,\"\",MAX($W8:EU8)+1))","v":""},{"$f":"IF(OR($P$6=\"\",$P$6=0,$P$7=\"\",$P$7=0,$P$8=\"\",$P$7<1),\"\",\nIF(MAX($W8:EV8)+1>$P$8,\"\",MAX($W8:EV8)+1))","v":""},{"$f":"IF(OR($P$6=\"\",$P$6=0,$P$7=\"\",$P$7=0,$P$8=\"\",$P$7<1),\"\",\nIF(MAX($W8:EW8)+1>$P$8,\"\",MAX($W8:EW8)+1))","v":""},{"$f":"IF(OR($P$6=\"\",$P$6=0,$P$7=\"\",$P$7=0,$P$8=\"\",$P$7<1),\"\",\nIF(MAX($W8:EX8)+1>$P$8,\"\",MAX($W8:EX8)+1))","v":""},{"$f":"IF(OR($P$6=\"\",$P$6=0,$P$7=\"\",$P$7=0,$P$8=\"\",$P$7<1),\"\",\nIF(MAX($W8:EY8)+1>$P$8,\"\",MAX($W8:EY8)+1))","v":""},{"$f":"IF(OR($P$6=\"\",$P$6=0,$P$7=\"\",$P$7=0,$P$8=\"\",$P$7<1),\"\",\nIF(MAX($W8:EZ8)+1>$P$8,\"\",MAX($W8:EZ8)+1))","v":""},{"$f":"IF(OR($P$6=\"\",$P$6=0,$P$7=\"\",$P$7=0,$P$8=\"\",$P$7<1),\"\",\nIF(MAX($W8:FA8)+1>$P$8,\"\",MAX($W8:FA8)+1))","v":""},{"$f":"IF(OR($P$6=\"\",$P$6=0,$P$7=\"\",$P$7=0,$P$8=\"\",$P$7<1),\"\",\nIF(MAX($W8:FB8)+1>$P$8,\"\",MAX($W8:FB8)+1))","v":""},{"$f":"IF(OR($P$6=\"\",$P$6=0,$P$7=\"\",$P$7=0,$P$8=\"\",$P$7<1),\"\",\nIF(MAX($W8:FC8)+1>$P$8,\"\",MAX($W8:FC8)+1))","v":""},{"$f":"IF(OR($P$6=\"\",$P$6=0,$P$7=\"\",$P$7=0,$P$8=\"\",$P$7<1),\"\",\nIF(MAX($W8:FD8)+1>$P$8,\"\",MAX($W8:FD8)+1))","v":""},{"$f":"IF(OR($P$6=\"\",$P$6=0,$P$7=\"\",$P$7=0,$P$8=\"\",$P$7<1),\"\",\nIF(MAX($W8:FE8)+1>$P$8,\"\",MAX($W8:FE8)+1))","v":""},{"$f":"IF(OR($P$6=\"\",$P$6=0,$P$7=\"\",$P$7=0,$P$8=\"\",$P$7<1),\"\",\nIF(MAX($W8:FF8)+1>$P$8,\"\",MAX($W8:FF8)+1))","v":""},{"$f":"IF(OR($P$6=\"\",$P$6=0,$P$7=\"\",$P$7=0,$P$8=\"\",$P$7<1),\"\",\nIF(MAX($W8:FG8)+1>$P$8,\"\",MAX($W8:FG8)+1))","v":""},{"$f":"IF(OR($P$6=\"\",$P$6=0,$P$7=\"\",$P$7=0,$P$8=\"\",$P$7<1),\"\",\nIF(MAX($W8:FH8)+1>$P$8,\"\",MAX($W8:FH8)+1))","v":""},{"$f":"IF(OR($P$6=\"\",$P$6=0,$P$7=\"\",$P$7=0,$P$8=\"\",$P$7<1),\"\",\nIF(MAX($W8:FI8)+1>$P$8,\"\",MAX($W8:FI8)+1))","v":""},{"$f":"IF(OR($P$6=\"\",$P$6=0,$P$7=\"\",$P$7=0,$P$8=\"\",$P$7<1),\"\",\nIF(MAX($W8:FJ8)+1>$P$8,\"\",MAX($W8:FJ8)+1))","v":""},{"$f":"IF(OR($P$6=\"\",$P$6=0,$P$7=\"\",$P$7=0,$P$8=\"\",$P$7<1),\"\",\nIF(MAX($W8:FK8)+1>$P$8,\"\",MAX($W8:FK8)+1))","v":""},{"$f":"IF(OR($P$6=\"\",$P$6=0,$P$7=\"\",$P$7=0,$P$8=\"\",$P$7<1),\"\",\nIF(MAX($W8:FL8)+1>$P$8,\"\",MAX($W8:FL8)+1))","v":""},{"$f":"IF(OR($P$6=\"\",$P$6=0,$P$7=\"\",$P$7=0,$P$8=\"\",$P$7<1),\"\",\nIF(MAX($W8:FM8)+1>$P$8,\"\",MAX($W8:FM8)+1))","v":""},{"$f":"IF(OR($P$6=\"\",$P$6=0,$P$7=\"\",$P$7=0,$P$8=\"\",$P$7<1),\"\",\nIF(MAX($W8:FN8)+1>$P$8,\"\",MAX($W8:FN8)+1))","v":""},{"$f":"IF(OR($P$6=\"\",$P$6=0,$P$7=\"\",$P$7=0,$P$8=\"\",$P$7<1),\"\",\nIF(MAX($W8:FO8)+1>$P$8,\"\",MAX($W8:FO8)+1))","v":""},{"$f":"IF(OR($P$6=\"\",$P$6=0,$P$7=\"\",$P$7=0,$P$8=\"\",$P$7<1),\"\",\nIF(MAX($W8:FP8)+1>$P$8,\"\",MAX($W8:FP8)+1))","v":""},{"$f":"IF(OR($P$6=\"\",$P$6=0,$P$7=\"\",$P$7=0,$P$8=\"\",$P$7<1),\"\",\nIF(MAX($W8:FQ8)+1>$P$8,\"\",MAX($W8:FQ8)+1))","v":""},{"$f":"IF(OR($P$6=\"\",$P$6=0,$P$7=\"\",$P$7=0,$P$8=\"\",$P$7<1),\"\",\nIF(MAX($W8:FR8)+1>$P$8,\"\",MAX($W8:FR8)+1))","v":""},{"$f":"IF(OR($P$6=\"\",$P$6=0,$P$7=\"\",$P$7=0,$P$8=\"\",$P$7<1),\"\",\nIF(MAX($W8:FS8)+1>$P$8,\"\",MAX($W8:FS8)+1))","v":""},{"$f":"IF(OR($P$6=\"\",$P$6=0,$P$7=\"\",$P$7=0,$P$8=\"\",$P$7<1),\"\",\nIF(MAX($W8:FT8)+1>$P$8,\"\",MAX($W8:FT8)+1))","v":""},{"$f":"IF(OR($P$6=\"\",$P$6=0,$P$7=\"\",$P$7=0,$P$8=\"\",$P$7<1),\"\",\nIF(MAX($W8:FU8)+1>$P$8,\"\",MAX($W8:FU8)+1))","v":""},{"$f":"IF(OR($P$6=\"\",$P$6=0,$P$7=\"\",$P$7=0,$P$8=\"\",$P$7<1),\"\",\nIF(MAX($W8:FV8)+1>$P$8,\"\",MAX($W8:FV8)+1))","v":""},{"$f":"IF(OR($P$6=\"\",$P$6=0,$P$7=\"\",$P$7=0,$P$8=\"\",$P$7<1),\"\",\nIF(MAX($W8:FW8)+1>$P$8,\"\",MAX($W8:FW8)+1))","v":""},{"$f":"IF(OR($P$6=\"\",$P$6=0,$P$7=\"\",$P$7=0,$P$8=\"\",$P$7<1),\"\",\nIF(MAX($W8:FX8)+1>$P$8,\"\",MAX($W8:FX8)+1))","v":""},{"$f":"IF(OR($P$6=\"\",$P$6=0,$P$7=\"\",$P$7=0,$P$8=\"\",$P$7<1),\"\",\nIF(MAX($W8:FY8)+1>$P$8,\"\",MAX($W8:FY8)+1))","v":""},{"$f":"IF(OR($P$6=\"\",$P$6=0,$P$7=\"\",$P$7=0,$P$8=\"\",$P$7<1),\"\",\nIF(MAX($W8:FZ8)+1>$P$8,\"\",MAX($W8:FZ8)+1))","v":""},{"$f":"IF(OR($P$6=\"\",$P$6=0,$P$7=\"\",$P$7=0,$P$8=\"\",$P$7<1),\"\",\nIF(MAX($W8:GA8)+1>$P$8,\"\",MAX($W8:GA8)+1))","v":""},{"$f":"IF(OR($P$6=\"\",$P$6=0,$P$7=\"\",$P$7=0,$P$8=\"\",$P$7<1),\"\",\nIF(MAX($W8:GB8)+1>$P$8,\"\",MAX($W8:GB8)+1))","v":""},{"$f":"IF(OR($P$6=\"\",$P$6=0,$P$7=\"\",$P$7=0,$P$8=\"\",$P$7<1),\"\",\nIF(MAX($W8:GC8)+1>$P$8,\"\",MAX($W8:GC8)+1))","v":""},{"$f":"IF(OR($P$6=\"\",$P$6=0,$P$7=\"\",$P$7=0,$P$8=\"\",$P$7<1),\"\",\nIF(MAX($W8:GD8)+1>$P$8,\"\",MAX($W8:GD8)+1))","v":""},{"$f":"IF(OR($P$6=\"\",$P$6=0,$P$7=\"\",$P$7=0,$P$8=\"\",$P$7<1),\"\",\nIF(MAX($W8:GE8)+1>$P$8,\"\",MAX($W8:GE8)+1))","v":""},{"$f":"IF(OR($P$6=\"\",$P$6=0,$P$7=\"\",$P$7=0,$P$8=\"\",$P$7<1),\"\",\nIF(MAX($W8:GF8)+1>$P$8,\"\",MAX($W8:GF8)+1))","v":""},{"$f":"IF(OR($P$6=\"\",$P$6=0,$P$7=\"\",$P$7=0,$P$8=\"\",$P$7<1),\"\",\nIF(MAX($W8:GG8)+1>$P$8,\"\",MAX($W8:GG8)+1))","v":""},{"$f":"IF(OR($P$6=\"\",$P$6=0,$P$7=\"\",$P$7=0,$P$8=\"\",$P$7<1),\"\",\nIF(MAX($W8:GH8)+1>$P$8,\"\",MAX($W8:GH8)+1))","v":""},{"$f":"IF(OR($P$6=\"\",$P$6=0,$P$7=\"\",$P$7=0,$P$8=\"\",$P$7<1),\"\",\nIF(MAX($W8:GI8)+1>$P$8,\"\",MAX($W8:GI8)+1))","v":""},{"$f":"IF(OR($P$6=\"\",$P$6=0,$P$7=\"\",$P$7=0,$P$8=\"\",$P$7<1),\"\",\nIF(MAX($W8:GJ8)+1>$P$8,\"\",MAX($W8:GJ8)+1))","v":""},{"$f":"IF(OR($P$6=\"\",$P$6=0,$P$7=\"\",$P$7=0,$P$8=\"\",$P$7<1),\"\",\nIF(MAX($W8:GK8)+1>$P$8,\"\",MAX($W8:GK8)+1))","v":""},{"$f":"IF(OR($P$6=\"\",$P$6=0,$P$7=\"\",$P$7=0,$P$8=\"\",$P$7<1),\"\",\nIF(MAX($W8:GL8)+1>$P$8,\"\",MAX($W8:GL8)+1))","v":""},{"$f":"IF(OR($P$6=\"\",$P$6=0,$P$7=\"\",$P$7=0,$P$8=\"\",$P$7<1),\"\",\nIF(MAX($W8:GM8)+1>$P$8,\"\",MAX($W8:GM8)+1))","v":""},{"$f":"IF(OR($P$6=\"\",$P$6=0,$P$7=\"\",$P$7=0,$P$8=\"\",$P$7<1),\"\",\nIF(MAX($W8:GN8)+1>$P$8,\"\",MAX($W8:GN8)+1))","v":""},{"$f":"IF(OR($P$6=\"\",$P$6=0,$P$7=\"\",$P$7=0,$P$8=\"\",$P$7<1),\"\",\nIF(MAX($W8:GO8)+1>$P$8,\"\",MAX($W8:GO8)+1))","v":""},{"$f":"IF(OR($P$6=\"\",$P$6=0,$P$7=\"\",$P$7=0,$P$8=\"\",$P$7<1),\"\",\nIF(MAX($W8:GP8)+1>$P$8,\"\",MAX($W8:GP8)+1))","v":""},{"$f":"IF(OR($P$6=\"\",$P$6=0,$P$7=\"\",$P$7=0,$P$8=\"\",$P$7<1),\"\",\nIF(MAX($W8:GQ8)+1>$P$8,\"\",MAX($W8:GQ8)+1))","v":""},{"$f":"IF(OR($P$6=\"\",$P$6=0,$P$7=\"\",$P$7=0,$P$8=\"\",$P$7<1),\"\",\nIF(MAX($W8:GR8)+1>$P$8,\"\",MAX($W8:GR8)+1))","v":""},{"$f":"IF(OR($P$6=\"\",$P$6=0,$P$7=\"\",$P$7=0,$P$8=\"\",$P$7<1),\"\",\nIF(MAX($W8:GS8)+1>$P$8,\"\",MAX($W8:GS8)+1))","v":""},{"$f":"IF(OR($P$6=\"\",$P$6=0,$P$7=\"\",$P$7=0,$P$8=\"\",$P$7<1),\"\",\nIF(MAX($W8:GT8)+1>$P$8,\"\",MAX($W8:GT8)+1))","v":""},{"$f":"IF(OR($P$6=\"\",$P$6=0,$P$7=\"\",$P$7=0,$P$8=\"\",$P$7<1),\"\",\nIF(MAX($W8:GU8)+1>$P$8,\"\",MAX($W8:GU8)+1))","v":""}]
[null,{"$f":"ROW()","v":9}]
[null,{"$f":"ROW()","v":10}]
[null,67,null,null,null,null,null,"График оплат и ввода в экспл. оборуд-ия"]
[null,{"$f":"ROW()","v":12}]
[null,{"$f":"ROW()","v":13},null,null,null,null,null,"Стоимость приобретаемого оборуд-я",null,null,null,null,"руб.",null,null,null,null,null,null,null,{"$f":"SUM(INDIRECT(ADDRESS($B13,X$2)&\":\"&ADDRESS($B13,MAX($2:$2))))","v":0},null,null,{"$f":"IF(X$4=\"\",0,SUMIFS(Model!$W13:$ZZ13,Model!$W$6:$ZZ$6,\">=\"&'M-Q-Y'!X$6,Model!$W$6:$ZZ$6,\"<=\"&'M-Q-Y'!X$7))","v":0},{"$f":"IF(Y$4=\"\",0,SUMIFS(Model!$W13:$ZZ13,Model!$W$6:$ZZ$6,\">=\"&'M-Q-Y'!Y$6,Model!$W$6:$ZZ$6,\"<=\"&'M-Q-Y'!Y$7))","v":0},{"$f":"IF(Z$4=\"\",0,SUMIFS(Model!$W13:$ZZ13,Model!$W$6:$ZZ$6,\">=\"&'M-Q-Y'!Z$6,Model!$W$6:$ZZ$6,\"<=\"&'M-Q-Y'!Z$7))","v":0},{"$f":"IF(AA$4=\"\",0,SUMIFS(Model!$W13:$ZZ13,Model!$W$6:$ZZ$6,\">=\"&'M-Q-Y'!AA$6,Model!$W$6:$ZZ$6,\"<=\"&'M-Q-Y'!AA$7))","v":0},{"$f":"IF(AB$4=\"\",0,SUMIFS(Model!$W13:$ZZ13,Model!$W$6:$ZZ$6,\">=\"&'M-Q-Y'!AB$6,Model!$W$6:$ZZ$6,\"<=\"&'M-Q-Y'!AB$7))","v":0},{"$f":"IF(AC$4=\"\",0,SUMIFS(Model!$W13:$ZZ13,Model!$W$6:$ZZ$6,\">=\"&'M-Q-Y'!AC$6,Model!$W$6:$ZZ$6,\"<=\"&'M-Q-Y'!AC$7))","v":0},{"$f":"IF(AD$4=\"\",0,SUMIFS(Model!$W13:$ZZ13,Model!$W$6:$ZZ$6,\">=\"&'M-Q-Y'!AD$6,Model!$W$6:$ZZ$6,\"<=\"&'M-Q-Y'!AD$7))","v":0},{"$f":"IF(AE$4=\"\",0,SUMIFS(Model!$W13:$ZZ13,Model!$W$6:$ZZ$6,\">=\"&'M-Q-Y'!AE$6,Model!$W$6:$ZZ$6,\"<=\"&'M-Q-Y'!AE$7))","v":0},{"$f":"IF(AF$4=\"\",0,SUMIFS(Model!$W13:$ZZ13,Model!$W$6:$ZZ$6,\">=\"&'M-Q-Y'!AF$6,Model!$W$6:$ZZ$6,\"<=\"&'M-Q-Y'!AF$7))","v":0},{"$f":"IF(AG$4=\"\",0,SUMIFS(Model!$W13:$ZZ13,Model!$W$6:$ZZ$6,\">=\"&'M-Q-Y'!AG$6,Model!$W$6:$ZZ$6,\"<=\"&'M-Q-Y'!AG$7))","v":0},{"$f":"IF(AH$4=\"\",0,SUMIFS(Model!$W13:$ZZ13,Model!$W$6:$ZZ$6,\">=\"&'M-Q-Y'!AH$6,Model!$W$6:$ZZ$6,\"<=\"&'M-Q-Y'!AH$7))","v":0},{"$f":"IF(AI$4=\"\",0,SUMIFS(Model!$W13:$ZZ13,Model!$W$6:$ZZ$6,\">=\"&'M-Q-Y'!AI$6,Model!$W$6:$ZZ$6,\"<=\"&'M-Q-Y'!AI$7))","v":0},{"$f":"IF(AJ$4=\"\",0,SUMIFS(Model!$W13:$ZZ13,Model!$W$6:$ZZ$6,\">=\"&'M-Q-Y'!AJ$6,Model!$W$6:$ZZ$6,\"<=\"&'M-Q-Y'!AJ$7))","v":0},{"$f":"IF(AK$4=\"\",0,SUMIFS(Model!$W13:$ZZ13,Model!$W$6:$ZZ$6,\">=\"&'M-Q-Y'!AK$6,Model!$W$6:$ZZ$6,\"<=\"&'M-Q-Y'!AK$7))","v":0},{"$f":"IF(AL$4=\"\",0,SUMIFS(Model!$W13:$ZZ13,Model!$W$6:$ZZ$6,\">=\"&'M-Q-Y'!AL$6,Model!$W$6:$ZZ$6,\"<=\"&'M-Q-Y'!AL$7))","v":0},{"$f":"IF(AM$4=\"\",0,SUMIFS(Model!$W13:$ZZ13,Model!$W$6:$ZZ$6,\">=\"&'M-Q-Y'!AM$6,Model!$W$6:$ZZ$6,\"<=\"&'M-Q-Y'!AM$7))","v":0},{"$f":"IF(AN$4=\"\",0,SUMIFS(Model!$W13:$ZZ13,Model!$W$6:$ZZ$6,\">=\"&'M-Q-Y'!AN$6,Model!$W$6:$ZZ$6,\"<=\"&'M-Q-Y'!AN$7))","v":0},{"$f":"IF(AO$4=\"\",0,SUMIFS(Model!$W13:$ZZ13,Model!$W$6:$ZZ$6,\">=\"&'M-Q-Y'!AO$6,Model!$W$6:$ZZ$6,\"<=\"&'M-Q-Y'!AO$7))","v":0},{"$f":"IF(AP$4=\"\",0,SUMIFS(Model!$W13:$ZZ13,Model!$W$6:$ZZ$6,\">=\"&'M-Q-Y'!AP$6,Model!$W$6:$ZZ$6,\"<=\"&'M-Q-Y'!AP$7))","v":0},{"$f":"IF(AQ$4=\"\",0,SUMIFS(Model!$W13:$ZZ13,Model!$W$6:$ZZ$6,\">=\"&'M-Q-Y'!AQ$6,Model!$W$6:$ZZ$6,\"<=\"&'M-Q-Y'!AQ$7))","v":0},{"$f":"IF(AR$4=\"\",0,SUMIFS(Model!$W13:$ZZ13,Model!$W$6:$ZZ$6,\">=\"&'M-Q-Y'!AR$6,Model!$W$6:$ZZ$6,\"<=\"&'M-Q-Y'!AR$7))","v":0},{"$f":"IF(AS$4=\"\",0,SUMIFS(Model!$W13:$ZZ13,Model!$W$6:$ZZ$6,\">=\"&'M-Q-Y'!AS$6,Model!$W$6:$ZZ$6,\"<=\"&'M-Q-Y'!AS$7))","v":0},{"$f":"IF(AT$4=\"\",0,SUMIFS(Model!$W13:$ZZ13,Model!$W$6:$ZZ$6,\">=\"&'M-Q-Y'!AT$6,Model!$W$6:$ZZ$6,\"<=\"&'M-Q-Y'!AT$7))","v":0},{"$f":"IF(AU$4=\"\",0,SUMIFS(Model!$W13:$ZZ13,Model!$W$6:$ZZ$6,\">=\"&'M-Q-Y'!AU$6,Model!$W$6:$ZZ$6,\"<=\"&'M-Q-Y'!AU$7))","v":0},{"$f":"IF(AV$4=\"\",0,SUMIFS(Model!$W13:$ZZ13,Model!$W$6:$ZZ$6,\">=\"&'M-Q-Y'!AV$6,Model!$W$6:$ZZ$6,\"<=\"&'M-Q-Y'!AV$7))","v":0},{"$f":"IF(AW$4=\"\",0,SUMIFS(Model!$W13:$ZZ13,Model!$W$6:$ZZ$6,\">=\"&'M-Q-Y'!AW$6,Model!$W$6:$ZZ$6,\"<=\"&'M-Q-Y'!AW$7))","v":0},{"$f":"IF(AX$4=\"\",0,SUMIFS(Model!$W13:$ZZ13,Model!$W$6:$ZZ$6,\">=\"&'M-Q-Y'!AX$6,Model!$W$6:$ZZ$6,\"<=\"&'M-Q-Y'!AX$7))","v":0},{"$f":"IF(AY$4=\"\",0,SUMIFS(Model!$W13:$ZZ13,Model!$W$6:$ZZ$6,\">=\"&'M-Q-Y'!AY$6,Model!$W$6:$ZZ$6,\"<=\"&'M-Q-Y'!AY$7))","v":0},{"$f":"IF(AZ$4=\"\",0,SUMIFS(Model!$W13:$ZZ13,Model!$W$6:$ZZ$6,\">=\"&'M-Q-Y'!AZ$6,Model!$W$6:$ZZ$6,\"<=\"&'M-Q-Y'!AZ$7))","v":0},{"$f":"IF(BA$4=\"\",0,SUMIFS(Model!$W13:$ZZ13,Model!$W$6:$ZZ$6,\">=\"&'M-Q-Y'!BA$6,Model!$W$6:$ZZ$6,\"<=\"&'M-Q-Y'!BA$7))","v":0},{"$f":"IF(BB$4=\"\",0,SUMIFS(Model!$W13:$ZZ13,Model!$W$6:$ZZ$6,\">=\"&'M-Q-Y'!BB$6,Model!$W$6:$ZZ$6,\"<=\"&'M-Q-Y'!BB$7))","v":0},{"$f":"IF(BC$4=\"\",0,SUMIFS(Model!$W13:$ZZ13,Model!$W$6:$ZZ$6,\">=\"&'M-Q-Y'!BC$6,Model!$W$6:$ZZ$6,\"<=\"&'M-Q-Y'!BC$7))","v":0},{"$f":"IF(BD$4=\"\",0,SUMIFS(Model!$W13:$ZZ13,Model!$W$6:$ZZ$6,\">=\"&'M-Q-Y'!BD$6,Model!$W$6:$ZZ$6,\"<=\"&'M-Q-Y'!BD$7))","v":0},{"$f":"IF(BE$4=\"\",0,SUMIFS(Model!$W13:$ZZ13,Model!$W$6:$ZZ$6,\">=\"&'M-Q-Y'!BE$6,Model!$W$6:$ZZ$6,\"<=\"&'M-Q-Y'!BE$7))","v":0},{"$f":"IF(BF$4=\"\",0,SUMIFS(Model!$W13:$ZZ13,Model!$W$6:$ZZ$6,\">=\"&'M-Q-Y'!BF$6,Model!$W$6:$ZZ$6,\"<=\"&'M-Q-Y'!BF$7))","v":0},{"$f":"IF(BG$4=\"\",0,SUMIFS(Model!$W13:$ZZ13,Model!$W$6:$ZZ$6,\">=\"&'M-Q-Y'!BG$6,Model!$W$6:$ZZ$6,\"<=\"&'M-Q-Y'!BG$7))","v":0},{"$f":"IF(BH$4=\"\",0,SUMIFS(Model!$W13:$ZZ13,Model!$W$6:$ZZ$6,\">=\"&'M-Q-Y'!BH$6,Model!$W$6:$ZZ$6,\"<=\"&'M-Q-Y'!BH$7))","v":0},{"$f":"IF(BI$4=\"\",0,SUMIFS(Model!$W13:$ZZ13,Model!$W$6:$ZZ$6,\">=\"&'M-Q-Y'!BI$6,Model!$W$6:$ZZ$6,\"<=\"&'M-Q-Y'!BI$7))","v":0},{"$f":"IF(BJ$4=\"\",0,SUMIFS(Model!$W13:$ZZ13,Model!$W$6:$ZZ$6,\">=\"&'M-Q-Y'!BJ$6,Model!$W$6:$ZZ$6,\"<=\"&'M-Q-Y'!BJ$7))","v":0},{"$f":"IF(BK$4=\"\",0,SUMIFS(Model!$W13:$ZZ13,Model!$W$6:$ZZ$6,\">=\"&'M-Q-Y'!BK$6,Model!$W$6:$ZZ$6,\"<=\"&'M-Q-Y'!BK$7))","v":0},{"$f":"IF(BL$4=\"\",0,SUMIFS(Model!$W13:$ZZ13,Model!$W$6:$ZZ$6,\">=\"&'M-Q-Y'!BL$6,Model!$W$6:$ZZ$6,\"<=\"&'M-Q-Y'!BL$7))","v":0},{"$f":"IF(BM$4=\"\",0,SUMIFS(Model!$W13:$ZZ13,Model!$W$6:$ZZ$6,\">=\"&'M-Q-Y'!BM$6,Model!$W$6:$ZZ$6,\"<=\"&'M-Q-Y'!BM$7))","v":0},{"$f":"IF(BN$4=\"\",0,SUMIFS(Model!$W13:$ZZ13,Model!$W$6:$ZZ$6,\">=\"&'M-Q-Y'!BN$6,Model!$W$6:$ZZ$6,\"<=\"&'M-Q-Y'!BN$7))","v":0},{"$f":"IF(BO$4=\"\",0,SUMIFS(Model!$W13:$ZZ13,Model!$W$6:$ZZ$6,\">=\"&'M-Q-Y'!BO$6,Model!$W$6:$ZZ$6,\"<=\"&'M-Q-Y'!BO$7))","v":0},{"$f":"IF(BP$4=\"\",0,SUMIFS(Model!$W13:$ZZ13,Model!$W$6:$ZZ$6,\">=\"&'M-Q-Y'!BP$6,Model!$W$6:$ZZ$6,\"<=\"&'M-Q-Y'!BP$7))","v":0},{"$f":"IF(BQ$4=\"\",0,SUMIFS(Model!$W13:$ZZ13,Model!$W$6:$ZZ$6,\">=\"&'M-Q-Y'!BQ$6,Model!$W$6:$ZZ$6,\"<=\"&'M-Q-Y'!BQ$7))","v":0},{"$f":"IF(BR$4=\"\",0,SUMIFS(Model!$W13:$ZZ13,Model!$W$6:$ZZ$6,\">=\"&'M-Q-Y'!BR$6,Model!$W$6:$ZZ$6,\"<=\"&'M-Q-Y'!BR$7))","v":0},{"$f":"IF(BS$4=\"\",0,SUMIFS(Model!$W13:$ZZ13,Model!$W$6:$ZZ$6,\">=\"&'M-Q-Y'!BS$6,Model!$W$6:$ZZ$6,\"<=\"&'M-Q-Y'!BS$7))","v":0},{"$f":"IF(BT$4=\"\",0,SUMIFS(Model!$W13:$ZZ13,Model!$W$6:$ZZ$6,\">=\"&'M-Q-Y'!BT$6,Model!$W$6:$ZZ$6,\"<=\"&'M-Q-Y'!BT$7))","v":0},{"$f":"IF(BU$4=\"\",0,SUMIFS(Model!$W13:$ZZ13,Model!$W$6:$ZZ$6,\">=\"&'M-Q-Y'!BU$6,Model!$W$6:$ZZ$6,\"<=\"&'M-Q-Y'!BU$7))","v":0},{"$f":"IF(BV$4=\"\",0,SUMIFS(Model!$W13:$ZZ13,Model!$W$6:$ZZ$6,\">=\"&'M-Q-Y'!BV$6,Model!$W$6:$ZZ$6,\"<=\"&'M-Q-Y'!BV$7))","v":0},{"$f":"IF(BW$4=\"\",0,SUMIFS(Model!$W13:$ZZ13,Model!$W$6:$ZZ$6,\">=\"&'M-Q-Y'!BW$6,Model!$W$6:$ZZ$6,\"<=\"&'M-Q-Y'!BW$7))","v":0},{"$f":"IF(BX$4=\"\",0,SUMIFS(Model!$W13:$ZZ13,Model!$W$6:$ZZ$6,\">=\"&'M-Q-Y'!BX$6,Model!$W$6:$ZZ$6,\"<=\"&'M-Q-Y'!BX$7))","v":0},{"$f":"IF(BY$4=\"\",0,SUMIFS(Model!$W13:$ZZ13,Model!$W$6:$ZZ$6,\">=\"&'M-Q-Y'!BY$6,Model!$W$6:$ZZ$6,\"<=\"&'M-Q-Y'!BY$7))","v":0},{"$f":"IF(BZ$4=\"\",0,SUMIFS(Model!$W13:$ZZ13,Model!$W$6:$ZZ$6,\">=\"&'M-Q-Y'!BZ$6,Model!$W$6:$ZZ$6,\"<=\"&'M-Q-Y'!BZ$7))","v":0},{"$f":"IF(CA$4=\"\",0,SUMIFS(Model!$W13:$ZZ13,Model!$W$6:$ZZ$6,\">=\"&'M-Q-Y'!CA$6,Model!$W$6:$ZZ$6,\"<=\"&'M-Q-Y'!CA$7))","v":0},{"$f":"IF(CB$4=\"\",0,SUMIFS(Model!$W13:$ZZ13,Model!$W$6:$ZZ$6,\">=\"&'M-Q-Y'!CB$6,Model!$W$6:$ZZ$6,\"<=\"&'M-Q-Y'!CB$7))","v":0},{"$f":"IF(CC$4=\"\",0,SUMIFS(Model!$W13:$ZZ13,Model!$W$6:$ZZ$6,\">=\"&'M-Q-Y'!CC$6,Model!$W$6:$ZZ$6,\"<=\"&'M-Q-Y'!CC$7))","v":0},{"$f":"IF(CD$4=\"\",0,SUMIFS(Model!$W13:$ZZ13,Model!$W$6:$ZZ$6,\">=\"&'M-Q-Y'!CD$6,Model!$W$6:$ZZ$6,\"<=\"&'M-Q-Y'!CD$7))","v":0},{"$f":"IF(CE$4=\"\",0,SUMIFS(Model!$W13:$ZZ13,Model!$W$6:$ZZ$6,\">=\"&'M-Q-Y'!CE$6,Model!$W$6:$ZZ$6,\"<=\"&'M-Q-Y'!CE$7))","v":0},{"$f":"IF(CF$4=\"\",0,SUMIFS(Model!$W13:$ZZ13,Model!$W$6:$ZZ$6,\">=\"&'M-Q-Y'!CF$6,Model!$W$6:$ZZ$6,\"<=\"&'M-Q-Y'!CF$7))","v":0},{"$f":"IF(CG$4=\"\",0,SUMIFS(Model!$W13:$ZZ13,Model!$W$6:$ZZ$6,\">=\"&'M-Q-Y'!CG$6,Model!$W$6:$ZZ$6,\"<=\"&'M-Q-Y'!CG$7))","v":0},{"$f":"IF(CH$4=\"\",0,SUMIFS(Model!$W13:$ZZ13,Model!$W$6:$ZZ$6,\">=\"&'M-Q-Y'!CH$6,Model!$W$6:$ZZ$6,\"<=\"&'M-Q-Y'!CH$7))","v":0},{"$f":"IF(CI$4=\"\",0,SUMIFS(Model!$W13:$ZZ13,Model!$W$6:$ZZ$6,\">=\"&'M-Q-Y'!CI$6,Model!$W$6:$ZZ$6,\"<=\"&'M-Q-Y'!CI$7))","v":0},{"$f":"IF(CJ$4=\"\",0,SUMIFS(Model!$W13:$ZZ13,Model!$W$6:$ZZ$6,\">=\"&'M-Q-Y'!CJ$6,Model!$W$6:$ZZ$6,\"<=\"&'M-Q-Y'!CJ$7))","v":0},{"$f":"IF(CK$4=\"\",0,SUMIFS(Model!$W13:$ZZ13,Model!$W$6:$ZZ$6,\">=\"&'M-Q-Y'!CK$6,Model!$W$6:$ZZ$6,\"<=\"&'M-Q-Y'!CK$7))","v":0},{"$f":"IF(CL$4=\"\",0,SUMIFS(Model!$W13:$ZZ13,Model!$W$6:$ZZ$6,\">=\"&'M-Q-Y'!CL$6,Model!$W$6:$ZZ$6,\"<=\"&'M-Q-Y'!CL$7))","v":0},{"$f":"IF(CM$4=\"\",0,SUMIFS(Model!$W13:$ZZ13,Model!$W$6:$ZZ$6,\">=\"&'M-Q-Y'!CM$6,Model!$W$6:$ZZ$6,\"<=\"&'M-Q-Y'!CM$7))","v":0},{"$f":"IF(CN$4=\"\",0,SUMIFS(Model!$W13:$ZZ13,Model!$W$6:$ZZ$6,\">=\"&'M-Q-Y'!CN$6,Model!$W$6:$ZZ$6,\"<=\"&'M-Q-Y'!CN$7))","v":0},{"$f":"IF(CO$4=\"\",0,SUMIFS(Model!$W13:$ZZ13,Model!$W$6:$ZZ$6,\">=\"&'M-Q-Y'!CO$6,Model!$W$6:$ZZ$6,\"<=\"&'M-Q-Y'!CO$7))","v":0},{"$f":"IF(CP$4=\"\",0,SUMIFS(Model!$W13:$ZZ13,Model!$W$6:$ZZ$6,\">=\"&'M-Q-Y'!CP$6,Model!$W$6:$ZZ$6,\"<=\"&'M-Q-Y'!CP$7))","v":0},{"$f":"IF(CQ$4=\"\",0,SUMIFS(Model!$W13:$ZZ13,Model!$W$6:$ZZ$6,\">=\"&'M-Q-Y'!CQ$6,Model!$W$6:$ZZ$6,\"<=\"&'M-Q-Y'!CQ$7))","v":0},{"$f":"IF(CR$4=\"\",0,SUMIFS(Model!$W13:$ZZ13,Model!$W$6:$ZZ$6,\">=\"&'M-Q-Y'!CR$6,Model!$W$6:$ZZ$6,\"<=\"&'M-Q-Y'!CR$7))","v":0},{"$f":"IF(CS$4=\"\",0,SUMIFS(Model!$W13:$ZZ13,Model!$W$6:$ZZ$6,\">=\"&'M-Q-Y'!CS$6,Model!$W$6:$ZZ$6,\"<=\"&'M-Q-Y'!CS$7))","v":0},{"$f":"IF(CT$4=\"\",0,SUMIFS(Model!$W13:$ZZ13,Model!$W$6:$ZZ$6,\">=\"&'M-Q-Y'!CT$6,Model!$W$6:$ZZ$6,\"<=\"&'M-Q-Y'!CT$7))","v":0},{"$f":"IF(CU$4=\"\",0,SUMIFS(Model!$W13:$ZZ13,Model!$W$6:$ZZ$6,\">=\"&'M-Q-Y'!CU$6,Model!$W$6:$ZZ$6,\"<=\"&'M-Q-Y'!CU$7))","v":0},{"$f":"IF(CV$4=\"\",0,SUMIFS(Model!$W13:$ZZ13,Model!$W$6:$ZZ$6,\">=\"&'M-Q-Y'!CV$6,Model!$W$6:$ZZ$6,\"<=\"&'M-Q-Y'!CV$7))","v":0},{"$f":"IF(CW$4=\"\",0,SUMIFS(Model!$W13:$ZZ13,Model!$W$6:$ZZ$6,\">=\"&'M-Q-Y'!CW$6,Model!$W$6:$ZZ$6,\"<=\"&'M-Q-Y'!CW$7))","v":0},{"$f":"IF(CX$4=\"\",0,SUMIFS(Model!$W13:$ZZ13,Model!$W$6:$ZZ$6,\">=\"&'M-Q-Y'!CX$6,Model!$W$6:$ZZ$6,\"<=\"&'M-Q-Y'!CX$7))","v":0},{"$f":"IF(CY$4=\"\",0,SUMIFS(Model!$W13:$ZZ13,Model!$W$6:$ZZ$6,\">=\"&'M-Q-Y'!CY$6,Model!$W$6:$ZZ$6,\"<=\"&'M-Q-Y'!CY$7))","v":0},{"$f":"IF(CZ$4=\"\",0,SUMIFS(Model!$W13:$ZZ13,Model!$W$6:$ZZ$6,\">=\"&'M-Q-Y'!CZ$6,Model!$W$6:$ZZ$6,\"<=\"&'M-Q-Y'!CZ$7))","v":0},{"$f":"IF(DA$4=\"\",0,SUMIFS(Model!$W13:$ZZ13,Model!$W$6:$ZZ$6,\">=\"&'M-Q-Y'!DA$6,Model!$W$6:$ZZ$6,\"<=\"&'M-Q-Y'!DA$7))","v":0},{"$f":"IF(DB$4=\"\",0,SUMIFS(Model!$W13:$ZZ13,Model!$W$6:$ZZ$6,\">=\"&'M-Q-Y'!DB$6,Model!$W$6:$ZZ$6,\"<=\"&'M-Q-Y'!DB$7))","v":0},{"$f":"IF(DC$4=\"\",0,SUMIFS(Model!$W13:$ZZ13,Model!$W$6:$ZZ$6,\">=\"&'M-Q-Y'!DC$6,Model!$W$6:$ZZ$6,\"<=\"&'M-Q-Y'!DC$7))","v":0},{"$f":"IF(DD$4=\"\",0,SUMIFS(Model!$W13:$ZZ13,Model!$W$6:$ZZ$6,\">=\"&'M-Q-Y'!DD$6,Model!$W$6:$ZZ$6,\"<=\"&'M-Q-Y'!DD$7))","v":0},{"$f":"IF(DE$4=\"\",0,SUMIFS(Model!$W13:$ZZ13,Model!$W$6:$ZZ$6,\">=\"&'M-Q-Y'!DE$6,Model!$W$6:$ZZ$6,\"<=\"&'M-Q-Y'!DE$7))","v":0},{"$f":"IF(DF$4=\"\",0,SUMIFS(Model!$W13:$ZZ13,Model!$W$6:$ZZ$6,\">=\"&'M-Q-Y'!DF$6,Model!$W$6:$ZZ$6,\"<=\"&'M-Q-Y'!DF$7))","v":0},{"$f":"IF(DG$4=\"\",0,SUMIFS(Model!$W13:$ZZ13,Model!$W$6:$ZZ$6,\">=\"&'M-Q-Y'!DG$6,Model!$W$6:$ZZ$6,\"<=\"&'M-Q-Y'!DG$7))","v":0},{"$f":"IF(DH$4=\"\",0,SUMIFS(Model!$W13:$ZZ13,Model!$W$6:$ZZ$6,\">=\"&'M-Q-Y'!DH$6,Model!$W$6:$ZZ$6,\"<=\"&'M-Q-Y'!DH$7))","v":0},{"$f":"IF(DI$4=\"\",0,SUMIFS(Model!$W13:$ZZ13,Model!$W$6:$ZZ$6,\">=\"&'M-Q-Y'!DI$6,Model!$W$6:$ZZ$6,\"<=\"&'M-Q-Y'!DI$7))","v":0},{"$f":"IF(DJ$4=\"\",0,SUMIFS(Model!$W13:$ZZ13,Model!$W$6:$ZZ$6,\">=\"&'M-Q-Y'!DJ$6,Model!$W$6:$ZZ$6,\"<=\"&'M-Q-Y'!DJ$7))","v":0},{"$f":"IF(DK$4=\"\",0,SUMIFS(Model!$W13:$ZZ13,Model!$W$6:$ZZ$6,\">=\"&'M-Q-Y'!DK$6,Model!$W$6:$ZZ$6,\"<=\"&'M-Q-Y'!DK$7))","v":0},{"$f":"IF(DL$4=\"\",0,SUMIFS(Model!$W13:$ZZ13,Model!$W$6:$ZZ$6,\">=\"&'M-Q-Y'!DL$6,Model!$W$6:$ZZ$6,\"<=\"&'M-Q-Y'!DL$7))","v":0},{"$f":"IF(DM$4=\"\",0,SUMIFS(Model!$W13:$ZZ13,Model!$W$6:$ZZ$6,\">=\"&'M-Q-Y'!DM$6,Model!$W$6:$ZZ$6,\"<=\"&'M-Q-Y'!DM$7))","v":0},{"$f":"IF(DN$4=\"\",0,SUMIFS(Model!$W13:$ZZ13,Model!$W$6:$ZZ$6,\">=\"&'M-Q-Y'!DN$6,Model!$W$6:$ZZ$6,\"<=\"&'M-Q-Y'!DN$7))","v":0},{"$f":"IF(DO$4=\"\",0,SUMIFS(Model!$W13:$ZZ13,Model!$W$6:$ZZ$6,\">=\"&'M-Q-Y'!DO$6,Model!$W$6:$ZZ$6,\"<=\"&'M-Q-Y'!DO$7))","v":0},{"$f":"IF(DP$4=\"\",0,SUMIFS(Model!$W13:$ZZ13,Model!$W$6:$ZZ$6,\">=\"&'M-Q-Y'!DP$6,Model!$W$6:$ZZ$6,\"<=\"&'M-Q-Y'!DP$7))","v":0},{"$f":"IF(DQ$4=\"\",0,SUMIFS(Model!$W13:$ZZ13,Model!$W$6:$ZZ$6,\">=\"&'M-Q-Y'!DQ$6,Model!$W$6:$ZZ$6,\"<=\"&'M-Q-Y'!DQ$7))","v":0},{"$f":"IF(DR$4=\"\",0,SUMIFS(Model!$W13:$ZZ13,Model!$W$6:$ZZ$6,\">=\"&'M-Q-Y'!DR$6,Model!$W$6:$ZZ$6,\"<=\"&'M-Q-Y'!DR$7))","v":0},{"$f":"IF(DS$4=\"\",0,SUMIFS(Model!$W13:$ZZ13,Model!$W$6:$ZZ$6,\">=\"&'M-Q-Y'!DS$6,Model!$W$6:$ZZ$6,\"<=\"&'M-Q-Y'!DS$7))","v":0},{"$f":"IF(DT$4=\"\",0,SUMIFS(Model!$W13:$ZZ13,Model!$W$6:$ZZ$6,\">=\"&'M-Q-Y'!DT$6,Model!$W$6:$ZZ$6,\"<=\"&'M-Q-Y'!DT$7))","v":0},{"$f":"IF(DU$4=\"\",0,SUMIFS(Model!$W13:$ZZ13,Model!$W$6:$ZZ$6,\">=\"&'M-Q-Y'!DU$6,Model!$W$6:$ZZ$6,\"<=\"&'M-Q-Y'!DU$7))","v":0},{"$f":"IF(DV$4=\"\",0,SUMIFS(Model!$W13:$ZZ13,Model!$W$6:$ZZ$6,\">=\"&'M-Q-Y'!DV$6,Model!$W$6:$ZZ$6,\"<=\"&'M-Q-Y'!DV$7))","v":0},{"$f":"IF(DW$4=\"\",0,SUMIFS(Model!$W13:$ZZ13,Model!$W$6:$ZZ$6,\">=\"&'M-Q-Y'!DW$6,Model!$W$6:$ZZ$6,\"<=\"&'M-Q-Y'!DW$7))","v":0},{"$f":"IF(DX$4=\"\",0,SUMIFS(Model!$W13:$ZZ13,Model!$W$6:$ZZ$6,\">=\"&'M-Q-Y'!DX$6,Model!$W$6:$ZZ$6,\"<=\"&'M-Q-Y'!DX$7))","v":0},{"$f":"IF(DY$4=\"\",0,SUMIFS(Model!$W13:$ZZ13,Model!$W$6:$ZZ$6,\">=\"&'M-Q-Y'!DY$6,Model!$W$6:$ZZ$6,\"<=\"&'M-Q-Y'!DY$7))","v":0},{"$f":"IF(DZ$4=\"\",0,SUMIFS(Model!$W13:$ZZ13,Model!$W$6:$ZZ$6,\">=\"&'M-Q-Y'!DZ$6,Model!$W$6:$ZZ$6,\"<=\"&'M-Q-Y'!DZ$7))","v":0},{"$f":"IF(EA$4=\"\",0,SUMIFS(Model!$W13:$ZZ13,Model!$W$6:$ZZ$6,\">=\"&'M-Q-Y'!EA$6,Model!$W$6:$ZZ$6,\"<=\"&'M-Q-Y'!EA$7))","v":0},{"$f":"IF(EB$4=\"\",0,SUMIFS(Model!$W13:$ZZ13,Model!$W$6:$ZZ$6,\">=\"&'M-Q-Y'!EB$6,Model!$W$6:$ZZ$6,\"<=\"&'M-Q-Y'!EB$7))","v":0},{"$f":"IF(EC$4=\"\",0,SUMIFS(Model!$W13:$ZZ13,Model!$W$6:$ZZ$6,\">=\"&'M-Q-Y'!EC$6,Model!$W$6:$ZZ$6,\"<=\"&'M-Q-Y'!EC$7))","v":0},{"$f":"IF(ED$4=\"\",0,SUMIFS(Model!$W13:$ZZ13,Model!$W$6:$ZZ$6,\">=\"&'M-Q-Y'!ED$6,Model!$W$6:$ZZ$6,\"<=\"&'M-Q-Y'!ED$7))","v":0},{"$f":"IF(EE$4=\"\",0,SUMIFS(Model!$W13:$ZZ13,Model!$W$6:$ZZ$6,\">=\"&'M-Q-Y'!EE$6,Model!$W$6:$ZZ$6,\"<=\"&'M-Q-Y'!EE$7))","v":0},{"$f":"IF(EF$4=\"\",0,SUMIFS(Model!$W13:$ZZ13,Model!$W$6:$ZZ$6,\">=\"&'M-Q-Y'!EF$6,Model!$W$6:$ZZ$6,\"<=\"&'M-Q-Y'!EF$7))","v":0},{"$f":"IF(EG$4=\"\",0,SUMIFS(Model!$W13:$ZZ13,Model!$W$6:$ZZ$6,\">=\"&'M-Q-Y'!EG$6,Model!$W$6:$ZZ$6,\"<=\"&'M-Q-Y'!EG$7))","v":0},{"$f":"IF(EH$4=\"\",0,SUMIFS(Model!$W13:$ZZ13,Model!$W$6:$ZZ$6,\">=\"&'M-Q-Y'!EH$6,Model!$W$6:$ZZ$6,\"<=\"&'M-Q-Y'!EH$7))","v":0},{"$f":"IF(EI$4=\"\",0,SUMIFS(Model!$W13:$ZZ13,Model!$W$6:$ZZ$6,\">=\"&'M-Q-Y'!EI$6,Model!$W$6:$ZZ$6,\"<=\"&'M-Q-Y'!EI$7))","v":0},{"$f":"IF(EJ$4=\"\",0,SUMIFS(Model!$W13:$ZZ13,Model!$W$6:$ZZ$6,\">=\"&'M-Q-Y'!EJ$6,Model!$W$6:$ZZ$6,\"<=\"&'M-Q-Y'!EJ$7))","v":0},{"$f":"IF(EK$4=\"\",0,SUMIFS(Model!$W13:$ZZ13,Model!$W$6:$ZZ$6,\">=\"&'M-Q-Y'!EK$6,Model!$W$6:$ZZ$6,\"<=\"&'M-Q-Y'!EK$7))","v":0},{"$f":"IF(EL$4=\"\",0,SUMIFS(Model!$W13:$ZZ13,Model!$W$6:$ZZ$6,\">=\"&'M-Q-Y'!EL$6,Model!$W$6:$ZZ$6,\"<=\"&'M-Q-Y'!EL$7))","v":0},{"$f":"IF(EM$4=\"\",0,SUMIFS(Model!$W13:$ZZ13,Model!$W$6:$ZZ$6,\">=\"&'M-Q-Y'!EM$6,Model!$W$6:$ZZ$6,\"<=\"&'M-Q-Y'!EM$7))","v":0},{"$f":"IF(EN$4=\"\",0,SUMIFS(Model!$W13:$ZZ13,Model!$W$6:$ZZ$6,\">=\"&'M-Q-Y'!EN$6,Model!$W$6:$ZZ$6,\"<=\"&'M-Q-Y'!EN$7))","v":0},{"$f":"IF(EO$4=\"\",0,SUMIFS(Model!$W13:$ZZ13,Model!$W$6:$ZZ$6,\">=\"&'M-Q-Y'!EO$6,Model!$W$6:$ZZ$6,\"<=\"&'M-Q-Y'!EO$7))","v":0},{"$f":"IF(EP$4=\"\",0,SUMIFS(Model!$W13:$ZZ13,Model!$W$6:$ZZ$6,\">=\"&'M-Q-Y'!EP$6,Model!$W$6:$ZZ$6,\"<=\"&'M-Q-Y'!EP$7))","v":0},{"$f":"IF(EQ$4=\"\",0,SUMIFS(Model!$W13:$ZZ13,Model!$W$6:$ZZ$6,\">=\"&'M-Q-Y'!EQ$6,Model!$W$6:$ZZ$6,\"<=\"&'M-Q-Y'!EQ$7))","v":0},{"$f":"IF(ER$4=\"\",0,SUMIFS(Model!$W13:$ZZ13,Model!$W$6:$ZZ$6,\">=\"&'M-Q-Y'!ER$6,Model!$W$6:$ZZ$6,\"<=\"&'M-Q-Y'!ER$7))","v":0},{"$f":"IF(ES$4=\"\",0,SUMIFS(Model!$W13:$ZZ13,Model!$W$6:$ZZ$6,\">=\"&'M-Q-Y'!ES$6,Model!$W$6:$ZZ$6,\"<=\"&'M-Q-Y'!ES$7))","v":0},{"$f":"IF(ET$4=\"\",0,SUMIFS(Model!$W13:$ZZ13,Model!$W$6:$ZZ$6,\">=\"&'M-Q-Y'!ET$6,Model!$W$6:$ZZ$6,\"<=\"&'M-Q-Y'!ET$7))","v":0},{"$f":"IF(EU$4=\"\",0,SUMIFS(Model!$W13:$ZZ13,Model!$W$6:$ZZ$6,\">=\"&'M-Q-Y'!EU$6,Model!$W$6:$ZZ$6,\"<=\"&'M-Q-Y'!EU$7))","v":0},{"$f":"IF(EV$4=\"\",0,SUMIFS(Model!$W13:$ZZ13,Model!$W$6:$ZZ$6,\">=\"&'M-Q-Y'!EV$6,Model!$W$6:$ZZ$6,\"<=\"&'M-Q-Y'!EV$7))","v":0},{"$f":"IF(EW$4=\"\",0,SUMIFS(Model!$W13:$ZZ13,Model!$W$6:$ZZ$6,\">=\"&'M-Q-Y'!EW$6,Model!$W$6:$ZZ$6,\"<=\"&'M-Q-Y'!EW$7))","v":0},{"$f":"IF(EX$4=\"\",0,SUMIFS(Model!$W13:$ZZ13,Model!$W$6:$ZZ$6,\">=\"&'M-Q-Y'!EX$6,Model!$W$6:$ZZ$6,\"<=\"&'M-Q-Y'!EX$7))","v":0},{"$f":"IF(EY$4=\"\",0,SUMIFS(Model!$W13:$ZZ13,Model!$W$6:$ZZ$6,\">=\"&'M-Q-Y'!EY$6,Model!$W$6:$ZZ$6,\"<=\"&'M-Q-Y'!EY$7))","v":0},{"$f":"IF(EZ$4=\"\",0,SUMIFS(Model!$W13:$ZZ13,Model!$W$6:$ZZ$6,\">=\"&'M-Q-Y'!EZ$6,Model!$W$6:$ZZ$6,\"<=\"&'M-Q-Y'!EZ$7))","v":0},{"$f":"IF(FA$4=\"\",0,SUMIFS(Model!$W13:$ZZ13,Model!$W$6:$ZZ$6,\">=\"&'M-Q-Y'!FA$6,Model!$W$6:$ZZ$6,\"<=\"&'M-Q-Y'!FA$7))","v":0},{"$f":"IF(FB$4=\"\",0,SUMIFS(Model!$W13:$ZZ13,Model!$W$6:$ZZ$6,\">=\"&'M-Q-Y'!FB$6,Model!$W$6:$ZZ$6,\"<=\"&'M-Q-Y'!FB$7))","v":0},{"$f":"IF(FC$4=\"\",0,SUMIFS(Model!$W13:$ZZ13,Model!$W$6:$ZZ$6,\">=\"&'M-Q-Y'!FC$6,Model!$W$6:$ZZ$6,\"<=\"&'M-Q-Y'!FC$7))","v":0},{"$f":"IF(FD$4=\"\",0,SUMIFS(Model!$W13:$ZZ13,Model!$W$6:$ZZ$6,\">=\"&'M-Q-Y'!FD$6,Model!$W$6:$ZZ$6,\"<=\"&'M-Q-Y'!FD$7))","v":0},{"$f":"IF(FE$4=\"\",0,SUMIFS(Model!$W13:$ZZ13,Model!$W$6:$ZZ$6,\">=\"&'M-Q-Y'!FE$6,Model!$W$6:$ZZ$6,\"<=\"&'M-Q-Y'!FE$7))","v":0},{"$f":"IF(FF$4=\"\",0,SUMIFS(Model!$W13:$ZZ13,Model!$W$6:$ZZ$6,\">=\"&'M-Q-Y'!FF$6,Model!$W$6:$ZZ$6,\"<=\"&'M-Q-Y'!FF$7))","v":0},{"$f":"IF(FG$4=\"\",0,SUMIFS(Model!$W13:$ZZ13,Model!$W$6:$ZZ$6,\">=\"&'M-Q-Y'!FG$6,Model!$W$6:$ZZ$6,\"<=\"&'M-Q-Y'!FG$7))","v":0},{"$f":"IF(FH$4=\"\",0,SUMIFS(Model!$W13:$ZZ13,Model!$W$6:$ZZ$6,\">=\"&'M-Q-Y'!FH$6,Model!$W$6:$ZZ$6,\"<=\"&'M-Q-Y'!FH$7))","v":0},{"$f":"IF(FI$4=\"\",0,SUMIFS(Model!$W13:$ZZ13,Model!$W$6:$ZZ$6,\">=\"&'M-Q-Y'!FI$6,Model!$W$6:$ZZ$6,\"<=\"&'M-Q-Y'!FI$7))","v":0},{"$f":"IF(FJ$4=\"\",0,SUMIFS(Model!$W13:$ZZ13,Model!$W$6:$ZZ$6,\">=\"&'M-Q-Y'!FJ$6,Model!$W$6:$ZZ$6,\"<=\"&'M-Q-Y'!FJ$7))","v":0},{"$f":"IF(FK$4=\"\",0,SUMIFS(Model!$W13:$ZZ13,Model!$W$6:$ZZ$6,\">=\"&'M-Q-Y'!FK$6,Model!$W$6:$ZZ$6,\"<=\"&'M-Q-Y'!FK$7))","v":0},{"$f":"IF(FL$4=\"\",0,SUMIFS(Model!$W13:$ZZ13,Model!$W$6:$ZZ$6,\">=\"&'M-Q-Y'!FL$6,Model!$W$6:$ZZ$6,\"<=\"&'M-Q-Y'!FL$7))","v":0},{"$f":"IF(FM$4=\"\",0,SUMIFS(Model!$W13:$ZZ13,Model!$W$6:$ZZ$6,\">=\"&'M-Q-Y'!FM$6,Model!$W$6:$ZZ$6,\"<=\"&'M-Q-Y'!FM$7))","v":0},{"$f":"IF(FN$4=\"\",0,SUMIFS(Model!$W13:$ZZ13,Model!$W$6:$ZZ$6,\">=\"&'M-Q-Y'!FN$6,Model!$W$6:$ZZ$6,\"<=\"&'M-Q-Y'!FN$7))","v":0},{"$f":"IF(FO$4=\"\",0,SUMIFS(Model!$W13:$ZZ13,Model!$W$6:$ZZ$6,\">=\"&'M-Q-Y'!FO$6,Model!$W$6:$ZZ$6,\"<=\"&'M-Q-Y'!FO$7))","v":0},{"$f":"IF(FP$4=\"\",0,SUMIFS(Model!$W13:$ZZ13,Model!$W$6:$ZZ$6,\">=\"&'M-Q-Y'!FP$6,Model!$W$6:$ZZ$6,\"<=\"&'M-Q-Y'!FP$7))","v":0},{"$f":"IF(FQ$4=\"\",0,SUMIFS(Model!$W13:$ZZ13,Model!$W$6:$ZZ$6,\">=\"&'M-Q-Y'!FQ$6,Model!$W$6:$ZZ$6,\"<=\"&'M-Q-Y'!FQ$7))","v":0},{"$f":"IF(FR$4=\"\",0,SUMIFS(Model!$W13:$ZZ13,Model!$W$6:$ZZ$6,\">=\"&'M-Q-Y'!FR$6,Model!$W$6:$ZZ$6,\"<=\"&'M-Q-Y'!FR$7))","v":0},{"$f":"IF(FS$4=\"\",0,SUMIFS(Model!$W13:$ZZ13,Model!$W$6:$ZZ$6,\">=\"&'M-Q-Y'!FS$6,Model!$W$6:$ZZ$6,\"<=\"&'M-Q-Y'!FS$7))","v":0},{"$f":"IF(FT$4=\"\",0,SUMIFS(Model!$W13:$ZZ13,Model!$W$6:$ZZ$6,\">=\"&'M-Q-Y'!FT$6,Model!$W$6:$ZZ$6,\"<=\"&'M-Q-Y'!FT$7))","v":0},{"$f":"IF(FU$4=\"\",0,SUMIFS(Model!$W13:$ZZ13,Model!$W$6:$ZZ$6,\">=\"&'M-Q-Y'!FU$6,Model!$W$6:$ZZ$6,\"<=\"&'M-Q-Y'!FU$7))","v":0},{"$f":"IF(FV$4=\"\",0,SUMIFS(Model!$W13:$ZZ13,Model!$W$6:$ZZ$6,\">=\"&'M-Q-Y'!FV$6,Model!$W$6:$ZZ$6,\"<=\"&'M-Q-Y'!FV$7))","v":0},{"$f":"IF(FW$4=\"\",0,SUMIFS(Model!$W13:$ZZ13,Model!$W$6:$ZZ$6,\">=\"&'M-Q-Y'!FW$6,Model!$W$6:$ZZ$6,\"<=\"&'M-Q-Y'!FW$7))","v":0},{"$f":"IF(FX$4=\"\",0,SUMIFS(Model!$W13:$ZZ13,Model!$W$6:$ZZ$6,\">=\"&'M-Q-Y'!FX$6,Model!$W$6:$ZZ$6,\"<=\"&'M-Q-Y'!FX$7))","v":0},{"$f":"IF(FY$4=\"\",0,SUMIFS(Model!$W13:$ZZ13,Model!$W$6:$ZZ$6,\">=\"&'M-Q-Y'!FY$6,Model!$W$6:$ZZ$6,\"<=\"&'M-Q-Y'!FY$7))","v":0},{"$f":"IF(FZ$4=\"\",0,SUMIFS(Model!$W13:$ZZ13,Model!$W$6:$ZZ$6,\">=\"&'M-Q-Y'!FZ$6,Model!$W$6:$ZZ$6,\"<=\"&'M-Q-Y'!FZ$7))","v":0},{"$f":"IF(GA$4=\"\",0,SUMIFS(Model!$W13:$ZZ13,Model!$W$6:$ZZ$6,\">=\"&'M-Q-Y'!GA$6,Model!$W$6:$ZZ$6,\"<=\"&'M-Q-Y'!GA$7))","v":0},{"$f":"IF(GB$4=\"\",0,SUMIFS(Model!$W13:$ZZ13,Model!$W$6:$ZZ$6,\">=\"&'M-Q-Y'!GB$6,Model!$W$6:$ZZ$6,\"<=\"&'M-Q-Y'!GB$7))","v":0},{"$f":"IF(GC$4=\"\",0,SUMIFS(Model!$W13:$ZZ13,Model!$W$6:$ZZ$6,\">=\"&'M-Q-Y'!GC$6,Model!$W$6:$ZZ$6,\"<=\"&'M-Q-Y'!GC$7))","v":0},{"$f":"IF(GD$4=\"\",0,SUMIFS(Model!$W13:$ZZ13,Model!$W$6:$ZZ$6,\">=\"&'M-Q-Y'!GD$6,Model!$W$6:$ZZ$6,\"<=\"&'M-Q-Y'!GD$7))","v":0},{"$f":"IF(GE$4=\"\",0,SUMIFS(Model!$W13:$ZZ13,Model!$W$6:$ZZ$6,\">=\"&'M-Q-Y'!GE$6,Model!$W$6:$ZZ$6,\"<=\"&'M-Q-Y'!GE$7))","v":0},{"$f":"IF(GF$4=\"\",0,SUMIFS(Model!$W13:$ZZ13,Model!$W$6:$ZZ$6,\">=\"&'M-Q-Y'!GF$6,Model!$W$6:$ZZ$6,\"<=\"&'M-Q-Y'!GF$7))","v":0},{"$f":"IF(GG$4=\"\",0,SUMIFS(Model!$W13:$ZZ13,Model!$W$6:$ZZ$6,\">=\"&'M-Q-Y'!GG$6,Model!$W$6:$ZZ$6,\"<=\"&'M-Q-Y'!GG$7))","v":0},{"$f":"IF(GH$4=\"\",0,SUMIFS(Model!$W13:$ZZ13,Model!$W$6:$ZZ$6,\">=\"&'M-Q-Y'!GH$6,Model!$W$6:$ZZ$6,\"<=\"&'M-Q-Y'!GH$7))","v":0},{"$f":"IF(GI$4=\"\",0,SUMIFS(Model!$W13:$ZZ13,Model!$W$6:$ZZ$6,\">=\"&'M-Q-Y'!GI$6,Model!$W$6:$ZZ$6,\"<=\"&'M-Q-Y'!GI$7))","v":0},{"$f":"IF(GJ$4=\"\",0,SUMIFS(Model!$W13:$ZZ13,Model!$W$6:$ZZ$6,\">=\"&'M-Q-Y'!GJ$6,Model!$W$6:$ZZ$6,\"<=\"&'M-Q-Y'!GJ$7))","v":0},{"$f":"IF(GK$4=\"\",0,SUMIFS(Model!$W13:$ZZ13,Model!$W$6:$ZZ$6,\">=\"&'M-Q-Y'!GK$6,Model!$W$6:$ZZ$6,\"<=\"&'M-Q-Y'!GK$7))","v":0},{"$f":"IF(GL$4=\"\",0,SUMIFS(Model!$W13:$ZZ13,Model!$W$6:$ZZ$6,\">=\"&'M-Q-Y'!GL$6,Model!$W$6:$ZZ$6,\"<=\"&'M-Q-Y'!GL$7))","v":0},{"$f":"IF(GM$4=\"\",0,SUMIFS(Model!$W13:$ZZ13,Model!$W$6:$ZZ$6,\">=\"&'M-Q-Y'!GM$6,Model!$W$6:$ZZ$6,\"<=\"&'M-Q-Y'!GM$7))","v":0},{"$f":"IF(GN$4=\"\",0,SUMIFS(Model!$W13:$ZZ13,Model!$W$6:$ZZ$6,\">=\"&'M-Q-Y'!GN$6,Model!$W$6:$ZZ$6,\"<=\"&'M-Q-Y'!GN$7))","v":0},{"$f":"IF(GO$4=\"\",0,SUMIFS(Model!$W13:$ZZ13,Model!$W$6:$ZZ$6,\">=\"&'M-Q-Y'!GO$6,Model!$W$6:$ZZ$6,\"<=\"&'M-Q-Y'!GO$7))","v":0},{"$f":"IF(GP$4=\"\",0,SUMIFS(Model!$W13:$ZZ13,Model!$W$6:$ZZ$6,\">=\"&'M-Q-Y'!GP$6,Model!$W$6:$ZZ$6,\"<=\"&'M-Q-Y'!GP$7))","v":0},{"$f":"IF(GQ$4=\"\",0,SUMIFS(Model!$W13:$ZZ13,Model!$W$6:$ZZ$6,\">=\"&'M-Q-Y'!GQ$6,Model!$W$6:$ZZ$6,\"<=\"&'M-Q-Y'!GQ$7))","v":0},{"$f":"IF(GR$4=\"\",0,SUMIFS(Model!$W13:$ZZ13,Model!$W$6:$ZZ$6,\">=\"&'M-Q-Y'!GR$6,Model!$W$6:$ZZ$6,\"<=\"&'M-Q-Y'!GR$7))","v":0},{"$f":"IF(GS$4=\"\",0,SUMIFS(Model!$W13:$ZZ13,Model!$W$6:$ZZ$6,\">=\"&'M-Q-Y'!GS$6,Model!$W$6:$ZZ$6,\"<=\"&'M-Q-Y'!GS$7))","v":0},{"$f":"IF(GT$4=\"\",0,SUMIFS(Model!$W13:$ZZ13,Model!$W$6:$ZZ$6,\">=\"&'M-Q-Y'!GT$6,Model!$W$6:$ZZ$6,\"<=\"&'M-Q-Y'!GT$7))","v":0},{"$f":"IF(GU$4=\"\",0,SUMIFS(Model!$W13:$ZZ13,Model!$W$6:$ZZ$6,\">=\"&'M-Q-Y'!GU$6,Model!$W$6:$ZZ$6,\"<=\"&'M-Q-Y'!GU$7))","v":0},{"$f":"IF(GV$4=\"\",0,SUMIFS(Model!$W13:$ZZ13,Model!$W$6:$ZZ$6,\">=\"&'M-Q-Y'!GV$6,Model!$W$6:$ZZ$6,\"<=\"&'M-Q-Y'!GV$7))","v":0}]
[null,{"$f":"ROW()","v":14}]
[null,{"$f":"ROW()","v":15},null,null,null,null,null,"График оплат оборудования",null,null,null,null,null,null,null,"CF(-)",null,null,null,null,{"$f":"SUM(INDIRECT(ADDRESS($B15,X$2)&\":\"&ADDRESS($B15,MAX($2:$2))))","v":0},null,null,{"$f":"IF(X$4=\"\",0,SUMIFS(Model!$W17:$ZZ17,Model!$W$6:$ZZ$6,\">=\"&'M-Q-Y'!X$6,Model!$W$6:$ZZ$6,\"<=\"&'M-Q-Y'!X$7))","v":0},{"$f":"IF(Y$4=\"\",0,SUMIFS(Model!$W17:$ZZ17,Model!$W$6:$ZZ$6,\">=\"&'M-Q-Y'!Y$6,Model!$W$6:$ZZ$6,\"<=\"&'M-Q-Y'!Y$7))","v":0},{"$f":"IF(Z$4=\"\",0,SUMIFS(Model!$W17:$ZZ17,Model!$W$6:$ZZ$6,\">=\"&'M-Q-Y'!Z$6,Model!$W$6:$ZZ$6,\"<=\"&'M-Q-Y'!Z$7))","v":0},{"$f":"IF(AA$4=\"\",0,SUMIFS(Model!$W17:$ZZ17,Model!$W$6:$ZZ$6,\">=\"&'M-Q-Y'!AA$6,Model!$W$6:$ZZ$6,\"<=\"&'M-Q-Y'!AA$7))","v":0},{"$f":"IF(AB$4=\"\",0,SUMIFS(Model!$W17:$ZZ17,Model!$W$6:$ZZ$6,\">=\"&'M-Q-Y'!AB$6,Model!$W$6:$ZZ$6,\"<=\"&'M-Q-Y'!AB$7))","v":0},{"$f":"IF(AC$4=\"\",0,SUMIFS(Model!$W17:$ZZ17,Model!$W$6:$ZZ$6,\">=\"&'M-Q-Y'!AC$6,Model!$W$6:$ZZ$6,\"<=\"&'M-Q-Y'!AC$7))","v":0},{"$f":"IF(AD$4=\"\",0,SUMIFS(Model!$W17:$ZZ17,Model!$W$6:$ZZ$6,\">=\"&'M-Q-Y'!AD$6,Model!$W$6:$ZZ$6,\"<=\"&'M-Q-Y'!AD$7))","v":0},{"$f":"IF(AE$4=\"\",0,SUMIFS(Model!$W17:$ZZ17,Model!$W$6:$ZZ$6,\">=\"&'M-Q-Y'!AE$6,Model!$W$6:$ZZ$6,\"<=\"&'M-Q-Y'!AE$7))","v":0},{"$f":"IF(AF$4=\"\",0,SUMIFS(Model!$W17:$ZZ17,Model!$W$6:$ZZ$6,\">=\"&'M-Q-Y'!AF$6,Model!$W$6:$ZZ$6,\"<=\"&'M-Q-Y'!AF$7))","v":0},{"$f":"IF(AG$4=\"\",0,SUMIFS(Model!$W17:$ZZ17,Model!$W$6:$ZZ$6,\">=\"&'M-Q-Y'!AG$6,Model!$W$6:$ZZ$6,\"<=\"&'M-Q-Y'!AG$7))","v":0},{"$f":"IF(AH$4=\"\",0,SUMIFS(Model!$W17:$ZZ17,Model!$W$6:$ZZ$6,\">=\"&'M-Q-Y'!AH$6,Model!$W$6:$ZZ$6,\"<=\"&'M-Q-Y'!AH$7))","v":0},{"$f":"IF(AI$4=\"\",0,SUMIFS(Model!$W17:$ZZ17,Model!$W$6:$ZZ$6,\">=\"&'M-Q-Y'!AI$6,Model!$W$6:$ZZ$6,\"<=\"&'M-Q-Y'!AI$7))","v":0},{"$f":"IF(AJ$4=\"\",0,SUMIFS(Model!$W17:$ZZ17,Model!$W$6:$ZZ$6,\">=\"&'M-Q-Y'!AJ$6,Model!$W$6:$ZZ$6,\"<=\"&'M-Q-Y'!AJ$7))","v":0},{"$f":"IF(AK$4=\"\",0,SUMIFS(Model!$W17:$ZZ17,Model!$W$6:$ZZ$6,\">=\"&'M-Q-Y'!AK$6,Model!$W$6:$ZZ$6,\"<=\"&'M-Q-Y'!AK$7))","v":0},{"$f":"IF(AL$4=\"\",0,SUMIFS(Model!$W17:$ZZ17,Model!$W$6:$ZZ$6,\">=\"&'M-Q-Y'!AL$6,Model!$W$6:$ZZ$6,\"<=\"&'M-Q-Y'!AL$7))","v":0},{"$f":"IF(AM$4=\"\",0,SUMIFS(Model!$W17:$ZZ17,Model!$W$6:$ZZ$6,\">=\"&'M-Q-Y'!AM$6,Model!$W$6:$ZZ$6,\"<=\"&'M-Q-Y'!AM$7))","v":0},{"$f":"IF(AN$4=\"\",0,SUMIFS(Model!$W17:$ZZ17,Model!$W$6:$ZZ$6,\">=\"&'M-Q-Y'!AN$6,Model!$W$6:$ZZ$6,\"<=\"&'M-Q-Y'!AN$7))","v":0},{"$f":"IF(AO$4=\"\",0,SUMIFS(Model!$W17:$ZZ17,Model!$W$6:$ZZ$6,\">=\"&'M-Q-Y'!AO$6,Model!$W$6:$ZZ$6,\"<=\"&'M-Q-Y'!AO$7))","v":0},{"$f":"IF(AP$4=\"\",0,SUMIFS(Model!$W17:$ZZ17,Model!$W$6:$ZZ$6,\">=\"&'M-Q-Y'!AP$6,Model!$W$6:$ZZ$6,\"<=\"&'M-Q-Y'!AP$7))","v":0},{"$f":"IF(AQ$4=\"\",0,SUMIFS(Model!$W17:$ZZ17,Model!$W$6:$ZZ$6,\">=\"&'M-Q-Y'!AQ$6,Model!$W$6:$ZZ$6,\"<=\"&'M-Q-Y'!AQ$7))","v":0},{"$f":"IF(AR$4=\"\",0,SUMIFS(Model!$W17:$ZZ17,Model!$W$6:$ZZ$6,\">=\"&'M-Q-Y'!AR$6,Model!$W$6:$ZZ$6,\"<=\"&'M-Q-Y'!AR$7))","v":0},{"$f":"IF(AS$4=\"\",0,SUMIFS(Model!$W17:$ZZ17,Model!$W$6:$ZZ$6,\">=\"&'M-Q-Y'!AS$6,Model!$W$6:$ZZ$6,\"<=\"&'M-Q-Y'!AS$7))","v":0},{"$f":"IF(AT$4=\"\",0,SUMIFS(Model!$W17:$ZZ17,Model!$W$6:$ZZ$6,\">=\"&'M-Q-Y'!AT$6,Model!$W$6:$ZZ$6,\"<=\"&'M-Q-Y'!AT$7))","v":0},{"$f":"IF(AU$4=\"\",0,SUMIFS(Model!$W17:$ZZ17,Model!$W$6:$ZZ$6,\">=\"&'M-Q-Y'!AU$6,Model!$W$6:$ZZ$6,\"<=\"&'M-Q-Y'!AU$7))","v":0},{"$f":"IF(AV$4=\"\",0,SUMIFS(Model!$W17:$ZZ17,Model!$W$6:$ZZ$6,\">=\"&'M-Q-Y'!AV$6,Model!$W$6:$ZZ$6,\"<=\"&'M-Q-Y'!AV$7))","v":0},{"$f":"IF(AW$4=\"\",0,SUMIFS(Model!$W17:$ZZ17,Model!$W$6:$ZZ$6,\">=\"&'M-Q-Y'!AW$6,Model!$W$6:$ZZ$6,\"<=\"&'M-Q-Y'!AW$7))","v":0},{"$f":"IF(AX$4=\"\",0,SUMIFS(Model!$W17:$ZZ17,Model!$W$6:$ZZ$6,\">=\"&'M-Q-Y'!AX$6,Model!$W$6:$ZZ$6,\"<=\"&'M-Q-Y'!AX$7))","v":0},{"$f":"IF(AY$4=\"\",0,SUMIFS(Model!$W17:$ZZ17,Model!$W$6:$ZZ$6,\">=\"&'M-Q-Y'!AY$6,Model!$W$6:$ZZ$6,\"<=\"&'M-Q-Y'!AY$7))","v":0},{"$f":"IF(AZ$4=\"\",0,SUMIFS(Model!$W17:$ZZ17,Model!$W$6:$ZZ$6,\">=\"&'M-Q-Y'!AZ$6,Model!$W$6:$ZZ$6,\"<=\"&'M-Q-Y'!AZ$7))","v":0},{"$f":"IF(BA$4=\"\",0,SUMIFS(Model!$W17:$ZZ17,Model!$W$6:$ZZ$6,\">=\"&'M-Q-Y'!BA$6,Model!$W$6:$ZZ$6,\"<=\"&'M-Q-Y'!BA$7))","v":0},{"$f":"IF(BB$4=\"\",0,SUMIFS(Model!$W17:$ZZ17,Model!$W$6:$ZZ$6,\">=\"&'M-Q-Y'!BB$6,Model!$W$6:$ZZ$6,\"<=\"&'M-Q-Y'!BB$7))","v":0},{"$f":"IF(BC$4=\"\",0,SUMIFS(Model!$W17:$ZZ17,Model!$W$6:$ZZ$6,\">=\"&'M-Q-Y'!BC$6,Model!$W$6:$ZZ$6,\"<=\"&'M-Q-Y'!BC$7))","v":0},{"$f":"IF(BD$4=\"\",0,SUMIFS(Model!$W17:$ZZ17,Model!$W$6:$ZZ$6,\">=\"&'M-Q-Y'!BD$6,Model!$W$6:$ZZ$6,\"<=\"&'M-Q-Y'!BD$7))","v":0},{"$f":"IF(BE$4=\"\",0,SUMIFS(Model!$W17:$ZZ17,Model!$W$6:$ZZ$6,\">=\"&'M-Q-Y'!BE$6,Model!$W$6:$ZZ$6,\"<=\"&'M-Q-Y'!BE$7))","v":0},{"$f":"IF(BF$4=\"\",0,SUMIFS(Model!$W17:$ZZ17,Model!$W$6:$ZZ$6,\">=\"&'M-Q-Y'!BF$6,Model!$W$6:$ZZ$6,\"<=\"&'M-Q-Y'!BF$7))","v":0},{"$f":"IF(BG$4=\"\",0,SUMIFS(Model!$W17:$ZZ17,Model!$W$6:$ZZ$6,\">=\"&'M-Q-Y'!BG$6,Model!$W$6:$ZZ$6,\"<=\"&'M-Q-Y'!BG$7))","v":0},{"$f":"IF(BH$4=\"\",0,SUMIFS(Model!$W17:$ZZ17,Model!$W$6:$ZZ$6,\">=\"&'M-Q-Y'!BH$6,Model!$W$6:$ZZ$6,\"<=\"&'M-Q-Y'!BH$7))","v":0},{"$f":"IF(BI$4=\"\",0,SUMIFS(Model!$W17:$ZZ17,Model!$W$6:$ZZ$6,\">=\"&'M-Q-Y'!BI$6,Model!$W$6:$ZZ$6,\"<=\"&'M-Q-Y'!BI$7))","v":0},{"$f":"IF(BJ$4=\"\",0,SUMIFS(Model!$W17:$ZZ17,Model!$W$6:$ZZ$6,\">=\"&'M-Q-Y'!BJ$6,Model!$W$6:$ZZ$6,\"<=\"&'M-Q-Y'!BJ$7))","v":0},{"$f":"IF(BK$4=\"\",0,SUMIFS(Model!$W17:$ZZ17,Model!$W$6:$ZZ$6,\">=\"&'M-Q-Y'!BK$6,Model!$W$6:$ZZ$6,\"<=\"&'M-Q-Y'!BK$7))","v":0},{"$f":"IF(BL$4=\"\",0,SUMIFS(Model!$W17:$ZZ17,Model!$W$6:$ZZ$6,\">=\"&'M-Q-Y'!BL$6,Model!$W$6:$ZZ$6,\"<=\"&'M-Q-Y'!BL$7))","v":0},{"$f":"IF(BM$4=\"\",0,SUMIFS(Model!$W17:$ZZ17,Model!$W$6:$ZZ$6,\">=\"&'M-Q-Y'!BM$6,Model!$W$6:$ZZ$6,\"<=\"&'M-Q-Y'!BM$7))","v":0},{"$f":"IF(BN$4=\"\",0,SUMIFS(Model!$W17:$ZZ17,Model!$W$6:$ZZ$6,\">=\"&'M-Q-Y'!BN$6,Model!$W$6:$ZZ$6,\"<=\"&'M-Q-Y'!BN$7))","v":0},{"$f":"IF(BO$4=\"\",0,SUMIFS(Model!$W17:$ZZ17,Model!$W$6:$ZZ$6,\">=\"&'M-Q-Y'!BO$6,Model!$W$6:$ZZ$6,\"<=\"&'M-Q-Y'!BO$7))","v":0},{"$f":"IF(BP$4=\"\",0,SUMIFS(Model!$W17:$ZZ17,Model!$W$6:$ZZ$6,\">=\"&'M-Q-Y'!BP$6,Model!$W$6:$ZZ$6,\"<=\"&'M-Q-Y'!BP$7))","v":0},{"$f":"IF(BQ$4=\"\",0,SUMIFS(Model!$W17:$ZZ17,Model!$W$6:$ZZ$6,\">=\"&'M-Q-Y'!BQ$6,Model!$W$6:$ZZ$6,\"<=\"&'M-Q-Y'!BQ$7))","v":0},{"$f":"IF(BR$4=\"\",0,SUMIFS(Model!$W17:$ZZ17,Model!$W$6:$ZZ$6,\">=\"&'M-Q-Y'!BR$6,Model!$W$6:$ZZ$6,\"<=\"&'M-Q-Y'!BR$7))","v":0},{"$f":"IF(BS$4=\"\",0,SUMIFS(Model!$W17:$ZZ17,Model!$W$6:$ZZ$6,\">=\"&'M-Q-Y'!BS$6,Model!$W$6:$ZZ$6,\"<=\"&'M-Q-Y'!BS$7))","v":0},{"$f":"IF(BT$4=\"\",0,SUMIFS(Model!$W17:$ZZ17,Model!$W$6:$ZZ$6,\">=\"&'M-Q-Y'!BT$6,Model!$W$6:$ZZ$6,\"<=\"&'M-Q-Y'!BT$7))","v":0},{"$f":"IF(BU$4=\"\",0,SUMIFS(Model!$W17:$ZZ17,Model!$W$6:$ZZ$6,\">=\"&'M-Q-Y'!BU$6,Model!$W$6:$ZZ$6,\"<=\"&'M-Q-Y'!BU$7))","v":0},{"$f":"IF(BV$4=\"\",0,SUMIFS(Model!$W17:$ZZ17,Model!$W$6:$ZZ$6,\">=\"&'M-Q-Y'!BV$6,Model!$W$6:$ZZ$6,\"<=\"&'M-Q-Y'!BV$7))","v":0},{"$f":"IF(BW$4=\"\",0,SUMIFS(Model!$W17:$ZZ17,Model!$W$6:$ZZ$6,\">=\"&'M-Q-Y'!BW$6,Model!$W$6:$ZZ$6,\"<=\"&'M-Q-Y'!BW$7))","v":0},{"$f":"IF(BX$4=\"\",0,SUMIFS(Model!$W17:$ZZ17,Model!$W$6:$ZZ$6,\">=\"&'M-Q-Y'!BX$6,Model!$W$6:$ZZ$6,\"<=\"&'M-Q-Y'!BX$7))","v":0},{"$f":"IF(BY$4=\"\",0,SUMIFS(Model!$W17:$ZZ17,Model!$W$6:$ZZ$6,\">=\"&'M-Q-Y'!BY$6,Model!$W$6:$ZZ$6,\"<=\"&'M-Q-Y'!BY$7))","v":0},{"$f":"IF(BZ$4=\"\",0,SUMIFS(Model!$W17:$ZZ17,Model!$W$6:$ZZ$6,\">=\"&'M-Q-Y'!BZ$6,Model!$W$6:$ZZ$6,\"<=\"&'M-Q-Y'!BZ$7))","v":0},{"$f":"IF(CA$4=\"\",0,SUMIFS(Model!$W17:$ZZ17,Model!$W$6:$ZZ$6,\">=\"&'M-Q-Y'!CA$6,Model!$W$6:$ZZ$6,\"<=\"&'M-Q-Y'!CA$7))","v":0},{"$f":"IF(CB$4=\"\",0,SUMIFS(Model!$W17:$ZZ17,Model!$W$6:$ZZ$6,\">=\"&'M-Q-Y'!CB$6,Model!$W$6:$ZZ$6,\"<=\"&'M-Q-Y'!CB$7))","v":0},{"$f":"IF(CC$4=\"\",0,SUMIFS(Model!$W17:$ZZ17,Model!$W$6:$ZZ$6,\">=\"&'M-Q-Y'!CC$6,Model!$W$6:$ZZ$6,\"<=\"&'M-Q-Y'!CC$7))","v":0},{"$f":"IF(CD$4=\"\",0,SUMIFS(Model!$W17:$ZZ17,Model!$W$6:$ZZ$6,\">=\"&'M-Q-Y'!CD$6,Model!$W$6:$ZZ$6,\"<=\"&'M-Q-Y'!CD$7))","v":0},{"$f":"IF(CE$4=\"\",0,SUMIFS(Model!$W17:$ZZ17,Model!$W$6:$ZZ$6,\">=\"&'M-Q-Y'!CE$6,Model!$W$6:$ZZ$6,\"<=\"&'M-Q-Y'!CE$7))","v":0},{"$f":"IF(CF$4=\"\",0,SUMIFS(Model!$W17:$ZZ17,Model!$W$6:$ZZ$6,\">=\"&'M-Q-Y'!CF$6,Model!$W$6:$ZZ$6,\"<=\"&'M-Q-Y'!CF$7))","v":0},{"$f":"IF(CG$4=\"\",0,SUMIFS(Model!$W17:$ZZ17,Model!$W$6:$ZZ$6,\">=\"&'M-Q-Y'!CG$6,Model!$W$6:$ZZ$6,\"<=\"&'M-Q-Y'!CG$7))","v":0},{"$f":"IF(CH$4=\"\",0,SUMIFS(Model!$W17:$ZZ17,Model!$W$6:$ZZ$6,\">=\"&'M-Q-Y'!CH$6,Model!$W$6:$ZZ$6,\"<=\"&'M-Q-Y'!CH$7))","v":0},{"$f":"IF(CI$4=\"\",0,SUMIFS(Model!$W17:$ZZ17,Model!$W$6:$ZZ$6,\">=\"&'M-Q-Y'!CI$6,Model!$W$6:$ZZ$6,\"<=\"&'M-Q-Y'!CI$7))","v":0},{"$f":"IF(CJ$4=\"\",0,SUMIFS(Model!$W17:$ZZ17,Model!$W$6:$ZZ$6,\">=\"&'M-Q-Y'!CJ$6,Model!$W$6:$ZZ$6,\"<=\"&'M-Q-Y'!CJ$7))","v":0},{"$f":"IF(CK$4=\"\",0,SUMIFS(Model!$W17:$ZZ17,Model!$W$6:$ZZ$6,\">=\"&'M-Q-Y'!CK$6,Model!$W$6:$ZZ$6,\"<=\"&'M-Q-Y'!CK$7))","v":0},{"$f":"IF(CL$4=\"\",0,SUMIFS(Model!$W17:$ZZ17,Model!$W$6:$ZZ$6,\">=\"&'M-Q-Y'!CL$6,Model!$W$6:$ZZ$6,\"<=\"&'M-Q-Y'!CL$7))","v":0},{"$f":"IF(CM$4=\"\",0,SUMIFS(Model!$W17:$ZZ17,Model!$W$6:$ZZ$6,\">=\"&'M-Q-Y'!CM$6,Model!$W$6:$ZZ$6,\"<=\"&'M-Q-Y'!CM$7))","v":0},{"$f":"IF(CN$4=\"\",0,SUMIFS(Model!$W17:$ZZ17,Model!$W$6:$ZZ$6,\">=\"&'M-Q-Y'!CN$6,Model!$W$6:$ZZ$6,\"<=\"&'M-Q-Y'!CN$7))","v":0},{"$f":"IF(CO$4=\"\",0,SUMIFS(Model!$W17:$ZZ17,Model!$W$6:$ZZ$6,\">=\"&'M-Q-Y'!CO$6,Model!$W$6:$ZZ$6,\"<=\"&'M-Q-Y'!CO$7))","v":0},{"$f":"IF(CP$4=\"\",0,SUMIFS(Model!$W17:$ZZ17,Model!$W$6:$ZZ$6,\">=\"&'M-Q-Y'!CP$6,Model!$W$6:$ZZ$6,\"<=\"&'M-Q-Y'!CP$7))","v":0},{"$f":"IF(CQ$4=\"\",0,SUMIFS(Model!$W17:$ZZ17,Model!$W$6:$ZZ$6,\">=\"&'M-Q-Y'!CQ$6,Model!$W$6:$ZZ$6,\"<=\"&'M-Q-Y'!CQ$7))","v":0},{"$f":"IF(CR$4=\"\",0,SUMIFS(Model!$W17:$ZZ17,Model!$W$6:$ZZ$6,\">=\"&'M-Q-Y'!CR$6,Model!$W$6:$ZZ$6,\"<=\"&'M-Q-Y'!CR$7))","v":0},{"$f":"IF(CS$4=\"\",0,SUMIFS(Model!$W17:$ZZ17,Model!$W$6:$ZZ$6,\">=\"&'M-Q-Y'!CS$6,Model!$W$6:$ZZ$6,\"<=\"&'M-Q-Y'!CS$7))","v":0},{"$f":"IF(CT$4=\"\",0,SUMIFS(Model!$W17:$ZZ17,Model!$W$6:$ZZ$6,\">=\"&'M-Q-Y'!CT$6,Model!$W$6:$ZZ$6,\"<=\"&'M-Q-Y'!CT$7))","v":0},{"$f":"IF(CU$4=\"\",0,SUMIFS(Model!$W17:$ZZ17,Model!$W$6:$ZZ$6,\">=\"&'M-Q-Y'!CU$6,Model!$W$6:$ZZ$6,\"<=\"&'M-Q-Y'!CU$7))","v":0},{"$f":"IF(CV$4=\"\",0,SUMIFS(Model!$W17:$ZZ17,Model!$W$6:$ZZ$6,\">=\"&'M-Q-Y'!CV$6,Model!$W$6:$ZZ$6,\"<=\"&'M-Q-Y'!CV$7))","v":0},{"$f":"IF(CW$4=\"\",0,SUMIFS(Model!$W17:$ZZ17,Model!$W$6:$ZZ$6,\">=\"&'M-Q-Y'!CW$6,Model!$W$6:$ZZ$6,\"<=\"&'M-Q-Y'!CW$7))","v":0},{"$f":"IF(CX$4=\"\",0,SUMIFS(Model!$W17:$ZZ17,Model!$W$6:$ZZ$6,\">=\"&'M-Q-Y'!CX$6,Model!$W$6:$ZZ$6,\"<=\"&'M-Q-Y'!CX$7))","v":0},{"$f":"IF(CY$4=\"\",0,SUMIFS(Model!$W17:$ZZ17,Model!$W$6:$ZZ$6,\">=\"&'M-Q-Y'!CY$6,Model!$W$6:$ZZ$6,\"<=\"&'M-Q-Y'!CY$7))","v":0},{"$f":"IF(CZ$4=\"\",0,SUMIFS(Model!$W17:$ZZ17,Model!$W$6:$ZZ$6,\">=\"&'M-Q-Y'!CZ$6,Model!$W$6:$ZZ$6,\"<=\"&'M-Q-Y'!CZ$7))","v":0},{"$f":"IF(DA$4=\"\",0,SUMIFS(Model!$W17:$ZZ17,Model!$W$6:$ZZ$6,\">=\"&'M-Q-Y'!DA$6,Model!$W$6:$ZZ$6,\"<=\"&'M-Q-Y'!DA$7))","v":0},{"$f":"IF(DB$4=\"\",0,SUMIFS(Model!$W17:$ZZ17,Model!$W$6:$ZZ$6,\">=\"&'M-Q-Y'!DB$6,Model!$W$6:$ZZ$6,\"<=\"&'M-Q-Y'!DB$7))","v":0},{"$f":"IF(DC$4=\"\",0,SUMIFS(Model!$W17:$ZZ17,Model!$W$6:$ZZ$6,\">=\"&'M-Q-Y'!DC$6,Model!$W$6:$ZZ$6,\"<=\"&'M-Q-Y'!DC$7))","v":0},{"$f":"IF(DD$4=\"\",0,SUMIFS(Model!$W17:$ZZ17,Model!$W$6:$ZZ$6,\">=\"&'M-Q-Y'!DD$6,Model!$W$6:$ZZ$6,\"<=\"&'M-Q-Y'!DD$7))","v":0},{"$f":"IF(DE$4=\"\",0,SUMIFS(Model!$W17:$ZZ17,Model!$W$6:$ZZ$6,\">=\"&'M-Q-Y'!DE$6,Model!$W$6:$ZZ$6,\"<=\"&'M-Q-Y'!DE$7))","v":0},{"$f":"IF(DF$4=\"\",0,SUMIFS(Model!$W17:$ZZ17,Model!$W$6:$ZZ$6,\">=\"&'M-Q-Y'!DF$6,Model!$W$6:$ZZ$6,\"<=\"&'M-Q-Y'!DF$7))","v":0},{"$f":"IF(DG$4=\"\",0,SUMIFS(Model!$W17:$ZZ17,Model!$W$6:$ZZ$6,\">=\"&'M-Q-Y'!DG$6,Model!$W$6:$ZZ$6,\"<=\"&'M-Q-Y'!DG$7))","v":0},{"$f":"IF(DH$4=\"\",0,SUMIFS(Model!$W17:$ZZ17,Model!$W$6:$ZZ$6,\">=\"&'M-Q-Y'!DH$6,Model!$W$6:$ZZ$6,\"<=\"&'M-Q-Y'!DH$7))","v":0},{"$f":"IF(DI$4=\"\",0,SUMIFS(Model!$W17:$ZZ17,Model!$W$6:$ZZ$6,\">=\"&'M-Q-Y'!DI$6,Model!$W$6:$ZZ$6,\"<=\"&'M-Q-Y'!DI$7))","v":0},{"$f":"IF(DJ$4=\"\",0,SUMIFS(Model!$W17:$ZZ17,Model!$W$6:$ZZ$6,\">=\"&'M-Q-Y'!DJ$6,Model!$W$6:$ZZ$6,\"<=\"&'M-Q-Y'!DJ$7))","v":0},{"$f":"IF(DK$4=\"\",0,SUMIFS(Model!$W17:$ZZ17,Model!$W$6:$ZZ$6,\">=\"&'M-Q-Y'!DK$6,Model!$W$6:$ZZ$6,\"<=\"&'M-Q-Y'!DK$7))","v":0},{"$f":"IF(DL$4=\"\",0,SUMIFS(Model!$W17:$ZZ17,Model!$W$6:$ZZ$6,\">=\"&'M-Q-Y'!DL$6,Model!$W$6:$ZZ$6,\"<=\"&'M-Q-Y'!DL$7))","v":0},{"$f":"IF(DM$4=\"\",0,SUMIFS(Model!$W17:$ZZ17,Model!$W$6:$ZZ$6,\">=\"&'M-Q-Y'!DM$6,Model!$W$6:$ZZ$6,\"<=\"&'M-Q-Y'!DM$7))","v":0},{"$f":"IF(DN$4=\"\",0,SUMIFS(Model!$W17:$ZZ17,Model!$W$6:$ZZ$6,\">=\"&'M-Q-Y'!DN$6,Model!$W$6:$ZZ$6,\"<=\"&'M-Q-Y'!DN$7))","v":0},{"$f":"IF(DO$4=\"\",0,SUMIFS(Model!$W17:$ZZ17,Model!$W$6:$ZZ$6,\">=\"&'M-Q-Y'!DO$6,Model!$W$6:$ZZ$6,\"<=\"&'M-Q-Y'!DO$7))","v":0},{"$f":"IF(DP$4=\"\",0,SUMIFS(Model!$W17:$ZZ17,Model!$W$6:$ZZ$6,\">=\"&'M-Q-Y'!DP$6,Model!$W$6:$ZZ$6,\"<=\"&'M-Q-Y'!DP$7))","v":0},{"$f":"IF(DQ$4=\"\",0,SUMIFS(Model!$W17:$ZZ17,Model!$W$6:$ZZ$6,\">=\"&'M-Q-Y'!DQ$6,Model!$W$6:$ZZ$6,\"<=\"&'M-Q-Y'!DQ$7))","v":0},{"$f":"IF(DR$4=\"\",0,SUMIFS(Model!$W17:$ZZ17,Model!$W$6:$ZZ$6,\">=\"&'M-Q-Y'!DR$6,Model!$W$6:$ZZ$6,\"<=\"&'M-Q-Y'!DR$7))","v":0},{"$f":"IF(DS$4=\"\",0,SUMIFS(Model!$W17:$ZZ17,Model!$W$6:$ZZ$6,\">=\"&'M-Q-Y'!DS$6,Model!$W$6:$ZZ$6,\"<=\"&'M-Q-Y'!DS$7))","v":0},{"$f":"IF(DT$4=\"\",0,SUMIFS(Model!$W17:$ZZ17,Model!$W$6:$ZZ$6,\">=\"&'M-Q-Y'!DT$6,Model!$W$6:$ZZ$6,\"<=\"&'M-Q-Y'!DT$7))","v":0},{"$f":"IF(DU$4=\"\",0,SUMIFS(Model!$W17:$ZZ17,Model!$W$6:$ZZ$6,\">=\"&'M-Q-Y'!DU$6,Model!$W$6:$ZZ$6,\"<=\"&'M-Q-Y'!DU$7))","v":0},{"$f":"IF(DV$4=\"\",0,SUMIFS(Model!$W17:$ZZ17,Model!$W$6:$ZZ$6,\">=\"&'M-Q-Y'!DV$6,Model!$W$6:$ZZ$6,\"<=\"&'M-Q-Y'!DV$7))","v":0},{"$f":"IF(DW$4=\"\",0,SUMIFS(Model!$W17:$ZZ17,Model!$W$6:$ZZ$6,\">=\"&'M-Q-Y'!DW$6,Model!$W$6:$ZZ$6,\"<=\"&'M-Q-Y'!DW$7))","v":0},{"$f":"IF(DX$4=\"\",0,SUMIFS(Model!$W17:$ZZ17,Model!$W$6:$ZZ$6,\">=\"&'M-Q-Y'!DX$6,Model!$W$6:$ZZ$6,\"<=\"&'M-Q-Y'!DX$7))","v":0},{"$f":"IF(DY$4=\"\",0,SUMIFS(Model!$W17:$ZZ17,Model!$W$6:$ZZ$6,\">=\"&'M-Q-Y'!DY$6,Model!$W$6:$ZZ$6,\"<=\"&'M-Q-Y'!DY$7))","v":0},{"$f":"IF(DZ$4=\"\",0,SUMIFS(Model!$W17:$ZZ17,Model!$W$6:$ZZ$6,\">=\"&'M-Q-Y'!DZ$6,Model!$W$6:$ZZ$6,\"<=\"&'M-Q-Y'!DZ$7))","v":0},{"$f":"IF(EA$4=\"\",0,SUMIFS(Model!$W17:$ZZ17,Model!$W$6:$ZZ$6,\">=\"&'M-Q-Y'!EA$6,Model!$W$6:$ZZ$6,\"<=\"&'M-Q-Y'!EA$7))","v":0},{"$f":"IF(EB$4=\"\",0,SUMIFS(Model!$W17:$ZZ17,Model!$W$6:$ZZ$6,\">=\"&'M-Q-Y'!EB$6,Model!$W$6:$ZZ$6,\"<=\"&'M-Q-Y'!EB$7))","v":0},{"$f":"IF(EC$4=\"\",0,SUMIFS(Model!$W17:$ZZ17,Model!$W$6:$ZZ$6,\">=\"&'M-Q-Y'!EC$6,Model!$W$6:$ZZ$6,\"<=\"&'M-Q-Y'!EC$7))","v":0},{"$f":"IF(ED$4=\"\",0,SUMIFS(Model!$W17:$ZZ17,Model!$W$6:$ZZ$6,\">=\"&'M-Q-Y'!ED$6,Model!$W$6:$ZZ$6,\"<=\"&'M-Q-Y'!ED$7))","v":0},{"$f":"IF(EE$4=\"\",0,SUMIFS(Model!$W17:$ZZ17,Model!$W$6:$ZZ$6,\">=\"&'M-Q-Y'!EE$6,Model!$W$6:$ZZ$6,\"<=\"&'M-Q-Y'!EE$7))","v":0},{"$f":"IF(EF$4=\"\",0,SUMIFS(Model!$W17:$ZZ17,Model!$W$6:$ZZ$6,\">=\"&'M-Q-Y'!EF$6,Model!$W$6:$ZZ$6,\"<=\"&'M-Q-Y'!EF$7))","v":0},{"$f":"IF(EG$4=\"\",0,SUMIFS(Model!$W17:$ZZ17,Model!$W$6:$ZZ$6,\">=\"&'M-Q-Y'!EG$6,Model!$W$6:$ZZ$6,\"<=\"&'M-Q-Y'!EG$7))","v":0},{"$f":"IF(EH$4=\"\",0,SUMIFS(Model!$W17:$ZZ17,Model!$W$6:$ZZ$6,\">=\"&'M-Q-Y'!EH$6,Model!$W$6:$ZZ$6,\"<=\"&'M-Q-Y'!EH$7))","v":0},{"$f":"IF(EI$4=\"\",0,SUMIFS(Model!$W17:$ZZ17,Model!$W$6:$ZZ$6,\">=\"&'M-Q-Y'!EI$6,Model!$W$6:$ZZ$6,\"<=\"&'M-Q-Y'!EI$7))","v":0},{"$f":"IF(EJ$4=\"\",0,SUMIFS(Model!$W17:$ZZ17,Model!$W$6:$ZZ$6,\">=\"&'M-Q-Y'!EJ$6,Model!$W$6:$ZZ$6,\"<=\"&'M-Q-Y'!EJ$7))","v":0},{"$f":"IF(EK$4=\"\",0,SUMIFS(Model!$W17:$ZZ17,Model!$W$6:$ZZ$6,\">=\"&'M-Q-Y'!EK$6,Model!$W$6:$ZZ$6,\"<=\"&'M-Q-Y'!EK$7))","v":0},{"$f":"IF(EL$4=\"\",0,SUMIFS(Model!$W17:$ZZ17,Model!$W$6:$ZZ$6,\">=\"&'M-Q-Y'!EL$6,Model!$W$6:$ZZ$6,\"<=\"&'M-Q-Y'!EL$7))","v":0},{"$f":"IF(EM$4=\"\",0,SUMIFS(Model!$W17:$ZZ17,Model!$W$6:$ZZ$6,\">=\"&'M-Q-Y'!EM$6,Model!$W$6:$ZZ$6,\"<=\"&'M-Q-Y'!EM$7))","v":0},{"$f":"IF(EN$4=\"\",0,SUMIFS(Model!$W17:$ZZ17,Model!$W$6:$ZZ$6,\">=\"&'M-Q-Y'!EN$6,Model!$W$6:$ZZ$6,\"<=\"&'M-Q-Y'!EN$7))","v":0},{"$f":"IF(EO$4=\"\",0,SUMIFS(Model!$W17:$ZZ17,Model!$W$6:$ZZ$6,\">=\"&'M-Q-Y'!EO$6,Model!$W$6:$ZZ$6,\"<=\"&'M-Q-Y'!EO$7))","v":0},{"$f":"IF(EP$4=\"\",0,SUMIFS(Model!$W17:$ZZ17,Model!$W$6:$ZZ$6,\">=\"&'M-Q-Y'!EP$6,Model!$W$6:$ZZ$6,\"<=\"&'M-Q-Y'!EP$7))","v":0},{"$f":"IF(EQ$4=\"\",0,SUMIFS(Model!$W17:$ZZ17,Model!$W$6:$ZZ$6,\">=\"&'M-Q-Y'!EQ$6,Model!$W$6:$ZZ$6,\"<=\"&'M-Q-Y'!EQ$7))","v":0},{"$f":"IF(ER$4=\"\",0,SUMIFS(Model!$W17:$ZZ17,Model!$W$6:$ZZ$6,\">=\"&'M-Q-Y'!ER$6,Model!$W$6:$ZZ$6,\"<=\"&'M-Q-Y'!ER$7))","v":0},{"$f":"IF(ES$4=\"\",0,SUMIFS(Model!$W17:$ZZ17,Model!$W$6:$ZZ$6,\">=\"&'M-Q-Y'!ES$6,Model!$W$6:$ZZ$6,\"<=\"&'M-Q-Y'!ES$7))","v":0},{"$f":"IF(ET$4=\"\",0,SUMIFS(Model!$W17:$ZZ17,Model!$W$6:$ZZ$6,\">=\"&'M-Q-Y'!ET$6,Model!$W$6:$ZZ$6,\"<=\"&'M-Q-Y'!ET$7))","v":0},{"$f":"IF(EU$4=\"\",0,SUMIFS(Model!$W17:$ZZ17,Model!$W$6:$ZZ$6,\">=\"&'M-Q-Y'!EU$6,Model!$W$6:$ZZ$6,\"<=\"&'M-Q-Y'!EU$7))","v":0},{"$f":"IF(EV$4=\"\",0,SUMIFS(Model!$W17:$ZZ17,Model!$W$6:$ZZ$6,\">=\"&'M-Q-Y'!EV$6,Model!$W$6:$ZZ$6,\"<=\"&'M-Q-Y'!EV$7))","v":0},{"$f":"IF(EW$4=\"\",0,SUMIFS(Model!$W17:$ZZ17,Model!$W$6:$ZZ$6,\">=\"&'M-Q-Y'!EW$6,Model!$W$6:$ZZ$6,\"<=\"&'M-Q-Y'!EW$7))","v":0},{"$f":"IF(EX$4=\"\",0,SUMIFS(Model!$W17:$ZZ17,Model!$W$6:$ZZ$6,\">=\"&'M-Q-Y'!EX$6,Model!$W$6:$ZZ$6,\"<=\"&'M-Q-Y'!EX$7))","v":0},{"$f":"IF(EY$4=\"\",0,SUMIFS(Model!$W17:$ZZ17,Model!$W$6:$ZZ$6,\">=\"&'M-Q-Y'!EY$6,Model!$W$6:$ZZ$6,\"<=\"&'M-Q-Y'!EY$7))","v":0},{"$f":"IF(EZ$4=\"\",0,SUMIFS(Model!$W17:$ZZ17,Model!$W$6:$ZZ$6,\">=\"&'M-Q-Y'!EZ$6,Model!$W$6:$ZZ$6,\"<=\"&'M-Q-Y'!EZ$7))","v":0},{"$f":"IF(FA$4=\"\",0,SUMIFS(Model!$W17:$ZZ17,Model!$W$6:$ZZ$6,\">=\"&'M-Q-Y'!FA$6,Model!$W$6:$ZZ$6,\"<=\"&'M-Q-Y'!FA$7))","v":0},{"$f":"IF(FB$4=\"\",0,SUMIFS(Model!$W17:$ZZ17,Model!$W$6:$ZZ$6,\">=\"&'M-Q-Y'!FB$6,Model!$W$6:$ZZ$6,\"<=\"&'M-Q-Y'!FB$7))","v":0},{"$f":"IF(FC$4=\"\",0,SUMIFS(Model!$W17:$ZZ17,Model!$W$6:$ZZ$6,\">=\"&'M-Q-Y'!FC$6,Model!$W$6:$ZZ$6,\"<=\"&'M-Q-Y'!FC$7))","v":0},{"$f":"IF(FD$4=\"\",0,SUMIFS(Model!$W17:$ZZ17,Model!$W$6:$ZZ$6,\">=\"&'M-Q-Y'!FD$6,Model!$W$6:$ZZ$6,\"<=\"&'M-Q-Y'!FD$7))","v":0},{"$f":"IF(FE$4=\"\",0,SUMIFS(Model!$W17:$ZZ17,Model!$W$6:$ZZ$6,\">=\"&'M-Q-Y'!FE$6,Model!$W$6:$ZZ$6,\"<=\"&'M-Q-Y'!FE$7))","v":0},{"$f":"IF(FF$4=\"\",0,SUMIFS(Model!$W17:$ZZ17,Model!$W$6:$ZZ$6,\">=\"&'M-Q-Y'!FF$6,Model!$W$6:$ZZ$6,\"<=\"&'M-Q-Y'!FF$7))","v":0},{"$f":"IF(FG$4=\"\",0,SUMIFS(Model!$W17:$ZZ17,Model!$W$6:$ZZ$6,\">=\"&'M-Q-Y'!FG$6,Model!$W$6:$ZZ$6,\"<=\"&'M-Q-Y'!FG$7))","v":0},{"$f":"IF(FH$4=\"\",0,SUMIFS(Model!$W17:$ZZ17,Model!$W$6:$ZZ$6,\">=\"&'M-Q-Y'!FH$6,Model!$W$6:$ZZ$6,\"<=\"&'M-Q-Y'!FH$7))","v":0},{"$f":"IF(FI$4=\"\",0,SUMIFS(Model!$W17:$ZZ17,Model!$W$6:$ZZ$6,\">=\"&'M-Q-Y'!FI$6,Model!$W$6:$ZZ$6,\"<=\"&'M-Q-Y'!FI$7))","v":0},{"$f":"IF(FJ$4=\"\",0,SUMIFS(Model!$W17:$ZZ17,Model!$W$6:$ZZ$6,\">=\"&'M-Q-Y'!FJ$6,Model!$W$6:$ZZ$6,\"<=\"&'M-Q-Y'!FJ$7))","v":0},{"$f":"IF(FK$4=\"\",0,SUMIFS(Model!$W17:$ZZ17,Model!$W$6:$ZZ$6,\">=\"&'M-Q-Y'!FK$6,Model!$W$6:$ZZ$6,\"<=\"&'M-Q-Y'!FK$7))","v":0},{"$f":"IF(FL$4=\"\",0,SUMIFS(Model!$W17:$ZZ17,Model!$W$6:$ZZ$6,\">=\"&'M-Q-Y'!FL$6,Model!$W$6:$ZZ$6,\"<=\"&'M-Q-Y'!FL$7))","v":0},{"$f":"IF(FM$4=\"\",0,SUMIFS(Model!$W17:$ZZ17,Model!$W$6:$ZZ$6,\">=\"&'M-Q-Y'!FM$6,Model!$W$6:$ZZ$6,\"<=\"&'M-Q-Y'!FM$7))","v":0},{"$f":"IF(FN$4=\"\",0,SUMIFS(Model!$W17:$ZZ17,Model!$W$6:$ZZ$6,\">=\"&'M-Q-Y'!FN$6,Model!$W$6:$ZZ$6,\"<=\"&'M-Q-Y'!FN$7))","v":0},{"$f":"IF(FO$4=\"\",0,SUMIFS(Model!$W17:$ZZ17,Model!$W$6:$ZZ$6,\">=\"&'M-Q-Y'!FO$6,Model!$W$6:$ZZ$6,\"<=\"&'M-Q-Y'!FO$7))","v":0},{"$f":"IF(FP$4=\"\",0,SUMIFS(Model!$W17:$ZZ17,Model!$W$6:$ZZ$6,\">=\"&'M-Q-Y'!FP$6,Model!$W$6:$ZZ$6,\"<=\"&'M-Q-Y'!FP$7))","v":0},{"$f":"IF(FQ$4=\"\",0,SUMIFS(Model!$W17:$ZZ17,Model!$W$6:$ZZ$6,\">=\"&'M-Q-Y'!FQ$6,Model!$W$6:$ZZ$6,\"<=\"&'M-Q-Y'!FQ$7))","v":0},{"$f":"IF(FR$4=\"\",0,SUMIFS(Model!$W17:$ZZ17,Model!$W$6:$ZZ$6,\">=\"&'M-Q-Y'!FR$6,Model!$W$6:$ZZ$6,\"<=\"&'M-Q-Y'!FR$7))","v":0},{"$f":"IF(FS$4=\"\",0,SUMIFS(Model!$W17:$ZZ17,Model!$W$6:$ZZ$6,\">=\"&'M-Q-Y'!FS$6,Model!$W$6:$ZZ$6,\"<=\"&'M-Q-Y'!FS$7))","v":0},{"$f":"IF(FT$4=\"\",0,SUMIFS(Model!$W17:$ZZ17,Model!$W$6:$ZZ$6,\">=\"&'M-Q-Y'!FT$6,Model!$W$6:$ZZ$6,\"<=\"&'M-Q-Y'!FT$7))","v":0},{"$f":"IF(FU$4=\"\",0,SUMIFS(Model!$W17:$ZZ17,Model!$W$6:$ZZ$6,\">=\"&'M-Q-Y'!FU$6,Model!$W$6:$ZZ$6,\"<=\"&'M-Q-Y'!FU$7))","v":0},{"$f":"IF(FV$4=\"\",0,SUMIFS(Model!$W17:$ZZ17,Model!$W$6:$ZZ$6,\">=\"&'M-Q-Y'!FV$6,Model!$W$6:$ZZ$6,\"<=\"&'M-Q-Y'!FV$7))","v":0},{"$f":"IF(FW$4=\"\",0,SUMIFS(Model!$W17:$ZZ17,Model!$W$6:$ZZ$6,\">=\"&'M-Q-Y'!FW$6,Model!$W$6:$ZZ$6,\"<=\"&'M-Q-Y'!FW$7))","v":0},{"$f":"IF(FX$4=\"\",0,SUMIFS(Model!$W17:$ZZ17,Model!$W$6:$ZZ$6,\">=\"&'M-Q-Y'!FX$6,Model!$W$6:$ZZ$6,\"<=\"&'M-Q-Y'!FX$7))","v":0},{"$f":"IF(FY$4=\"\",0,SUMIFS(Model!$W17:$ZZ17,Model!$W$6:$ZZ$6,\">=\"&'M-Q-Y'!FY$6,Model!$W$6:$ZZ$6,\"<=\"&'M-Q-Y'!FY$7))","v":0},{"$f":"IF(FZ$4=\"\",0,SUMIFS(Model!$W17:$ZZ17,Model!$W$6:$ZZ$6,\">=\"&'M-Q-Y'!FZ$6,Model!$W$6:$ZZ$6,\"<=\"&'M-Q-Y'!FZ$7))","v":0},{"$f":"IF(GA$4=\"\",0,SUMIFS(Model!$W17:$ZZ17,Model!$W$6:$ZZ$6,\">=\"&'M-Q-Y'!GA$6,Model!$W$6:$ZZ$6,\"<=\"&'M-Q-Y'!GA$7))","v":0},{"$f":"IF(GB$4=\"\",0,SUMIFS(Model!$W17:$ZZ17,Model!$W$6:$ZZ$6,\">=\"&'M-Q-Y'!GB$6,Model!$W$6:$ZZ$6,\"<=\"&'M-Q-Y'!GB$7))","v":0},{"$f":"IF(GC$4=\"\",0,SUMIFS(Model!$W17:$ZZ17,Model!$W$6:$ZZ$6,\">=\"&'M-Q-Y'!GC$6,Model!$W$6:$ZZ$6,\"<=\"&'M-Q-Y'!GC$7))","v":0},{"$f":"IF(GD$4=\"\",0,SUMIFS(Model!$W17:$ZZ17,Model!$W$6:$ZZ$6,\">=\"&'M-Q-Y'!GD$6,Model!$W$6:$ZZ$6,\"<=\"&'M-Q-Y'!GD$7))","v":0},{"$f":"IF(GE$4=\"\",0,SUMIFS(Model!$W17:$ZZ17,Model!$W$6:$ZZ$6,\">=\"&'M-Q-Y'!GE$6,Model!$W$6:$ZZ$6,\"<=\"&'M-Q-Y'!GE$7))","v":0},{"$f":"IF(GF$4=\"\",0,SUMIFS(Model!$W17:$ZZ17,Model!$W$6:$ZZ$6,\">=\"&'M-Q-Y'!GF$6,Model!$W$6:$ZZ$6,\"<=\"&'M-Q-Y'!GF$7))","v":0},{"$f":"IF(GG$4=\"\",0,SUMIFS(Model!$W17:$ZZ17,Model!$W$6:$ZZ$6,\">=\"&'M-Q-Y'!GG$6,Model!$W$6:$ZZ$6,\"<=\"&'M-Q-Y'!GG$7))","v":0},{"$f":"IF(GH$4=\"\",0,SUMIFS(Model!$W17:$ZZ17,Model!$W$6:$ZZ$6,\">=\"&'M-Q-Y'!GH$6,Model!$W$6:$ZZ$6,\"<=\"&'M-Q-Y'!GH$7))","v":0},{"$f":"IF(GI$4=\"\",0,SUMIFS(Model!$W17:$ZZ17,Model!$W$6:$ZZ$6,\">=\"&'M-Q-Y'!GI$6,Model!$W$6:$ZZ$6,\"<=\"&'M-Q-Y'!GI$7))","v":0},{"$f":"IF(GJ$4=\"\",0,SUMIFS(Model!$W17:$ZZ17,Model!$W$6:$ZZ$6,\">=\"&'M-Q-Y'!GJ$6,Model!$W$6:$ZZ$6,\"<=\"&'M-Q-Y'!GJ$7))","v":0},{"$f":"IF(GK$4=\"\",0,SUMIFS(Model!$W17:$ZZ17,Model!$W$6:$ZZ$6,\">=\"&'M-Q-Y'!GK$6,Model!$W$6:$ZZ$6,\"<=\"&'M-Q-Y'!GK$7))","v":0},{"$f":"IF(GL$4=\"\",0,SUMIFS(Model!$W17:$ZZ17,Model!$W$6:$ZZ$6,\">=\"&'M-Q-Y'!GL$6,Model!$W$6:$ZZ$6,\"<=\"&'M-Q-Y'!GL$7))","v":0},{"$f":"IF(GM$4=\"\",0,SUMIFS(Model!$W17:$ZZ17,Model!$W$6:$ZZ$6,\">=\"&'M-Q-Y'!GM$6,Model!$W$6:$ZZ$6,\"<=\"&'M-Q-Y'!GM$7))","v":0},{"$f":"IF(GN$4=\"\",0,SUMIFS(Model!$W17:$ZZ17,Model!$W$6:$ZZ$6,\">=\"&'M-Q-Y'!GN$6,Model!$W$6:$ZZ$6,\"<=\"&'M-Q-Y'!GN$7))","v":0},{"$f":"IF(GO$4=\"\",0,SUMIFS(Model!$W17:$ZZ17,Model!$W$6:$ZZ$6,\">=\"&'M-Q-Y'!GO$6,Model!$W$6:$ZZ$6,\"<=\"&'M-Q-Y'!GO$7))","v":0},{"$f":"IF(GP$4=\"\",0,SUMIFS(Model!$W17:$ZZ17,Model!$W$6:$ZZ$6,\">=\"&'M-Q-Y'!GP$6,Model!$W$6:$ZZ$6,\"<=\"&'M-Q-Y'!GP$7))","v":0},{"$f":"IF(GQ$4=\"\",0,SUMIFS(Model!$W17:$ZZ17,Model!$W$6:$ZZ$6,\">=\"&'M-Q-Y'!GQ$6,Model!$W$6:$ZZ$6,\"<=\"&'M-Q-Y'!GQ$7))","v":0},{"$f":"IF(GR$4=\"\",0,SUMIFS(Model!$W17:$ZZ17,Model!$W$6:$ZZ$6,\">=\"&'M-Q-Y'!GR$6,Model!$W$6:$ZZ$6,\"<=\"&'M-Q-Y'!GR$7))","v":0},{"$f":"IF(GS$4=\"\",0,SUMIFS(Model!$W17:$ZZ17,Model!$W$6:$ZZ$6,\">=\"&'M-Q-Y'!GS$6,Model!$W$6:$ZZ$6,\"<=\"&'M-Q-Y'!GS$7))","v":0},{"$f":"IF(GT$4=\"\",0,SUMIFS(Model!$W17:$ZZ17,Model!$W$6:$ZZ$6,\">=\"&'M-Q-Y'!GT$6,Model!$W$6:$ZZ$6,\"<=\"&'M-Q-Y'!GT$7))","v":0},{"$f":"IF(GU$4=\"\",0,SUMIFS(Model!$W17:$ZZ17,Model!$W$6:$ZZ$6,\">=\"&'M-Q-Y'!GU$6,Model!$W$6:$ZZ$6,\"<=\"&'M-Q-Y'!GU$7))","v":0},{"$f":"IF(GV$4=\"\",0,SUMIFS(Model!$W17:$ZZ17,Model!$W$6:$ZZ$6,\">=\"&'M-Q-Y'!GV$6,Model!$W$6:$ZZ$6,\"<=\"&'M-Q-Y'!GV$7))","v":0}]
[null,{"$f":"ROW()","v":16}]
[null,{"$f":"ROW()","v":17},null,null,null,null,null,"Ввод в эксплуатацию оборудования",null,null,null,null,"руб.",null,null,null,null,null,null,null,{"$f":"SUM(INDIRECT(ADDRESS($B17,X$2)&\":\"&ADDRESS($B17,MAX($2:$2))))","v":0},null,null,{"$f":"IF(X$4=\"\",0,SUMIFS(Model!$W20:$ZZ20,Model!$W$6:$ZZ$6,\">=\"&'M-Q-Y'!X$6,Model!$W$6:$ZZ$6,\"<=\"&'M-Q-Y'!X$7))","v":0},{"$f":"IF(Y$4=\"\",0,SUMIFS(Model!$W20:$ZZ20,Model!$W$6:$ZZ$6,\">=\"&'M-Q-Y'!Y$6,Model!$W$6:$ZZ$6,\"<=\"&'M-Q-Y'!Y$7))","v":0},{"$f":"IF(Z$4=\"\",0,SUMIFS(Model!$W20:$ZZ20,Model!$W$6:$ZZ$6,\">=\"&'M-Q-Y'!Z$6,Model!$W$6:$ZZ$6,\"<=\"&'M-Q-Y'!Z$7))","v":0},{"$f":"IF(AA$4=\"\",0,SUMIFS(Model!$W20:$ZZ20,Model!$W$6:$ZZ$6,\">=\"&'M-Q-Y'!AA$6,Model!$W$6:$ZZ$6,\"<=\"&'M-Q-Y'!AA$7))","v":0},{"$f":"IF(AB$4=\"\",0,SUMIFS(Model!$W20:$ZZ20,Model!$W$6:$ZZ$6,\">=\"&'M-Q-Y'!AB$6,Model!$W$6:$ZZ$6,\"<=\"&'M-Q-Y'!AB$7))","v":0},{"$f":"IF(AC$4=\"\",0,SUMIFS(Model!$W20:$ZZ20,Model!$W$6:$ZZ$6,\">=\"&'M-Q-Y'!AC$6,Model!$W$6:$ZZ$6,\"<=\"&'M-Q-Y'!AC$7))","v":0},{"$f":"IF(AD$4=\"\",0,SUMIFS(Model!$W20:$ZZ20,Model!$W$6:$ZZ$6,\">=\"&'M-Q-Y'!AD$6,Model!$W$6:$ZZ$6,\"<=\"&'M-Q-Y'!AD$7))","v":0},{"$f":"IF(AE$4=\"\",0,SUMIFS(Model!$W20:$ZZ20,Model!$W$6:$ZZ$6,\">=\"&'M-Q-Y'!AE$6,Model!$W$6:$ZZ$6,\"<=\"&'M-Q-Y'!AE$7))","v":0},{"$f":"IF(AF$4=\"\",0,SUMIFS(Model!$W20:$ZZ20,Model!$W$6:$ZZ$6,\">=\"&'M-Q-Y'!AF$6,Model!$W$6:$ZZ$6,\"<=\"&'M-Q-Y'!AF$7))","v":0},{"$f":"IF(AG$4=\"\",0,SUMIFS(Model!$W20:$ZZ20,Model!$W$6:$ZZ$6,\">=\"&'M-Q-Y'!AG$6,Model!$W$6:$ZZ$6,\"<=\"&'M-Q-Y'!AG$7))","v":0},{"$f":"IF(AH$4=\"\",0,SUMIFS(Model!$W20:$ZZ20,Model!$W$6:$ZZ$6,\">=\"&'M-Q-Y'!AH$6,Model!$W$6:$ZZ$6,\"<=\"&'M-Q-Y'!AH$7))","v":0},{"$f":"IF(AI$4=\"\",0,SUMIFS(Model!$W20:$ZZ20,Model!$W$6:$ZZ$6,\">=\"&'M-Q-Y'!AI$6,Model!$W$6:$ZZ$6,\"<=\"&'M-Q-Y'!AI$7))","v":0},{"$f":"IF(AJ$4=\"\",0,SUMIFS(Model!$W20:$ZZ20,Model!$W$6:$ZZ$6,\">=\"&'M-Q-Y'!AJ$6,Model!$W$6:$ZZ$6,\"<=\"&'M-Q-Y'!AJ$7))","v":0},{"$f":"IF(AK$4=\"\",0,SUMIFS(Model!$W20:$ZZ20,Model!$W$6:$ZZ$6,\">=\"&'M-Q-Y'!AK$6,Model!$W$6:$ZZ$6,\"<=\"&'M-Q-Y'!AK$7))","v":0},{"$f":"IF(AL$4=\"\",0,SUMIFS(Model!$W20:$ZZ20,Model!$W$6:$ZZ$6,\">=\"&'M-Q-Y'!AL$6,Model!$W$6:$ZZ$6,\"<=\"&'M-Q-Y'!AL$7))","v":0},{"$f":"IF(AM$4=\"\",0,SUMIFS(Model!$W20:$ZZ20,Model!$W$6:$ZZ$6,\">=\"&'M-Q-Y'!AM$6,Model!$W$6:$ZZ$6,\"<=\"&'M-Q-Y'!AM$7))","v":0},{"$f":"IF(AN$4=\"\",0,SUMIFS(Model!$W20:$ZZ20,Model!$W$6:$ZZ$6,\">=\"&'M-Q-Y'!AN$6,Model!$W$6:$ZZ$6,\"<=\"&'M-Q-Y'!AN$7))","v":0},{"$f":"IF(AO$4=\"\",0,SUMIFS(Model!$W20:$ZZ20,Model!$W$6:$ZZ$6,\">=\"&'M-Q-Y'!AO$6,Model!$W$6:$ZZ$6,\"<=\"&'M-Q-Y'!AO$7))","v":0},{"$f":"IF(AP$4=\"\",0,SUMIFS(Model!$W20:$ZZ20,Model!$W$6:$ZZ$6,\">=\"&'M-Q-Y'!AP$6,Model!$W$6:$ZZ$6,\"<=\"&'M-Q-Y'!AP$7))","v":0},{"$f":"IF(AQ$4=\"\",0,SUMIFS(Model!$W20:$ZZ20,Model!$W$6:$ZZ$6,\">=\"&'M-Q-Y'!AQ$6,Model!$W$6:$ZZ$6,\"<=\"&'M-Q-Y'!AQ$7))","v":0},{"$f":"IF(AR$4=\"\",0,SUMIFS(Model!$W20:$ZZ20,Model!$W$6:$ZZ$6,\">=\"&'M-Q-Y'!AR$6,Model!$W$6:$ZZ$6,\"<=\"&'M-Q-Y'!AR$7))","v":0},{"$f":"IF(AS$4=\"\",0,SUMIFS(Model!$W20:$ZZ20,Model!$W$6:$ZZ$6,\">=\"&'M-Q-Y'!AS$6,Model!$W$6:$ZZ$6,\"<=\"&'M-Q-Y'!AS$7))","v":0},{"$f":"IF(AT$4=\"\",0,SUMIFS(Model!$W20:$ZZ20,Model!$W$6:$ZZ$6,\">=\"&'M-Q-Y'!AT$6,Model!$W$6:$ZZ$6,\"<=\"&'M-Q-Y'!AT$7))","v":0},{"$f":"IF(AU$4=\"\",0,SUMIFS(Model!$W20:$ZZ20,Model!$W$6:$ZZ$6,\">=\"&'M-Q-Y'!AU$6,Model!$W$6:$ZZ$6,\"<=\"&'M-Q-Y'!AU$7))","v":0},{"$f":"IF(AV$4=\"\",0,SUMIFS(Model!$W20:$ZZ20,Model!$W$6:$ZZ$6,\">=\"&'M-Q-Y'!AV$6,Model!$W$6:$ZZ$6,\"<=\"&'M-Q-Y'!AV$7))","v":0},{"$f":"IF(AW$4=\"\",0,SUMIFS(Model!$W20:$ZZ20,Model!$W$6:$ZZ$6,\">=\"&'M-Q-Y'!AW$6,Model!$W$6:$ZZ$6,\"<=\"&'M-Q-Y'!AW$7))","v":0},{"$f":"IF(AX$4=\"\",0,SUMIFS(Model!$W20:$ZZ20,Model!$W$6:$ZZ$6,\">=\"&'M-Q-Y'!AX$6,Model!$W$6:$ZZ$6,\"<=\"&'M-Q-Y'!AX$7))","v":0},{"$f":"IF(AY$4=\"\",0,SUMIFS(Model!$W20:$ZZ20,Model!$W$6:$ZZ$6,\">=\"&'M-Q-Y'!AY$6,Model!$W$6:$ZZ$6,\"<=\"&'M-Q-Y'!AY$7))","v":0},{"$f":"IF(AZ$4=\"\",0,SUMIFS(Model!$W20:$ZZ20,Model!$W$6:$ZZ$6,\">=\"&'M-Q-Y'!AZ$6,Model!$W$6:$ZZ$6,\"<=\"&'M-Q-Y'!AZ$7))","v":0},{"$f":"IF(BA$4=\"\",0,SUMIFS(Model!$W20:$ZZ20,Model!$W$6:$ZZ$6,\">=\"&'M-Q-Y'!BA$6,Model!$W$6:$ZZ$6,\"<=\"&'M-Q-Y'!BA$7))","v":0},{"$f":"IF(BB$4=\"\",0,SUMIFS(Model!$W20:$ZZ20,Model!$W$6:$ZZ$6,\">=\"&'M-Q-Y'!BB$6,Model!$W$6:$ZZ$6,\"<=\"&'M-Q-Y'!BB$7))","v":0},{"$f":"IF(BC$4=\"\",0,SUMIFS(Model!$W20:$ZZ20,Model!$W$6:$ZZ$6,\">=\"&'M-Q-Y'!BC$6,Model!$W$6:$ZZ$6,\"<=\"&'M-Q-Y'!BC$7))","v":0},{"$f":"IF(BD$4=\"\",0,SUMIFS(Model!$W20:$ZZ20,Model!$W$6:$ZZ$6,\">=\"&'M-Q-Y'!BD$6,Model!$W$6:$ZZ$6,\"<=\"&'M-Q-Y'!BD$7))","v":0},{"$f":"IF(BE$4=\"\",0,SUMIFS(Model!$W20:$ZZ20,Model!$W$6:$ZZ$6,\">=\"&'M-Q-Y'!BE$6,Model!$W$6:$ZZ$6,\"<=\"&'M-Q-Y'!BE$7))","v":0},{"$f":"IF(BF$4=\"\",0,SUMIFS(Model!$W20:$ZZ20,Model!$W$6:$ZZ$6,\">=\"&'M-Q-Y'!BF$6,Model!$W$6:$ZZ$6,\"<=\"&'M-Q-Y'!BF$7))","v":0},{"$f":"IF(BG$4=\"\",0,SUMIFS(Model!$W20:$ZZ20,Model!$W$6:$ZZ$6,\">=\"&'M-Q-Y'!BG$6,Model!$W$6:$ZZ$6,\"<=\"&'M-Q-Y'!BG$7))","v":0},{"$f":"IF(BH$4=\"\",0,SUMIFS(Model!$W20:$ZZ20,Model!$W$6:$ZZ$6,\">=\"&'M-Q-Y'!BH$6,Model!$W$6:$ZZ$6,\"<=\"&'M-Q-Y'!BH$7))","v":0},{"$f":"IF(BI$4=\"\",0,SUMIFS(Model!$W20:$ZZ20,Model!$W$6:$ZZ$6,\">=\"&'M-Q-Y'!BI$6,Model!$W$6:$ZZ$6,\"<=\"&'M-Q-Y'!BI$7))","v":0},{"$f":"IF(BJ$4=\"\",0,SUMIFS(Model!$W20:$ZZ20,Model!$W$6:$ZZ$6,\">=\"&'M-Q-Y'!BJ$6,Model!$W$6:$ZZ$6,\"<=\"&'M-Q-Y'!BJ$7))","v":0},{"$f":"IF(BK$4=\"\",0,SUMIFS(Model!$W20:$ZZ20,Model!$W$6:$ZZ$6,\">=\"&'M-Q-Y'!BK$6,Model!$W$6:$ZZ$6,\"<=\"&'M-Q-Y'!BK$7))","v":0},{"$f":"IF(BL$4=\"\",0,SUMIFS(Model!$W20:$ZZ20,Model!$W$6:$ZZ$6,\">=\"&'M-Q-Y'!BL$6,Model!$W$6:$ZZ$6,\"<=\"&'M-Q-Y'!BL$7))","v":0},{"$f":"IF(BM$4=\"\",0,SUMIFS(Model!$W20:$ZZ20,Model!$W$6:$ZZ$6,\">=\"&'M-Q-Y'!BM$6,Model!$W$6:$ZZ$6,\"<=\"&'M-Q-Y'!BM$7))","v":0},{"$f":"IF(BN$4=\"\",0,SUMIFS(Model!$W20:$ZZ20,Model!$W$6:$ZZ$6,\">=\"&'M-Q-Y'!BN$6,Model!$W$6:$ZZ$6,\"<=\"&'M-Q-Y'!BN$7))","v":0},{"$f":"IF(BO$4=\"\",0,SUMIFS(Model!$W20:$ZZ20,Model!$W$6:$ZZ$6,\">=\"&'M-Q-Y'!BO$6,Model!$W$6:$ZZ$6,\"<=\"&'M-Q-Y'!BO$7))","v":0},{"$f":"IF(BP$4=\"\",0,SUMIFS(Model!$W20:$ZZ20,Model!$W$6:$ZZ$6,\">=\"&'M-Q-Y'!BP$6,Model!$W$6:$ZZ$6,\"<=\"&'M-Q-Y'!BP$7))","v":0},{"$f":"IF(BQ$4=\"\",0,SUMIFS(Model!$W20:$ZZ20,Model!$W$6:$ZZ$6,\">=\"&'M-Q-Y'!BQ$6,Model!$W$6:$ZZ$6,\"<=\"&'M-Q-Y'!BQ$7))","v":0},{"$f":"IF(BR$4=\"\",0,SUMIFS(Model!$W20:$ZZ20,Model!$W$6:$ZZ$6,\">=\"&'M-Q-Y'!BR$6,Model!$W$6:$ZZ$6,\"<=\"&'M-Q-Y'!BR$7))","v":0},{"$f":"IF(BS$4=\"\",0,SUMIFS(Model!$W20:$ZZ20,Model!$W$6:$ZZ$6,\">=\"&'M-Q-Y'!BS$6,Model!$W$6:$ZZ$6,\"<=\"&'M-Q-Y'!BS$7))","v":0},{"$f":"IF(BT$4=\"\",0,SUMIFS(Model!$W20:$ZZ20,Model!$W$6:$ZZ$6,\">=\"&'M-Q-Y'!BT$6,Model!$W$6:$ZZ$6,\"<=\"&'M-Q-Y'!BT$7))","v":0},{"$f":"IF(BU$4=\"\",0,SUMIFS(Model!$W20:$ZZ20,Model!$W$6:$ZZ$6,\">=\"&'M-Q-Y'!BU$6,Model!$W$6:$ZZ$6,\"<=\"&'M-Q-Y'!BU$7))","v":0},{"$f":"IF(BV$4=\"\",0,SUMIFS(Model!$W20:$ZZ20,Model!$W$6:$ZZ$6,\">=\"&'M-Q-Y'!BV$6,Model!$W$6:$ZZ$6,\"<=\"&'M-Q-Y'!BV$7))","v":0},{"$f":"IF(BW$4=\"\",0,SUMIFS(Model!$W20:$ZZ20,Model!$W$6:$ZZ$6,\">=\"&'M-Q-Y'!BW$6,Model!$W$6:$ZZ$6,\"<=\"&'M-Q-Y'!BW$7))","v":0},{"$f":"IF(BX$4=\"\",0,SUMIFS(Model!$W20:$ZZ20,Model!$W$6:$ZZ$6,\">=\"&'M-Q-Y'!BX$6,Model!$W$6:$ZZ$6,\"<=\"&'M-Q-Y'!BX$7))","v":0},{"$f":"IF(BY$4=\"\",0,SUMIFS(Model!$W20:$ZZ20,Model!$W$6:$ZZ$6,\">=\"&'M-Q-Y'!BY$6,Model!$W$6:$ZZ$6,\"<=\"&'M-Q-Y'!BY$7))","v":0},{"$f":"IF(BZ$4=\"\",0,SUMIFS(Model!$W20:$ZZ20,Model!$W$6:$ZZ$6,\">=\"&'M-Q-Y'!BZ$6,Model!$W$6:$ZZ$6,\"<=\"&'M-Q-Y'!BZ$7))","v":0},{"$f":"IF(CA$4=\"\",0,SUMIFS(Model!$W20:$ZZ20,Model!$W$6:$ZZ$6,\">=\"&'M-Q-Y'!CA$6,Model!$W$6:$ZZ$6,\"<=\"&'M-Q-Y'!CA$7))","v":0},{"$f":"IF(CB$4=\"\",0,SUMIFS(Model!$W20:$ZZ20,Model!$W$6:$ZZ$6,\">=\"&'M-Q-Y'!CB$6,Model!$W$6:$ZZ$6,\"<=\"&'M-Q-Y'!CB$7))","v":0},{"$f":"IF(CC$4=\"\",0,SUMIFS(Model!$W20:$ZZ20,Model!$W$6:$ZZ$6,\">=\"&'M-Q-Y'!CC$6,Model!$W$6:$ZZ$6,\"<=\"&'M-Q-Y'!CC$7))","v":0},{"$f":"IF(CD$4=\"\",0,SUMIFS(Model!$W20:$ZZ20,Model!$W$6:$ZZ$6,\">=\"&'M-Q-Y'!CD$6,Model!$W$6:$ZZ$6,\"<=\"&'M-Q-Y'!CD$7))","v":0},{"$f":"IF(CE$4=\"\",0,SUMIFS(Model!$W20:$ZZ20,Model!$W$6:$ZZ$6,\">=\"&'M-Q-Y'!CE$6,Model!$W$6:$ZZ$6,\"<=\"&'M-Q-Y'!CE$7))","v":0},{"$f":"IF(CF$4=\"\",0,SUMIFS(Model!$W20:$ZZ20,Model!$W$6:$ZZ$6,\">=\"&'M-Q-Y'!CF$6,Model!$W$6:$ZZ$6,\"<=\"&'M-Q-Y'!CF$7))","v":0},{"$f":"IF(CG$4=\"\",0,SUMIFS(Model!$W20:$ZZ20,Model!$W$6:$ZZ$6,\">=\"&'M-Q-Y'!CG$6,Model!$W$6:$ZZ$6,\"<=\"&'M-Q-Y'!CG$7))","v":0},{"$f":"IF(CH$4=\"\",0,SUMIFS(Model!$W20:$ZZ20,Model!$W$6:$ZZ$6,\">=\"&'M-Q-Y'!CH$6,Model!$W$6:$ZZ$6,\"<=\"&'M-Q-Y'!CH$7))","v":0},{"$f":"IF(CI$4=\"\",0,SUMIFS(Model!$W20:$ZZ20,Model!$W$6:$ZZ$6,\">=\"&'M-Q-Y'!CI$6,Model!$W$6:$ZZ$6,\"<=\"&'M-Q-Y'!CI$7))","v":0},{"$f":"IF(CJ$4=\"\",0,SUMIFS(Model!$W20:$ZZ20,Model!$W$6:$ZZ$6,\">=\"&'M-Q-Y'!CJ$6,Model!$W$6:$ZZ$6,\"<=\"&'M-Q-Y'!CJ$7))","v":0},{"$f":"IF(CK$4=\"\",0,SUMIFS(Model!$W20:$ZZ20,Model!$W$6:$ZZ$6,\">=\"&'M-Q-Y'!CK$6,Model!$W$6:$ZZ$6,\"<=\"&'M-Q-Y'!CK$7))","v":0},{"$f":"IF(CL$4=\"\",0,SUMIFS(Model!$W20:$ZZ20,Model!$W$6:$ZZ$6,\">=\"&'M-Q-Y'!CL$6,Model!$W$6:$ZZ$6,\"<=\"&'M-Q-Y'!CL$7))","v":0},{"$f":"IF(CM$4=\"\",0,SUMIFS(Model!$W20:$ZZ20,Model!$W$6:$ZZ$6,\">=\"&'M-Q-Y'!CM$6,Model!$W$6:$ZZ$6,\"<=\"&'M-Q-Y'!CM$7))","v":0},{"$f":"IF(CN$4=\"\",0,SUMIFS(Model!$W20:$ZZ20,Model!$W$6:$ZZ$6,\">=\"&'M-Q-Y'!CN$6,Model!$W$6:$ZZ$6,\"<=\"&'M-Q-Y'!CN$7))","v":0},{"$f":"IF(CO$4=\"\",0,SUMIFS(Model!$W20:$ZZ20,Model!$W$6:$ZZ$6,\">=\"&'M-Q-Y'!CO$6,Model!$W$6:$ZZ$6,\"<=\"&'M-Q-Y'!CO$7))","v":0},{"$f":"IF(CP$4=\"\",0,SUMIFS(Model!$W20:$ZZ20,Model!$W$6:$ZZ$6,\">=\"&'M-Q-Y'!CP$6,Model!$W$6:$ZZ$6,\"<=\"&'M-Q-Y'!CP$7))","v":0},{"$f":"IF(CQ$4=\"\",0,SUMIFS(Model!$W20:$ZZ20,Model!$W$6:$ZZ$6,\">=\"&'M-Q-Y'!CQ$6,Model!$W$6:$ZZ$6,\"<=\"&'M-Q-Y'!CQ$7))","v":0},{"$f":"IF(CR$4=\"\",0,SUMIFS(Model!$W20:$ZZ20,Model!$W$6:$ZZ$6,\">=\"&'M-Q-Y'!CR$6,Model!$W$6:$ZZ$6,\"<=\"&'M-Q-Y'!CR$7))","v":0},{"$f":"IF(CS$4=\"\",0,SUMIFS(Model!$W20:$ZZ20,Model!$W$6:$ZZ$6,\">=\"&'M-Q-Y'!CS$6,Model!$W$6:$ZZ$6,\"<=\"&'M-Q-Y'!CS$7))","v":0},{"$f":"IF(CT$4=\"\",0,SUMIFS(Model!$W20:$ZZ20,Model!$W$6:$ZZ$6,\">=\"&'M-Q-Y'!CT$6,Model!$W$6:$ZZ$6,\"<=\"&'M-Q-Y'!CT$7))","v":0},{"$f":"IF(CU$4=\"\",0,SUMIFS(Model!$W20:$ZZ20,Model!$W$6:$ZZ$6,\">=\"&'M-Q-Y'!CU$6,Model!$W$6:$ZZ$6,\"<=\"&'M-Q-Y'!CU$7))","v":0},{"$f":"IF(CV$4=\"\",0,SUMIFS(Model!$W20:$ZZ20,Model!$W$6:$ZZ$6,\">=\"&'M-Q-Y'!CV$6,Model!$W$6:$ZZ$6,\"<=\"&'M-Q-Y'!CV$7))","v":0},{"$f":"IF(CW$4=\"\",0,SUMIFS(Model!$W20:$ZZ20,Model!$W$6:$ZZ$6,\">=\"&'M-Q-Y'!CW$6,Model!$W$6:$ZZ$6,\"<=\"&'M-Q-Y'!CW$7))","v":0},{"$f":"IF(CX$4=\"\",0,SUMIFS(Model!$W20:$ZZ20,Model!$W$6:$ZZ$6,\">=\"&'M-Q-Y'!CX$6,Model!$W$6:$ZZ$6,\"<=\"&'M-Q-Y'!CX$7))","v":0},{"$f":"IF(CY$4=\"\",0,SUMIFS(Model!$W20:$ZZ20,Model!$W$6:$ZZ$6,\">=\"&'M-Q-Y'!CY$6,Model!$W$6:$ZZ$6,\"<=\"&'M-Q-Y'!CY$7))","v":0},{"$f":"IF(CZ$4=\"\",0,SUMIFS(Model!$W20:$ZZ20,Model!$W$6:$ZZ$6,\">=\"&'M-Q-Y'!CZ$6,Model!$W$6:$ZZ$6,\"<=\"&'M-Q-Y'!CZ$7))","v":0},{"$f":"IF(DA$4=\"\",0,SUMIFS(Model!$W20:$ZZ20,Model!$W$6:$ZZ$6,\">=\"&'M-Q-Y'!DA$6,Model!$W$6:$ZZ$6,\"<=\"&'M-Q-Y'!DA$7))","v":0},{"$f":"IF(DB$4=\"\",0,SUMIFS(Model!$W20:$ZZ20,Model!$W$6:$ZZ$6,\">=\"&'M-Q-Y'!DB$6,Model!$W$6:$ZZ$6,\"<=\"&'M-Q-Y'!DB$7))","v":0},{"$f":"IF(DC$4=\"\",0,SUMIFS(Model!$W20:$ZZ20,Model!$W$6:$ZZ$6,\">=\"&'M-Q-Y'!DC$6,Model!$W$6:$ZZ$6,\"<=\"&'M-Q-Y'!DC$7))","v":0},{"$f":"IF(DD$4=\"\",0,SUMIFS(Model!$W20:$ZZ20,Model!$W$6:$ZZ$6,\">=\"&'M-Q-Y'!DD$6,Model!$W$6:$ZZ$6,\"<=\"&'M-Q-Y'!DD$7))","v":0},{"$f":"IF(DE$4=\"\",0,SUMIFS(Model!$W20:$ZZ20,Model!$W$6:$ZZ$6,\">=\"&'M-Q-Y'!DE$6,Model!$W$6:$ZZ$6,\"<=\"&'M-Q-Y'!DE$7))","v":0},{"$f":"IF(DF$4=\"\",0,SUMIFS(Model!$W20:$ZZ20,Model!$W$6:$ZZ$6,\">=\"&'M-Q-Y'!DF$6,Model!$W$6:$ZZ$6,\"<=\"&'M-Q-Y'!DF$7))","v":0},{"$f":"IF(DG$4=\"\",0,SUMIFS(Model!$W20:$ZZ20,Model!$W$6:$ZZ$6,\">=\"&'M-Q-Y'!DG$6,Model!$W$6:$ZZ$6,\"<=\"&'M-Q-Y'!DG$7))","v":0},{"$f":"IF(DH$4=\"\",0,SUMIFS(Model!$W20:$ZZ20,Model!$W$6:$ZZ$6,\">=\"&'M-Q-Y'!DH$6,Model!$W$6:$ZZ$6,\"<=\"&'M-Q-Y'!DH$7))","v":0},{"$f":"IF(DI$4=\"\",0,SUMIFS(Model!$W20:$ZZ20,Model!$W$6:$ZZ$6,\">=\"&'M-Q-Y'!DI$6,Model!$W$6:$ZZ$6,\"<=\"&'M-Q-Y'!DI$7))","v":0},{"$f":"IF(DJ$4=\"\",0,SUMIFS(Model!$W20:$ZZ20,Model!$W$6:$ZZ$6,\">=\"&'M-Q-Y'!DJ$6,Model!$W$6:$ZZ$6,\"<=\"&'M-Q-Y'!DJ$7))","v":0},{"$f":"IF(DK$4=\"\",0,SUMIFS(Model!$W20:$ZZ20,Model!$W$6:$ZZ$6,\">=\"&'M-Q-Y'!DK$6,Model!$W$6:$ZZ$6,\"<=\"&'M-Q-Y'!DK$7))","v":0},{"$f":"IF(DL$4=\"\",0,SUMIFS(Model!$W20:$ZZ20,Model!$W$6:$ZZ$6,\">=\"&'M-Q-Y'!DL$6,Model!$W$6:$ZZ$6,\"<=\"&'M-Q-Y'!DL$7))","v":0},{"$f":"IF(DM$4=\"\",0,SUMIFS(Model!$W20:$ZZ20,Model!$W$6:$ZZ$6,\">=\"&'M-Q-Y'!DM$6,Model!$W$6:$ZZ$6,\"<=\"&'M-Q-Y'!DM$7))","v":0},{"$f":"IF(DN$4=\"\",0,SUMIFS(Model!$W20:$ZZ20,Model!$W$6:$ZZ$6,\">=\"&'M-Q-Y'!DN$6,Model!$W$6:$ZZ$6,\"<=\"&'M-Q-Y'!DN$7))","v":0},{"$f":"IF(DO$4=\"\",0,SUMIFS(Model!$W20:$ZZ20,Model!$W$6:$ZZ$6,\">=\"&'M-Q-Y'!DO$6,Model!$W$6:$ZZ$6,\"<=\"&'M-Q-Y'!DO$7))","v":0},{"$f":"IF(DP$4=\"\",0,SUMIFS(Model!$W20:$ZZ20,Model!$W$6:$ZZ$6,\">=\"&'M-Q-Y'!DP$6,Model!$W$6:$ZZ$6,\"<=\"&'M-Q-Y'!DP$7))","v":0},{"$f":"IF(DQ$4=\"\",0,SUMIFS(Model!$W20:$ZZ20,Model!$W$6:$ZZ$6,\">=\"&'M-Q-Y'!DQ$6,Model!$W$6:$ZZ$6,\"<=\"&'M-Q-Y'!DQ$7))","v":0},{"$f":"IF(DR$4=\"\",0,SUMIFS(Model!$W20:$ZZ20,Model!$W$6:$ZZ$6,\">=\"&'M-Q-Y'!DR$6,Model!$W$6:$ZZ$6,\"<=\"&'M-Q-Y'!DR$7))","v":0},{"$f":"IF(DS$4=\"\",0,SUMIFS(Model!$W20:$ZZ20,Model!$W$6:$ZZ$6,\">=\"&'M-Q-Y'!DS$6,Model!$W$6:$ZZ$6,\"<=\"&'M-Q-Y'!DS$7))","v":0},{"$f":"IF(DT$4=\"\",0,SUMIFS(Model!$W20:$ZZ20,Model!$W$6:$ZZ$6,\">=\"&'M-Q-Y'!DT$6,Model!$W$6:$ZZ$6,\"<=\"&'M-Q-Y'!DT$7))","v":0},{"$f":"IF(DU$4=\"\",0,SUMIFS(Model!$W20:$ZZ20,Model!$W$6:$ZZ$6,\">=\"&'M-Q-Y'!DU$6,Model!$W$6:$ZZ$6,\"<=\"&'M-Q-Y'!DU$7))","v":0},{"$f":"IF(DV$4=\"\",0,SUMIFS(Model!$W20:$ZZ20,Model!$W$6:$ZZ$6,\">=\"&'M-Q-Y'!DV$6,Model!$W$6:$ZZ$6,\"<=\"&'M-Q-Y'!DV$7))","v":0},{"$f":"IF(DW$4=\"\",0,SUMIFS(Model!$W20:$ZZ20,Model!$W$6:$ZZ$6,\">=\"&'M-Q-Y'!DW$6,Model!$W$6:$ZZ$6,\"<=\"&'M-Q-Y'!DW$7))","v":0},{"$f":"IF(DX$4=\"\",0,SUMIFS(Model!$W20:$ZZ20,Model!$W$6:$ZZ$6,\">=\"&'M-Q-Y'!DX$6,Model!$W$6:$ZZ$6,\"<=\"&'M-Q-Y'!DX$7))","v":0},{"$f":"IF(DY$4=\"\",0,SUMIFS(Model!$W20:$ZZ20,Model!$W$6:$ZZ$6,\">=\"&'M-Q-Y'!DY$6,Model!$W$6:$ZZ$6,\"<=\"&'M-Q-Y'!DY$7))","v":0},{"$f":"IF(DZ$4=\"\",0,SUMIFS(Model!$W20:$ZZ20,Model!$W$6:$ZZ$6,\">=\"&'M-Q-Y'!DZ$6,Model!$W$6:$ZZ$6,\"<=\"&'M-Q-Y'!DZ$7))","v":0},{"$f":"IF(EA$4=\"\",0,SUMIFS(Model!$W20:$ZZ20,Model!$W$6:$ZZ$6,\">=\"&'M-Q-Y'!EA$6,Model!$W$6:$ZZ$6,\"<=\"&'M-Q-Y'!EA$7))","v":0},{"$f":"IF(EB$4=\"\",0,SUMIFS(Model!$W20:$ZZ20,Model!$W$6:$ZZ$6,\">=\"&'M-Q-Y'!EB$6,Model!$W$6:$ZZ$6,\"<=\"&'M-Q-Y'!EB$7))","v":0},{"$f":"IF(EC$4=\"\",0,SUMIFS(Model!$W20:$ZZ20,Model!$W$6:$ZZ$6,\">=\"&'M-Q-Y'!EC$6,Model!$W$6:$ZZ$6,\"<=\"&'M-Q-Y'!EC$7))","v":0},{"$f":"IF(ED$4=\"\",0,SUMIFS(Model!$W20:$ZZ20,Model!$W$6:$ZZ$6,\">=\"&'M-Q-Y'!ED$6,Model!$W$6:$ZZ$6,\"<=\"&'M-Q-Y'!ED$7))","v":0},{"$f":"IF(EE$4=\"\",0,SUMIFS(Model!$W20:$ZZ20,Model!$W$6:$ZZ$6,\">=\"&'M-Q-Y'!EE$6,Model!$W$6:$ZZ$6,\"<=\"&'M-Q-Y'!EE$7))","v":0},{"$f":"IF(EF$4=\"\",0,SUMIFS(Model!$W20:$ZZ20,Model!$W$6:$ZZ$6,\">=\"&'M-Q-Y'!EF$6,Model!$W$6:$ZZ$6,\"<=\"&'M-Q-Y'!EF$7))","v":0},{"$f":"IF(EG$4=\"\",0,SUMIFS(Model!$W20:$ZZ20,Model!$W$6:$ZZ$6,\">=\"&'M-Q-Y'!EG$6,Model!$W$6:$ZZ$6,\"<=\"&'M-Q-Y'!EG$7))","v":0},{"$f":"IF(EH$4=\"\",0,SUMIFS(Model!$W20:$ZZ20,Model!$W$6:$ZZ$6,\">=\"&'M-Q-Y'!EH$6,Model!$W$6:$ZZ$6,\"<=\"&'M-Q-Y'!EH$7))","v":0},{"$f":"IF(EI$4=\"\",0,SUMIFS(Model!$W20:$ZZ20,Model!$W$6:$ZZ$6,\">=\"&'M-Q-Y'!EI$6,Model!$W$6:$ZZ$6,\"<=\"&'M-Q-Y'!EI$7))","v":0},{"$f":"IF(EJ$4=\"\",0,SUMIFS(Model!$W20:$ZZ20,Model!$W$6:$ZZ$6,\">=\"&'M-Q-Y'!EJ$6,Model!$W$6:$ZZ$6,\"<=\"&'M-Q-Y'!EJ$7))","v":0},{"$f":"IF(EK$4=\"\",0,SUMIFS(Model!$W20:$ZZ20,Model!$W$6:$ZZ$6,\">=\"&'M-Q-Y'!EK$6,Model!$W$6:$ZZ$6,\"<=\"&'M-Q-Y'!EK$7))","v":0},{"$f":"IF(EL$4=\"\",0,SUMIFS(Model!$W20:$ZZ20,Model!$W$6:$ZZ$6,\">=\"&'M-Q-Y'!EL$6,Model!$W$6:$ZZ$6,\"<=\"&'M-Q-Y'!EL$7))","v":0},{"$f":"IF(EM$4=\"\",0,SUMIFS(Model!$W20:$ZZ20,Model!$W$6:$ZZ$6,\">=\"&'M-Q-Y'!EM$6,Model!$W$6:$ZZ$6,\"<=\"&'M-Q-Y'!EM$7))","v":0},{"$f":"IF(EN$4=\"\",0,SUMIFS(Model!$W20:$ZZ20,Model!$W$6:$ZZ$6,\">=\"&'M-Q-Y'!EN$6,Model!$W$6:$ZZ$6,\"<=\"&'M-Q-Y'!EN$7))","v":0},{"$f":"IF(EO$4=\"\",0,SUMIFS(Model!$W20:$ZZ20,Model!$W$6:$ZZ$6,\">=\"&'M-Q-Y'!EO$6,Model!$W$6:$ZZ$6,\"<=\"&'M-Q-Y'!EO$7))","v":0},{"$f":"IF(EP$4=\"\",0,SUMIFS(Model!$W20:$ZZ20,Model!$W$6:$ZZ$6,\">=\"&'M-Q-Y'!EP$6,Model!$W$6:$ZZ$6,\"<=\"&'M-Q-Y'!EP$7))","v":0},{"$f":"IF(EQ$4=\"\",0,SUMIFS(Model!$W20:$ZZ20,Model!$W$6:$ZZ$6,\">=\"&'M-Q-Y'!EQ$6,Model!$W$6:$ZZ$6,\"<=\"&'M-Q-Y'!EQ$7))","v":0},{"$f":"IF(ER$4=\"\",0,SUMIFS(Model!$W20:$ZZ20,Model!$W$6:$ZZ$6,\">=\"&'M-Q-Y'!ER$6,Model!$W$6:$ZZ$6,\"<=\"&'M-Q-Y'!ER$7))","v":0},{"$f":"IF(ES$4=\"\",0,SUMIFS(Model!$W20:$ZZ20,Model!$W$6:$ZZ$6,\">=\"&'M-Q-Y'!ES$6,Model!$W$6:$ZZ$6,\"<=\"&'M-Q-Y'!ES$7))","v":0},{"$f":"IF(ET$4=\"\",0,SUMIFS(Model!$W20:$ZZ20,Model!$W$6:$ZZ$6,\">=\"&'M-Q-Y'!ET$6,Model!$W$6:$ZZ$6,\"<=\"&'M-Q-Y'!ET$7))","v":0},{"$f":"IF(EU$4=\"\",0,SUMIFS(Model!$W20:$ZZ20,Model!$W$6:$ZZ$6,\">=\"&'M-Q-Y'!EU$6,Model!$W$6:$ZZ$6,\"<=\"&'M-Q-Y'!EU$7))","v":0},{"$f":"IF(EV$4=\"\",0,SUMIFS(Model!$W20:$ZZ20,Model!$W$6:$ZZ$6,\">=\"&'M-Q-Y'!EV$6,Model!$W$6:$ZZ$6,\"<=\"&'M-Q-Y'!EV$7))","v":0},{"$f":"IF(EW$4=\"\",0,SUMIFS(Model!$W20:$ZZ20,Model!$W$6:$ZZ$6,\">=\"&'M-Q-Y'!EW$6,Model!$W$6:$ZZ$6,\"<=\"&'M-Q-Y'!EW$7))","v":0},{"$f":"IF(EX$4=\"\",0,SUMIFS(Model!$W20:$ZZ20,Model!$W$6:$ZZ$6,\">=\"&'M-Q-Y'!EX$6,Model!$W$6:$ZZ$6,\"<=\"&'M-Q-Y'!EX$7))","v":0},{"$f":"IF(EY$4=\"\",0,SUMIFS(Model!$W20:$ZZ20,Model!$W$6:$ZZ$6,\">=\"&'M-Q-Y'!EY$6,Model!$W$6:$ZZ$6,\"<=\"&'M-Q-Y'!EY$7))","v":0},{"$f":"IF(EZ$4=\"\",0,SUMIFS(Model!$W20:$ZZ20,Model!$W$6:$ZZ$6,\">=\"&'M-Q-Y'!EZ$6,Model!$W$6:$ZZ$6,\"<=\"&'M-Q-Y'!EZ$7))","v":0},{"$f":"IF(FA$4=\"\",0,SUMIFS(Model!$W20:$ZZ20,Model!$W$6:$ZZ$6,\">=\"&'M-Q-Y'!FA$6,Model!$W$6:$ZZ$6,\"<=\"&'M-Q-Y'!FA$7))","v":0},{"$f":"IF(FB$4=\"\",0,SUMIFS(Model!$W20:$ZZ20,Model!$W$6:$ZZ$6,\">=\"&'M-Q-Y'!FB$6,Model!$W$6:$ZZ$6,\"<=\"&'M-Q-Y'!FB$7))","v":0},{"$f":"IF(FC$4=\"\",0,SUMIFS(Model!$W20:$ZZ20,Model!$W$6:$ZZ$6,\">=\"&'M-Q-Y'!FC$6,Model!$W$6:$ZZ$6,\"<=\"&'M-Q-Y'!FC$7))","v":0},{"$f":"IF(FD$4=\"\",0,SUMIFS(Model!$W20:$ZZ20,Model!$W$6:$ZZ$6,\">=\"&'M-Q-Y'!FD$6,Model!$W$6:$ZZ$6,\"<=\"&'M-Q-Y'!FD$7))","v":0},{"$f":"IF(FE$4=\"\",0,SUMIFS(Model!$W20:$ZZ20,Model!$W$6:$ZZ$6,\">=\"&'M-Q-Y'!FE$6,Model!$W$6:$ZZ$6,\"<=\"&'M-Q-Y'!FE$7))","v":0},{"$f":"IF(FF$4=\"\",0,SUMIFS(Model!$W20:$ZZ20,Model!$W$6:$ZZ$6,\">=\"&'M-Q-Y'!FF$6,Model!$W$6:$ZZ$6,\"<=\"&'M-Q-Y'!FF$7))","v":0},{"$f":"IF(FG$4=\"\",0,SUMIFS(Model!$W20:$ZZ20,Model!$W$6:$ZZ$6,\">=\"&'M-Q-Y'!FG$6,Model!$W$6:$ZZ$6,\"<=\"&'M-Q-Y'!FG$7))","v":0},{"$f":"IF(FH$4=\"\",0,SUMIFS(Model!$W20:$ZZ20,Model!$W$6:$ZZ$6,\">=\"&'M-Q-Y'!FH$6,Model!$W$6:$ZZ$6,\"<=\"&'M-Q-Y'!FH$7))","v":0},{"$f":"IF(FI$4=\"\",0,SUMIFS(Model!$W20:$ZZ20,Model!$W$6:$ZZ$6,\">=\"&'M-Q-Y'!FI$6,Model!$W$6:$ZZ$6,\"<=\"&'M-Q-Y'!FI$7))","v":0},{"$f":"IF(FJ$4=\"\",0,SUMIFS(Model!$W20:$ZZ20,Model!$W$6:$ZZ$6,\">=\"&'M-Q-Y'!FJ$6,Model!$W$6:$ZZ$6,\"<=\"&'M-Q-Y'!FJ$7))","v":0},{"$f":"IF(FK$4=\"\",0,SUMIFS(Model!$W20:$ZZ20,Model!$W$6:$ZZ$6,\">=\"&'M-Q-Y'!FK$6,Model!$W$6:$ZZ$6,\"<=\"&'M-Q-Y'!FK$7))","v":0},{"$f":"IF(FL$4=\"\",0,SUMIFS(Model!$W20:$ZZ20,Model!$W$6:$ZZ$6,\">=\"&'M-Q-Y'!FL$6,Model!$W$6:$ZZ$6,\"<=\"&'M-Q-Y'!FL$7))","v":0},{"$f":"IF(FM$4=\"\",0,SUMIFS(Model!$W20:$ZZ20,Model!$W$6:$ZZ$6,\">=\"&'M-Q-Y'!FM$6,Model!$W$6:$ZZ$6,\"<=\"&'M-Q-Y'!FM$7))","v":0},{"$f":"IF(FN$4=\"\",0,SUMIFS(Model!$W20:$ZZ20,Model!$W$6:$ZZ$6,\">=\"&'M-Q-Y'!FN$6,Model!$W$6:$ZZ$6,\"<=\"&'M-Q-Y'!FN$7))","v":0},{"$f":"IF(FO$4=\"\",0,SUMIFS(Model!$W20:$ZZ20,Model!$W$6:$ZZ$6,\">=\"&'M-Q-Y'!FO$6,Model!$W$6:$ZZ$6,\"<=\"&'M-Q-Y'!FO$7))","v":0},{"$f":"IF(FP$4=\"\",0,SUMIFS(Model!$W20:$ZZ20,Model!$W$6:$ZZ$6,\">=\"&'M-Q-Y'!FP$6,Model!$W$6:$ZZ$6,\"<=\"&'M-Q-Y'!FP$7))","v":0},{"$f":"IF(FQ$4=\"\",0,SUMIFS(Model!$W20:$ZZ20,Model!$W$6:$ZZ$6,\">=\"&'M-Q-Y'!FQ$6,Model!$W$6:$ZZ$6,\"<=\"&'M-Q-Y'!FQ$7))","v":0},{"$f":"IF(FR$4=\"\",0,SUMIFS(Model!$W20:$ZZ20,Model!$W$6:$ZZ$6,\">=\"&'M-Q-Y'!FR$6,Model!$W$6:$ZZ$6,\"<=\"&'M-Q-Y'!FR$7))","v":0},{"$f":"IF(FS$4=\"\",0,SUMIFS(Model!$W20:$ZZ20,Model!$W$6:$ZZ$6,\">=\"&'M-Q-Y'!FS$6,Model!$W$6:$ZZ$6,\"<=\"&'M-Q-Y'!FS$7))","v":0},{"$f":"IF(FT$4=\"\",0,SUMIFS(Model!$W20:$ZZ20,Model!$W$6:$ZZ$6,\">=\"&'M-Q-Y'!FT$6,Model!$W$6:$ZZ$6,\"<=\"&'M-Q-Y'!FT$7))","v":0},{"$f":"IF(FU$4=\"\",0,SUMIFS(Model!$W20:$ZZ20,Model!$W$6:$ZZ$6,\">=\"&'M-Q-Y'!FU$6,Model!$W$6:$ZZ$6,\"<=\"&'M-Q-Y'!FU$7))","v":0},{"$f":"IF(FV$4=\"\",0,SUMIFS(Model!$W20:$ZZ20,Model!$W$6:$ZZ$6,\">=\"&'M-Q-Y'!FV$6,Model!$W$6:$ZZ$6,\"<=\"&'M-Q-Y'!FV$7))","v":0},{"$f":"IF(FW$4=\"\",0,SUMIFS(Model!$W20:$ZZ20,Model!$W$6:$ZZ$6,\">=\"&'M-Q-Y'!FW$6,Model!$W$6:$ZZ$6,\"<=\"&'M-Q-Y'!FW$7))","v":0},{"$f":"IF(FX$4=\"\",0,SUMIFS(Model!$W20:$ZZ20,Model!$W$6:$ZZ$6,\">=\"&'M-Q-Y'!FX$6,Model!$W$6:$ZZ$6,\"<=\"&'M-Q-Y'!FX$7))","v":0},{"$f":"IF(FY$4=\"\",0,SUMIFS(Model!$W20:$ZZ20,Model!$W$6:$ZZ$6,\">=\"&'M-Q-Y'!FY$6,Model!$W$6:$ZZ$6,\"<=\"&'M-Q-Y'!FY$7))","v":0},{"$f":"IF(FZ$4=\"\",0,SUMIFS(Model!$W20:$ZZ20,Model!$W$6:$ZZ$6,\">=\"&'M-Q-Y'!FZ$6,Model!$W$6:$ZZ$6,\"<=\"&'M-Q-Y'!FZ$7))","v":0},{"$f":"IF(GA$4=\"\",0,SUMIFS(Model!$W20:$ZZ20,Model!$W$6:$ZZ$6,\">=\"&'M-Q-Y'!GA$6,Model!$W$6:$ZZ$6,\"<=\"&'M-Q-Y'!GA$7))","v":0},{"$f":"IF(GB$4=\"\",0,SUMIFS(Model!$W20:$ZZ20,Model!$W$6:$ZZ$6,\">=\"&'M-Q-Y'!GB$6,Model!$W$6:$ZZ$6,\"<=\"&'M-Q-Y'!GB$7))","v":0},{"$f":"IF(GC$4=\"\",0,SUMIFS(Model!$W20:$ZZ20,Model!$W$6:$ZZ$6,\">=\"&'M-Q-Y'!GC$6,Model!$W$6:$ZZ$6,\"<=\"&'M-Q-Y'!GC$7))","v":0},{"$f":"IF(GD$4=\"\",0,SUMIFS(Model!$W20:$ZZ20,Model!$W$6:$ZZ$6,\">=\"&'M-Q-Y'!GD$6,Model!$W$6:$ZZ$6,\"<=\"&'M-Q-Y'!GD$7))","v":0},{"$f":"IF(GE$4=\"\",0,SUMIFS(Model!$W20:$ZZ20,Model!$W$6:$ZZ$6,\">=\"&'M-Q-Y'!GE$6,Model!$W$6:$ZZ$6,\"<=\"&'M-Q-Y'!GE$7))","v":0},{"$f":"IF(GF$4=\"\",0,SUMIFS(Model!$W20:$ZZ20,Model!$W$6:$ZZ$6,\">=\"&'M-Q-Y'!GF$6,Model!$W$6:$ZZ$6,\"<=\"&'M-Q-Y'!GF$7))","v":0},{"$f":"IF(GG$4=\"\",0,SUMIFS(Model!$W20:$ZZ20,Model!$W$6:$ZZ$6,\">=\"&'M-Q-Y'!GG$6,Model!$W$6:$ZZ$6,\"<=\"&'M-Q-Y'!GG$7))","v":0},{"$f":"IF(GH$4=\"\",0,SUMIFS(Model!$W20:$ZZ20,Model!$W$6:$ZZ$6,\">=\"&'M-Q-Y'!GH$6,Model!$W$6:$ZZ$6,\"<=\"&'M-Q-Y'!GH$7))","v":0},{"$f":"IF(GI$4=\"\",0,SUMIFS(Model!$W20:$ZZ20,Model!$W$6:$ZZ$6,\">=\"&'M-Q-Y'!GI$6,Model!$W$6:$ZZ$6,\"<=\"&'M-Q-Y'!GI$7))","v":0},{"$f":"IF(GJ$4=\"\",0,SUMIFS(Model!$W20:$ZZ20,Model!$W$6:$ZZ$6,\">=\"&'M-Q-Y'!GJ$6,Model!$W$6:$ZZ$6,\"<=\"&'M-Q-Y'!GJ$7))","v":0},{"$f":"IF(GK$4=\"\",0,SUMIFS(Model!$W20:$ZZ20,Model!$W$6:$ZZ$6,\">=\"&'M-Q-Y'!GK$6,Model!$W$6:$ZZ$6,\"<=\"&'M-Q-Y'!GK$7))","v":0},{"$f":"IF(GL$4=\"\",0,SUMIFS(Model!$W20:$ZZ20,Model!$W$6:$ZZ$6,\">=\"&'M-Q-Y'!GL$6,Model!$W$6:$ZZ$6,\"<=\"&'M-Q-Y'!GL$7))","v":0},{"$f":"IF(GM$4=\"\",0,SUMIFS(Model!$W20:$ZZ20,Model!$W$6:$ZZ$6,\">=\"&'M-Q-Y'!GM$6,Model!$W$6:$ZZ$6,\"<=\"&'M-Q-Y'!GM$7))","v":0},{"$f":"IF(GN$4=\"\",0,SUMIFS(Model!$W20:$ZZ20,Model!$W$6:$ZZ$6,\">=\"&'M-Q-Y'!GN$6,Model!$W$6:$ZZ$6,\"<=\"&'M-Q-Y'!GN$7))","v":0},{"$f":"IF(GO$4=\"\",0,SUMIFS(Model!$W20:$ZZ20,Model!$W$6:$ZZ$6,\">=\"&'M-Q-Y'!GO$6,Model!$W$6:$ZZ$6,\"<=\"&'M-Q-Y'!GO$7))","v":0},{"$f":"IF(GP$4=\"\",0,SUMIFS(Model!$W20:$ZZ20,Model!$W$6:$ZZ$6,\">=\"&'M-Q-Y'!GP$6,Model!$W$6:$ZZ$6,\"<=\"&'M-Q-Y'!GP$7))","v":0},{"$f":"IF(GQ$4=\"\",0,SUMIFS(Model!$W20:$ZZ20,Model!$W$6:$ZZ$6,\">=\"&'M-Q-Y'!GQ$6,Model!$W$6:$ZZ$6,\"<=\"&'M-Q-Y'!GQ$7))","v":0},{"$f":"IF(GR$4=\"\",0,SUMIFS(Model!$W20:$ZZ20,Model!$W$6:$ZZ$6,\">=\"&'M-Q-Y'!GR$6,Model!$W$6:$ZZ$6,\"<=\"&'M-Q-Y'!GR$7))","v":0},{"$f":"IF(GS$4=\"\",0,SUMIFS(Model!$W20:$ZZ20,Model!$W$6:$ZZ$6,\">=\"&'M-Q-Y'!GS$6,Model!$W$6:$ZZ$6,\"<=\"&'M-Q-Y'!GS$7))","v":0},{"$f":"IF(GT$4=\"\",0,SUMIFS(Model!$W20:$ZZ20,Model!$W$6:$ZZ$6,\">=\"&'M-Q-Y'!GT$6,Model!$W$6:$ZZ$6,\"<=\"&'M-Q-Y'!GT$7))","v":0},{"$f":"IF(GU$4=\"\",0,SUMIFS(Model!$W20:$ZZ20,Model!$W$6:$ZZ$6,\">=\"&'M-Q-Y'!GU$6,Model!$W$6:$ZZ$6,\"<=\"&'M-Q-Y'!GU$7))","v":0},{"$f":"IF(GV$4=\"\",0,SUMIFS(Model!$W20:$ZZ20,Model!$W$6:$ZZ$6,\">=\"&'M-Q-Y'!GV$6,Model!$W$6:$ZZ$6,\"<=\"&'M-Q-Y'!GV$7))","v":0}]
[null,{"$f":"ROW()","v":18},null,null,null,null,null,{"$f":"H17","v":"Ввод в эксплуатацию оборудования"},null,null,null,null,"шт",null,null,null,null,null,null,null,{"$f":"SUM(INDIRECT(ADDRESS($B18,X$2)&\":\"&ADDRESS($B18,MAX($2:$2))))","v":0},null,null,{"$f":"IF(X$4=\"\",0,SUMIFS(Model!$W21:$ZZ21,Model!$W$6:$ZZ$6,\">=\"&'M-Q-Y'!X$6,Model!$W$6:$ZZ$6,\"<=\"&'M-Q-Y'!X$7))","v":0},{"$f":"IF(Y$4=\"\",0,SUMIFS(Model!$W21:$ZZ21,Model!$W$6:$ZZ$6,\">=\"&'M-Q-Y'!Y$6,Model!$W$6:$ZZ$6,\"<=\"&'M-Q-Y'!Y$7))","v":0},{"$f":"IF(Z$4=\"\",0,SUMIFS(Model!$W21:$ZZ21,Model!$W$6:$ZZ$6,\">=\"&'M-Q-Y'!Z$6,Model!$W$6:$ZZ$6,\"<=\"&'M-Q-Y'!Z$7))","v":0},{"$f":"IF(AA$4=\"\",0,SUMIFS(Model!$W21:$ZZ21,Model!$W$6:$ZZ$6,\">=\"&'M-Q-Y'!AA$6,Model!$W$6:$ZZ$6,\"<=\"&'M-Q-Y'!AA$7))","v":0},{"$f":"IF(AB$4=\"\",0,SUMIFS(Model!$W21:$ZZ21,Model!$W$6:$ZZ$6,\">=\"&'M-Q-Y'!AB$6,Model!$W$6:$ZZ$6,\"<=\"&'M-Q-Y'!AB$7))","v":0},{"$f":"IF(AC$4=\"\",0,SUMIFS(Model!$W21:$ZZ21,Model!$W$6:$ZZ$6,\">=\"&'M-Q-Y'!AC$6,Model!$W$6:$ZZ$6,\"<=\"&'M-Q-Y'!AC$7))","v":0},{"$f":"IF(AD$4=\"\",0,SUMIFS(Model!$W21:$ZZ21,Model!$W$6:$ZZ$6,\">=\"&'M-Q-Y'!AD$6,Model!$W$6:$ZZ$6,\"<=\"&'M-Q-Y'!AD$7))","v":0},{"$f":"IF(AE$4=\"\",0,SUMIFS(Model!$W21:$ZZ21,Model!$W$6:$ZZ$6,\">=\"&'M-Q-Y'!AE$6,Model!$W$6:$ZZ$6,\"<=\"&'M-Q-Y'!AE$7))","v":0},{"$f":"IF(AF$4=\"\",0,SUMIFS(Model!$W21:$ZZ21,Model!$W$6:$ZZ$6,\">=\"&'M-Q-Y'!AF$6,Model!$W$6:$ZZ$6,\"<=\"&'M-Q-Y'!AF$7))","v":0},{"$f":"IF(AG$4=\"\",0,SUMIFS(Model!$W21:$ZZ21,Model!$W$6:$ZZ$6,\">=\"&'M-Q-Y'!AG$6,Model!$W$6:$ZZ$6,\"<=\"&'M-Q-Y'!AG$7))","v":0},{"$f":"IF(AH$4=\"\",0,SUMIFS(Model!$W21:$ZZ21,Model!$W$6:$ZZ$6,\">=\"&'M-Q-Y'!AH$6,Model!$W$6:$ZZ$6,\"<=\"&'M-Q-Y'!AH$7))","v":0},{"$f":"IF(AI$4=\"\",0,SUMIFS(Model!$W21:$ZZ21,Model!$W$6:$ZZ$6,\">=\"&'M-Q-Y'!AI$6,Model!$W$6:$ZZ$6,\"<=\"&'M-Q-Y'!AI$7))","v":0},{"$f":"IF(AJ$4=\"\",0,SUMIFS(Model!$W21:$ZZ21,Model!$W$6:$ZZ$6,\">=\"&'M-Q-Y'!AJ$6,Model!$W$6:$ZZ$6,\"<=\"&'M-Q-Y'!AJ$7))","v":0},{"$f":"IF(AK$4=\"\",0,SUMIFS(Model!$W21:$ZZ21,Model!$W$6:$ZZ$6,\">=\"&'M-Q-Y'!AK$6,Model!$W$6:$ZZ$6,\"<=\"&'M-Q-Y'!AK$7))","v":0},{"$f":"IF(AL$4=\"\",0,SUMIFS(Model!$W21:$ZZ21,Model!$W$6:$ZZ$6,\">=\"&'M-Q-Y'!AL$6,Model!$W$6:$ZZ$6,\"<=\"&'M-Q-Y'!AL$7))","v":0},{"$f":"IF(AM$4=\"\",0,SUMIFS(Model!$W21:$ZZ21,Model!$W$6:$ZZ$6,\">=\"&'M-Q-Y'!AM$6,Model!$W$6:$ZZ$6,\"<=\"&'M-Q-Y'!AM$7))","v":0},{"$f":"IF(AN$4=\"\",0,SUMIFS(Model!$W21:$ZZ21,Model!$W$6:$ZZ$6,\">=\"&'M-Q-Y'!AN$6,Model!$W$6:$ZZ$6,\"<=\"&'M-Q-Y'!AN$7))","v":0},{"$f":"IF(AO$4=\"\",0,SUMIFS(Model!$W21:$ZZ21,Model!$W$6:$ZZ$6,\">=\"&'M-Q-Y'!AO$6,Model!$W$6:$ZZ$6,\"<=\"&'M-Q-Y'!AO$7))","v":0},{"$f":"IF(AP$4=\"\",0,SUMIFS(Model!$W21:$ZZ21,Model!$W$6:$ZZ$6,\">=\"&'M-Q-Y'!AP$6,Model!$W$6:$ZZ$6,\"<=\"&'M-Q-Y'!AP$7))","v":0},{"$f":"IF(AQ$4=\"\",0,SUMIFS(Model!$W21:$ZZ21,Model!$W$6:$ZZ$6,\">=\"&'M-Q-Y'!AQ$6,Model!$W$6:$ZZ$6,\"<=\"&'M-Q-Y'!AQ$7))","v":0},{"$f":"IF(AR$4=\"\",0,SUMIFS(Model!$W21:$ZZ21,Model!$W$6:$ZZ$6,\">=\"&'M-Q-Y'!AR$6,Model!$W$6:$ZZ$6,\"<=\"&'M-Q-Y'!AR$7))","v":0},{"$f":"IF(AS$4=\"\",0,SUMIFS(Model!$W21:$ZZ21,Model!$W$6:$ZZ$6,\">=\"&'M-Q-Y'!AS$6,Model!$W$6:$ZZ$6,\"<=\"&'M-Q-Y'!AS$7))","v":0},{"$f":"IF(AT$4=\"\",0,SUMIFS(Model!$W21:$ZZ21,Model!$W$6:$ZZ$6,\">=\"&'M-Q-Y'!AT$6,Model!$W$6:$ZZ$6,\"<=\"&'M-Q-Y'!AT$7))","v":0},{"$f":"IF(AU$4=\"\",0,SUMIFS(Model!$W21:$ZZ21,Model!$W$6:$ZZ$6,\">=\"&'M-Q-Y'!AU$6,Model!$W$6:$ZZ$6,\"<=\"&'M-Q-Y'!AU$7))","v":0},{"$f":"IF(AV$4=\"\",0,SUMIFS(Model!$W21:$ZZ21,Model!$W$6:$ZZ$6,\">=\"&'M-Q-Y'!AV$6,Model!$W$6:$ZZ$6,\"<=\"&'M-Q-Y'!AV$7))","v":0},{"$f":"IF(AW$4=\"\",0,SUMIFS(Model!$W21:$ZZ21,Model!$W$6:$ZZ$6,\">=\"&'M-Q-Y'!AW$6,Model!$W$6:$ZZ$6,\"<=\"&'M-Q-Y'!AW$7))","v":0},{"$f":"IF(AX$4=\"\",0,SUMIFS(Model!$W21:$ZZ21,Model!$W$6:$ZZ$6,\">=\"&'M-Q-Y'!AX$6,Model!$W$6:$ZZ$6,\"<=\"&'M-Q-Y'!AX$7))","v":0},{"$f":"IF(AY$4=\"\",0,SUMIFS(Model!$W21:$ZZ21,Model!$W$6:$ZZ$6,\">=\"&'M-Q-Y'!AY$6,Model!$W$6:$ZZ$6,\"<=\"&'M-Q-Y'!AY$7))","v":0},{"$f":"IF(AZ$4=\"\",0,SUMIFS(Model!$W21:$ZZ21,Model!$W$6:$ZZ$6,\">=\"&'M-Q-Y'!AZ$6,Model!$W$6:$ZZ$6,\"<=\"&'M-Q-Y'!AZ$7))","v":0},{"$f":"IF(BA$4=\"\",0,SUMIFS(Model!$W21:$ZZ21,Model!$W$6:$ZZ$6,\">=\"&'M-Q-Y'!BA$6,Model!$W$6:$ZZ$6,\"<=\"&'M-Q-Y'!BA$7))","v":0},{"$f":"IF(BB$4=\"\",0,SUMIFS(Model!$W21:$ZZ21,Model!$W$6:$ZZ$6,\">=\"&'M-Q-Y'!BB$6,Model!$W$6:$ZZ$6,\"<=\"&'M-Q-Y'!BB$7))","v":0},{"$f":"IF(BC$4=\"\",0,SUMIFS(Model!$W21:$ZZ21,Model!$W$6:$ZZ$6,\">=\"&'M-Q-Y'!BC$6,Model!$W$6:$ZZ$6,\"<=\"&'M-Q-Y'!BC$7))","v":0},{"$f":"IF(BD$4=\"\",0,SUMIFS(Model!$W21:$ZZ21,Model!$W$6:$ZZ$6,\">=\"&'M-Q-Y'!BD$6,Model!$W$6:$ZZ$6,\"<=\"&'M-Q-Y'!BD$7))","v":0},{"$f":"IF(BE$4=\"\",0,SUMIFS(Model!$W21:$ZZ21,Model!$W$6:$ZZ$6,\">=\"&'M-Q-Y'!BE$6,Model!$W$6:$ZZ$6,\"<=\"&'M-Q-Y'!BE$7))","v":0},{"$f":"IF(BF$4=\"\",0,SUMIFS(Model!$W21:$ZZ21,Model!$W$6:$ZZ$6,\">=\"&'M-Q-Y'!BF$6,Model!$W$6:$ZZ$6,\"<=\"&'M-Q-Y'!BF$7))","v":0},{"$f":"IF(BG$4=\"\",0,SUMIFS(Model!$W21:$ZZ21,Model!$W$6:$ZZ$6,\">=\"&'M-Q-Y'!BG$6,Model!$W$6:$ZZ$6,\"<=\"&'M-Q-Y'!BG$7))","v":0},{"$f":"IF(BH$4=\"\",0,SUMIFS(Model!$W21:$ZZ21,Model!$W$6:$ZZ$6,\">=\"&'M-Q-Y'!BH$6,Model!$W$6:$ZZ$6,\"<=\"&'M-Q-Y'!BH$7))","v":0},{"$f":"IF(BI$4=\"\",0,SUMIFS(Model!$W21:$ZZ21,Model!$W$6:$ZZ$6,\">=\"&'M-Q-Y'!BI$6,Model!$W$6:$ZZ$6,\"<=\"&'M-Q-Y'!BI$7))","v":0},{"$f":"IF(BJ$4=\"\",0,SUMIFS(Model!$W21:$ZZ21,Model!$W$6:$ZZ$6,\">=\"&'M-Q-Y'!BJ$6,Model!$W$6:$ZZ$6,\"<=\"&'M-Q-Y'!BJ$7))","v":0},{"$f":"IF(BK$4=\"\",0,SUMIFS(Model!$W21:$ZZ21,Model!$W$6:$ZZ$6,\">=\"&'M-Q-Y'!BK$6,Model!$W$6:$ZZ$6,\"<=\"&'M-Q-Y'!BK$7))","v":0},{"$f":"IF(BL$4=\"\",0,SUMIFS(Model!$W21:$ZZ21,Model!$W$6:$ZZ$6,\">=\"&'M-Q-Y'!BL$6,Model!$W$6:$ZZ$6,\"<=\"&'M-Q-Y'!BL$7))","v":0},{"$f":"IF(BM$4=\"\",0,SUMIFS(Model!$W21:$ZZ21,Model!$W$6:$ZZ$6,\">=\"&'M-Q-Y'!BM$6,Model!$W$6:$ZZ$6,\"<=\"&'M-Q-Y'!BM$7))","v":0},{"$f":"IF(BN$4=\"\",0,SUMIFS(Model!$W21:$ZZ21,Model!$W$6:$ZZ$6,\">=\"&'M-Q-Y'!BN$6,Model!$W$6:$ZZ$6,\"<=\"&'M-Q-Y'!BN$7))","v":0},{"$f":"IF(BO$4=\"\",0,SUMIFS(Model!$W21:$ZZ21,Model!$W$6:$ZZ$6,\">=\"&'M-Q-Y'!BO$6,Model!$W$6:$ZZ$6,\"<=\"&'M-Q-Y'!BO$7))","v":0},{"$f":"IF(BP$4=\"\",0,SUMIFS(Model!$W21:$ZZ21,Model!$W$6:$ZZ$6,\">=\"&'M-Q-Y'!BP$6,Model!$W$6:$ZZ$6,\"<=\"&'M-Q-Y'!BP$7))","v":0},{"$f":"IF(BQ$4=\"\",0,SUMIFS(Model!$W21:$ZZ21,Model!$W$6:$ZZ$6,\">=\"&'M-Q-Y'!BQ$6,Model!$W$6:$ZZ$6,\"<=\"&'M-Q-Y'!BQ$7))","v":0},{"$f":"IF(BR$4=\"\",0,SUMIFS(Model!$W21:$ZZ21,Model!$W$6:$ZZ$6,\">=\"&'M-Q-Y'!BR$6,Model!$W$6:$ZZ$6,\"<=\"&'M-Q-Y'!BR$7))","v":0},{"$f":"IF(BS$4=\"\",0,SUMIFS(Model!$W21:$ZZ21,Model!$W$6:$ZZ$6,\">=\"&'M-Q-Y'!BS$6,Model!$W$6:$ZZ$6,\"<=\"&'M-Q-Y'!BS$7))","v":0},{"$f":"IF(BT$4=\"\",0,SUMIFS(Model!$W21:$ZZ21,Model!$W$6:$ZZ$6,\">=\"&'M-Q-Y'!BT$6,Model!$W$6:$ZZ$6,\"<=\"&'M-Q-Y'!BT$7))","v":0},{"$f":"IF(BU$4=\"\",0,SUMIFS(Model!$W21:$ZZ21,Model!$W$6:$ZZ$6,\">=\"&'M-Q-Y'!BU$6,Model!$W$6:$ZZ$6,\"<=\"&'M-Q-Y'!BU$7))","v":0},{"$f":"IF(BV$4=\"\",0,SUMIFS(Model!$W21:$ZZ21,Model!$W$6:$ZZ$6,\">=\"&'M-Q-Y'!BV$6,Model!$W$6:$ZZ$6,\"<=\"&'M-Q-Y'!BV$7))","v":0},{"$f":"IF(BW$4=\"\",0,SUMIFS(Model!$W21:$ZZ21,Model!$W$6:$ZZ$6,\">=\"&'M-Q-Y'!BW$6,Model!$W$6:$ZZ$6,\"<=\"&'M-Q-Y'!BW$7))","v":0},{"$f":"IF(BX$4=\"\",0,SUMIFS(Model!$W21:$ZZ21,Model!$W$6:$ZZ$6,\">=\"&'M-Q-Y'!BX$6,Model!$W$6:$ZZ$6,\"<=\"&'M-Q-Y'!BX$7))","v":0},{"$f":"IF(BY$4=\"\",0,SUMIFS(Model!$W21:$ZZ21,Model!$W$6:$ZZ$6,\">=\"&'M-Q-Y'!BY$6,Model!$W$6:$ZZ$6,\"<=\"&'M-Q-Y'!BY$7))","v":0},{"$f":"IF(BZ$4=\"\",0,SUMIFS(Model!$W21:$ZZ21,Model!$W$6:$ZZ$6,\">=\"&'M-Q-Y'!BZ$6,Model!$W$6:$ZZ$6,\"<=\"&'M-Q-Y'!BZ$7))","v":0},{"$f":"IF(CA$4=\"\",0,SUMIFS(Model!$W21:$ZZ21,Model!$W$6:$ZZ$6,\">=\"&'M-Q-Y'!CA$6,Model!$W$6:$ZZ$6,\"<=\"&'M-Q-Y'!CA$7))","v":0},{"$f":"IF(CB$4=\"\",0,SUMIFS(Model!$W21:$ZZ21,Model!$W$6:$ZZ$6,\">=\"&'M-Q-Y'!CB$6,Model!$W$6:$ZZ$6,\"<=\"&'M-Q-Y'!CB$7))","v":0},{"$f":"IF(CC$4=\"\",0,SUMIFS(Model!$W21:$ZZ21,Model!$W$6:$ZZ$6,\">=\"&'M-Q-Y'!CC$6,Model!$W$6:$ZZ$6,\"<=\"&'M-Q-Y'!CC$7))","v":0},{"$f":"IF(CD$4=\"\",0,SUMIFS(Model!$W21:$ZZ21,Model!$W$6:$ZZ$6,\">=\"&'M-Q-Y'!CD$6,Model!$W$6:$ZZ$6,\"<=\"&'M-Q-Y'!CD$7))","v":0},{"$f":"IF(CE$4=\"\",0,SUMIFS(Model!$W21:$ZZ21,Model!$W$6:$ZZ$6,\">=\"&'M-Q-Y'!CE$6,Model!$W$6:$ZZ$6,\"<=\"&'M-Q-Y'!CE$7))","v":0},{"$f":"IF(CF$4=\"\",0,SUMIFS(Model!$W21:$ZZ21,Model!$W$6:$ZZ$6,\">=\"&'M-Q-Y'!CF$6,Model!$W$6:$ZZ$6,\"<=\"&'M-Q-Y'!CF$7))","v":0},{"$f":"IF(CG$4=\"\",0,SUMIFS(Model!$W21:$ZZ21,Model!$W$6:$ZZ$6,\">=\"&'M-Q-Y'!CG$6,Model!$W$6:$ZZ$6,\"<=\"&'M-Q-Y'!CG$7))","v":0},{"$f":"IF(CH$4=\"\",0,SUMIFS(Model!$W21:$ZZ21,Model!$W$6:$ZZ$6,\">=\"&'M-Q-Y'!CH$6,Model!$W$6:$ZZ$6,\"<=\"&'M-Q-Y'!CH$7))","v":0},{"$f":"IF(CI$4=\"\",0,SUMIFS(Model!$W21:$ZZ21,Model!$W$6:$ZZ$6,\">=\"&'M-Q-Y'!CI$6,Model!$W$6:$ZZ$6,\"<=\"&'M-Q-Y'!CI$7))","v":0},{"$f":"IF(CJ$4=\"\",0,SUMIFS(Model!$W21:$ZZ21,Model!$W$6:$ZZ$6,\">=\"&'M-Q-Y'!CJ$6,Model!$W$6:$ZZ$6,\"<=\"&'M-Q-Y'!CJ$7))","v":0},{"$f":"IF(CK$4=\"\",0,SUMIFS(Model!$W21:$ZZ21,Model!$W$6:$ZZ$6,\">=\"&'M-Q-Y'!CK$6,Model!$W$6:$ZZ$6,\"<=\"&'M-Q-Y'!CK$7))","v":0},{"$f":"IF(CL$4=\"\",0,SUMIFS(Model!$W21:$ZZ21,Model!$W$6:$ZZ$6,\">=\"&'M-Q-Y'!CL$6,Model!$W$6:$ZZ$6,\"<=\"&'M-Q-Y'!CL$7))","v":0},{"$f":"IF(CM$4=\"\",0,SUMIFS(Model!$W21:$ZZ21,Model!$W$6:$ZZ$6,\">=\"&'M-Q-Y'!CM$6,Model!$W$6:$ZZ$6,\"<=\"&'M-Q-Y'!CM$7))","v":0},{"$f":"IF(CN$4=\"\",0,SUMIFS(Model!$W21:$ZZ21,Model!$W$6:$ZZ$6,\">=\"&'M-Q-Y'!CN$6,Model!$W$6:$ZZ$6,\"<=\"&'M-Q-Y'!CN$7))","v":0},{"$f":"IF(CO$4=\"\",0,SUMIFS(Model!$W21:$ZZ21,Model!$W$6:$ZZ$6,\">=\"&'M-Q-Y'!CO$6,Model!$W$6:$ZZ$6,\"<=\"&'M-Q-Y'!CO$7))","v":0},{"$f":"IF(CP$4=\"\",0,SUMIFS(Model!$W21:$ZZ21,Model!$W$6:$ZZ$6,\">=\"&'M-Q-Y'!CP$6,Model!$W$6:$ZZ$6,\"<=\"&'M-Q-Y'!CP$7))","v":0},{"$f":"IF(CQ$4=\"\",0,SUMIFS(Model!$W21:$ZZ21,Model!$W$6:$ZZ$6,\">=\"&'M-Q-Y'!CQ$6,Model!$W$6:$ZZ$6,\"<=\"&'M-Q-Y'!CQ$7))","v":0},{"$f":"IF(CR$4=\"\",0,SUMIFS(Model!$W21:$ZZ21,Model!$W$6:$ZZ$6,\">=\"&'M-Q-Y'!CR$6,Model!$W$6:$ZZ$6,\"<=\"&'M-Q-Y'!CR$7))","v":0},{"$f":"IF(CS$4=\"\",0,SUMIFS(Model!$W21:$ZZ21,Model!$W$6:$ZZ$6,\">=\"&'M-Q-Y'!CS$6,Model!$W$6:$ZZ$6,\"<=\"&'M-Q-Y'!CS$7))","v":0},{"$f":"IF(CT$4=\"\",0,SUMIFS(Model!$W21:$ZZ21,Model!$W$6:$ZZ$6,\">=\"&'M-Q-Y'!CT$6,Model!$W$6:$ZZ$6,\"<=\"&'M-Q-Y'!CT$7))","v":0},{"$f":"IF(CU$4=\"\",0,SUMIFS(Model!$W21:$ZZ21,Model!$W$6:$ZZ$6,\">=\"&'M-Q-Y'!CU$6,Model!$W$6:$ZZ$6,\"<=\"&'M-Q-Y'!CU$7))","v":0},{"$f":"IF(CV$4=\"\",0,SUMIFS(Model!$W21:$ZZ21,Model!$W$6:$ZZ$6,\">=\"&'M-Q-Y'!CV$6,Model!$W$6:$ZZ$6,\"<=\"&'M-Q-Y'!CV$7))","v":0},{"$f":"IF(CW$4=\"\",0,SUMIFS(Model!$W21:$ZZ21,Model!$W$6:$ZZ$6,\">=\"&'M-Q-Y'!CW$6,Model!$W$6:$ZZ$6,\"<=\"&'M-Q-Y'!CW$7))","v":0},{"$f":"IF(CX$4=\"\",0,SUMIFS(Model!$W21:$ZZ21,Model!$W$6:$ZZ$6,\">=\"&'M-Q-Y'!CX$6,Model!$W$6:$ZZ$6,\"<=\"&'M-Q-Y'!CX$7))","v":0},{"$f":"IF(CY$4=\"\",0,SUMIFS(Model!$W21:$ZZ21,Model!$W$6:$ZZ$6,\">=\"&'M-Q-Y'!CY$6,Model!$W$6:$ZZ$6,\"<=\"&'M-Q-Y'!CY$7))","v":0},{"$f":"IF(CZ$4=\"\",0,SUMIFS(Model!$W21:$ZZ21,Model!$W$6:$ZZ$6,\">=\"&'M-Q-Y'!CZ$6,Model!$W$6:$ZZ$6,\"<=\"&'M-Q-Y'!CZ$7))","v":0},{"$f":"IF(DA$4=\"\",0,SUMIFS(Model!$W21:$ZZ21,Model!$W$6:$ZZ$6,\">=\"&'M-Q-Y'!DA$6,Model!$W$6:$ZZ$6,\"<=\"&'M-Q-Y'!DA$7))","v":0},{"$f":"IF(DB$4=\"\",0,SUMIFS(Model!$W21:$ZZ21,Model!$W$6:$ZZ$6,\">=\"&'M-Q-Y'!DB$6,Model!$W$6:$ZZ$6,\"<=\"&'M-Q-Y'!DB$7))","v":0},{"$f":"IF(DC$4=\"\",0,SUMIFS(Model!$W21:$ZZ21,Model!$W$6:$ZZ$6,\">=\"&'M-Q-Y'!DC$6,Model!$W$6:$ZZ$6,\"<=\"&'M-Q-Y'!DC$7))","v":0},{"$f":"IF(DD$4=\"\",0,SUMIFS(Model!$W21:$ZZ21,Model!$W$6:$ZZ$6,\">=\"&'M-Q-Y'!DD$6,Model!$W$6:$ZZ$6,\"<=\"&'M-Q-Y'!DD$7))","v":0},{"$f":"IF(DE$4=\"\",0,SUMIFS(Model!$W21:$ZZ21,Model!$W$6:$ZZ$6,\">=\"&'M-Q-Y'!DE$6,Model!$W$6:$ZZ$6,\"<=\"&'M-Q-Y'!DE$7))","v":0},{"$f":"IF(DF$4=\"\",0,SUMIFS(Model!$W21:$ZZ21,Model!$W$6:$ZZ$6,\">=\"&'M-Q-Y'!DF$6,Model!$W$6:$ZZ$6,\"<=\"&'M-Q-Y'!DF$7))","v":0},{"$f":"IF(DG$4=\"\",0,SUMIFS(Model!$W21:$ZZ21,Model!$W$6:$ZZ$6,\">=\"&'M-Q-Y'!DG$6,Model!$W$6:$ZZ$6,\"<=\"&'M-Q-Y'!DG$7))","v":0},{"$f":"IF(DH$4=\"\",0,SUMIFS(Model!$W21:$ZZ21,Model!$W$6:$ZZ$6,\">=\"&'M-Q-Y'!DH$6,Model!$W$6:$ZZ$6,\"<=\"&'M-Q-Y'!DH$7))","v":0},{"$f":"IF(DI$4=\"\",0,SUMIFS(Model!$W21:$ZZ21,Model!$W$6:$ZZ$6,\">=\"&'M-Q-Y'!DI$6,Model!$W$6:$ZZ$6,\"<=\"&'M-Q-Y'!DI$7))","v":0},{"$f":"IF(DJ$4=\"\",0,SUMIFS(Model!$W21:$ZZ21,Model!$W$6:$ZZ$6,\">=\"&'M-Q-Y'!DJ$6,Model!$W$6:$ZZ$6,\"<=\"&'M-Q-Y'!DJ$7))","v":0},{"$f":"IF(DK$4=\"\",0,SUMIFS(Model!$W21:$ZZ21,Model!$W$6:$ZZ$6,\">=\"&'M-Q-Y'!DK$6,Model!$W$6:$ZZ$6,\"<=\"&'M-Q-Y'!DK$7))","v":0},{"$f":"IF(DL$4=\"\",0,SUMIFS(Model!$W21:$ZZ21,Model!$W$6:$ZZ$6,\">=\"&'M-Q-Y'!DL$6,Model!$W$6:$ZZ$6,\"<=\"&'M-Q-Y'!DL$7))","v":0},{"$f":"IF(DM$4=\"\",0,SUMIFS(Model!$W21:$ZZ21,Model!$W$6:$ZZ$6,\">=\"&'M-Q-Y'!DM$6,Model!$W$6:$ZZ$6,\"<=\"&'M-Q-Y'!DM$7))","v":0},{"$f":"IF(DN$4=\"\",0,SUMIFS(Model!$W21:$ZZ21,Model!$W$6:$ZZ$6,\">=\"&'M-Q-Y'!DN$6,Model!$W$6:$ZZ$6,\"<=\"&'M-Q-Y'!DN$7))","v":0},{"$f":"IF(DO$4=\"\",0,SUMIFS(Model!$W21:$ZZ21,Model!$W$6:$ZZ$6,\">=\"&'M-Q-Y'!DO$6,Model!$W$6:$ZZ$6,\"<=\"&'M-Q-Y'!DO$7))","v":0},{"$f":"IF(DP$4=\"\",0,SUMIFS(Model!$W21:$ZZ21,Model!$W$6:$ZZ$6,\">=\"&'M-Q-Y'!DP$6,Model!$W$6:$ZZ$6,\"<=\"&'M-Q-Y'!DP$7))","v":0},{"$f":"IF(DQ$4=\"\",0,SUMIFS(Model!$W21:$ZZ21,Model!$W$6:$ZZ$6,\">=\"&'M-Q-Y'!DQ$6,Model!$W$6:$ZZ$6,\"<=\"&'M-Q-Y'!DQ$7))","v":0},{"$f":"IF(DR$4=\"\",0,SUMIFS(Model!$W21:$ZZ21,Model!$W$6:$ZZ$6,\">=\"&'M-Q-Y'!DR$6,Model!$W$6:$ZZ$6,\"<=\"&'M-Q-Y'!DR$7))","v":0},{"$f":"IF(DS$4=\"\",0,SUMIFS(Model!$W21:$ZZ21,Model!$W$6:$ZZ$6,\">=\"&'M-Q-Y'!DS$6,Model!$W$6:$ZZ$6,\"<=\"&'M-Q-Y'!DS$7))","v":0},{"$f":"IF(DT$4=\"\",0,SUMIFS(Model!$W21:$ZZ21,Model!$W$6:$ZZ$6,\">=\"&'M-Q-Y'!DT$6,Model!$W$6:$ZZ$6,\"<=\"&'M-Q-Y'!DT$7))","v":0},{"$f":"IF(DU$4=\"\",0,SUMIFS(Model!$W21:$ZZ21,Model!$W$6:$ZZ$6,\">=\"&'M-Q-Y'!DU$6,Model!$W$6:$ZZ$6,\"<=\"&'M-Q-Y'!DU$7))","v":0},{"$f":"IF(DV$4=\"\",0,SUMIFS(Model!$W21:$ZZ21,Model!$W$6:$ZZ$6,\">=\"&'M-Q-Y'!DV$6,Model!$W$6:$ZZ$6,\"<=\"&'M-Q-Y'!DV$7))","v":0},{"$f":"IF(DW$4=\"\",0,SUMIFS(Model!$W21:$ZZ21,Model!$W$6:$ZZ$6,\">=\"&'M-Q-Y'!DW$6,Model!$W$6:$ZZ$6,\"<=\"&'M-Q-Y'!DW$7))","v":0},{"$f":"IF(DX$4=\"\",0,SUMIFS(Model!$W21:$ZZ21,Model!$W$6:$ZZ$6,\">=\"&'M-Q-Y'!DX$6,Model!$W$6:$ZZ$6,\"<=\"&'M-Q-Y'!DX$7))","v":0},{"$f":"IF(DY$4=\"\",0,SUMIFS(Model!$W21:$ZZ21,Model!$W$6:$ZZ$6,\">=\"&'M-Q-Y'!DY$6,Model!$W$6:$ZZ$6,\"<=\"&'M-Q-Y'!DY$7))","v":0},{"$f":"IF(DZ$4=\"\",0,SUMIFS(Model!$W21:$ZZ21,Model!$W$6:$ZZ$6,\">=\"&'M-Q-Y'!DZ$6,Model!$W$6:$ZZ$6,\"<=\"&'M-Q-Y'!DZ$7))","v":0},{"$f":"IF(EA$4=\"\",0,SUMIFS(Model!$W21:$ZZ21,Model!$W$6:$ZZ$6,\">=\"&'M-Q-Y'!EA$6,Model!$W$6:$ZZ$6,\"<=\"&'M-Q-Y'!EA$7))","v":0},{"$f":"IF(EB$4=\"\",0,SUMIFS(Model!$W21:$ZZ21,Model!$W$6:$ZZ$6,\">=\"&'M-Q-Y'!EB$6,Model!$W$6:$ZZ$6,\"<=\"&'M-Q-Y'!EB$7))","v":0},{"$f":"IF(EC$4=\"\",0,SUMIFS(Model!$W21:$ZZ21,Model!$W$6:$ZZ$6,\">=\"&'M-Q-Y'!EC$6,Model!$W$6:$ZZ$6,\"<=\"&'M-Q-Y'!EC$7))","v":0},{"$f":"IF(ED$4=\"\",0,SUMIFS(Model!$W21:$ZZ21,Model!$W$6:$ZZ$6,\">=\"&'M-Q-Y'!ED$6,Model!$W$6:$ZZ$6,\"<=\"&'M-Q-Y'!ED$7))","v":0},{"$f":"IF(EE$4=\"\",0,SUMIFS(Model!$W21:$ZZ21,Model!$W$6:$ZZ$6,\">=\"&'M-Q-Y'!EE$6,Model!$W$6:$ZZ$6,\"<=\"&'M-Q-Y'!EE$7))","v":0},{"$f":"IF(EF$4=\"\",0,SUMIFS(Model!$W21:$ZZ21,Model!$W$6:$ZZ$6,\">=\"&'M-Q-Y'!EF$6,Model!$W$6:$ZZ$6,\"<=\"&'M-Q-Y'!EF$7))","v":0},{"$f":"IF(EG$4=\"\",0,SUMIFS(Model!$W21:$ZZ21,Model!$W$6:$ZZ$6,\">=\"&'M-Q-Y'!EG$6,Model!$W$6:$ZZ$6,\"<=\"&'M-Q-Y'!EG$7))","v":0},{"$f":"IF(EH$4=\"\",0,SUMIFS(Model!$W21:$ZZ21,Model!$W$6:$ZZ$6,\">=\"&'M-Q-Y'!EH$6,Model!$W$6:$ZZ$6,\"<=\"&'M-Q-Y'!EH$7))","v":0},{"$f":"IF(EI$4=\"\",0,SUMIFS(Model!$W21:$ZZ21,Model!$W$6:$ZZ$6,\">=\"&'M-Q-Y'!EI$6,Model!$W$6:$ZZ$6,\"<=\"&'M-Q-Y'!EI$7))","v":0},{"$f":"IF(EJ$4=\"\",0,SUMIFS(Model!$W21:$ZZ21,Model!$W$6:$ZZ$6,\">=\"&'M-Q-Y'!EJ$6,Model!$W$6:$ZZ$6,\"<=\"&'M-Q-Y'!EJ$7))","v":0},{"$f":"IF(EK$4=\"\",0,SUMIFS(Model!$W21:$ZZ21,Model!$W$6:$ZZ$6,\">=\"&'M-Q-Y'!EK$6,Model!$W$6:$ZZ$6,\"<=\"&'M-Q-Y'!EK$7))","v":0},{"$f":"IF(EL$4=\"\",0,SUMIFS(Model!$W21:$ZZ21,Model!$W$6:$ZZ$6,\">=\"&'M-Q-Y'!EL$6,Model!$W$6:$ZZ$6,\"<=\"&'M-Q-Y'!EL$7))","v":0},{"$f":"IF(EM$4=\"\",0,SUMIFS(Model!$W21:$ZZ21,Model!$W$6:$ZZ$6,\">=\"&'M-Q-Y'!EM$6,Model!$W$6:$ZZ$6,\"<=\"&'M-Q-Y'!EM$7))","v":0},{"$f":"IF(EN$4=\"\",0,SUMIFS(Model!$W21:$ZZ21,Model!$W$6:$ZZ$6,\">=\"&'M-Q-Y'!EN$6,Model!$W$6:$ZZ$6,\"<=\"&'M-Q-Y'!EN$7))","v":0},{"$f":"IF(EO$4=\"\",0,SUMIFS(Model!$W21:$ZZ21,Model!$W$6:$ZZ$6,\">=\"&'M-Q-Y'!EO$6,Model!$W$6:$ZZ$6,\"<=\"&'M-Q-Y'!EO$7))","v":0},{"$f":"IF(EP$4=\"\",0,SUMIFS(Model!$W21:$ZZ21,Model!$W$6:$ZZ$6,\">=\"&'M-Q-Y'!EP$6,Model!$W$6:$ZZ$6,\"<=\"&'M-Q-Y'!EP$7))","v":0},{"$f":"IF(EQ$4=\"\",0,SUMIFS(Model!$W21:$ZZ21,Model!$W$6:$ZZ$6,\">=\"&'M-Q-Y'!EQ$6,Model!$W$6:$ZZ$6,\"<=\"&'M-Q-Y'!EQ$7))","v":0},{"$f":"IF(ER$4=\"\",0,SUMIFS(Model!$W21:$ZZ21,Model!$W$6:$ZZ$6,\">=\"&'M-Q-Y'!ER$6,Model!$W$6:$ZZ$6,\"<=\"&'M-Q-Y'!ER$7))","v":0},{"$f":"IF(ES$4=\"\",0,SUMIFS(Model!$W21:$ZZ21,Model!$W$6:$ZZ$6,\">=\"&'M-Q-Y'!ES$6,Model!$W$6:$ZZ$6,\"<=\"&'M-Q-Y'!ES$7))","v":0},{"$f":"IF(ET$4=\"\",0,SUMIFS(Model!$W21:$ZZ21,Model!$W$6:$ZZ$6,\">=\"&'M-Q-Y'!ET$6,Model!$W$6:$ZZ$6,\"<=\"&'M-Q-Y'!ET$7))","v":0},{"$f":"IF(EU$4=\"\",0,SUMIFS(Model!$W21:$ZZ21,Model!$W$6:$ZZ$6,\">=\"&'M-Q-Y'!EU$6,Model!$W$6:$ZZ$6,\"<=\"&'M-Q-Y'!EU$7))","v":0},{"$f":"IF(EV$4=\"\",0,SUMIFS(Model!$W21:$ZZ21,Model!$W$6:$ZZ$6,\">=\"&'M-Q-Y'!EV$6,Model!$W$6:$ZZ$6,\"<=\"&'M-Q-Y'!EV$7))","v":0},{"$f":"IF(EW$4=\"\",0,SUMIFS(Model!$W21:$ZZ21,Model!$W$6:$ZZ$6,\">=\"&'M-Q-Y'!EW$6,Model!$W$6:$ZZ$6,\"<=\"&'M-Q-Y'!EW$7))","v":0},{"$f":"IF(EX$4=\"\",0,SUMIFS(Model!$W21:$ZZ21,Model!$W$6:$ZZ$6,\">=\"&'M-Q-Y'!EX$6,Model!$W$6:$ZZ$6,\"<=\"&'M-Q-Y'!EX$7))","v":0},{"$f":"IF(EY$4=\"\",0,SUMIFS(Model!$W21:$ZZ21,Model!$W$6:$ZZ$6,\">=\"&'M-Q-Y'!EY$6,Model!$W$6:$ZZ$6,\"<=\"&'M-Q-Y'!EY$7))","v":0},{"$f":"IF(EZ$4=\"\",0,SUMIFS(Model!$W21:$ZZ21,Model!$W$6:$ZZ$6,\">=\"&'M-Q-Y'!EZ$6,Model!$W$6:$ZZ$6,\"<=\"&'M-Q-Y'!EZ$7))","v":0},{"$f":"IF(FA$4=\"\",0,SUMIFS(Model!$W21:$ZZ21,Model!$W$6:$ZZ$6,\">=\"&'M-Q-Y'!FA$6,Model!$W$6:$ZZ$6,\"<=\"&'M-Q-Y'!FA$7))","v":0},{"$f":"IF(FB$4=\"\",0,SUMIFS(Model!$W21:$ZZ21,Model!$W$6:$ZZ$6,\">=\"&'M-Q-Y'!FB$6,Model!$W$6:$ZZ$6,\"<=\"&'M-Q-Y'!FB$7))","v":0},{"$f":"IF(FC$4=\"\",0,SUMIFS(Model!$W21:$ZZ21,Model!$W$6:$ZZ$6,\">=\"&'M-Q-Y'!FC$6,Model!$W$6:$ZZ$6,\"<=\"&'M-Q-Y'!FC$7))","v":0},{"$f":"IF(FD$4=\"\",0,SUMIFS(Model!$W21:$ZZ21,Model!$W$6:$ZZ$6,\">=\"&'M-Q-Y'!FD$6,Model!$W$6:$ZZ$6,\"<=\"&'M-Q-Y'!FD$7))","v":0},{"$f":"IF(FE$4=\"\",0,SUMIFS(Model!$W21:$ZZ21,Model!$W$6:$ZZ$6,\">=\"&'M-Q-Y'!FE$6,Model!$W$6:$ZZ$6,\"<=\"&'M-Q-Y'!FE$7))","v":0},{"$f":"IF(FF$4=\"\",0,SUMIFS(Model!$W21:$ZZ21,Model!$W$6:$ZZ$6,\">=\"&'M-Q-Y'!FF$6,Model!$W$6:$ZZ$6,\"<=\"&'M-Q-Y'!FF$7))","v":0},{"$f":"IF(FG$4=\"\",0,SUMIFS(Model!$W21:$ZZ21,Model!$W$6:$ZZ$6,\">=\"&'M-Q-Y'!FG$6,Model!$W$6:$ZZ$6,\"<=\"&'M-Q-Y'!FG$7))","v":0},{"$f":"IF(FH$4=\"\",0,SUMIFS(Model!$W21:$ZZ21,Model!$W$6:$ZZ$6,\">=\"&'M-Q-Y'!FH$6,Model!$W$6:$ZZ$6,\"<=\"&'M-Q-Y'!FH$7))","v":0},{"$f":"IF(FI$4=\"\",0,SUMIFS(Model!$W21:$ZZ21,Model!$W$6:$ZZ$6,\">=\"&'M-Q-Y'!FI$6,Model!$W$6:$ZZ$6,\"<=\"&'M-Q-Y'!FI$7))","v":0},{"$f":"IF(FJ$4=\"\",0,SUMIFS(Model!$W21:$ZZ21,Model!$W$6:$ZZ$6,\">=\"&'M-Q-Y'!FJ$6,Model!$W$6:$ZZ$6,\"<=\"&'M-Q-Y'!FJ$7))","v":0},{"$f":"IF(FK$4=\"\",0,SUMIFS(Model!$W21:$ZZ21,Model!$W$6:$ZZ$6,\">=\"&'M-Q-Y'!FK$6,Model!$W$6:$ZZ$6,\"<=\"&'M-Q-Y'!FK$7))","v":0},{"$f":"IF(FL$4=\"\",0,SUMIFS(Model!$W21:$ZZ21,Model!$W$6:$ZZ$6,\">=\"&'M-Q-Y'!FL$6,Model!$W$6:$ZZ$6,\"<=\"&'M-Q-Y'!FL$7))","v":0},{"$f":"IF(FM$4=\"\",0,SUMIFS(Model!$W21:$ZZ21,Model!$W$6:$ZZ$6,\">=\"&'M-Q-Y'!FM$6,Model!$W$6:$ZZ$6,\"<=\"&'M-Q-Y'!FM$7))","v":0},{"$f":"IF(FN$4=\"\",0,SUMIFS(Model!$W21:$ZZ21,Model!$W$6:$ZZ$6,\">=\"&'M-Q-Y'!FN$6,Model!$W$6:$ZZ$6,\"<=\"&'M-Q-Y'!FN$7))","v":0},{"$f":"IF(FO$4=\"\",0,SUMIFS(Model!$W21:$ZZ21,Model!$W$6:$ZZ$6,\">=\"&'M-Q-Y'!FO$6,Model!$W$6:$ZZ$6,\"<=\"&'M-Q-Y'!FO$7))","v":0},{"$f":"IF(FP$4=\"\",0,SUMIFS(Model!$W21:$ZZ21,Model!$W$6:$ZZ$6,\">=\"&'M-Q-Y'!FP$6,Model!$W$6:$ZZ$6,\"<=\"&'M-Q-Y'!FP$7))","v":0},{"$f":"IF(FQ$4=\"\",0,SUMIFS(Model!$W21:$ZZ21,Model!$W$6:$ZZ$6,\">=\"&'M-Q-Y'!FQ$6,Model!$W$6:$ZZ$6,\"<=\"&'M-Q-Y'!FQ$7))","v":0},{"$f":"IF(FR$4=\"\",0,SUMIFS(Model!$W21:$ZZ21,Model!$W$6:$ZZ$6,\">=\"&'M-Q-Y'!FR$6,Model!$W$6:$ZZ$6,\"<=\"&'M-Q-Y'!FR$7))","v":0},{"$f":"IF(FS$4=\"\",0,SUMIFS(Model!$W21:$ZZ21,Model!$W$6:$ZZ$6,\">=\"&'M-Q-Y'!FS$6,Model!$W$6:$ZZ$6,\"<=\"&'M-Q-Y'!FS$7))","v":0},{"$f":"IF(FT$4=\"\",0,SUMIFS(Model!$W21:$ZZ21,Model!$W$6:$ZZ$6,\">=\"&'M-Q-Y'!FT$6,Model!$W$6:$ZZ$6,\"<=\"&'M-Q-Y'!FT$7))","v":0},{"$f":"IF(FU$4=\"\",0,SUMIFS(Model!$W21:$ZZ21,Model!$W$6:$ZZ$6,\">=\"&'M-Q-Y'!FU$6,Model!$W$6:$ZZ$6,\"<=\"&'M-Q-Y'!FU$7))","v":0},{"$f":"IF(FV$4=\"\",0,SUMIFS(Model!$W21:$ZZ21,Model!$W$6:$ZZ$6,\">=\"&'M-Q-Y'!FV$6,Model!$W$6:$ZZ$6,\"<=\"&'M-Q-Y'!FV$7))","v":0},{"$f":"IF(FW$4=\"\",0,SUMIFS(Model!$W21:$ZZ21,Model!$W$6:$ZZ$6,\">=\"&'M-Q-Y'!FW$6,Model!$W$6:$ZZ$6,\"<=\"&'M-Q-Y'!FW$7))","v":0},{"$f":"IF(FX$4=\"\",0,SUMIFS(Model!$W21:$ZZ21,Model!$W$6:$ZZ$6,\">=\"&'M-Q-Y'!FX$6,Model!$W$6:$ZZ$6,\"<=\"&'M-Q-Y'!FX$7))","v":0},{"$f":"IF(FY$4=\"\",0,SUMIFS(Model!$W21:$ZZ21,Model!$W$6:$ZZ$6,\">=\"&'M-Q-Y'!FY$6,Model!$W$6:$ZZ$6,\"<=\"&'M-Q-Y'!FY$7))","v":0},{"$f":"IF(FZ$4=\"\",0,SUMIFS(Model!$W21:$ZZ21,Model!$W$6:$ZZ$6,\">=\"&'M-Q-Y'!FZ$6,Model!$W$6:$ZZ$6,\"<=\"&'M-Q-Y'!FZ$7))","v":0},{"$f":"IF(GA$4=\"\",0,SUMIFS(Model!$W21:$ZZ21,Model!$W$6:$ZZ$6,\">=\"&'M-Q-Y'!GA$6,Model!$W$6:$ZZ$6,\"<=\"&'M-Q-Y'!GA$7))","v":0},{"$f":"IF(GB$4=\"\",0,SUMIFS(Model!$W21:$ZZ21,Model!$W$6:$ZZ$6,\">=\"&'M-Q-Y'!GB$6,Model!$W$6:$ZZ$6,\"<=\"&'M-Q-Y'!GB$7))","v":0},{"$f":"IF(GC$4=\"\",0,SUMIFS(Model!$W21:$ZZ21,Model!$W$6:$ZZ$6,\">=\"&'M-Q-Y'!GC$6,Model!$W$6:$ZZ$6,\"<=\"&'M-Q-Y'!GC$7))","v":0},{"$f":"IF(GD$4=\"\",0,SUMIFS(Model!$W21:$ZZ21,Model!$W$6:$ZZ$6,\">=\"&'M-Q-Y'!GD$6,Model!$W$6:$ZZ$6,\"<=\"&'M-Q-Y'!GD$7))","v":0},{"$f":"IF(GE$4=\"\",0,SUMIFS(Model!$W21:$ZZ21,Model!$W$6:$ZZ$6,\">=\"&'M-Q-Y'!GE$6,Model!$W$6:$ZZ$6,\"<=\"&'M-Q-Y'!GE$7))","v":0},{"$f":"IF(GF$4=\"\",0,SUMIFS(Model!$W21:$ZZ21,Model!$W$6:$ZZ$6,\">=\"&'M-Q-Y'!GF$6,Model!$W$6:$ZZ$6,\"<=\"&'M-Q-Y'!GF$7))","v":0},{"$f":"IF(GG$4=\"\",0,SUMIFS(Model!$W21:$ZZ21,Model!$W$6:$ZZ$6,\">=\"&'M-Q-Y'!GG$6,Model!$W$6:$ZZ$6,\"<=\"&'M-Q-Y'!GG$7))","v":0},{"$f":"IF(GH$4=\"\",0,SUMIFS(Model!$W21:$ZZ21,Model!$W$6:$ZZ$6,\">=\"&'M-Q-Y'!GH$6,Model!$W$6:$ZZ$6,\"<=\"&'M-Q-Y'!GH$7))","v":0},{"$f":"IF(GI$4=\"\",0,SUMIFS(Model!$W21:$ZZ21,Model!$W$6:$ZZ$6,\">=\"&'M-Q-Y'!GI$6,Model!$W$6:$ZZ$6,\"<=\"&'M-Q-Y'!GI$7))","v":0},{"$f":"IF(GJ$4=\"\",0,SUMIFS(Model!$W21:$ZZ21,Model!$W$6:$ZZ$6,\">=\"&'M-Q-Y'!GJ$6,Model!$W$6:$ZZ$6,\"<=\"&'M-Q-Y'!GJ$7))","v":0},{"$f":"IF(GK$4=\"\",0,SUMIFS(Model!$W21:$ZZ21,Model!$W$6:$ZZ$6,\">=\"&'M-Q-Y'!GK$6,Model!$W$6:$ZZ$6,\"<=\"&'M-Q-Y'!GK$7))","v":0},{"$f":"IF(GL$4=\"\",0,SUMIFS(Model!$W21:$ZZ21,Model!$W$6:$ZZ$6,\">=\"&'M-Q-Y'!GL$6,Model!$W$6:$ZZ$6,\"<=\"&'M-Q-Y'!GL$7))","v":0},{"$f":"IF(GM$4=\"\",0,SUMIFS(Model!$W21:$ZZ21,Model!$W$6:$ZZ$6,\">=\"&'M-Q-Y'!GM$6,Model!$W$6:$ZZ$6,\"<=\"&'M-Q-Y'!GM$7))","v":0},{"$f":"IF(GN$4=\"\",0,SUMIFS(Model!$W21:$ZZ21,Model!$W$6:$ZZ$6,\">=\"&'M-Q-Y'!GN$6,Model!$W$6:$ZZ$6,\"<=\"&'M-Q-Y'!GN$7))","v":0},{"$f":"IF(GO$4=\"\",0,SUMIFS(Model!$W21:$ZZ21,Model!$W$6:$ZZ$6,\">=\"&'M-Q-Y'!GO$6,Model!$W$6:$ZZ$6,\"<=\"&'M-Q-Y'!GO$7))","v":0},{"$f":"IF(GP$4=\"\",0,SUMIFS(Model!$W21:$ZZ21,Model!$W$6:$ZZ$6,\">=\"&'M-Q-Y'!GP$6,Model!$W$6:$ZZ$6,\"<=\"&'M-Q-Y'!GP$7))","v":0},{"$f":"IF(GQ$4=\"\",0,SUMIFS(Model!$W21:$ZZ21,Model!$W$6:$ZZ$6,\">=\"&'M-Q-Y'!GQ$6,Model!$W$6:$ZZ$6,\"<=\"&'M-Q-Y'!GQ$7))","v":0},{"$f":"IF(GR$4=\"\",0,SUMIFS(Model!$W21:$ZZ21,Model!$W$6:$ZZ$6,\">=\"&'M-Q-Y'!GR$6,Model!$W$6:$ZZ$6,\"<=\"&'M-Q-Y'!GR$7))","v":0},{"$f":"IF(GS$4=\"\",0,SUMIFS(Model!$W21:$ZZ21,Model!$W$6:$ZZ$6,\">=\"&'M-Q-Y'!GS$6,Model!$W$6:$ZZ$6,\"<=\"&'M-Q-Y'!GS$7))","v":0},{"$f":"IF(GT$4=\"\",0,SUMIFS(Model!$W21:$ZZ21,Model!$W$6:$ZZ$6,\">=\"&'M-Q-Y'!GT$6,Model!$W$6:$ZZ$6,\"<=\"&'M-Q-Y'!GT$7))","v":0},{"$f":"IF(GU$4=\"\",0,SUMIFS(Model!$W21:$ZZ21,Model!$W$6:$ZZ$6,\">=\"&'M-Q-Y'!GU$6,Model!$W$6:$ZZ$6,\"<=\"&'M-Q-Y'!GU$7))","v":0},{"$f":"IF(GV$4=\"\",0,SUMIFS(Model!$W21:$ZZ21,Model!$W$6:$ZZ$6,\">=\"&'M-Q-Y'!GV$6,Model!$W$6:$ZZ$6,\"<=\"&'M-Q-Y'!GV$7))","v":0}]
[null,{"$f":"ROW()","v":19}]
[null,67,null,null,null,null,null,"Операц. финпоток от экспл-ции оборуд-ия"]
[null,{"$f":"ROW()","v":21}]
[null,{"$f":"ROW()","v":22},null,null,null,null,null,"Поступление операционного фнпотока",null,null,null,null,null,null,null,"CF(+)",null,null,null,null,{"$f":"SUM(INDIRECT(ADDRESS($B22,X$2)&\":\"&ADDRESS($B22,MAX($2:$2))))","v":0},null,null,{"$f":"IF(X$4=\"\",0,SUMIFS(Model!$W27:$ZZ27,Model!$W$6:$ZZ$6,\">=\"&'M-Q-Y'!X$6,Model!$W$6:$ZZ$6,\"<=\"&'M-Q-Y'!X$7))","v":0},{"$f":"IF(Y$4=\"\",0,SUMIFS(Model!$W27:$ZZ27,Model!$W$6:$ZZ$6,\">=\"&'M-Q-Y'!Y$6,Model!$W$6:$ZZ$6,\"<=\"&'M-Q-Y'!Y$7))","v":0},{"$f":"IF(Z$4=\"\",0,SUMIFS(Model!$W27:$ZZ27,Model!$W$6:$ZZ$6,\">=\"&'M-Q-Y'!Z$6,Model!$W$6:$ZZ$6,\"<=\"&'M-Q-Y'!Z$7))","v":0},{"$f":"IF(AA$4=\"\",0,SUMIFS(Model!$W27:$ZZ27,Model!$W$6:$ZZ$6,\">=\"&'M-Q-Y'!AA$6,Model!$W$6:$ZZ$6,\"<=\"&'M-Q-Y'!AA$7))","v":0},{"$f":"IF(AB$4=\"\",0,SUMIFS(Model!$W27:$ZZ27,Model!$W$6:$ZZ$6,\">=\"&'M-Q-Y'!AB$6,Model!$W$6:$ZZ$6,\"<=\"&'M-Q-Y'!AB$7))","v":0},{"$f":"IF(AC$4=\"\",0,SUMIFS(Model!$W27:$ZZ27,Model!$W$6:$ZZ$6,\">=\"&'M-Q-Y'!AC$6,Model!$W$6:$ZZ$6,\"<=\"&'M-Q-Y'!AC$7))","v":0},{"$f":"IF(AD$4=\"\",0,SUMIFS(Model!$W27:$ZZ27,Model!$W$6:$ZZ$6,\">=\"&'M-Q-Y'!AD$6,Model!$W$6:$ZZ$6,\"<=\"&'M-Q-Y'!AD$7))","v":0},{"$f":"IF(AE$4=\"\",0,SUMIFS(Model!$W27:$ZZ27,Model!$W$6:$ZZ$6,\">=\"&'M-Q-Y'!AE$6,Model!$W$6:$ZZ$6,\"<=\"&'M-Q-Y'!AE$7))","v":0},{"$f":"IF(AF$4=\"\",0,SUMIFS(Model!$W27:$ZZ27,Model!$W$6:$ZZ$6,\">=\"&'M-Q-Y'!AF$6,Model!$W$6:$ZZ$6,\"<=\"&'M-Q-Y'!AF$7))","v":0},{"$f":"IF(AG$4=\"\",0,SUMIFS(Model!$W27:$ZZ27,Model!$W$6:$ZZ$6,\">=\"&'M-Q-Y'!AG$6,Model!$W$6:$ZZ$6,\"<=\"&'M-Q-Y'!AG$7))","v":0},{"$f":"IF(AH$4=\"\",0,SUMIFS(Model!$W27:$ZZ27,Model!$W$6:$ZZ$6,\">=\"&'M-Q-Y'!AH$6,Model!$W$6:$ZZ$6,\"<=\"&'M-Q-Y'!AH$7))","v":0},{"$f":"IF(AI$4=\"\",0,SUMIFS(Model!$W27:$ZZ27,Model!$W$6:$ZZ$6,\">=\"&'M-Q-Y'!AI$6,Model!$W$6:$ZZ$6,\"<=\"&'M-Q-Y'!AI$7))","v":0},{"$f":"IF(AJ$4=\"\",0,SUMIFS(Model!$W27:$ZZ27,Model!$W$6:$ZZ$6,\">=\"&'M-Q-Y'!AJ$6,Model!$W$6:$ZZ$6,\"<=\"&'M-Q-Y'!AJ$7))","v":0},{"$f":"IF(AK$4=\"\",0,SUMIFS(Model!$W27:$ZZ27,Model!$W$6:$ZZ$6,\">=\"&'M-Q-Y'!AK$6,Model!$W$6:$ZZ$6,\"<=\"&'M-Q-Y'!AK$7))","v":0},{"$f":"IF(AL$4=\"\",0,SUMIFS(Model!$W27:$ZZ27,Model!$W$6:$ZZ$6,\">=\"&'M-Q-Y'!AL$6,Model!$W$6:$ZZ$6,\"<=\"&'M-Q-Y'!AL$7))","v":0},{"$f":"IF(AM$4=\"\",0,SUMIFS(Model!$W27:$ZZ27,Model!$W$6:$ZZ$6,\">=\"&'M-Q-Y'!AM$6,Model!$W$6:$ZZ$6,\"<=\"&'M-Q-Y'!AM$7))","v":0},{"$f":"IF(AN$4=\"\",0,SUMIFS(Model!$W27:$ZZ27,Model!$W$6:$ZZ$6,\">=\"&'M-Q-Y'!AN$6,Model!$W$6:$ZZ$6,\"<=\"&'M-Q-Y'!AN$7))","v":0},{"$f":"IF(AO$4=\"\",0,SUMIFS(Model!$W27:$ZZ27,Model!$W$6:$ZZ$6,\">=\"&'M-Q-Y'!AO$6,Model!$W$6:$ZZ$6,\"<=\"&'M-Q-Y'!AO$7))","v":0},{"$f":"IF(AP$4=\"\",0,SUMIFS(Model!$W27:$ZZ27,Model!$W$6:$ZZ$6,\">=\"&'M-Q-Y'!AP$6,Model!$W$6:$ZZ$6,\"<=\"&'M-Q-Y'!AP$7))","v":0},{"$f":"IF(AQ$4=\"\",0,SUMIFS(Model!$W27:$ZZ27,Model!$W$6:$ZZ$6,\">=\"&'M-Q-Y'!AQ$6,Model!$W$6:$ZZ$6,\"<=\"&'M-Q-Y'!AQ$7))","v":0},{"$f":"IF(AR$4=\"\",0,SUMIFS(Model!$W27:$ZZ27,Model!$W$6:$ZZ$6,\">=\"&'M-Q-Y'!AR$6,Model!$W$6:$ZZ$6,\"<=\"&'M-Q-Y'!AR$7))","v":0},{"$f":"IF(AS$4=\"\",0,SUMIFS(Model!$W27:$ZZ27,Model!$W$6:$ZZ$6,\">=\"&'M-Q-Y'!AS$6,Model!$W$6:$ZZ$6,\"<=\"&'M-Q-Y'!AS$7))","v":0},{"$f":"IF(AT$4=\"\",0,SUMIFS(Model!$W27:$ZZ27,Model!$W$6:$ZZ$6,\">=\"&'M-Q-Y'!AT$6,Model!$W$6:$ZZ$6,\"<=\"&'M-Q-Y'!AT$7))","v":0},{"$f":"IF(AU$4=\"\",0,SUMIFS(Model!$W27:$ZZ27,Model!$W$6:$ZZ$6,\">=\"&'M-Q-Y'!AU$6,Model!$W$6:$ZZ$6,\"<=\"&'M-Q-Y'!AU$7))","v":0},{"$f":"IF(AV$4=\"\",0,SUMIFS(Model!$W27:$ZZ27,Model!$W$6:$ZZ$6,\">=\"&'M-Q-Y'!AV$6,Model!$W$6:$ZZ$6,\"<=\"&'M-Q-Y'!AV$7))","v":0},{"$f":"IF(AW$4=\"\",0,SUMIFS(Model!$W27:$ZZ27,Model!$W$6:$ZZ$6,\">=\"&'M-Q-Y'!AW$6,Model!$W$6:$ZZ$6,\"<=\"&'M-Q-Y'!AW$7))","v":0},{"$f":"IF(AX$4=\"\",0,SUMIFS(Model!$W27:$ZZ27,Model!$W$6:$ZZ$6,\">=\"&'M-Q-Y'!AX$6,Model!$W$6:$ZZ$6,\"<=\"&'M-Q-Y'!AX$7))","v":0},{"$f":"IF(AY$4=\"\",0,SUMIFS(Model!$W27:$ZZ27,Model!$W$6:$ZZ$6,\">=\"&'M-Q-Y'!AY$6,Model!$W$6:$ZZ$6,\"<=\"&'M-Q-Y'!AY$7))","v":0},{"$f":"IF(AZ$4=\"\",0,SUMIFS(Model!$W27:$ZZ27,Model!$W$6:$ZZ$6,\">=\"&'M-Q-Y'!AZ$6,Model!$W$6:$ZZ$6,\"<=\"&'M-Q-Y'!AZ$7))","v":0},{"$f":"IF(BA$4=\"\",0,SUMIFS(Model!$W27:$ZZ27,Model!$W$6:$ZZ$6,\">=\"&'M-Q-Y'!BA$6,Model!$W$6:$ZZ$6,\"<=\"&'M-Q-Y'!BA$7))","v":0},{"$f":"IF(BB$4=\"\",0,SUMIFS(Model!$W27:$ZZ27,Model!$W$6:$ZZ$6,\">=\"&'M-Q-Y'!BB$6,Model!$W$6:$ZZ$6,\"<=\"&'M-Q-Y'!BB$7))","v":0},{"$f":"IF(BC$4=\"\",0,SUMIFS(Model!$W27:$ZZ27,Model!$W$6:$ZZ$6,\">=\"&'M-Q-Y'!BC$6,Model!$W$6:$ZZ$6,\"<=\"&'M-Q-Y'!BC$7))","v":0},{"$f":"IF(BD$4=\"\",0,SUMIFS(Model!$W27:$ZZ27,Model!$W$6:$ZZ$6,\">=\"&'M-Q-Y'!BD$6,Model!$W$6:$ZZ$6,\"<=\"&'M-Q-Y'!BD$7))","v":0},{"$f":"IF(BE$4=\"\",0,SUMIFS(Model!$W27:$ZZ27,Model!$W$6:$ZZ$6,\">=\"&'M-Q-Y'!BE$6,Model!$W$6:$ZZ$6,\"<=\"&'M-Q-Y'!BE$7))","v":0},{"$f":"IF(BF$4=\"\",0,SUMIFS(Model!$W27:$ZZ27,Model!$W$6:$ZZ$6,\">=\"&'M-Q-Y'!BF$6,Model!$W$6:$ZZ$6,\"<=\"&'M-Q-Y'!BF$7))","v":0},{"$f":"IF(BG$4=\"\",0,SUMIFS(Model!$W27:$ZZ27,Model!$W$6:$ZZ$6,\">=\"&'M-Q-Y'!BG$6,Model!$W$6:$ZZ$6,\"<=\"&'M-Q-Y'!BG$7))","v":0},{"$f":"IF(BH$4=\"\",0,SUMIFS(Model!$W27:$ZZ27,Model!$W$6:$ZZ$6,\">=\"&'M-Q-Y'!BH$6,Model!$W$6:$ZZ$6,\"<=\"&'M-Q-Y'!BH$7))","v":0},{"$f":"IF(BI$4=\"\",0,SUMIFS(Model!$W27:$ZZ27,Model!$W$6:$ZZ$6,\">=\"&'M-Q-Y'!BI$6,Model!$W$6:$ZZ$6,\"<=\"&'M-Q-Y'!BI$7))","v":0},{"$f":"IF(BJ$4=\"\",0,SUMIFS(Model!$W27:$ZZ27,Model!$W$6:$ZZ$6,\">=\"&'M-Q-Y'!BJ$6,Model!$W$6:$ZZ$6,\"<=\"&'M-Q-Y'!BJ$7))","v":0},{"$f":"IF(BK$4=\"\",0,SUMIFS(Model!$W27:$ZZ27,Model!$W$6:$ZZ$6,\">=\"&'M-Q-Y'!BK$6,Model!$W$6:$ZZ$6,\"<=\"&'M-Q-Y'!BK$7))","v":0},{"$f":"IF(BL$4=\"\",0,SUMIFS(Model!$W27:$ZZ27,Model!$W$6:$ZZ$6,\">=\"&'M-Q-Y'!BL$6,Model!$W$6:$ZZ$6,\"<=\"&'M-Q-Y'!BL$7))","v":0},{"$f":"IF(BM$4=\"\",0,SUMIFS(Model!$W27:$ZZ27,Model!$W$6:$ZZ$6,\">=\"&'M-Q-Y'!BM$6,Model!$W$6:$ZZ$6,\"<=\"&'M-Q-Y'!BM$7))","v":0},{"$f":"IF(BN$4=\"\",0,SUMIFS(Model!$W27:$ZZ27,Model!$W$6:$ZZ$6,\">=\"&'M-Q-Y'!BN$6,Model!$W$6:$ZZ$6,\"<=\"&'M-Q-Y'!BN$7))","v":0},{"$f":"IF(BO$4=\"\",0,SUMIFS(Model!$W27:$ZZ27,Model!$W$6:$ZZ$6,\">=\"&'M-Q-Y'!BO$6,Model!$W$6:$ZZ$6,\"<=\"&'M-Q-Y'!BO$7))","v":0},{"$f":"IF(BP$4=\"\",0,SUMIFS(Model!$W27:$ZZ27,Model!$W$6:$ZZ$6,\">=\"&'M-Q-Y'!BP$6,Model!$W$6:$ZZ$6,\"<=\"&'M-Q-Y'!BP$7))","v":0},{"$f":"IF(BQ$4=\"\",0,SUMIFS(Model!$W27:$ZZ27,Model!$W$6:$ZZ$6,\">=\"&'M-Q-Y'!BQ$6,Model!$W$6:$ZZ$6,\"<=\"&'M-Q-Y'!BQ$7))","v":0},{"$f":"IF(BR$4=\"\",0,SUMIFS(Model!$W27:$ZZ27,Model!$W$6:$ZZ$6,\">=\"&'M-Q-Y'!BR$6,Model!$W$6:$ZZ$6,\"<=\"&'M-Q-Y'!BR$7))","v":0},{"$f":"IF(BS$4=\"\",0,SUMIFS(Model!$W27:$ZZ27,Model!$W$6:$ZZ$6,\">=\"&'M-Q-Y'!BS$6,Model!$W$6:$ZZ$6,\"<=\"&'M-Q-Y'!BS$7))","v":0},{"$f":"IF(BT$4=\"\",0,SUMIFS(Model!$W27:$ZZ27,Model!$W$6:$ZZ$6,\">=\"&'M-Q-Y'!BT$6,Model!$W$6:$ZZ$6,\"<=\"&'M-Q-Y'!BT$7))","v":0},{"$f":"IF(BU$4=\"\",0,SUMIFS(Model!$W27:$ZZ27,Model!$W$6:$ZZ$6,\">=\"&'M-Q-Y'!BU$6,Model!$W$6:$ZZ$6,\"<=\"&'M-Q-Y'!BU$7))","v":0},{"$f":"IF(BV$4=\"\",0,SUMIFS(Model!$W27:$ZZ27,Model!$W$6:$ZZ$6,\">=\"&'M-Q-Y'!BV$6,Model!$W$6:$ZZ$6,\"<=\"&'M-Q-Y'!BV$7))","v":0},{"$f":"IF(BW$4=\"\",0,SUMIFS(Model!$W27:$ZZ27,Model!$W$6:$ZZ$6,\">=\"&'M-Q-Y'!BW$6,Model!$W$6:$ZZ$6,\"<=\"&'M-Q-Y'!BW$7))","v":0},{"$f":"IF(BX$4=\"\",0,SUMIFS(Model!$W27:$ZZ27,Model!$W$6:$ZZ$6,\">=\"&'M-Q-Y'!BX$6,Model!$W$6:$ZZ$6,\"<=\"&'M-Q-Y'!BX$7))","v":0},{"$f":"IF(BY$4=\"\",0,SUMIFS(Model!$W27:$ZZ27,Model!$W$6:$ZZ$6,\">=\"&'M-Q-Y'!BY$6,Model!$W$6:$ZZ$6,\"<=\"&'M-Q-Y'!BY$7))","v":0},{"$f":"IF(BZ$4=\"\",0,SUMIFS(Model!$W27:$ZZ27,Model!$W$6:$ZZ$6,\">=\"&'M-Q-Y'!BZ$6,Model!$W$6:$ZZ$6,\"<=\"&'M-Q-Y'!BZ$7))","v":0},{"$f":"IF(CA$4=\"\",0,SUMIFS(Model!$W27:$ZZ27,Model!$W$6:$ZZ$6,\">=\"&'M-Q-Y'!CA$6,Model!$W$6:$ZZ$6,\"<=\"&'M-Q-Y'!CA$7))","v":0},{"$f":"IF(CB$4=\"\",0,SUMIFS(Model!$W27:$ZZ27,Model!$W$6:$ZZ$6,\">=\"&'M-Q-Y'!CB$6,Model!$W$6:$ZZ$6,\"<=\"&'M-Q-Y'!CB$7))","v":0},{"$f":"IF(CC$4=\"\",0,SUMIFS(Model!$W27:$ZZ27,Model!$W$6:$ZZ$6,\">=\"&'M-Q-Y'!CC$6,Model!$W$6:$ZZ$6,\"<=\"&'M-Q-Y'!CC$7))","v":0},{"$f":"IF(CD$4=\"\",0,SUMIFS(Model!$W27:$ZZ27,Model!$W$6:$ZZ$6,\">=\"&'M-Q-Y'!CD$6,Model!$W$6:$ZZ$6,\"<=\"&'M-Q-Y'!CD$7))","v":0},{"$f":"IF(CE$4=\"\",0,SUMIFS(Model!$W27:$ZZ27,Model!$W$6:$ZZ$6,\">=\"&'M-Q-Y'!CE$6,Model!$W$6:$ZZ$6,\"<=\"&'M-Q-Y'!CE$7))","v":0},{"$f":"IF(CF$4=\"\",0,SUMIFS(Model!$W27:$ZZ27,Model!$W$6:$ZZ$6,\">=\"&'M-Q-Y'!CF$6,Model!$W$6:$ZZ$6,\"<=\"&'M-Q-Y'!CF$7))","v":0},{"$f":"IF(CG$4=\"\",0,SUMIFS(Model!$W27:$ZZ27,Model!$W$6:$ZZ$6,\">=\"&'M-Q-Y'!CG$6,Model!$W$6:$ZZ$6,\"<=\"&'M-Q-Y'!CG$7))","v":0},{"$f":"IF(CH$4=\"\",0,SUMIFS(Model!$W27:$ZZ27,Model!$W$6:$ZZ$6,\">=\"&'M-Q-Y'!CH$6,Model!$W$6:$ZZ$6,\"<=\"&'M-Q-Y'!CH$7))","v":0},{"$f":"IF(CI$4=\"\",0,SUMIFS(Model!$W27:$ZZ27,Model!$W$6:$ZZ$6,\">=\"&'M-Q-Y'!CI$6,Model!$W$6:$ZZ$6,\"<=\"&'M-Q-Y'!CI$7))","v":0},{"$f":"IF(CJ$4=\"\",0,SUMIFS(Model!$W27:$ZZ27,Model!$W$6:$ZZ$6,\">=\"&'M-Q-Y'!CJ$6,Model!$W$6:$ZZ$6,\"<=\"&'M-Q-Y'!CJ$7))","v":0},{"$f":"IF(CK$4=\"\",0,SUMIFS(Model!$W27:$ZZ27,Model!$W$6:$ZZ$6,\">=\"&'M-Q-Y'!CK$6,Model!$W$6:$ZZ$6,\"<=\"&'M-Q-Y'!CK$7))","v":0},{"$f":"IF(CL$4=\"\",0,SUMIFS(Model!$W27:$ZZ27,Model!$W$6:$ZZ$6,\">=\"&'M-Q-Y'!CL$6,Model!$W$6:$ZZ$6,\"<=\"&'M-Q-Y'!CL$7))","v":0},{"$f":"IF(CM$4=\"\",0,SUMIFS(Model!$W27:$ZZ27,Model!$W$6:$ZZ$6,\">=\"&'M-Q-Y'!CM$6,Model!$W$6:$ZZ$6,\"<=\"&'M-Q-Y'!CM$7))","v":0},{"$f":"IF(CN$4=\"\",0,SUMIFS(Model!$W27:$ZZ27,Model!$W$6:$ZZ$6,\">=\"&'M-Q-Y'!CN$6,Model!$W$6:$ZZ$6,\"<=\"&'M-Q-Y'!CN$7))","v":0},{"$f":"IF(CO$4=\"\",0,SUMIFS(Model!$W27:$ZZ27,Model!$W$6:$ZZ$6,\">=\"&'M-Q-Y'!CO$6,Model!$W$6:$ZZ$6,\"<=\"&'M-Q-Y'!CO$7))","v":0},{"$f":"IF(CP$4=\"\",0,SUMIFS(Model!$W27:$ZZ27,Model!$W$6:$ZZ$6,\">=\"&'M-Q-Y'!CP$6,Model!$W$6:$ZZ$6,\"<=\"&'M-Q-Y'!CP$7))","v":0},{"$f":"IF(CQ$4=\"\",0,SUMIFS(Model!$W27:$ZZ27,Model!$W$6:$ZZ$6,\">=\"&'M-Q-Y'!CQ$6,Model!$W$6:$ZZ$6,\"<=\"&'M-Q-Y'!CQ$7))","v":0},{"$f":"IF(CR$4=\"\",0,SUMIFS(Model!$W27:$ZZ27,Model!$W$6:$ZZ$6,\">=\"&'M-Q-Y'!CR$6,Model!$W$6:$ZZ$6,\"<=\"&'M-Q-Y'!CR$7))","v":0},{"$f":"IF(CS$4=\"\",0,SUMIFS(Model!$W27:$ZZ27,Model!$W$6:$ZZ$6,\">=\"&'M-Q-Y'!CS$6,Model!$W$6:$ZZ$6,\"<=\"&'M-Q-Y'!CS$7))","v":0},{"$f":"IF(CT$4=\"\",0,SUMIFS(Model!$W27:$ZZ27,Model!$W$6:$ZZ$6,\">=\"&'M-Q-Y'!CT$6,Model!$W$6:$ZZ$6,\"<=\"&'M-Q-Y'!CT$7))","v":0},{"$f":"IF(CU$4=\"\",0,SUMIFS(Model!$W27:$ZZ27,Model!$W$6:$ZZ$6,\">=\"&'M-Q-Y'!CU$6,Model!$W$6:$ZZ$6,\"<=\"&'M-Q-Y'!CU$7))","v":0},{"$f":"IF(CV$4=\"\",0,SUMIFS(Model!$W27:$ZZ27,Model!$W$6:$ZZ$6,\">=\"&'M-Q-Y'!CV$6,Model!$W$6:$ZZ$6,\"<=\"&'M-Q-Y'!CV$7))","v":0},{"$f":"IF(CW$4=\"\",0,SUMIFS(Model!$W27:$ZZ27,Model!$W$6:$ZZ$6,\">=\"&'M-Q-Y'!CW$6,Model!$W$6:$ZZ$6,\"<=\"&'M-Q-Y'!CW$7))","v":0},{"$f":"IF(CX$4=\"\",0,SUMIFS(Model!$W27:$ZZ27,Model!$W$6:$ZZ$6,\">=\"&'M-Q-Y'!CX$6,Model!$W$6:$ZZ$6,\"<=\"&'M-Q-Y'!CX$7))","v":0},{"$f":"IF(CY$4=\"\",0,SUMIFS(Model!$W27:$ZZ27,Model!$W$6:$ZZ$6,\">=\"&'M-Q-Y'!CY$6,Model!$W$6:$ZZ$6,\"<=\"&'M-Q-Y'!CY$7))","v":0},{"$f":"IF(CZ$4=\"\",0,SUMIFS(Model!$W27:$ZZ27,Model!$W$6:$ZZ$6,\">=\"&'M-Q-Y'!CZ$6,Model!$W$6:$ZZ$6,\"<=\"&'M-Q-Y'!CZ$7))","v":0},{"$f":"IF(DA$4=\"\",0,SUMIFS(Model!$W27:$ZZ27,Model!$W$6:$ZZ$6,\">=\"&'M-Q-Y'!DA$6,Model!$W$6:$ZZ$6,\"<=\"&'M-Q-Y'!DA$7))","v":0},{"$f":"IF(DB$4=\"\",0,SUMIFS(Model!$W27:$ZZ27,Model!$W$6:$ZZ$6,\">=\"&'M-Q-Y'!DB$6,Model!$W$6:$ZZ$6,\"<=\"&'M-Q-Y'!DB$7))","v":0},{"$f":"IF(DC$4=\"\",0,SUMIFS(Model!$W27:$ZZ27,Model!$W$6:$ZZ$6,\">=\"&'M-Q-Y'!DC$6,Model!$W$6:$ZZ$6,\"<=\"&'M-Q-Y'!DC$7))","v":0},{"$f":"IF(DD$4=\"\",0,SUMIFS(Model!$W27:$ZZ27,Model!$W$6:$ZZ$6,\">=\"&'M-Q-Y'!DD$6,Model!$W$6:$ZZ$6,\"<=\"&'M-Q-Y'!DD$7))","v":0},{"$f":"IF(DE$4=\"\",0,SUMIFS(Model!$W27:$ZZ27,Model!$W$6:$ZZ$6,\">=\"&'M-Q-Y'!DE$6,Model!$W$6:$ZZ$6,\"<=\"&'M-Q-Y'!DE$7))","v":0},{"$f":"IF(DF$4=\"\",0,SUMIFS(Model!$W27:$ZZ27,Model!$W$6:$ZZ$6,\">=\"&'M-Q-Y'!DF$6,Model!$W$6:$ZZ$6,\"<=\"&'M-Q-Y'!DF$7))","v":0},{"$f":"IF(DG$4=\"\",0,SUMIFS(Model!$W27:$ZZ27,Model!$W$6:$ZZ$6,\">=\"&'M-Q-Y'!DG$6,Model!$W$6:$ZZ$6,\"<=\"&'M-Q-Y'!DG$7))","v":0},{"$f":"IF(DH$4=\"\",0,SUMIFS(Model!$W27:$ZZ27,Model!$W$6:$ZZ$6,\">=\"&'M-Q-Y'!DH$6,Model!$W$6:$ZZ$6,\"<=\"&'M-Q-Y'!DH$7))","v":0},{"$f":"IF(DI$4=\"\",0,SUMIFS(Model!$W27:$ZZ27,Model!$W$6:$ZZ$6,\">=\"&'M-Q-Y'!DI$6,Model!$W$6:$ZZ$6,\"<=\"&'M-Q-Y'!DI$7))","v":0},{"$f":"IF(DJ$4=\"\",0,SUMIFS(Model!$W27:$ZZ27,Model!$W$6:$ZZ$6,\">=\"&'M-Q-Y'!DJ$6,Model!$W$6:$ZZ$6,\"<=\"&'M-Q-Y'!DJ$7))","v":0},{"$f":"IF(DK$4=\"\",0,SUMIFS(Model!$W27:$ZZ27,Model!$W$6:$ZZ$6,\">=\"&'M-Q-Y'!DK$6,Model!$W$6:$ZZ$6,\"<=\"&'M-Q-Y'!DK$7))","v":0},{"$f":"IF(DL$4=\"\",0,SUMIFS(Model!$W27:$ZZ27,Model!$W$6:$ZZ$6,\">=\"&'M-Q-Y'!DL$6,Model!$W$6:$ZZ$6,\"<=\"&'M-Q-Y'!DL$7))","v":0},{"$f":"IF(DM$4=\"\",0,SUMIFS(Model!$W27:$ZZ27,Model!$W$6:$ZZ$6,\">=\"&'M-Q-Y'!DM$6,Model!$W$6:$ZZ$6,\"<=\"&'M-Q-Y'!DM$7))","v":0},{"$f":"IF(DN$4=\"\",0,SUMIFS(Model!$W27:$ZZ27,Model!$W$6:$ZZ$6,\">=\"&'M-Q-Y'!DN$6,Model!$W$6:$ZZ$6,\"<=\"&'M-Q-Y'!DN$7))","v":0},{"$f":"IF(DO$4=\"\",0,SUMIFS(Model!$W27:$ZZ27,Model!$W$6:$ZZ$6,\">=\"&'M-Q-Y'!DO$6,Model!$W$6:$ZZ$6,\"<=\"&'M-Q-Y'!DO$7))","v":0},{"$f":"IF(DP$4=\"\",0,SUMIFS(Model!$W27:$ZZ27,Model!$W$6:$ZZ$6,\">=\"&'M-Q-Y'!DP$6,Model!$W$6:$ZZ$6,\"<=\"&'M-Q-Y'!DP$7))","v":0},{"$f":"IF(DQ$4=\"\",0,SUMIFS(Model!$W27:$ZZ27,Model!$W$6:$ZZ$6,\">=\"&'M-Q-Y'!DQ$6,Model!$W$6:$ZZ$6,\"<=\"&'M-Q-Y'!DQ$7))","v":0},{"$f":"IF(DR$4=\"\",0,SUMIFS(Model!$W27:$ZZ27,Model!$W$6:$ZZ$6,\">=\"&'M-Q-Y'!DR$6,Model!$W$6:$ZZ$6,\"<=\"&'M-Q-Y'!DR$7))","v":0},{"$f":"IF(DS$4=\"\",0,SUMIFS(Model!$W27:$ZZ27,Model!$W$6:$ZZ$6,\">=\"&'M-Q-Y'!DS$6,Model!$W$6:$ZZ$6,\"<=\"&'M-Q-Y'!DS$7))","v":0},{"$f":"IF(DT$4=\"\",0,SUMIFS(Model!$W27:$ZZ27,Model!$W$6:$ZZ$6,\">=\"&'M-Q-Y'!DT$6,Model!$W$6:$ZZ$6,\"<=\"&'M-Q-Y'!DT$7))","v":0},{"$f":"IF(DU$4=\"\",0,SUMIFS(Model!$W27:$ZZ27,Model!$W$6:$ZZ$6,\">=\"&'M-Q-Y'!DU$6,Model!$W$6:$ZZ$6,\"<=\"&'M-Q-Y'!DU$7))","v":0},{"$f":"IF(DV$4=\"\",0,SUMIFS(Model!$W27:$ZZ27,Model!$W$6:$ZZ$6,\">=\"&'M-Q-Y'!DV$6,Model!$W$6:$ZZ$6,\"<=\"&'M-Q-Y'!DV$7))","v":0},{"$f":"IF(DW$4=\"\",0,SUMIFS(Model!$W27:$ZZ27,Model!$W$6:$ZZ$6,\">=\"&'M-Q-Y'!DW$6,Model!$W$6:$ZZ$6,\"<=\"&'M-Q-Y'!DW$7))","v":0},{"$f":"IF(DX$4=\"\",0,SUMIFS(Model!$W27:$ZZ27,Model!$W$6:$ZZ$6,\">=\"&'M-Q-Y'!DX$6,Model!$W$6:$ZZ$6,\"<=\"&'M-Q-Y'!DX$7))","v":0},{"$f":"IF(DY$4=\"\",0,SUMIFS(Model!$W27:$ZZ27,Model!$W$6:$ZZ$6,\">=\"&'M-Q-Y'!DY$6,Model!$W$6:$ZZ$6,\"<=\"&'M-Q-Y'!DY$7))","v":0},{"$f":"IF(DZ$4=\"\",0,SUMIFS(Model!$W27:$ZZ27,Model!$W$6:$ZZ$6,\">=\"&'M-Q-Y'!DZ$6,Model!$W$6:$ZZ$6,\"<=\"&'M-Q-Y'!DZ$7))","v":0},{"$f":"IF(EA$4=\"\",0,SUMIFS(Model!$W27:$ZZ27,Model!$W$6:$ZZ$6,\">=\"&'M-Q-Y'!EA$6,Model!$W$6:$ZZ$6,\"<=\"&'M-Q-Y'!EA$7))","v":0},{"$f":"IF(EB$4=\"\",0,SUMIFS(Model!$W27:$ZZ27,Model!$W$6:$ZZ$6,\">=\"&'M-Q-Y'!EB$6,Model!$W$6:$ZZ$6,\"<=\"&'M-Q-Y'!EB$7))","v":0},{"$f":"IF(EC$4=\"\",0,SUMIFS(Model!$W27:$ZZ27,Model!$W$6:$ZZ$6,\">=\"&'M-Q-Y'!EC$6,Model!$W$6:$ZZ$6,\"<=\"&'M-Q-Y'!EC$7))","v":0},{"$f":"IF(ED$4=\"\",0,SUMIFS(Model!$W27:$ZZ27,Model!$W$6:$ZZ$6,\">=\"&'M-Q-Y'!ED$6,Model!$W$6:$ZZ$6,\"<=\"&'M-Q-Y'!ED$7))","v":0},{"$f":"IF(EE$4=\"\",0,SUMIFS(Model!$W27:$ZZ27,Model!$W$6:$ZZ$6,\">=\"&'M-Q-Y'!EE$6,Model!$W$6:$ZZ$6,\"<=\"&'M-Q-Y'!EE$7))","v":0},{"$f":"IF(EF$4=\"\",0,SUMIFS(Model!$W27:$ZZ27,Model!$W$6:$ZZ$6,\">=\"&'M-Q-Y'!EF$6,Model!$W$6:$ZZ$6,\"<=\"&'M-Q-Y'!EF$7))","v":0},{"$f":"IF(EG$4=\"\",0,SUMIFS(Model!$W27:$ZZ27,Model!$W$6:$ZZ$6,\">=\"&'M-Q-Y'!EG$6,Model!$W$6:$ZZ$6,\"<=\"&'M-Q-Y'!EG$7))","v":0},{"$f":"IF(EH$4=\"\",0,SUMIFS(Model!$W27:$ZZ27,Model!$W$6:$ZZ$6,\">=\"&'M-Q-Y'!EH$6,Model!$W$6:$ZZ$6,\"<=\"&'M-Q-Y'!EH$7))","v":0},{"$f":"IF(EI$4=\"\",0,SUMIFS(Model!$W27:$ZZ27,Model!$W$6:$ZZ$6,\">=\"&'M-Q-Y'!EI$6,Model!$W$6:$ZZ$6,\"<=\"&'M-Q-Y'!EI$7))","v":0},{"$f":"IF(EJ$4=\"\",0,SUMIFS(Model!$W27:$ZZ27,Model!$W$6:$ZZ$6,\">=\"&'M-Q-Y'!EJ$6,Model!$W$6:$ZZ$6,\"<=\"&'M-Q-Y'!EJ$7))","v":0},{"$f":"IF(EK$4=\"\",0,SUMIFS(Model!$W27:$ZZ27,Model!$W$6:$ZZ$6,\">=\"&'M-Q-Y'!EK$6,Model!$W$6:$ZZ$6,\"<=\"&'M-Q-Y'!EK$7))","v":0},{"$f":"IF(EL$4=\"\",0,SUMIFS(Model!$W27:$ZZ27,Model!$W$6:$ZZ$6,\">=\"&'M-Q-Y'!EL$6,Model!$W$6:$ZZ$6,\"<=\"&'M-Q-Y'!EL$7))","v":0},{"$f":"IF(EM$4=\"\",0,SUMIFS(Model!$W27:$ZZ27,Model!$W$6:$ZZ$6,\">=\"&'M-Q-Y'!EM$6,Model!$W$6:$ZZ$6,\"<=\"&'M-Q-Y'!EM$7))","v":0},{"$f":"IF(EN$4=\"\",0,SUMIFS(Model!$W27:$ZZ27,Model!$W$6:$ZZ$6,\">=\"&'M-Q-Y'!EN$6,Model!$W$6:$ZZ$6,\"<=\"&'M-Q-Y'!EN$7))","v":0},{"$f":"IF(EO$4=\"\",0,SUMIFS(Model!$W27:$ZZ27,Model!$W$6:$ZZ$6,\">=\"&'M-Q-Y'!EO$6,Model!$W$6:$ZZ$6,\"<=\"&'M-Q-Y'!EO$7))","v":0},{"$f":"IF(EP$4=\"\",0,SUMIFS(Model!$W27:$ZZ27,Model!$W$6:$ZZ$6,\">=\"&'M-Q-Y'!EP$6,Model!$W$6:$ZZ$6,\"<=\"&'M-Q-Y'!EP$7))","v":0},{"$f":"IF(EQ$4=\"\",0,SUMIFS(Model!$W27:$ZZ27,Model!$W$6:$ZZ$6,\">=\"&'M-Q-Y'!EQ$6,Model!$W$6:$ZZ$6,\"<=\"&'M-Q-Y'!EQ$7))","v":0},{"$f":"IF(ER$4=\"\",0,SUMIFS(Model!$W27:$ZZ27,Model!$W$6:$ZZ$6,\">=\"&'M-Q-Y'!ER$6,Model!$W$6:$ZZ$6,\"<=\"&'M-Q-Y'!ER$7))","v":0},{"$f":"IF(ES$4=\"\",0,SUMIFS(Model!$W27:$ZZ27,Model!$W$6:$ZZ$6,\">=\"&'M-Q-Y'!ES$6,Model!$W$6:$ZZ$6,\"<=\"&'M-Q-Y'!ES$7))","v":0},{"$f":"IF(ET$4=\"\",0,SUMIFS(Model!$W27:$ZZ27,Model!$W$6:$ZZ$6,\">=\"&'M-Q-Y'!ET$6,Model!$W$6:$ZZ$6,\"<=\"&'M-Q-Y'!ET$7))","v":0},{"$f":"IF(EU$4=\"\",0,SUMIFS(Model!$W27:$ZZ27,Model!$W$6:$ZZ$6,\">=\"&'M-Q-Y'!EU$6,Model!$W$6:$ZZ$6,\"<=\"&'M-Q-Y'!EU$7))","v":0},{"$f":"IF(EV$4=\"\",0,SUMIFS(Model!$W27:$ZZ27,Model!$W$6:$ZZ$6,\">=\"&'M-Q-Y'!EV$6,Model!$W$6:$ZZ$6,\"<=\"&'M-Q-Y'!EV$7))","v":0},{"$f":"IF(EW$4=\"\",0,SUMIFS(Model!$W27:$ZZ27,Model!$W$6:$ZZ$6,\">=\"&'M-Q-Y'!EW$6,Model!$W$6:$ZZ$6,\"<=\"&'M-Q-Y'!EW$7))","v":0},{"$f":"IF(EX$4=\"\",0,SUMIFS(Model!$W27:$ZZ27,Model!$W$6:$ZZ$6,\">=\"&'M-Q-Y'!EX$6,Model!$W$6:$ZZ$6,\"<=\"&'M-Q-Y'!EX$7))","v":0},{"$f":"IF(EY$4=\"\",0,SUMIFS(Model!$W27:$ZZ27,Model!$W$6:$ZZ$6,\">=\"&'M-Q-Y'!EY$6,Model!$W$6:$ZZ$6,\"<=\"&'M-Q-Y'!EY$7))","v":0},{"$f":"IF(EZ$4=\"\",0,SUMIFS(Model!$W27:$ZZ27,Model!$W$6:$ZZ$6,\">=\"&'M-Q-Y'!EZ$6,Model!$W$6:$ZZ$6,\"<=\"&'M-Q-Y'!EZ$7))","v":0},{"$f":"IF(FA$4=\"\",0,SUMIFS(Model!$W27:$ZZ27,Model!$W$6:$ZZ$6,\">=\"&'M-Q-Y'!FA$6,Model!$W$6:$ZZ$6,\"<=\"&'M-Q-Y'!FA$7))","v":0},{"$f":"IF(FB$4=\"\",0,SUMIFS(Model!$W27:$ZZ27,Model!$W$6:$ZZ$6,\">=\"&'M-Q-Y'!FB$6,Model!$W$6:$ZZ$6,\"<=\"&'M-Q-Y'!FB$7))","v":0},{"$f":"IF(FC$4=\"\",0,SUMIFS(Model!$W27:$ZZ27,Model!$W$6:$ZZ$6,\">=\"&'M-Q-Y'!FC$6,Model!$W$6:$ZZ$6,\"<=\"&'M-Q-Y'!FC$7))","v":0},{"$f":"IF(FD$4=\"\",0,SUMIFS(Model!$W27:$ZZ27,Model!$W$6:$ZZ$6,\">=\"&'M-Q-Y'!FD$6,Model!$W$6:$ZZ$6,\"<=\"&'M-Q-Y'!FD$7))","v":0},{"$f":"IF(FE$4=\"\",0,SUMIFS(Model!$W27:$ZZ27,Model!$W$6:$ZZ$6,\">=\"&'M-Q-Y'!FE$6,Model!$W$6:$ZZ$6,\"<=\"&'M-Q-Y'!FE$7))","v":0},{"$f":"IF(FF$4=\"\",0,SUMIFS(Model!$W27:$ZZ27,Model!$W$6:$ZZ$6,\">=\"&'M-Q-Y'!FF$6,Model!$W$6:$ZZ$6,\"<=\"&'M-Q-Y'!FF$7))","v":0},{"$f":"IF(FG$4=\"\",0,SUMIFS(Model!$W27:$ZZ27,Model!$W$6:$ZZ$6,\">=\"&'M-Q-Y'!FG$6,Model!$W$6:$ZZ$6,\"<=\"&'M-Q-Y'!FG$7))","v":0},{"$f":"IF(FH$4=\"\",0,SUMIFS(Model!$W27:$ZZ27,Model!$W$6:$ZZ$6,\">=\"&'M-Q-Y'!FH$6,Model!$W$6:$ZZ$6,\"<=\"&'M-Q-Y'!FH$7))","v":0},{"$f":"IF(FI$4=\"\",0,SUMIFS(Model!$W27:$ZZ27,Model!$W$6:$ZZ$6,\">=\"&'M-Q-Y'!FI$6,Model!$W$6:$ZZ$6,\"<=\"&'M-Q-Y'!FI$7))","v":0},{"$f":"IF(FJ$4=\"\",0,SUMIFS(Model!$W27:$ZZ27,Model!$W$6:$ZZ$6,\">=\"&'M-Q-Y'!FJ$6,Model!$W$6:$ZZ$6,\"<=\"&'M-Q-Y'!FJ$7))","v":0},{"$f":"IF(FK$4=\"\",0,SUMIFS(Model!$W27:$ZZ27,Model!$W$6:$ZZ$6,\">=\"&'M-Q-Y'!FK$6,Model!$W$6:$ZZ$6,\"<=\"&'M-Q-Y'!FK$7))","v":0},{"$f":"IF(FL$4=\"\",0,SUMIFS(Model!$W27:$ZZ27,Model!$W$6:$ZZ$6,\">=\"&'M-Q-Y'!FL$6,Model!$W$6:$ZZ$6,\"<=\"&'M-Q-Y'!FL$7))","v":0},{"$f":"IF(FM$4=\"\",0,SUMIFS(Model!$W27:$ZZ27,Model!$W$6:$ZZ$6,\">=\"&'M-Q-Y'!FM$6,Model!$W$6:$ZZ$6,\"<=\"&'M-Q-Y'!FM$7))","v":0},{"$f":"IF(FN$4=\"\",0,SUMIFS(Model!$W27:$ZZ27,Model!$W$6:$ZZ$6,\">=\"&'M-Q-Y'!FN$6,Model!$W$6:$ZZ$6,\"<=\"&'M-Q-Y'!FN$7))","v":0},{"$f":"IF(FO$4=\"\",0,SUMIFS(Model!$W27:$ZZ27,Model!$W$6:$ZZ$6,\">=\"&'M-Q-Y'!FO$6,Model!$W$6:$ZZ$6,\"<=\"&'M-Q-Y'!FO$7))","v":0},{"$f":"IF(FP$4=\"\",0,SUMIFS(Model!$W27:$ZZ27,Model!$W$6:$ZZ$6,\">=\"&'M-Q-Y'!FP$6,Model!$W$6:$ZZ$6,\"<=\"&'M-Q-Y'!FP$7))","v":0},{"$f":"IF(FQ$4=\"\",0,SUMIFS(Model!$W27:$ZZ27,Model!$W$6:$ZZ$6,\">=\"&'M-Q-Y'!FQ$6,Model!$W$6:$ZZ$6,\"<=\"&'M-Q-Y'!FQ$7))","v":0},{"$f":"IF(FR$4=\"\",0,SUMIFS(Model!$W27:$ZZ27,Model!$W$6:$ZZ$6,\">=\"&'M-Q-Y'!FR$6,Model!$W$6:$ZZ$6,\"<=\"&'M-Q-Y'!FR$7))","v":0},{"$f":"IF(FS$4=\"\",0,SUMIFS(Model!$W27:$ZZ27,Model!$W$6:$ZZ$6,\">=\"&'M-Q-Y'!FS$6,Model!$W$6:$ZZ$6,\"<=\"&'M-Q-Y'!FS$7))","v":0},{"$f":"IF(FT$4=\"\",0,SUMIFS(Model!$W27:$ZZ27,Model!$W$6:$ZZ$6,\">=\"&'M-Q-Y'!FT$6,Model!$W$6:$ZZ$6,\"<=\"&'M-Q-Y'!FT$7))","v":0},{"$f":"IF(FU$4=\"\",0,SUMIFS(Model!$W27:$ZZ27,Model!$W$6:$ZZ$6,\">=\"&'M-Q-Y'!FU$6,Model!$W$6:$ZZ$6,\"<=\"&'M-Q-Y'!FU$7))","v":0},{"$f":"IF(FV$4=\"\",0,SUMIFS(Model!$W27:$ZZ27,Model!$W$6:$ZZ$6,\">=\"&'M-Q-Y'!FV$6,Model!$W$6:$ZZ$6,\"<=\"&'M-Q-Y'!FV$7))","v":0},{"$f":"IF(FW$4=\"\",0,SUMIFS(Model!$W27:$ZZ27,Model!$W$6:$ZZ$6,\">=\"&'M-Q-Y'!FW$6,Model!$W$6:$ZZ$6,\"<=\"&'M-Q-Y'!FW$7))","v":0},{"$f":"IF(FX$4=\"\",0,SUMIFS(Model!$W27:$ZZ27,Model!$W$6:$ZZ$6,\">=\"&'M-Q-Y'!FX$6,Model!$W$6:$ZZ$6,\"<=\"&'M-Q-Y'!FX$7))","v":0},{"$f":"IF(FY$4=\"\",0,SUMIFS(Model!$W27:$ZZ27,Model!$W$6:$ZZ$6,\">=\"&'M-Q-Y'!FY$6,Model!$W$6:$ZZ$6,\"<=\"&'M-Q-Y'!FY$7))","v":0},{"$f":"IF(FZ$4=\"\",0,SUMIFS(Model!$W27:$ZZ27,Model!$W$6:$ZZ$6,\">=\"&'M-Q-Y'!FZ$6,Model!$W$6:$ZZ$6,\"<=\"&'M-Q-Y'!FZ$7))","v":0},{"$f":"IF(GA$4=\"\",0,SUMIFS(Model!$W27:$ZZ27,Model!$W$6:$ZZ$6,\">=\"&'M-Q-Y'!GA$6,Model!$W$6:$ZZ$6,\"<=\"&'M-Q-Y'!GA$7))","v":0},{"$f":"IF(GB$4=\"\",0,SUMIFS(Model!$W27:$ZZ27,Model!$W$6:$ZZ$6,\">=\"&'M-Q-Y'!GB$6,Model!$W$6:$ZZ$6,\"<=\"&'M-Q-Y'!GB$7))","v":0},{"$f":"IF(GC$4=\"\",0,SUMIFS(Model!$W27:$ZZ27,Model!$W$6:$ZZ$6,\">=\"&'M-Q-Y'!GC$6,Model!$W$6:$ZZ$6,\"<=\"&'M-Q-Y'!GC$7))","v":0},{"$f":"IF(GD$4=\"\",0,SUMIFS(Model!$W27:$ZZ27,Model!$W$6:$ZZ$6,\">=\"&'M-Q-Y'!GD$6,Model!$W$6:$ZZ$6,\"<=\"&'M-Q-Y'!GD$7))","v":0},{"$f":"IF(GE$4=\"\",0,SUMIFS(Model!$W27:$ZZ27,Model!$W$6:$ZZ$6,\">=\"&'M-Q-Y'!GE$6,Model!$W$6:$ZZ$6,\"<=\"&'M-Q-Y'!GE$7))","v":0},{"$f":"IF(GF$4=\"\",0,SUMIFS(Model!$W27:$ZZ27,Model!$W$6:$ZZ$6,\">=\"&'M-Q-Y'!GF$6,Model!$W$6:$ZZ$6,\"<=\"&'M-Q-Y'!GF$7))","v":0},{"$f":"IF(GG$4=\"\",0,SUMIFS(Model!$W27:$ZZ27,Model!$W$6:$ZZ$6,\">=\"&'M-Q-Y'!GG$6,Model!$W$6:$ZZ$6,\"<=\"&'M-Q-Y'!GG$7))","v":0},{"$f":"IF(GH$4=\"\",0,SUMIFS(Model!$W27:$ZZ27,Model!$W$6:$ZZ$6,\">=\"&'M-Q-Y'!GH$6,Model!$W$6:$ZZ$6,\"<=\"&'M-Q-Y'!GH$7))","v":0},{"$f":"IF(GI$4=\"\",0,SUMIFS(Model!$W27:$ZZ27,Model!$W$6:$ZZ$6,\">=\"&'M-Q-Y'!GI$6,Model!$W$6:$ZZ$6,\"<=\"&'M-Q-Y'!GI$7))","v":0},{"$f":"IF(GJ$4=\"\",0,SUMIFS(Model!$W27:$ZZ27,Model!$W$6:$ZZ$6,\">=\"&'M-Q-Y'!GJ$6,Model!$W$6:$ZZ$6,\"<=\"&'M-Q-Y'!GJ$7))","v":0},{"$f":"IF(GK$4=\"\",0,SUMIFS(Model!$W27:$ZZ27,Model!$W$6:$ZZ$6,\">=\"&'M-Q-Y'!GK$6,Model!$W$6:$ZZ$6,\"<=\"&'M-Q-Y'!GK$7))","v":0},{"$f":"IF(GL$4=\"\",0,SUMIFS(Model!$W27:$ZZ27,Model!$W$6:$ZZ$6,\">=\"&'M-Q-Y'!GL$6,Model!$W$6:$ZZ$6,\"<=\"&'M-Q-Y'!GL$7))","v":0},{"$f":"IF(GM$4=\"\",0,SUMIFS(Model!$W27:$ZZ27,Model!$W$6:$ZZ$6,\">=\"&'M-Q-Y'!GM$6,Model!$W$6:$ZZ$6,\"<=\"&'M-Q-Y'!GM$7))","v":0},{"$f":"IF(GN$4=\"\",0,SUMIFS(Model!$W27:$ZZ27,Model!$W$6:$ZZ$6,\">=\"&'M-Q-Y'!GN$6,Model!$W$6:$ZZ$6,\"<=\"&'M-Q-Y'!GN$7))","v":0},{"$f":"IF(GO$4=\"\",0,SUMIFS(Model!$W27:$ZZ27,Model!$W$6:$ZZ$6,\">=\"&'M-Q-Y'!GO$6,Model!$W$6:$ZZ$6,\"<=\"&'M-Q-Y'!GO$7))","v":0},{"$f":"IF(GP$4=\"\",0,SUMIFS(Model!$W27:$ZZ27,Model!$W$6:$ZZ$6,\">=\"&'M-Q-Y'!GP$6,Model!$W$6:$ZZ$6,\"<=\"&'M-Q-Y'!GP$7))","v":0},{"$f":"IF(GQ$4=\"\",0,SUMIFS(Model!$W27:$ZZ27,Model!$W$6:$ZZ$6,\">=\"&'M-Q-Y'!GQ$6,Model!$W$6:$ZZ$6,\"<=\"&'M-Q-Y'!GQ$7))","v":0},{"$f":"IF(GR$4=\"\",0,SUMIFS(Model!$W27:$ZZ27,Model!$W$6:$ZZ$6,\">=\"&'M-Q-Y'!GR$6,Model!$W$6:$ZZ$6,\"<=\"&'M-Q-Y'!GR$7))","v":0},{"$f":"IF(GS$4=\"\",0,SUMIFS(Model!$W27:$ZZ27,Model!$W$6:$ZZ$6,\">=\"&'M-Q-Y'!GS$6,Model!$W$6:$ZZ$6,\"<=\"&'M-Q-Y'!GS$7))","v":0},{"$f":"IF(GT$4=\"\",0,SUMIFS(Model!$W27:$ZZ27,Model!$W$6:$ZZ$6,\">=\"&'M-Q-Y'!GT$6,Model!$W$6:$ZZ$6,\"<=\"&'M-Q-Y'!GT$7))","v":0},{"$f":"IF(GU$4=\"\",0,SUMIFS(Model!$W27:$ZZ27,Model!$W$6:$ZZ$6,\">=\"&'M-Q-Y'!GU$6,Model!$W$6:$ZZ$6,\"<=\"&'M-Q-Y'!GU$7))","v":0},{"$f":"IF(GV$4=\"\",0,SUMIFS(Model!$W27:$ZZ27,Model!$W$6:$ZZ$6,\">=\"&'M-Q-Y'!GV$6,Model!$W$6:$ZZ$6,\"<=\"&'M-Q-Y'!GV$7))","v":0}]
[null,{"$f":"ROW()","v":23}]
[null,67,null,null,null,null,null,"Расчет источников финансирования оборуд-я"]
[null,{"$f":"ROW()","v":25}]
[null,{"$f":"ROW()","v":26},null,null,null,null,null,"Оплата собственными средствами",null,null,null,null,null,null,null,"CF(+)",null,null,null,null,{"$f":"SUM(INDIRECT(ADDRESS($B26,X$2)&\":\"&ADDRESS($B26,MAX($2:$2))))","v":0},null,null,{"$f":"IF(X$4=\"\",0,SUMIFS(Model!$W32:$ZZ32,Model!$W$6:$ZZ$6,\">=\"&'M-Q-Y'!X$6,Model!$W$6:$ZZ$6,\"<=\"&'M-Q-Y'!X$7))","v":0},{"$f":"IF(Y$4=\"\",0,SUMIFS(Model!$W32:$ZZ32,Model!$W$6:$ZZ$6,\">=\"&'M-Q-Y'!Y$6,Model!$W$6:$ZZ$6,\"<=\"&'M-Q-Y'!Y$7))","v":0},{"$f":"IF(Z$4=\"\",0,SUMIFS(Model!$W32:$ZZ32,Model!$W$6:$ZZ$6,\">=\"&'M-Q-Y'!Z$6,Model!$W$6:$ZZ$6,\"<=\"&'M-Q-Y'!Z$7))","v":0},{"$f":"IF(AA$4=\"\",0,SUMIFS(Model!$W32:$ZZ32,Model!$W$6:$ZZ$6,\">=\"&'M-Q-Y'!AA$6,Model!$W$6:$ZZ$6,\"<=\"&'M-Q-Y'!AA$7))","v":0},{"$f":"IF(AB$4=\"\",0,SUMIFS(Model!$W32:$ZZ32,Model!$W$6:$ZZ$6,\">=\"&'M-Q-Y'!AB$6,Model!$W$6:$ZZ$6,\"<=\"&'M-Q-Y'!AB$7))","v":0},{"$f":"IF(AC$4=\"\",0,SUMIFS(Model!$W32:$ZZ32,Model!$W$6:$ZZ$6,\">=\"&'M-Q-Y'!AC$6,Model!$W$6:$ZZ$6,\"<=\"&'M-Q-Y'!AC$7))","v":0},{"$f":"IF(AD$4=\"\",0,SUMIFS(Model!$W32:$ZZ32,Model!$W$6:$ZZ$6,\">=\"&'M-Q-Y'!AD$6,Model!$W$6:$ZZ$6,\"<=\"&'M-Q-Y'!AD$7))","v":0},{"$f":"IF(AE$4=\"\",0,SUMIFS(Model!$W32:$ZZ32,Model!$W$6:$ZZ$6,\">=\"&'M-Q-Y'!AE$6,Model!$W$6:$ZZ$6,\"<=\"&'M-Q-Y'!AE$7))","v":0},{"$f":"IF(AF$4=\"\",0,SUMIFS(Model!$W32:$ZZ32,Model!$W$6:$ZZ$6,\">=\"&'M-Q-Y'!AF$6,Model!$W$6:$ZZ$6,\"<=\"&'M-Q-Y'!AF$7))","v":0},{"$f":"IF(AG$4=\"\",0,SUMIFS(Model!$W32:$ZZ32,Model!$W$6:$ZZ$6,\">=\"&'M-Q-Y'!AG$6,Model!$W$6:$ZZ$6,\"<=\"&'M-Q-Y'!AG$7))","v":0},{"$f":"IF(AH$4=\"\",0,SUMIFS(Model!$W32:$ZZ32,Model!$W$6:$ZZ$6,\">=\"&'M-Q-Y'!AH$6,Model!$W$6:$ZZ$6,\"<=\"&'M-Q-Y'!AH$7))","v":0},{"$f":"IF(AI$4=\"\",0,SUMIFS(Model!$W32:$ZZ32,Model!$W$6:$ZZ$6,\">=\"&'M-Q-Y'!AI$6,Model!$W$6:$ZZ$6,\"<=\"&'M-Q-Y'!AI$7))","v":0},{"$f":"IF(AJ$4=\"\",0,SUMIFS(Model!$W32:$ZZ32,Model!$W$6:$ZZ$6,\">=\"&'M-Q-Y'!AJ$6,Model!$W$6:$ZZ$6,\"<=\"&'M-Q-Y'!AJ$7))","v":0},{"$f":"IF(AK$4=\"\",0,SUMIFS(Model!$W32:$ZZ32,Model!$W$6:$ZZ$6,\">=\"&'M-Q-Y'!AK$6,Model!$W$6:$ZZ$6,\"<=\"&'M-Q-Y'!AK$7))","v":0},{"$f":"IF(AL$4=\"\",0,SUMIFS(Model!$W32:$ZZ32,Model!$W$6:$ZZ$6,\">=\"&'M-Q-Y'!AL$6,Model!$W$6:$ZZ$6,\"<=\"&'M-Q-Y'!AL$7))","v":0},{"$f":"IF(AM$4=\"\",0,SUMIFS(Model!$W32:$ZZ32,Model!$W$6:$ZZ$6,\">=\"&'M-Q-Y'!AM$6,Model!$W$6:$ZZ$6,\"<=\"&'M-Q-Y'!AM$7))","v":0},{"$f":"IF(AN$4=\"\",0,SUMIFS(Model!$W32:$ZZ32,Model!$W$6:$ZZ$6,\">=\"&'M-Q-Y'!AN$6,Model!$W$6:$ZZ$6,\"<=\"&'M-Q-Y'!AN$7))","v":0},{"$f":"IF(AO$4=\"\",0,SUMIFS(Model!$W32:$ZZ32,Model!$W$6:$ZZ$6,\">=\"&'M-Q-Y'!AO$6,Model!$W$6:$ZZ$6,\"<=\"&'M-Q-Y'!AO$7))","v":0},{"$f":"IF(AP$4=\"\",0,SUMIFS(Model!$W32:$ZZ32,Model!$W$6:$ZZ$6,\">=\"&'M-Q-Y'!AP$6,Model!$W$6:$ZZ$6,\"<=\"&'M-Q-Y'!AP$7))","v":0},{"$f":"IF(AQ$4=\"\",0,SUMIFS(Model!$W32:$ZZ32,Model!$W$6:$ZZ$6,\">=\"&'M-Q-Y'!AQ$6,Model!$W$6:$ZZ$6,\"<=\"&'M-Q-Y'!AQ$7))","v":0},{"$f":"IF(AR$4=\"\",0,SUMIFS(Model!$W32:$ZZ32,Model!$W$6:$ZZ$6,\">=\"&'M-Q-Y'!AR$6,Model!$W$6:$ZZ$6,\"<=\"&'M-Q-Y'!AR$7))","v":0},{"$f":"IF(AS$4=\"\",0,SUMIFS(Model!$W32:$ZZ32,Model!$W$6:$ZZ$6,\">=\"&'M-Q-Y'!AS$6,Model!$W$6:$ZZ$6,\"<=\"&'M-Q-Y'!AS$7))","v":0},{"$f":"IF(AT$4=\"\",0,SUMIFS(Model!$W32:$ZZ32,Model!$W$6:$ZZ$6,\">=\"&'M-Q-Y'!AT$6,Model!$W$6:$ZZ$6,\"<=\"&'M-Q-Y'!AT$7))","v":0},{"$f":"IF(AU$4=\"\",0,SUMIFS(Model!$W32:$ZZ32,Model!$W$6:$ZZ$6,\">=\"&'M-Q-Y'!AU$6,Model!$W$6:$ZZ$6,\"<=\"&'M-Q-Y'!AU$7))","v":0},{"$f":"IF(AV$4=\"\",0,SUMIFS(Model!$W32:$ZZ32,Model!$W$6:$ZZ$6,\">=\"&'M-Q-Y'!AV$6,Model!$W$6:$ZZ$6,\"<=\"&'M-Q-Y'!AV$7))","v":0},{"$f":"IF(AW$4=\"\",0,SUMIFS(Model!$W32:$ZZ32,Model!$W$6:$ZZ$6,\">=\"&'M-Q-Y'!AW$6,Model!$W$6:$ZZ$6,\"<=\"&'M-Q-Y'!AW$7))","v":0},{"$f":"IF(AX$4=\"\",0,SUMIFS(Model!$W32:$ZZ32,Model!$W$6:$ZZ$6,\">=\"&'M-Q-Y'!AX$6,Model!$W$6:$ZZ$6,\"<=\"&'M-Q-Y'!AX$7))","v":0},{"$f":"IF(AY$4=\"\",0,SUMIFS(Model!$W32:$ZZ32,Model!$W$6:$ZZ$6,\">=\"&'M-Q-Y'!AY$6,Model!$W$6:$ZZ$6,\"<=\"&'M-Q-Y'!AY$7))","v":0},{"$f":"IF(AZ$4=\"\",0,SUMIFS(Model!$W32:$ZZ32,Model!$W$6:$ZZ$6,\">=\"&'M-Q-Y'!AZ$6,Model!$W$6:$ZZ$6,\"<=\"&'M-Q-Y'!AZ$7))","v":0},{"$f":"IF(BA$4=\"\",0,SUMIFS(Model!$W32:$ZZ32,Model!$W$6:$ZZ$6,\">=\"&'M-Q-Y'!BA$6,Model!$W$6:$ZZ$6,\"<=\"&'M-Q-Y'!BA$7))","v":0},{"$f":"IF(BB$4=\"\",0,SUMIFS(Model!$W32:$ZZ32,Model!$W$6:$ZZ$6,\">=\"&'M-Q-Y'!BB$6,Model!$W$6:$ZZ$6,\"<=\"&'M-Q-Y'!BB$7))","v":0},{"$f":"IF(BC$4=\"\",0,SUMIFS(Model!$W32:$ZZ32,Model!$W$6:$ZZ$6,\">=\"&'M-Q-Y'!BC$6,Model!$W$6:$ZZ$6,\"<=\"&'M-Q-Y'!BC$7))","v":0},{"$f":"IF(BD$4=\"\",0,SUMIFS(Model!$W32:$ZZ32,Model!$W$6:$ZZ$6,\">=\"&'M-Q-Y'!BD$6,Model!$W$6:$ZZ$6,\"<=\"&'M-Q-Y'!BD$7))","v":0},{"$f":"IF(BE$4=\"\",0,SUMIFS(Model!$W32:$ZZ32,Model!$W$6:$ZZ$6,\">=\"&'M-Q-Y'!BE$6,Model!$W$6:$ZZ$6,\"<=\"&'M-Q-Y'!BE$7))","v":0},{"$f":"IF(BF$4=\"\",0,SUMIFS(Model!$W32:$ZZ32,Model!$W$6:$ZZ$6,\">=\"&'M-Q-Y'!BF$6,Model!$W$6:$ZZ$6,\"<=\"&'M-Q-Y'!BF$7))","v":0},{"$f":"IF(BG$4=\"\",0,SUMIFS(Model!$W32:$ZZ32,Model!$W$6:$ZZ$6,\">=\"&'M-Q-Y'!BG$6,Model!$W$6:$ZZ$6,\"<=\"&'M-Q-Y'!BG$7))","v":0},{"$f":"IF(BH$4=\"\",0,SUMIFS(Model!$W32:$ZZ32,Model!$W$6:$ZZ$6,\">=\"&'M-Q-Y'!BH$6,Model!$W$6:$ZZ$6,\"<=\"&'M-Q-Y'!BH$7))","v":0},{"$f":"IF(BI$4=\"\",0,SUMIFS(Model!$W32:$ZZ32,Model!$W$6:$ZZ$6,\">=\"&'M-Q-Y'!BI$6,Model!$W$6:$ZZ$6,\"<=\"&'M-Q-Y'!BI$7))","v":0},{"$f":"IF(BJ$4=\"\",0,SUMIFS(Model!$W32:$ZZ32,Model!$W$6:$ZZ$6,\">=\"&'M-Q-Y'!BJ$6,Model!$W$6:$ZZ$6,\"<=\"&'M-Q-Y'!BJ$7))","v":0},{"$f":"IF(BK$4=\"\",0,SUMIFS(Model!$W32:$ZZ32,Model!$W$6:$ZZ$6,\">=\"&'M-Q-Y'!BK$6,Model!$W$6:$ZZ$6,\"<=\"&'M-Q-Y'!BK$7))","v":0},{"$f":"IF(BL$4=\"\",0,SUMIFS(Model!$W32:$ZZ32,Model!$W$6:$ZZ$6,\">=\"&'M-Q-Y'!BL$6,Model!$W$6:$ZZ$6,\"<=\"&'M-Q-Y'!BL$7))","v":0},{"$f":"IF(BM$4=\"\",0,SUMIFS(Model!$W32:$ZZ32,Model!$W$6:$ZZ$6,\">=\"&'M-Q-Y'!BM$6,Model!$W$6:$ZZ$6,\"<=\"&'M-Q-Y'!BM$7))","v":0},{"$f":"IF(BN$4=\"\",0,SUMIFS(Model!$W32:$ZZ32,Model!$W$6:$ZZ$6,\">=\"&'M-Q-Y'!BN$6,Model!$W$6:$ZZ$6,\"<=\"&'M-Q-Y'!BN$7))","v":0},{"$f":"IF(BO$4=\"\",0,SUMIFS(Model!$W32:$ZZ32,Model!$W$6:$ZZ$6,\">=\"&'M-Q-Y'!BO$6,Model!$W$6:$ZZ$6,\"<=\"&'M-Q-Y'!BO$7))","v":0},{"$f":"IF(BP$4=\"\",0,SUMIFS(Model!$W32:$ZZ32,Model!$W$6:$ZZ$6,\">=\"&'M-Q-Y'!BP$6,Model!$W$6:$ZZ$6,\"<=\"&'M-Q-Y'!BP$7))","v":0},{"$f":"IF(BQ$4=\"\",0,SUMIFS(Model!$W32:$ZZ32,Model!$W$6:$ZZ$6,\">=\"&'M-Q-Y'!BQ$6,Model!$W$6:$ZZ$6,\"<=\"&'M-Q-Y'!BQ$7))","v":0},{"$f":"IF(BR$4=\"\",0,SUMIFS(Model!$W32:$ZZ32,Model!$W$6:$ZZ$6,\">=\"&'M-Q-Y'!BR$6,Model!$W$6:$ZZ$6,\"<=\"&'M-Q-Y'!BR$7))","v":0},{"$f":"IF(BS$4=\"\",0,SUMIFS(Model!$W32:$ZZ32,Model!$W$6:$ZZ$6,\">=\"&'M-Q-Y'!BS$6,Model!$W$6:$ZZ$6,\"<=\"&'M-Q-Y'!BS$7))","v":0},{"$f":"IF(BT$4=\"\",0,SUMIFS(Model!$W32:$ZZ32,Model!$W$6:$ZZ$6,\">=\"&'M-Q-Y'!BT$6,Model!$W$6:$ZZ$6,\"<=\"&'M-Q-Y'!BT$7))","v":0},{"$f":"IF(BU$4=\"\",0,SUMIFS(Model!$W32:$ZZ32,Model!$W$6:$ZZ$6,\">=\"&'M-Q-Y'!BU$6,Model!$W$6:$ZZ$6,\"<=\"&'M-Q-Y'!BU$7))","v":0},{"$f":"IF(BV$4=\"\",0,SUMIFS(Model!$W32:$ZZ32,Model!$W$6:$ZZ$6,\">=\"&'M-Q-Y'!BV$6,Model!$W$6:$ZZ$6,\"<=\"&'M-Q-Y'!BV$7))","v":0},{"$f":"IF(BW$4=\"\",0,SUMIFS(Model!$W32:$ZZ32,Model!$W$6:$ZZ$6,\">=\"&'M-Q-Y'!BW$6,Model!$W$6:$ZZ$6,\"<=\"&'M-Q-Y'!BW$7))","v":0},{"$f":"IF(BX$4=\"\",0,SUMIFS(Model!$W32:$ZZ32,Model!$W$6:$ZZ$6,\">=\"&'M-Q-Y'!BX$6,Model!$W$6:$ZZ$6,\"<=\"&'M-Q-Y'!BX$7))","v":0},{"$f":"IF(BY$4=\"\",0,SUMIFS(Model!$W32:$ZZ32,Model!$W$6:$ZZ$6,\">=\"&'M-Q-Y'!BY$6,Model!$W$6:$ZZ$6,\"<=\"&'M-Q-Y'!BY$7))","v":0},{"$f":"IF(BZ$4=\"\",0,SUMIFS(Model!$W32:$ZZ32,Model!$W$6:$ZZ$6,\">=\"&'M-Q-Y'!BZ$6,Model!$W$6:$ZZ$6,\"<=\"&'M-Q-Y'!BZ$7))","v":0},{"$f":"IF(CA$4=\"\",0,SUMIFS(Model!$W32:$ZZ32,Model!$W$6:$ZZ$6,\">=\"&'M-Q-Y'!CA$6,Model!$W$6:$ZZ$6,\"<=\"&'M-Q-Y'!CA$7))","v":0},{"$f":"IF(CB$4=\"\",0,SUMIFS(Model!$W32:$ZZ32,Model!$W$6:$ZZ$6,\">=\"&'M-Q-Y'!CB$6,Model!$W$6:$ZZ$6,\"<=\"&'M-Q-Y'!CB$7))","v":0},{"$f":"IF(CC$4=\"\",0,SUMIFS(Model!$W32:$ZZ32,Model!$W$6:$ZZ$6,\">=\"&'M-Q-Y'!CC$6,Model!$W$6:$ZZ$6,\"<=\"&'M-Q-Y'!CC$7))","v":0},{"$f":"IF(CD$4=\"\",0,SUMIFS(Model!$W32:$ZZ32,Model!$W$6:$ZZ$6,\">=\"&'M-Q-Y'!CD$6,Model!$W$6:$ZZ$6,\"<=\"&'M-Q-Y'!CD$7))","v":0},{"$f":"IF(CE$4=\"\",0,SUMIFS(Model!$W32:$ZZ32,Model!$W$6:$ZZ$6,\">=\"&'M-Q-Y'!CE$6,Model!$W$6:$ZZ$6,\"<=\"&'M-Q-Y'!CE$7))","v":0},{"$f":"IF(CF$4=\"\",0,SUMIFS(Model!$W32:$ZZ32,Model!$W$6:$ZZ$6,\">=\"&'M-Q-Y'!CF$6,Model!$W$6:$ZZ$6,\"<=\"&'M-Q-Y'!CF$7))","v":0},{"$f":"IF(CG$4=\"\",0,SUMIFS(Model!$W32:$ZZ32,Model!$W$6:$ZZ$6,\">=\"&'M-Q-Y'!CG$6,Model!$W$6:$ZZ$6,\"<=\"&'M-Q-Y'!CG$7))","v":0},{"$f":"IF(CH$4=\"\",0,SUMIFS(Model!$W32:$ZZ32,Model!$W$6:$ZZ$6,\">=\"&'M-Q-Y'!CH$6,Model!$W$6:$ZZ$6,\"<=\"&'M-Q-Y'!CH$7))","v":0},{"$f":"IF(CI$4=\"\",0,SUMIFS(Model!$W32:$ZZ32,Model!$W$6:$ZZ$6,\">=\"&'M-Q-Y'!CI$6,Model!$W$6:$ZZ$6,\"<=\"&'M-Q-Y'!CI$7))","v":0},{"$f":"IF(CJ$4=\"\",0,SUMIFS(Model!$W32:$ZZ32,Model!$W$6:$ZZ$6,\">=\"&'M-Q-Y'!CJ$6,Model!$W$6:$ZZ$6,\"<=\"&'M-Q-Y'!CJ$7))","v":0},{"$f":"IF(CK$4=\"\",0,SUMIFS(Model!$W32:$ZZ32,Model!$W$6:$ZZ$6,\">=\"&'M-Q-Y'!CK$6,Model!$W$6:$ZZ$6,\"<=\"&'M-Q-Y'!CK$7))","v":0},{"$f":"IF(CL$4=\"\",0,SUMIFS(Model!$W32:$ZZ32,Model!$W$6:$ZZ$6,\">=\"&'M-Q-Y'!CL$6,Model!$W$6:$ZZ$6,\"<=\"&'M-Q-Y'!CL$7))","v":0},{"$f":"IF(CM$4=\"\",0,SUMIFS(Model!$W32:$ZZ32,Model!$W$6:$ZZ$6,\">=\"&'M-Q-Y'!CM$6,Model!$W$6:$ZZ$6,\"<=\"&'M-Q-Y'!CM$7))","v":0},{"$f":"IF(CN$4=\"\",0,SUMIFS(Model!$W32:$ZZ32,Model!$W$6:$ZZ$6,\">=\"&'M-Q-Y'!CN$6,Model!$W$6:$ZZ$6,\"<=\"&'M-Q-Y'!CN$7))","v":0},{"$f":"IF(CO$4=\"\",0,SUMIFS(Model!$W32:$ZZ32,Model!$W$6:$ZZ$6,\">=\"&'M-Q-Y'!CO$6,Model!$W$6:$ZZ$6,\"<=\"&'M-Q-Y'!CO$7))","v":0},{"$f":"IF(CP$4=\"\",0,SUMIFS(Model!$W32:$ZZ32,Model!$W$6:$ZZ$6,\">=\"&'M-Q-Y'!CP$6,Model!$W$6:$ZZ$6,\"<=\"&'M-Q-Y'!CP$7))","v":0},{"$f":"IF(CQ$4=\"\",0,SUMIFS(Model!$W32:$ZZ32,Model!$W$6:$ZZ$6,\">=\"&'M-Q-Y'!CQ$6,Model!$W$6:$ZZ$6,\"<=\"&'M-Q-Y'!CQ$7))","v":0},{"$f":"IF(CR$4=\"\",0,SUMIFS(Model!$W32:$ZZ32,Model!$W$6:$ZZ$6,\">=\"&'M-Q-Y'!CR$6,Model!$W$6:$ZZ$6,\"<=\"&'M-Q-Y'!CR$7))","v":0},{"$f":"IF(CS$4=\"\",0,SUMIFS(Model!$W32:$ZZ32,Model!$W$6:$ZZ$6,\">=\"&'M-Q-Y'!CS$6,Model!$W$6:$ZZ$6,\"<=\"&'M-Q-Y'!CS$7))","v":0},{"$f":"IF(CT$4=\"\",0,SUMIFS(Model!$W32:$ZZ32,Model!$W$6:$ZZ$6,\">=\"&'M-Q-Y'!CT$6,Model!$W$6:$ZZ$6,\"<=\"&'M-Q-Y'!CT$7))","v":0},{"$f":"IF(CU$4=\"\",0,SUMIFS(Model!$W32:$ZZ32,Model!$W$6:$ZZ$6,\">=\"&'M-Q-Y'!CU$6,Model!$W$6:$ZZ$6,\"<=\"&'M-Q-Y'!CU$7))","v":0},{"$f":"IF(CV$4=\"\",0,SUMIFS(Model!$W32:$ZZ32,Model!$W$6:$ZZ$6,\">=\"&'M-Q-Y'!CV$6,Model!$W$6:$ZZ$6,\"<=\"&'M-Q-Y'!CV$7))","v":0},{"$f":"IF(CW$4=\"\",0,SUMIFS(Model!$W32:$ZZ32,Model!$W$6:$ZZ$6,\">=\"&'M-Q-Y'!CW$6,Model!$W$6:$ZZ$6,\"<=\"&'M-Q-Y'!CW$7))","v":0},{"$f":"IF(CX$4=\"\",0,SUMIFS(Model!$W32:$ZZ32,Model!$W$6:$ZZ$6,\">=\"&'M-Q-Y'!CX$6,Model!$W$6:$ZZ$6,\"<=\"&'M-Q-Y'!CX$7))","v":0},{"$f":"IF(CY$4=\"\",0,SUMIFS(Model!$W32:$ZZ32,Model!$W$6:$ZZ$6,\">=\"&'M-Q-Y'!CY$6,Model!$W$6:$ZZ$6,\"<=\"&'M-Q-Y'!CY$7))","v":0},{"$f":"IF(CZ$4=\"\",0,SUMIFS(Model!$W32:$ZZ32,Model!$W$6:$ZZ$6,\">=\"&'M-Q-Y'!CZ$6,Model!$W$6:$ZZ$6,\"<=\"&'M-Q-Y'!CZ$7))","v":0},{"$f":"IF(DA$4=\"\",0,SUMIFS(Model!$W32:$ZZ32,Model!$W$6:$ZZ$6,\">=\"&'M-Q-Y'!DA$6,Model!$W$6:$ZZ$6,\"<=\"&'M-Q-Y'!DA$7))","v":0},{"$f":"IF(DB$4=\"\",0,SUMIFS(Model!$W32:$ZZ32,Model!$W$6:$ZZ$6,\">=\"&'M-Q-Y'!DB$6,Model!$W$6:$ZZ$6,\"<=\"&'M-Q-Y'!DB$7))","v":0},{"$f":"IF(DC$4=\"\",0,SUMIFS(Model!$W32:$ZZ32,Model!$W$6:$ZZ$6,\">=\"&'M-Q-Y'!DC$6,Model!$W$6:$ZZ$6,\"<=\"&'M-Q-Y'!DC$7))","v":0},{"$f":"IF(DD$4=\"\",0,SUMIFS(Model!$W32:$ZZ32,Model!$W$6:$ZZ$6,\">=\"&'M-Q-Y'!DD$6,Model!$W$6:$ZZ$6,\"<=\"&'M-Q-Y'!DD$7))","v":0},{"$f":"IF(DE$4=\"\",0,SUMIFS(Model!$W32:$ZZ32,Model!$W$6:$ZZ$6,\">=\"&'M-Q-Y'!DE$6,Model!$W$6:$ZZ$6,\"<=\"&'M-Q-Y'!DE$7))","v":0},{"$f":"IF(DF$4=\"\",0,SUMIFS(Model!$W32:$ZZ32,Model!$W$6:$ZZ$6,\">=\"&'M-Q-Y'!DF$6,Model!$W$6:$ZZ$6,\"<=\"&'M-Q-Y'!DF$7))","v":0},{"$f":"IF(DG$4=\"\",0,SUMIFS(Model!$W32:$ZZ32,Model!$W$6:$ZZ$6,\">=\"&'M-Q-Y'!DG$6,Model!$W$6:$ZZ$6,\"<=\"&'M-Q-Y'!DG$7))","v":0},{"$f":"IF(DH$4=\"\",0,SUMIFS(Model!$W32:$ZZ32,Model!$W$6:$ZZ$6,\">=\"&'M-Q-Y'!DH$6,Model!$W$6:$ZZ$6,\"<=\"&'M-Q-Y'!DH$7))","v":0},{"$f":"IF(DI$4=\"\",0,SUMIFS(Model!$W32:$ZZ32,Model!$W$6:$ZZ$6,\">=\"&'M-Q-Y'!DI$6,Model!$W$6:$ZZ$6,\"<=\"&'M-Q-Y'!DI$7))","v":0},{"$f":"IF(DJ$4=\"\",0,SUMIFS(Model!$W32:$ZZ32,Model!$W$6:$ZZ$6,\">=\"&'M-Q-Y'!DJ$6,Model!$W$6:$ZZ$6,\"<=\"&'M-Q-Y'!DJ$7))","v":0},{"$f":"IF(DK$4=\"\",0,SUMIFS(Model!$W32:$ZZ32,Model!$W$6:$ZZ$6,\">=\"&'M-Q-Y'!DK$6,Model!$W$6:$ZZ$6,\"<=\"&'M-Q-Y'!DK$7))","v":0},{"$f":"IF(DL$4=\"\",0,SUMIFS(Model!$W32:$ZZ32,Model!$W$6:$ZZ$6,\">=\"&'M-Q-Y'!DL$6,Model!$W$6:$ZZ$6,\"<=\"&'M-Q-Y'!DL$7))","v":0},{"$f":"IF(DM$4=\"\",0,SUMIFS(Model!$W32:$ZZ32,Model!$W$6:$ZZ$6,\">=\"&'M-Q-Y'!DM$6,Model!$W$6:$ZZ$6,\"<=\"&'M-Q-Y'!DM$7))","v":0},{"$f":"IF(DN$4=\"\",0,SUMIFS(Model!$W32:$ZZ32,Model!$W$6:$ZZ$6,\">=\"&'M-Q-Y'!DN$6,Model!$W$6:$ZZ$6,\"<=\"&'M-Q-Y'!DN$7))","v":0},{"$f":"IF(DO$4=\"\",0,SUMIFS(Model!$W32:$ZZ32,Model!$W$6:$ZZ$6,\">=\"&'M-Q-Y'!DO$6,Model!$W$6:$ZZ$6,\"<=\"&'M-Q-Y'!DO$7))","v":0},{"$f":"IF(DP$4=\"\",0,SUMIFS(Model!$W32:$ZZ32,Model!$W$6:$ZZ$6,\">=\"&'M-Q-Y'!DP$6,Model!$W$6:$ZZ$6,\"<=\"&'M-Q-Y'!DP$7))","v":0},{"$f":"IF(DQ$4=\"\",0,SUMIFS(Model!$W32:$ZZ32,Model!$W$6:$ZZ$6,\">=\"&'M-Q-Y'!DQ$6,Model!$W$6:$ZZ$6,\"<=\"&'M-Q-Y'!DQ$7))","v":0},{"$f":"IF(DR$4=\"\",0,SUMIFS(Model!$W32:$ZZ32,Model!$W$6:$ZZ$6,\">=\"&'M-Q-Y'!DR$6,Model!$W$6:$ZZ$6,\"<=\"&'M-Q-Y'!DR$7))","v":0},{"$f":"IF(DS$4=\"\",0,SUMIFS(Model!$W32:$ZZ32,Model!$W$6:$ZZ$6,\">=\"&'M-Q-Y'!DS$6,Model!$W$6:$ZZ$6,\"<=\"&'M-Q-Y'!DS$7))","v":0},{"$f":"IF(DT$4=\"\",0,SUMIFS(Model!$W32:$ZZ32,Model!$W$6:$ZZ$6,\">=\"&'M-Q-Y'!DT$6,Model!$W$6:$ZZ$6,\"<=\"&'M-Q-Y'!DT$7))","v":0},{"$f":"IF(DU$4=\"\",0,SUMIFS(Model!$W32:$ZZ32,Model!$W$6:$ZZ$6,\">=\"&'M-Q-Y'!DU$6,Model!$W$6:$ZZ$6,\"<=\"&'M-Q-Y'!DU$7))","v":0},{"$f":"IF(DV$4=\"\",0,SUMIFS(Model!$W32:$ZZ32,Model!$W$6:$ZZ$6,\">=\"&'M-Q-Y'!DV$6,Model!$W$6:$ZZ$6,\"<=\"&'M-Q-Y'!DV$7))","v":0},{"$f":"IF(DW$4=\"\",0,SUMIFS(Model!$W32:$ZZ32,Model!$W$6:$ZZ$6,\">=\"&'M-Q-Y'!DW$6,Model!$W$6:$ZZ$6,\"<=\"&'M-Q-Y'!DW$7))","v":0},{"$f":"IF(DX$4=\"\",0,SUMIFS(Model!$W32:$ZZ32,Model!$W$6:$ZZ$6,\">=\"&'M-Q-Y'!DX$6,Model!$W$6:$ZZ$6,\"<=\"&'M-Q-Y'!DX$7))","v":0},{"$f":"IF(DY$4=\"\",0,SUMIFS(Model!$W32:$ZZ32,Model!$W$6:$ZZ$6,\">=\"&'M-Q-Y'!DY$6,Model!$W$6:$ZZ$6,\"<=\"&'M-Q-Y'!DY$7))","v":0},{"$f":"IF(DZ$4=\"\",0,SUMIFS(Model!$W32:$ZZ32,Model!$W$6:$ZZ$6,\">=\"&'M-Q-Y'!DZ$6,Model!$W$6:$ZZ$6,\"<=\"&'M-Q-Y'!DZ$7))","v":0},{"$f":"IF(EA$4=\"\",0,SUMIFS(Model!$W32:$ZZ32,Model!$W$6:$ZZ$6,\">=\"&'M-Q-Y'!EA$6,Model!$W$6:$ZZ$6,\"<=\"&'M-Q-Y'!EA$7))","v":0},{"$f":"IF(EB$4=\"\",0,SUMIFS(Model!$W32:$ZZ32,Model!$W$6:$ZZ$6,\">=\"&'M-Q-Y'!EB$6,Model!$W$6:$ZZ$6,\"<=\"&'M-Q-Y'!EB$7))","v":0},{"$f":"IF(EC$4=\"\",0,SUMIFS(Model!$W32:$ZZ32,Model!$W$6:$ZZ$6,\">=\"&'M-Q-Y'!EC$6,Model!$W$6:$ZZ$6,\"<=\"&'M-Q-Y'!EC$7))","v":0},{"$f":"IF(ED$4=\"\",0,SUMIFS(Model!$W32:$ZZ32,Model!$W$6:$ZZ$6,\">=\"&'M-Q-Y'!ED$6,Model!$W$6:$ZZ$6,\"<=\"&'M-Q-Y'!ED$7))","v":0},{"$f":"IF(EE$4=\"\",0,SUMIFS(Model!$W32:$ZZ32,Model!$W$6:$ZZ$6,\">=\"&'M-Q-Y'!EE$6,Model!$W$6:$ZZ$6,\"<=\"&'M-Q-Y'!EE$7))","v":0},{"$f":"IF(EF$4=\"\",0,SUMIFS(Model!$W32:$ZZ32,Model!$W$6:$ZZ$6,\">=\"&'M-Q-Y'!EF$6,Model!$W$6:$ZZ$6,\"<=\"&'M-Q-Y'!EF$7))","v":0},{"$f":"IF(EG$4=\"\",0,SUMIFS(Model!$W32:$ZZ32,Model!$W$6:$ZZ$6,\">=\"&'M-Q-Y'!EG$6,Model!$W$6:$ZZ$6,\"<=\"&'M-Q-Y'!EG$7))","v":0},{"$f":"IF(EH$4=\"\",0,SUMIFS(Model!$W32:$ZZ32,Model!$W$6:$ZZ$6,\">=\"&'M-Q-Y'!EH$6,Model!$W$6:$ZZ$6,\"<=\"&'M-Q-Y'!EH$7))","v":0},{"$f":"IF(EI$4=\"\",0,SUMIFS(Model!$W32:$ZZ32,Model!$W$6:$ZZ$6,\">=\"&'M-Q-Y'!EI$6,Model!$W$6:$ZZ$6,\"<=\"&'M-Q-Y'!EI$7))","v":0},{"$f":"IF(EJ$4=\"\",0,SUMIFS(Model!$W32:$ZZ32,Model!$W$6:$ZZ$6,\">=\"&'M-Q-Y'!EJ$6,Model!$W$6:$ZZ$6,\"<=\"&'M-Q-Y'!EJ$7))","v":0},{"$f":"IF(EK$4=\"\",0,SUMIFS(Model!$W32:$ZZ32,Model!$W$6:$ZZ$6,\">=\"&'M-Q-Y'!EK$6,Model!$W$6:$ZZ$6,\"<=\"&'M-Q-Y'!EK$7))","v":0},{"$f":"IF(EL$4=\"\",0,SUMIFS(Model!$W32:$ZZ32,Model!$W$6:$ZZ$6,\">=\"&'M-Q-Y'!EL$6,Model!$W$6:$ZZ$6,\"<=\"&'M-Q-Y'!EL$7))","v":0},{"$f":"IF(EM$4=\"\",0,SUMIFS(Model!$W32:$ZZ32,Model!$W$6:$ZZ$6,\">=\"&'M-Q-Y'!EM$6,Model!$W$6:$ZZ$6,\"<=\"&'M-Q-Y'!EM$7))","v":0},{"$f":"IF(EN$4=\"\",0,SUMIFS(Model!$W32:$ZZ32,Model!$W$6:$ZZ$6,\">=\"&'M-Q-Y'!EN$6,Model!$W$6:$ZZ$6,\"<=\"&'M-Q-Y'!EN$7))","v":0},{"$f":"IF(EO$4=\"\",0,SUMIFS(Model!$W32:$ZZ32,Model!$W$6:$ZZ$6,\">=\"&'M-Q-Y'!EO$6,Model!$W$6:$ZZ$6,\"<=\"&'M-Q-Y'!EO$7))","v":0},{"$f":"IF(EP$4=\"\",0,SUMIFS(Model!$W32:$ZZ32,Model!$W$6:$ZZ$6,\">=\"&'M-Q-Y'!EP$6,Model!$W$6:$ZZ$6,\"<=\"&'M-Q-Y'!EP$7))","v":0},{"$f":"IF(EQ$4=\"\",0,SUMIFS(Model!$W32:$ZZ32,Model!$W$6:$ZZ$6,\">=\"&'M-Q-Y'!EQ$6,Model!$W$6:$ZZ$6,\"<=\"&'M-Q-Y'!EQ$7))","v":0},{"$f":"IF(ER$4=\"\",0,SUMIFS(Model!$W32:$ZZ32,Model!$W$6:$ZZ$6,\">=\"&'M-Q-Y'!ER$6,Model!$W$6:$ZZ$6,\"<=\"&'M-Q-Y'!ER$7))","v":0},{"$f":"IF(ES$4=\"\",0,SUMIFS(Model!$W32:$ZZ32,Model!$W$6:$ZZ$6,\">=\"&'M-Q-Y'!ES$6,Model!$W$6:$ZZ$6,\"<=\"&'M-Q-Y'!ES$7))","v":0},{"$f":"IF(ET$4=\"\",0,SUMIFS(Model!$W32:$ZZ32,Model!$W$6:$ZZ$6,\">=\"&'M-Q-Y'!ET$6,Model!$W$6:$ZZ$6,\"<=\"&'M-Q-Y'!ET$7))","v":0},{"$f":"IF(EU$4=\"\",0,SUMIFS(Model!$W32:$ZZ32,Model!$W$6:$ZZ$6,\">=\"&'M-Q-Y'!EU$6,Model!$W$6:$ZZ$6,\"<=\"&'M-Q-Y'!EU$7))","v":0},{"$f":"IF(EV$4=\"\",0,SUMIFS(Model!$W32:$ZZ32,Model!$W$6:$ZZ$6,\">=\"&'M-Q-Y'!EV$6,Model!$W$6:$ZZ$6,\"<=\"&'M-Q-Y'!EV$7))","v":0},{"$f":"IF(EW$4=\"\",0,SUMIFS(Model!$W32:$ZZ32,Model!$W$6:$ZZ$6,\">=\"&'M-Q-Y'!EW$6,Model!$W$6:$ZZ$6,\"<=\"&'M-Q-Y'!EW$7))","v":0},{"$f":"IF(EX$4=\"\",0,SUMIFS(Model!$W32:$ZZ32,Model!$W$6:$ZZ$6,\">=\"&'M-Q-Y'!EX$6,Model!$W$6:$ZZ$6,\"<=\"&'M-Q-Y'!EX$7))","v":0},{"$f":"IF(EY$4=\"\",0,SUMIFS(Model!$W32:$ZZ32,Model!$W$6:$ZZ$6,\">=\"&'M-Q-Y'!EY$6,Model!$W$6:$ZZ$6,\"<=\"&'M-Q-Y'!EY$7))","v":0},{"$f":"IF(EZ$4=\"\",0,SUMIFS(Model!$W32:$ZZ32,Model!$W$6:$ZZ$6,\">=\"&'M-Q-Y'!EZ$6,Model!$W$6:$ZZ$6,\"<=\"&'M-Q-Y'!EZ$7))","v":0},{"$f":"IF(FA$4=\"\",0,SUMIFS(Model!$W32:$ZZ32,Model!$W$6:$ZZ$6,\">=\"&'M-Q-Y'!FA$6,Model!$W$6:$ZZ$6,\"<=\"&'M-Q-Y'!FA$7))","v":0},{"$f":"IF(FB$4=\"\",0,SUMIFS(Model!$W32:$ZZ32,Model!$W$6:$ZZ$6,\">=\"&'M-Q-Y'!FB$6,Model!$W$6:$ZZ$6,\"<=\"&'M-Q-Y'!FB$7))","v":0},{"$f":"IF(FC$4=\"\",0,SUMIFS(Model!$W32:$ZZ32,Model!$W$6:$ZZ$6,\">=\"&'M-Q-Y'!FC$6,Model!$W$6:$ZZ$6,\"<=\"&'M-Q-Y'!FC$7))","v":0},{"$f":"IF(FD$4=\"\",0,SUMIFS(Model!$W32:$ZZ32,Model!$W$6:$ZZ$6,\">=\"&'M-Q-Y'!FD$6,Model!$W$6:$ZZ$6,\"<=\"&'M-Q-Y'!FD$7))","v":0},{"$f":"IF(FE$4=\"\",0,SUMIFS(Model!$W32:$ZZ32,Model!$W$6:$ZZ$6,\">=\"&'M-Q-Y'!FE$6,Model!$W$6:$ZZ$6,\"<=\"&'M-Q-Y'!FE$7))","v":0},{"$f":"IF(FF$4=\"\",0,SUMIFS(Model!$W32:$ZZ32,Model!$W$6:$ZZ$6,\">=\"&'M-Q-Y'!FF$6,Model!$W$6:$ZZ$6,\"<=\"&'M-Q-Y'!FF$7))","v":0},{"$f":"IF(FG$4=\"\",0,SUMIFS(Model!$W32:$ZZ32,Model!$W$6:$ZZ$6,\">=\"&'M-Q-Y'!FG$6,Model!$W$6:$ZZ$6,\"<=\"&'M-Q-Y'!FG$7))","v":0},{"$f":"IF(FH$4=\"\",0,SUMIFS(Model!$W32:$ZZ32,Model!$W$6:$ZZ$6,\">=\"&'M-Q-Y'!FH$6,Model!$W$6:$ZZ$6,\"<=\"&'M-Q-Y'!FH$7))","v":0},{"$f":"IF(FI$4=\"\",0,SUMIFS(Model!$W32:$ZZ32,Model!$W$6:$ZZ$6,\">=\"&'M-Q-Y'!FI$6,Model!$W$6:$ZZ$6,\"<=\"&'M-Q-Y'!FI$7))","v":0},{"$f":"IF(FJ$4=\"\",0,SUMIFS(Model!$W32:$ZZ32,Model!$W$6:$ZZ$6,\">=\"&'M-Q-Y'!FJ$6,Model!$W$6:$ZZ$6,\"<=\"&'M-Q-Y'!FJ$7))","v":0},{"$f":"IF(FK$4=\"\",0,SUMIFS(Model!$W32:$ZZ32,Model!$W$6:$ZZ$6,\">=\"&'M-Q-Y'!FK$6,Model!$W$6:$ZZ$6,\"<=\"&'M-Q-Y'!FK$7))","v":0},{"$f":"IF(FL$4=\"\",0,SUMIFS(Model!$W32:$ZZ32,Model!$W$6:$ZZ$6,\">=\"&'M-Q-Y'!FL$6,Model!$W$6:$ZZ$6,\"<=\"&'M-Q-Y'!FL$7))","v":0},{"$f":"IF(FM$4=\"\",0,SUMIFS(Model!$W32:$ZZ32,Model!$W$6:$ZZ$6,\">=\"&'M-Q-Y'!FM$6,Model!$W$6:$ZZ$6,\"<=\"&'M-Q-Y'!FM$7))","v":0},{"$f":"IF(FN$4=\"\",0,SUMIFS(Model!$W32:$ZZ32,Model!$W$6:$ZZ$6,\">=\"&'M-Q-Y'!FN$6,Model!$W$6:$ZZ$6,\"<=\"&'M-Q-Y'!FN$7))","v":0},{"$f":"IF(FO$4=\"\",0,SUMIFS(Model!$W32:$ZZ32,Model!$W$6:$ZZ$6,\">=\"&'M-Q-Y'!FO$6,Model!$W$6:$ZZ$6,\"<=\"&'M-Q-Y'!FO$7))","v":0},{"$f":"IF(FP$4=\"\",0,SUMIFS(Model!$W32:$ZZ32,Model!$W$6:$ZZ$6,\">=\"&'M-Q-Y'!FP$6,Model!$W$6:$ZZ$6,\"<=\"&'M-Q-Y'!FP$7))","v":0},{"$f":"IF(FQ$4=\"\",0,SUMIFS(Model!$W32:$ZZ32,Model!$W$6:$ZZ$6,\">=\"&'M-Q-Y'!FQ$6,Model!$W$6:$ZZ$6,\"<=\"&'M-Q-Y'!FQ$7))","v":0},{"$f":"IF(FR$4=\"\",0,SUMIFS(Model!$W32:$ZZ32,Model!$W$6:$ZZ$6,\">=\"&'M-Q-Y'!FR$6,Model!$W$6:$ZZ$6,\"<=\"&'M-Q-Y'!FR$7))","v":0},{"$f":"IF(FS$4=\"\",0,SUMIFS(Model!$W32:$ZZ32,Model!$W$6:$ZZ$6,\">=\"&'M-Q-Y'!FS$6,Model!$W$6:$ZZ$6,\"<=\"&'M-Q-Y'!FS$7))","v":0},{"$f":"IF(FT$4=\"\",0,SUMIFS(Model!$W32:$ZZ32,Model!$W$6:$ZZ$6,\">=\"&'M-Q-Y'!FT$6,Model!$W$6:$ZZ$6,\"<=\"&'M-Q-Y'!FT$7))","v":0},{"$f":"IF(FU$4=\"\",0,SUMIFS(Model!$W32:$ZZ32,Model!$W$6:$ZZ$6,\">=\"&'M-Q-Y'!FU$6,Model!$W$6:$ZZ$6,\"<=\"&'M-Q-Y'!FU$7))","v":0},{"$f":"IF(FV$4=\"\",0,SUMIFS(Model!$W32:$ZZ32,Model!$W$6:$ZZ$6,\">=\"&'M-Q-Y'!FV$6,Model!$W$6:$ZZ$6,\"<=\"&'M-Q-Y'!FV$7))","v":0},{"$f":"IF(FW$4=\"\",0,SUMIFS(Model!$W32:$ZZ32,Model!$W$6:$ZZ$6,\">=\"&'M-Q-Y'!FW$6,Model!$W$6:$ZZ$6,\"<=\"&'M-Q-Y'!FW$7))","v":0},{"$f":"IF(FX$4=\"\",0,SUMIFS(Model!$W32:$ZZ32,Model!$W$6:$ZZ$6,\">=\"&'M-Q-Y'!FX$6,Model!$W$6:$ZZ$6,\"<=\"&'M-Q-Y'!FX$7))","v":0},{"$f":"IF(FY$4=\"\",0,SUMIFS(Model!$W32:$ZZ32,Model!$W$6:$ZZ$6,\">=\"&'M-Q-Y'!FY$6,Model!$W$6:$ZZ$6,\"<=\"&'M-Q-Y'!FY$7))","v":0},{"$f":"IF(FZ$4=\"\",0,SUMIFS(Model!$W32:$ZZ32,Model!$W$6:$ZZ$6,\">=\"&'M-Q-Y'!FZ$6,Model!$W$6:$ZZ$6,\"<=\"&'M-Q-Y'!FZ$7))","v":0},{"$f":"IF(GA$4=\"\",0,SUMIFS(Model!$W32:$ZZ32,Model!$W$6:$ZZ$6,\">=\"&'M-Q-Y'!GA$6,Model!$W$6:$ZZ$6,\"<=\"&'M-Q-Y'!GA$7))","v":0},{"$f":"IF(GB$4=\"\",0,SUMIFS(Model!$W32:$ZZ32,Model!$W$6:$ZZ$6,\">=\"&'M-Q-Y'!GB$6,Model!$W$6:$ZZ$6,\"<=\"&'M-Q-Y'!GB$7))","v":0},{"$f":"IF(GC$4=\"\",0,SUMIFS(Model!$W32:$ZZ32,Model!$W$6:$ZZ$6,\">=\"&'M-Q-Y'!GC$6,Model!$W$6:$ZZ$6,\"<=\"&'M-Q-Y'!GC$7))","v":0},{"$f":"IF(GD$4=\"\",0,SUMIFS(Model!$W32:$ZZ32,Model!$W$6:$ZZ$6,\">=\"&'M-Q-Y'!GD$6,Model!$W$6:$ZZ$6,\"<=\"&'M-Q-Y'!GD$7))","v":0},{"$f":"IF(GE$4=\"\",0,SUMIFS(Model!$W32:$ZZ32,Model!$W$6:$ZZ$6,\">=\"&'M-Q-Y'!GE$6,Model!$W$6:$ZZ$6,\"<=\"&'M-Q-Y'!GE$7))","v":0},{"$f":"IF(GF$4=\"\",0,SUMIFS(Model!$W32:$ZZ32,Model!$W$6:$ZZ$6,\">=\"&'M-Q-Y'!GF$6,Model!$W$6:$ZZ$6,\"<=\"&'M-Q-Y'!GF$7))","v":0},{"$f":"IF(GG$4=\"\",0,SUMIFS(Model!$W32:$ZZ32,Model!$W$6:$ZZ$6,\">=\"&'M-Q-Y'!GG$6,Model!$W$6:$ZZ$6,\"<=\"&'M-Q-Y'!GG$7))","v":0},{"$f":"IF(GH$4=\"\",0,SUMIFS(Model!$W32:$ZZ32,Model!$W$6:$ZZ$6,\">=\"&'M-Q-Y'!GH$6,Model!$W$6:$ZZ$6,\"<=\"&'M-Q-Y'!GH$7))","v":0},{"$f":"IF(GI$4=\"\",0,SUMIFS(Model!$W32:$ZZ32,Model!$W$6:$ZZ$6,\">=\"&'M-Q-Y'!GI$6,Model!$W$6:$ZZ$6,\"<=\"&'M-Q-Y'!GI$7))","v":0},{"$f":"IF(GJ$4=\"\",0,SUMIFS(Model!$W32:$ZZ32,Model!$W$6:$ZZ$6,\">=\"&'M-Q-Y'!GJ$6,Model!$W$6:$ZZ$6,\"<=\"&'M-Q-Y'!GJ$7))","v":0},{"$f":"IF(GK$4=\"\",0,SUMIFS(Model!$W32:$ZZ32,Model!$W$6:$ZZ$6,\">=\"&'M-Q-Y'!GK$6,Model!$W$6:$ZZ$6,\"<=\"&'M-Q-Y'!GK$7))","v":0},{"$f":"IF(GL$4=\"\",0,SUMIFS(Model!$W32:$ZZ32,Model!$W$6:$ZZ$6,\">=\"&'M-Q-Y'!GL$6,Model!$W$6:$ZZ$6,\"<=\"&'M-Q-Y'!GL$7))","v":0},{"$f":"IF(GM$4=\"\",0,SUMIFS(Model!$W32:$ZZ32,Model!$W$6:$ZZ$6,\">=\"&'M-Q-Y'!GM$6,Model!$W$6:$ZZ$6,\"<=\"&'M-Q-Y'!GM$7))","v":0},{"$f":"IF(GN$4=\"\",0,SUMIFS(Model!$W32:$ZZ32,Model!$W$6:$ZZ$6,\">=\"&'M-Q-Y'!GN$6,Model!$W$6:$ZZ$6,\"<=\"&'M-Q-Y'!GN$7))","v":0},{"$f":"IF(GO$4=\"\",0,SUMIFS(Model!$W32:$ZZ32,Model!$W$6:$ZZ$6,\">=\"&'M-Q-Y'!GO$6,Model!$W$6:$ZZ$6,\"<=\"&'M-Q-Y'!GO$7))","v":0},{"$f":"IF(GP$4=\"\",0,SUMIFS(Model!$W32:$ZZ32,Model!$W$6:$ZZ$6,\">=\"&'M-Q-Y'!GP$6,Model!$W$6:$ZZ$6,\"<=\"&'M-Q-Y'!GP$7))","v":0},{"$f":"IF(GQ$4=\"\",0,SUMIFS(Model!$W32:$ZZ32,Model!$W$6:$ZZ$6,\">=\"&'M-Q-Y'!GQ$6,Model!$W$6:$ZZ$6,\"<=\"&'M-Q-Y'!GQ$7))","v":0},{"$f":"IF(GR$4=\"\",0,SUMIFS(Model!$W32:$ZZ32,Model!$W$6:$ZZ$6,\">=\"&'M-Q-Y'!GR$6,Model!$W$6:$ZZ$6,\"<=\"&'M-Q-Y'!GR$7))","v":0},{"$f":"IF(GS$4=\"\",0,SUMIFS(Model!$W32:$ZZ32,Model!$W$6:$ZZ$6,\">=\"&'M-Q-Y'!GS$6,Model!$W$6:$ZZ$6,\"<=\"&'M-Q-Y'!GS$7))","v":0},{"$f":"IF(GT$4=\"\",0,SUMIFS(Model!$W32:$ZZ32,Model!$W$6:$ZZ$6,\">=\"&'M-Q-Y'!GT$6,Model!$W$6:$ZZ$6,\"<=\"&'M-Q-Y'!GT$7))","v":0},{"$f":"IF(GU$4=\"\",0,SUMIFS(Model!$W32:$ZZ32,Model!$W$6:$ZZ$6,\">=\"&'M-Q-Y'!GU$6,Model!$W$6:$ZZ$6,\"<=\"&'M-Q-Y'!GU$7))","v":0},{"$f":"IF(GV$4=\"\",0,SUMIFS(Model!$W32:$ZZ32,Model!$W$6:$ZZ$6,\">=\"&'M-Q-Y'!GV$6,Model!$W$6:$ZZ$6,\"<=\"&'M-Q-Y'!GV$7))","v":0}]
[null,{"$f":"ROW()","v":27}]
[null,{"$f":"ROW()","v":28},null,null,null,null,null,"Поступление кредита",null,null,null,null,null,null,null,"CF(+)",null,null,null,null,{"$f":"SUM(INDIRECT(ADDRESS($B28,X$2)&\":\"&ADDRESS($B28,MAX($2:$2))))","v":0},null,null,{"$f":"IF(X$4=\"\",0,SUMIFS(Model!$W35:$ZZ35,Model!$W$6:$ZZ$6,\">=\"&'M-Q-Y'!X$6,Model!$W$6:$ZZ$6,\"<=\"&'M-Q-Y'!X$7))","v":0},{"$f":"IF(Y$4=\"\",0,SUMIFS(Model!$W35:$ZZ35,Model!$W$6:$ZZ$6,\">=\"&'M-Q-Y'!Y$6,Model!$W$6:$ZZ$6,\"<=\"&'M-Q-Y'!Y$7))","v":0},{"$f":"IF(Z$4=\"\",0,SUMIFS(Model!$W35:$ZZ35,Model!$W$6:$ZZ$6,\">=\"&'M-Q-Y'!Z$6,Model!$W$6:$ZZ$6,\"<=\"&'M-Q-Y'!Z$7))","v":0},{"$f":"IF(AA$4=\"\",0,SUMIFS(Model!$W35:$ZZ35,Model!$W$6:$ZZ$6,\">=\"&'M-Q-Y'!AA$6,Model!$W$6:$ZZ$6,\"<=\"&'M-Q-Y'!AA$7))","v":0},{"$f":"IF(AB$4=\"\",0,SUMIFS(Model!$W35:$ZZ35,Model!$W$6:$ZZ$6,\">=\"&'M-Q-Y'!AB$6,Model!$W$6:$ZZ$6,\"<=\"&'M-Q-Y'!AB$7))","v":0},{"$f":"IF(AC$4=\"\",0,SUMIFS(Model!$W35:$ZZ35,Model!$W$6:$ZZ$6,\">=\"&'M-Q-Y'!AC$6,Model!$W$6:$ZZ$6,\"<=\"&'M-Q-Y'!AC$7))","v":0},{"$f":"IF(AD$4=\"\",0,SUMIFS(Model!$W35:$ZZ35,Model!$W$6:$ZZ$6,\">=\"&'M-Q-Y'!AD$6,Model!$W$6:$ZZ$6,\"<=\"&'M-Q-Y'!AD$7))","v":0},{"$f":"IF(AE$4=\"\",0,SUMIFS(Model!$W35:$ZZ35,Model!$W$6:$ZZ$6,\">=\"&'M-Q-Y'!AE$6,Model!$W$6:$ZZ$6,\"<=\"&'M-Q-Y'!AE$7))","v":0},{"$f":"IF(AF$4=\"\",0,SUMIFS(Model!$W35:$ZZ35,Model!$W$6:$ZZ$6,\">=\"&'M-Q-Y'!AF$6,Model!$W$6:$ZZ$6,\"<=\"&'M-Q-Y'!AF$7))","v":0},{"$f":"IF(AG$4=\"\",0,SUMIFS(Model!$W35:$ZZ35,Model!$W$6:$ZZ$6,\">=\"&'M-Q-Y'!AG$6,Model!$W$6:$ZZ$6,\"<=\"&'M-Q-Y'!AG$7))","v":0},{"$f":"IF(AH$4=\"\",0,SUMIFS(Model!$W35:$ZZ35,Model!$W$6:$ZZ$6,\">=\"&'M-Q-Y'!AH$6,Model!$W$6:$ZZ$6,\"<=\"&'M-Q-Y'!AH$7))","v":0},{"$f":"IF(AI$4=\"\",0,SUMIFS(Model!$W35:$ZZ35,Model!$W$6:$ZZ$6,\">=\"&'M-Q-Y'!AI$6,Model!$W$6:$ZZ$6,\"<=\"&'M-Q-Y'!AI$7))","v":0},{"$f":"IF(AJ$4=\"\",0,SUMIFS(Model!$W35:$ZZ35,Model!$W$6:$ZZ$6,\">=\"&'M-Q-Y'!AJ$6,Model!$W$6:$ZZ$6,\"<=\"&'M-Q-Y'!AJ$7))","v":0},{"$f":"IF(AK$4=\"\",0,SUMIFS(Model!$W35:$ZZ35,Model!$W$6:$ZZ$6,\">=\"&'M-Q-Y'!AK$6,Model!$W$6:$ZZ$6,\"<=\"&'M-Q-Y'!AK$7))","v":0},{"$f":"IF(AL$4=\"\",0,SUMIFS(Model!$W35:$ZZ35,Model!$W$6:$ZZ$6,\">=\"&'M-Q-Y'!AL$6,Model!$W$6:$ZZ$6,\"<=\"&'M-Q-Y'!AL$7))","v":0},{"$f":"IF(AM$4=\"\",0,SUMIFS(Model!$W35:$ZZ35,Model!$W$6:$ZZ$6,\">=\"&'M-Q-Y'!AM$6,Model!$W$6:$ZZ$6,\"<=\"&'M-Q-Y'!AM$7))","v":0},{"$f":"IF(AN$4=\"\",0,SUMIFS(Model!$W35:$ZZ35,Model!$W$6:$ZZ$6,\">=\"&'M-Q-Y'!AN$6,Model!$W$6:$ZZ$6,\"<=\"&'M-Q-Y'!AN$7))","v":0},{"$f":"IF(AO$4=\"\",0,SUMIFS(Model!$W35:$ZZ35,Model!$W$6:$ZZ$6,\">=\"&'M-Q-Y'!AO$6,Model!$W$6:$ZZ$6,\"<=\"&'M-Q-Y'!AO$7))","v":0},{"$f":"IF(AP$4=\"\",0,SUMIFS(Model!$W35:$ZZ35,Model!$W$6:$ZZ$6,\">=\"&'M-Q-Y'!AP$6,Model!$W$6:$ZZ$6,\"<=\"&'M-Q-Y'!AP$7))","v":0},{"$f":"IF(AQ$4=\"\",0,SUMIFS(Model!$W35:$ZZ35,Model!$W$6:$ZZ$6,\">=\"&'M-Q-Y'!AQ$6,Model!$W$6:$ZZ$6,\"<=\"&'M-Q-Y'!AQ$7))","v":0},{"$f":"IF(AR$4=\"\",0,SUMIFS(Model!$W35:$ZZ35,Model!$W$6:$ZZ$6,\">=\"&'M-Q-Y'!AR$6,Model!$W$6:$ZZ$6,\"<=\"&'M-Q-Y'!AR$7))","v":0},{"$f":"IF(AS$4=\"\",0,SUMIFS(Model!$W35:$ZZ35,Model!$W$6:$ZZ$6,\">=\"&'M-Q-Y'!AS$6,Model!$W$6:$ZZ$6,\"<=\"&'M-Q-Y'!AS$7))","v":0},{"$f":"IF(AT$4=\"\",0,SUMIFS(Model!$W35:$ZZ35,Model!$W$6:$ZZ$6,\">=\"&'M-Q-Y'!AT$6,Model!$W$6:$ZZ$6,\"<=\"&'M-Q-Y'!AT$7))","v":0},{"$f":"IF(AU$4=\"\",0,SUMIFS(Model!$W35:$ZZ35,Model!$W$6:$ZZ$6,\">=\"&'M-Q-Y'!AU$6,Model!$W$6:$ZZ$6,\"<=\"&'M-Q-Y'!AU$7))","v":0},{"$f":"IF(AV$4=\"\",0,SUMIFS(Model!$W35:$ZZ35,Model!$W$6:$ZZ$6,\">=\"&'M-Q-Y'!AV$6,Model!$W$6:$ZZ$6,\"<=\"&'M-Q-Y'!AV$7))","v":0},{"$f":"IF(AW$4=\"\",0,SUMIFS(Model!$W35:$ZZ35,Model!$W$6:$ZZ$6,\">=\"&'M-Q-Y'!AW$6,Model!$W$6:$ZZ$6,\"<=\"&'M-Q-Y'!AW$7))","v":0},{"$f":"IF(AX$4=\"\",0,SUMIFS(Model!$W35:$ZZ35,Model!$W$6:$ZZ$6,\">=\"&'M-Q-Y'!AX$6,Model!$W$6:$ZZ$6,\"<=\"&'M-Q-Y'!AX$7))","v":0},{"$f":"IF(AY$4=\"\",0,SUMIFS(Model!$W35:$ZZ35,Model!$W$6:$ZZ$6,\">=\"&'M-Q-Y'!AY$6,Model!$W$6:$ZZ$6,\"<=\"&'M-Q-Y'!AY$7))","v":0},{"$f":"IF(AZ$4=\"\",0,SUMIFS(Model!$W35:$ZZ35,Model!$W$6:$ZZ$6,\">=\"&'M-Q-Y'!AZ$6,Model!$W$6:$ZZ$6,\"<=\"&'M-Q-Y'!AZ$7))","v":0},{"$f":"IF(BA$4=\"\",0,SUMIFS(Model!$W35:$ZZ35,Model!$W$6:$ZZ$6,\">=\"&'M-Q-Y'!BA$6,Model!$W$6:$ZZ$6,\"<=\"&'M-Q-Y'!BA$7))","v":0},{"$f":"IF(BB$4=\"\",0,SUMIFS(Model!$W35:$ZZ35,Model!$W$6:$ZZ$6,\">=\"&'M-Q-Y'!BB$6,Model!$W$6:$ZZ$6,\"<=\"&'M-Q-Y'!BB$7))","v":0},{"$f":"IF(BC$4=\"\",0,SUMIFS(Model!$W35:$ZZ35,Model!$W$6:$ZZ$6,\">=\"&'M-Q-Y'!BC$6,Model!$W$6:$ZZ$6,\"<=\"&'M-Q-Y'!BC$7))","v":0},{"$f":"IF(BD$4=\"\",0,SUMIFS(Model!$W35:$ZZ35,Model!$W$6:$ZZ$6,\">=\"&'M-Q-Y'!BD$6,Model!$W$6:$ZZ$6,\"<=\"&'M-Q-Y'!BD$7))","v":0},{"$f":"IF(BE$4=\"\",0,SUMIFS(Model!$W35:$ZZ35,Model!$W$6:$ZZ$6,\">=\"&'M-Q-Y'!BE$6,Model!$W$6:$ZZ$6,\"<=\"&'M-Q-Y'!BE$7))","v":0},{"$f":"IF(BF$4=\"\",0,SUMIFS(Model!$W35:$ZZ35,Model!$W$6:$ZZ$6,\">=\"&'M-Q-Y'!BF$6,Model!$W$6:$ZZ$6,\"<=\"&'M-Q-Y'!BF$7))","v":0},{"$f":"IF(BG$4=\"\",0,SUMIFS(Model!$W35:$ZZ35,Model!$W$6:$ZZ$6,\">=\"&'M-Q-Y'!BG$6,Model!$W$6:$ZZ$6,\"<=\"&'M-Q-Y'!BG$7))","v":0},{"$f":"IF(BH$4=\"\",0,SUMIFS(Model!$W35:$ZZ35,Model!$W$6:$ZZ$6,\">=\"&'M-Q-Y'!BH$6,Model!$W$6:$ZZ$6,\"<=\"&'M-Q-Y'!BH$7))","v":0},{"$f":"IF(BI$4=\"\",0,SUMIFS(Model!$W35:$ZZ35,Model!$W$6:$ZZ$6,\">=\"&'M-Q-Y'!BI$6,Model!$W$6:$ZZ$6,\"<=\"&'M-Q-Y'!BI$7))","v":0},{"$f":"IF(BJ$4=\"\",0,SUMIFS(Model!$W35:$ZZ35,Model!$W$6:$ZZ$6,\">=\"&'M-Q-Y'!BJ$6,Model!$W$6:$ZZ$6,\"<=\"&'M-Q-Y'!BJ$7))","v":0},{"$f":"IF(BK$4=\"\",0,SUMIFS(Model!$W35:$ZZ35,Model!$W$6:$ZZ$6,\">=\"&'M-Q-Y'!BK$6,Model!$W$6:$ZZ$6,\"<=\"&'M-Q-Y'!BK$7))","v":0},{"$f":"IF(BL$4=\"\",0,SUMIFS(Model!$W35:$ZZ35,Model!$W$6:$ZZ$6,\">=\"&'M-Q-Y'!BL$6,Model!$W$6:$ZZ$6,\"<=\"&'M-Q-Y'!BL$7))","v":0},{"$f":"IF(BM$4=\"\",0,SUMIFS(Model!$W35:$ZZ35,Model!$W$6:$ZZ$6,\">=\"&'M-Q-Y'!BM$6,Model!$W$6:$ZZ$6,\"<=\"&'M-Q-Y'!BM$7))","v":0},{"$f":"IF(BN$4=\"\",0,SUMIFS(Model!$W35:$ZZ35,Model!$W$6:$ZZ$6,\">=\"&'M-Q-Y'!BN$6,Model!$W$6:$ZZ$6,\"<=\"&'M-Q-Y'!BN$7))","v":0},{"$f":"IF(BO$4=\"\",0,SUMIFS(Model!$W35:$ZZ35,Model!$W$6:$ZZ$6,\">=\"&'M-Q-Y'!BO$6,Model!$W$6:$ZZ$6,\"<=\"&'M-Q-Y'!BO$7))","v":0},{"$f":"IF(BP$4=\"\",0,SUMIFS(Model!$W35:$ZZ35,Model!$W$6:$ZZ$6,\">=\"&'M-Q-Y'!BP$6,Model!$W$6:$ZZ$6,\"<=\"&'M-Q-Y'!BP$7))","v":0},{"$f":"IF(BQ$4=\"\",0,SUMIFS(Model!$W35:$ZZ35,Model!$W$6:$ZZ$6,\">=\"&'M-Q-Y'!BQ$6,Model!$W$6:$ZZ$6,\"<=\"&'M-Q-Y'!BQ$7))","v":0},{"$f":"IF(BR$4=\"\",0,SUMIFS(Model!$W35:$ZZ35,Model!$W$6:$ZZ$6,\">=\"&'M-Q-Y'!BR$6,Model!$W$6:$ZZ$6,\"<=\"&'M-Q-Y'!BR$7))","v":0},{"$f":"IF(BS$4=\"\",0,SUMIFS(Model!$W35:$ZZ35,Model!$W$6:$ZZ$6,\">=\"&'M-Q-Y'!BS$6,Model!$W$6:$ZZ$6,\"<=\"&'M-Q-Y'!BS$7))","v":0},{"$f":"IF(BT$4=\"\",0,SUMIFS(Model!$W35:$ZZ35,Model!$W$6:$ZZ$6,\">=\"&'M-Q-Y'!BT$6,Model!$W$6:$ZZ$6,\"<=\"&'M-Q-Y'!BT$7))","v":0},{"$f":"IF(BU$4=\"\",0,SUMIFS(Model!$W35:$ZZ35,Model!$W$6:$ZZ$6,\">=\"&'M-Q-Y'!BU$6,Model!$W$6:$ZZ$6,\"<=\"&'M-Q-Y'!BU$7))","v":0},{"$f":"IF(BV$4=\"\",0,SUMIFS(Model!$W35:$ZZ35,Model!$W$6:$ZZ$6,\">=\"&'M-Q-Y'!BV$6,Model!$W$6:$ZZ$6,\"<=\"&'M-Q-Y'!BV$7))","v":0},{"$f":"IF(BW$4=\"\",0,SUMIFS(Model!$W35:$ZZ35,Model!$W$6:$ZZ$6,\">=\"&'M-Q-Y'!BW$6,Model!$W$6:$ZZ$6,\"<=\"&'M-Q-Y'!BW$7))","v":0},{"$f":"IF(BX$4=\"\",0,SUMIFS(Model!$W35:$ZZ35,Model!$W$6:$ZZ$6,\">=\"&'M-Q-Y'!BX$6,Model!$W$6:$ZZ$6,\"<=\"&'M-Q-Y'!BX$7))","v":0},{"$f":"IF(BY$4=\"\",0,SUMIFS(Model!$W35:$ZZ35,Model!$W$6:$ZZ$6,\">=\"&'M-Q-Y'!BY$6,Model!$W$6:$ZZ$6,\"<=\"&'M-Q-Y'!BY$7))","v":0},{"$f":"IF(BZ$4=\"\",0,SUMIFS(Model!$W35:$ZZ35,Model!$W$6:$ZZ$6,\">=\"&'M-Q-Y'!BZ$6,Model!$W$6:$ZZ$6,\"<=\"&'M-Q-Y'!BZ$7))","v":0},{"$f":"IF(CA$4=\"\",0,SUMIFS(Model!$W35:$ZZ35,Model!$W$6:$ZZ$6,\">=\"&'M-Q-Y'!CA$6,Model!$W$6:$ZZ$6,\"<=\"&'M-Q-Y'!CA$7))","v":0},{"$f":"IF(CB$4=\"\",0,SUMIFS(Model!$W35:$ZZ35,Model!$W$6:$ZZ$6,\">=\"&'M-Q-Y'!CB$6,Model!$W$6:$ZZ$6,\"<=\"&'M-Q-Y'!CB$7))","v":0},{"$f":"IF(CC$4=\"\",0,SUMIFS(Model!$W35:$ZZ35,Model!$W$6:$ZZ$6,\">=\"&'M-Q-Y'!CC$6,Model!$W$6:$ZZ$6,\"<=\"&'M-Q-Y'!CC$7))","v":0},{"$f":"IF(CD$4=\"\",0,SUMIFS(Model!$W35:$ZZ35,Model!$W$6:$ZZ$6,\">=\"&'M-Q-Y'!CD$6,Model!$W$6:$ZZ$6,\"<=\"&'M-Q-Y'!CD$7))","v":0},{"$f":"IF(CE$4=\"\",0,SUMIFS(Model!$W35:$ZZ35,Model!$W$6:$ZZ$6,\">=\"&'M-Q-Y'!CE$6,Model!$W$6:$ZZ$6,\"<=\"&'M-Q-Y'!CE$7))","v":0},{"$f":"IF(CF$4=\"\",0,SUMIFS(Model!$W35:$ZZ35,Model!$W$6:$ZZ$6,\">=\"&'M-Q-Y'!CF$6,Model!$W$6:$ZZ$6,\"<=\"&'M-Q-Y'!CF$7))","v":0},{"$f":"IF(CG$4=\"\",0,SUMIFS(Model!$W35:$ZZ35,Model!$W$6:$ZZ$6,\">=\"&'M-Q-Y'!CG$6,Model!$W$6:$ZZ$6,\"<=\"&'M-Q-Y'!CG$7))","v":0},{"$f":"IF(CH$4=\"\",0,SUMIFS(Model!$W35:$ZZ35,Model!$W$6:$ZZ$6,\">=\"&'M-Q-Y'!CH$6,Model!$W$6:$ZZ$6,\"<=\"&'M-Q-Y'!CH$7))","v":0},{"$f":"IF(CI$4=\"\",0,SUMIFS(Model!$W35:$ZZ35,Model!$W$6:$ZZ$6,\">=\"&'M-Q-Y'!CI$6,Model!$W$6:$ZZ$6,\"<=\"&'M-Q-Y'!CI$7))","v":0},{"$f":"IF(CJ$4=\"\",0,SUMIFS(Model!$W35:$ZZ35,Model!$W$6:$ZZ$6,\">=\"&'M-Q-Y'!CJ$6,Model!$W$6:$ZZ$6,\"<=\"&'M-Q-Y'!CJ$7))","v":0},{"$f":"IF(CK$4=\"\",0,SUMIFS(Model!$W35:$ZZ35,Model!$W$6:$ZZ$6,\">=\"&'M-Q-Y'!CK$6,Model!$W$6:$ZZ$6,\"<=\"&'M-Q-Y'!CK$7))","v":0},{"$f":"IF(CL$4=\"\",0,SUMIFS(Model!$W35:$ZZ35,Model!$W$6:$ZZ$6,\">=\"&'M-Q-Y'!CL$6,Model!$W$6:$ZZ$6,\"<=\"&'M-Q-Y'!CL$7))","v":0},{"$f":"IF(CM$4=\"\",0,SUMIFS(Model!$W35:$ZZ35,Model!$W$6:$ZZ$6,\">=\"&'M-Q-Y'!CM$6,Model!$W$6:$ZZ$6,\"<=\"&'M-Q-Y'!CM$7))","v":0},{"$f":"IF(CN$4=\"\",0,SUMIFS(Model!$W35:$ZZ35,Model!$W$6:$ZZ$6,\">=\"&'M-Q-Y'!CN$6,Model!$W$6:$ZZ$6,\"<=\"&'M-Q-Y'!CN$7))","v":0},{"$f":"IF(CO$4=\"\",0,SUMIFS(Model!$W35:$ZZ35,Model!$W$6:$ZZ$6,\">=\"&'M-Q-Y'!CO$6,Model!$W$6:$ZZ$6,\"<=\"&'M-Q-Y'!CO$7))","v":0},{"$f":"IF(CP$4=\"\",0,SUMIFS(Model!$W35:$ZZ35,Model!$W$6:$ZZ$6,\">=\"&'M-Q-Y'!CP$6,Model!$W$6:$ZZ$6,\"<=\"&'M-Q-Y'!CP$7))","v":0},{"$f":"IF(CQ$4=\"\",0,SUMIFS(Model!$W35:$ZZ35,Model!$W$6:$ZZ$6,\">=\"&'M-Q-Y'!CQ$6,Model!$W$6:$ZZ$6,\"<=\"&'M-Q-Y'!CQ$7))","v":0},{"$f":"IF(CR$4=\"\",0,SUMIFS(Model!$W35:$ZZ35,Model!$W$6:$ZZ$6,\">=\"&'M-Q-Y'!CR$6,Model!$W$6:$ZZ$6,\"<=\"&'M-Q-Y'!CR$7))","v":0},{"$f":"IF(CS$4=\"\",0,SUMIFS(Model!$W35:$ZZ35,Model!$W$6:$ZZ$6,\">=\"&'M-Q-Y'!CS$6,Model!$W$6:$ZZ$6,\"<=\"&'M-Q-Y'!CS$7))","v":0},{"$f":"IF(CT$4=\"\",0,SUMIFS(Model!$W35:$ZZ35,Model!$W$6:$ZZ$6,\">=\"&'M-Q-Y'!CT$6,Model!$W$6:$ZZ$6,\"<=\"&'M-Q-Y'!CT$7))","v":0},{"$f":"IF(CU$4=\"\",0,SUMIFS(Model!$W35:$ZZ35,Model!$W$6:$ZZ$6,\">=\"&'M-Q-Y'!CU$6,Model!$W$6:$ZZ$6,\"<=\"&'M-Q-Y'!CU$7))","v":0},{"$f":"IF(CV$4=\"\",0,SUMIFS(Model!$W35:$ZZ35,Model!$W$6:$ZZ$6,\">=\"&'M-Q-Y'!CV$6,Model!$W$6:$ZZ$6,\"<=\"&'M-Q-Y'!CV$7))","v":0},{"$f":"IF(CW$4=\"\",0,SUMIFS(Model!$W35:$ZZ35,Model!$W$6:$ZZ$6,\">=\"&'M-Q-Y'!CW$6,Model!$W$6:$ZZ$6,\"<=\"&'M-Q-Y'!CW$7))","v":0},{"$f":"IF(CX$4=\"\",0,SUMIFS(Model!$W35:$ZZ35,Model!$W$6:$ZZ$6,\">=\"&'M-Q-Y'!CX$6,Model!$W$6:$ZZ$6,\"<=\"&'M-Q-Y'!CX$7))","v":0},{"$f":"IF(CY$4=\"\",0,SUMIFS(Model!$W35:$ZZ35,Model!$W$6:$ZZ$6,\">=\"&'M-Q-Y'!CY$6,Model!$W$6:$ZZ$6,\"<=\"&'M-Q-Y'!CY$7))","v":0},{"$f":"IF(CZ$4=\"\",0,SUMIFS(Model!$W35:$ZZ35,Model!$W$6:$ZZ$6,\">=\"&'M-Q-Y'!CZ$6,Model!$W$6:$ZZ$6,\"<=\"&'M-Q-Y'!CZ$7))","v":0},{"$f":"IF(DA$4=\"\",0,SUMIFS(Model!$W35:$ZZ35,Model!$W$6:$ZZ$6,\">=\"&'M-Q-Y'!DA$6,Model!$W$6:$ZZ$6,\"<=\"&'M-Q-Y'!DA$7))","v":0},{"$f":"IF(DB$4=\"\",0,SUMIFS(Model!$W35:$ZZ35,Model!$W$6:$ZZ$6,\">=\"&'M-Q-Y'!DB$6,Model!$W$6:$ZZ$6,\"<=\"&'M-Q-Y'!DB$7))","v":0},{"$f":"IF(DC$4=\"\",0,SUMIFS(Model!$W35:$ZZ35,Model!$W$6:$ZZ$6,\">=\"&'M-Q-Y'!DC$6,Model!$W$6:$ZZ$6,\"<=\"&'M-Q-Y'!DC$7))","v":0},{"$f":"IF(DD$4=\"\",0,SUMIFS(Model!$W35:$ZZ35,Model!$W$6:$ZZ$6,\">=\"&'M-Q-Y'!DD$6,Model!$W$6:$ZZ$6,\"<=\"&'M-Q-Y'!DD$7))","v":0},{"$f":"IF(DE$4=\"\",0,SUMIFS(Model!$W35:$ZZ35,Model!$W$6:$ZZ$6,\">=\"&'M-Q-Y'!DE$6,Model!$W$6:$ZZ$6,\"<=\"&'M-Q-Y'!DE$7))","v":0},{"$f":"IF(DF$4=\"\",0,SUMIFS(Model!$W35:$ZZ35,Model!$W$6:$ZZ$6,\">=\"&'M-Q-Y'!DF$6,Model!$W$6:$ZZ$6,\"<=\"&'M-Q-Y'!DF$7))","v":0},{"$f":"IF(DG$4=\"\",0,SUMIFS(Model!$W35:$ZZ35,Model!$W$6:$ZZ$6,\">=\"&'M-Q-Y'!DG$6,Model!$W$6:$ZZ$6,\"<=\"&'M-Q-Y'!DG$7))","v":0},{"$f":"IF(DH$4=\"\",0,SUMIFS(Model!$W35:$ZZ35,Model!$W$6:$ZZ$6,\">=\"&'M-Q-Y'!DH$6,Model!$W$6:$ZZ$6,\"<=\"&'M-Q-Y'!DH$7))","v":0},{"$f":"IF(DI$4=\"\",0,SUMIFS(Model!$W35:$ZZ35,Model!$W$6:$ZZ$6,\">=\"&'M-Q-Y'!DI$6,Model!$W$6:$ZZ$6,\"<=\"&'M-Q-Y'!DI$7))","v":0},{"$f":"IF(DJ$4=\"\",0,SUMIFS(Model!$W35:$ZZ35,Model!$W$6:$ZZ$6,\">=\"&'M-Q-Y'!DJ$6,Model!$W$6:$ZZ$6,\"<=\"&'M-Q-Y'!DJ$7))","v":0},{"$f":"IF(DK$4=\"\",0,SUMIFS(Model!$W35:$ZZ35,Model!$W$6:$ZZ$6,\">=\"&'M-Q-Y'!DK$6,Model!$W$6:$ZZ$6,\"<=\"&'M-Q-Y'!DK$7))","v":0},{"$f":"IF(DL$4=\"\",0,SUMIFS(Model!$W35:$ZZ35,Model!$W$6:$ZZ$6,\">=\"&'M-Q-Y'!DL$6,Model!$W$6:$ZZ$6,\"<=\"&'M-Q-Y'!DL$7))","v":0},{"$f":"IF(DM$4=\"\",0,SUMIFS(Model!$W35:$ZZ35,Model!$W$6:$ZZ$6,\">=\"&'M-Q-Y'!DM$6,Model!$W$6:$ZZ$6,\"<=\"&'M-Q-Y'!DM$7))","v":0},{"$f":"IF(DN$4=\"\",0,SUMIFS(Model!$W35:$ZZ35,Model!$W$6:$ZZ$6,\">=\"&'M-Q-Y'!DN$6,Model!$W$6:$ZZ$6,\"<=\"&'M-Q-Y'!DN$7))","v":0},{"$f":"IF(DO$4=\"\",0,SUMIFS(Model!$W35:$ZZ35,Model!$W$6:$ZZ$6,\">=\"&'M-Q-Y'!DO$6,Model!$W$6:$ZZ$6,\"<=\"&'M-Q-Y'!DO$7))","v":0},{"$f":"IF(DP$4=\"\",0,SUMIFS(Model!$W35:$ZZ35,Model!$W$6:$ZZ$6,\">=\"&'M-Q-Y'!DP$6,Model!$W$6:$ZZ$6,\"<=\"&'M-Q-Y'!DP$7))","v":0},{"$f":"IF(DQ$4=\"\",0,SUMIFS(Model!$W35:$ZZ35,Model!$W$6:$ZZ$6,\">=\"&'M-Q-Y'!DQ$6,Model!$W$6:$ZZ$6,\"<=\"&'M-Q-Y'!DQ$7))","v":0},{"$f":"IF(DR$4=\"\",0,SUMIFS(Model!$W35:$ZZ35,Model!$W$6:$ZZ$6,\">=\"&'M-Q-Y'!DR$6,Model!$W$6:$ZZ$6,\"<=\"&'M-Q-Y'!DR$7))","v":0},{"$f":"IF(DS$4=\"\",0,SUMIFS(Model!$W35:$ZZ35,Model!$W$6:$ZZ$6,\">=\"&'M-Q-Y'!DS$6,Model!$W$6:$ZZ$6,\"<=\"&'M-Q-Y'!DS$7))","v":0},{"$f":"IF(DT$4=\"\",0,SUMIFS(Model!$W35:$ZZ35,Model!$W$6:$ZZ$6,\">=\"&'M-Q-Y'!DT$6,Model!$W$6:$ZZ$6,\"<=\"&'M-Q-Y'!DT$7))","v":0},{"$f":"IF(DU$4=\"\",0,SUMIFS(Model!$W35:$ZZ35,Model!$W$6:$ZZ$6,\">=\"&'M-Q-Y'!DU$6,Model!$W$6:$ZZ$6,\"<=\"&'M-Q-Y'!DU$7))","v":0},{"$f":"IF(DV$4=\"\",0,SUMIFS(Model!$W35:$ZZ35,Model!$W$6:$ZZ$6,\">=\"&'M-Q-Y'!DV$6,Model!$W$6:$ZZ$6,\"<=\"&'M-Q-Y'!DV$7))","v":0},{"$f":"IF(DW$4=\"\",0,SUMIFS(Model!$W35:$ZZ35,Model!$W$6:$ZZ$6,\">=\"&'M-Q-Y'!DW$6,Model!$W$6:$ZZ$6,\"<=\"&'M-Q-Y'!DW$7))","v":0},{"$f":"IF(DX$4=\"\",0,SUMIFS(Model!$W35:$ZZ35,Model!$W$6:$ZZ$6,\">=\"&'M-Q-Y'!DX$6,Model!$W$6:$ZZ$6,\"<=\"&'M-Q-Y'!DX$7))","v":0},{"$f":"IF(DY$4=\"\",0,SUMIFS(Model!$W35:$ZZ35,Model!$W$6:$ZZ$6,\">=\"&'M-Q-Y'!DY$6,Model!$W$6:$ZZ$6,\"<=\"&'M-Q-Y'!DY$7))","v":0},{"$f":"IF(DZ$4=\"\",0,SUMIFS(Model!$W35:$ZZ35,Model!$W$6:$ZZ$6,\">=\"&'M-Q-Y'!DZ$6,Model!$W$6:$ZZ$6,\"<=\"&'M-Q-Y'!DZ$7))","v":0},{"$f":"IF(EA$4=\"\",0,SUMIFS(Model!$W35:$ZZ35,Model!$W$6:$ZZ$6,\">=\"&'M-Q-Y'!EA$6,Model!$W$6:$ZZ$6,\"<=\"&'M-Q-Y'!EA$7))","v":0},{"$f":"IF(EB$4=\"\",0,SUMIFS(Model!$W35:$ZZ35,Model!$W$6:$ZZ$6,\">=\"&'M-Q-Y'!EB$6,Model!$W$6:$ZZ$6,\"<=\"&'M-Q-Y'!EB$7))","v":0},{"$f":"IF(EC$4=\"\",0,SUMIFS(Model!$W35:$ZZ35,Model!$W$6:$ZZ$6,\">=\"&'M-Q-Y'!EC$6,Model!$W$6:$ZZ$6,\"<=\"&'M-Q-Y'!EC$7))","v":0},{"$f":"IF(ED$4=\"\",0,SUMIFS(Model!$W35:$ZZ35,Model!$W$6:$ZZ$6,\">=\"&'M-Q-Y'!ED$6,Model!$W$6:$ZZ$6,\"<=\"&'M-Q-Y'!ED$7))","v":0},{"$f":"IF(EE$4=\"\",0,SUMIFS(Model!$W35:$ZZ35,Model!$W$6:$ZZ$6,\">=\"&'M-Q-Y'!EE$6,Model!$W$6:$ZZ$6,\"<=\"&'M-Q-Y'!EE$7))","v":0},{"$f":"IF(EF$4=\"\",0,SUMIFS(Model!$W35:$ZZ35,Model!$W$6:$ZZ$6,\">=\"&'M-Q-Y'!EF$6,Model!$W$6:$ZZ$6,\"<=\"&'M-Q-Y'!EF$7))","v":0},{"$f":"IF(EG$4=\"\",0,SUMIFS(Model!$W35:$ZZ35,Model!$W$6:$ZZ$6,\">=\"&'M-Q-Y'!EG$6,Model!$W$6:$ZZ$6,\"<=\"&'M-Q-Y'!EG$7))","v":0},{"$f":"IF(EH$4=\"\",0,SUMIFS(Model!$W35:$ZZ35,Model!$W$6:$ZZ$6,\">=\"&'M-Q-Y'!EH$6,Model!$W$6:$ZZ$6,\"<=\"&'M-Q-Y'!EH$7))","v":0},{"$f":"IF(EI$4=\"\",0,SUMIFS(Model!$W35:$ZZ35,Model!$W$6:$ZZ$6,\">=\"&'M-Q-Y'!EI$6,Model!$W$6:$ZZ$6,\"<=\"&'M-Q-Y'!EI$7))","v":0},{"$f":"IF(EJ$4=\"\",0,SUMIFS(Model!$W35:$ZZ35,Model!$W$6:$ZZ$6,\">=\"&'M-Q-Y'!EJ$6,Model!$W$6:$ZZ$6,\"<=\"&'M-Q-Y'!EJ$7))","v":0},{"$f":"IF(EK$4=\"\",0,SUMIFS(Model!$W35:$ZZ35,Model!$W$6:$ZZ$6,\">=\"&'M-Q-Y'!EK$6,Model!$W$6:$ZZ$6,\"<=\"&'M-Q-Y'!EK$7))","v":0},{"$f":"IF(EL$4=\"\",0,SUMIFS(Model!$W35:$ZZ35,Model!$W$6:$ZZ$6,\">=\"&'M-Q-Y'!EL$6,Model!$W$6:$ZZ$6,\"<=\"&'M-Q-Y'!EL$7))","v":0},{"$f":"IF(EM$4=\"\",0,SUMIFS(Model!$W35:$ZZ35,Model!$W$6:$ZZ$6,\">=\"&'M-Q-Y'!EM$6,Model!$W$6:$ZZ$6,\"<=\"&'M-Q-Y'!EM$7))","v":0},{"$f":"IF(EN$4=\"\",0,SUMIFS(Model!$W35:$ZZ35,Model!$W$6:$ZZ$6,\">=\"&'M-Q-Y'!EN$6,Model!$W$6:$ZZ$6,\"<=\"&'M-Q-Y'!EN$7))","v":0},{"$f":"IF(EO$4=\"\",0,SUMIFS(Model!$W35:$ZZ35,Model!$W$6:$ZZ$6,\">=\"&'M-Q-Y'!EO$6,Model!$W$6:$ZZ$6,\"<=\"&'M-Q-Y'!EO$7))","v":0},{"$f":"IF(EP$4=\"\",0,SUMIFS(Model!$W35:$ZZ35,Model!$W$6:$ZZ$6,\">=\"&'M-Q-Y'!EP$6,Model!$W$6:$ZZ$6,\"<=\"&'M-Q-Y'!EP$7))","v":0},{"$f":"IF(EQ$4=\"\",0,SUMIFS(Model!$W35:$ZZ35,Model!$W$6:$ZZ$6,\">=\"&'M-Q-Y'!EQ$6,Model!$W$6:$ZZ$6,\"<=\"&'M-Q-Y'!EQ$7))","v":0},{"$f":"IF(ER$4=\"\",0,SUMIFS(Model!$W35:$ZZ35,Model!$W$6:$ZZ$6,\">=\"&'M-Q-Y'!ER$6,Model!$W$6:$ZZ$6,\"<=\"&'M-Q-Y'!ER$7))","v":0},{"$f":"IF(ES$4=\"\",0,SUMIFS(Model!$W35:$ZZ35,Model!$W$6:$ZZ$6,\">=\"&'M-Q-Y'!ES$6,Model!$W$6:$ZZ$6,\"<=\"&'M-Q-Y'!ES$7))","v":0},{"$f":"IF(ET$4=\"\",0,SUMIFS(Model!$W35:$ZZ35,Model!$W$6:$ZZ$6,\">=\"&'M-Q-Y'!ET$6,Model!$W$6:$ZZ$6,\"<=\"&'M-Q-Y'!ET$7))","v":0},{"$f":"IF(EU$4=\"\",0,SUMIFS(Model!$W35:$ZZ35,Model!$W$6:$ZZ$6,\">=\"&'M-Q-Y'!EU$6,Model!$W$6:$ZZ$6,\"<=\"&'M-Q-Y'!EU$7))","v":0},{"$f":"IF(EV$4=\"\",0,SUMIFS(Model!$W35:$ZZ35,Model!$W$6:$ZZ$6,\">=\"&'M-Q-Y'!EV$6,Model!$W$6:$ZZ$6,\"<=\"&'M-Q-Y'!EV$7))","v":0},{"$f":"IF(EW$4=\"\",0,SUMIFS(Model!$W35:$ZZ35,Model!$W$6:$ZZ$6,\">=\"&'M-Q-Y'!EW$6,Model!$W$6:$ZZ$6,\"<=\"&'M-Q-Y'!EW$7))","v":0},{"$f":"IF(EX$4=\"\",0,SUMIFS(Model!$W35:$ZZ35,Model!$W$6:$ZZ$6,\">=\"&'M-Q-Y'!EX$6,Model!$W$6:$ZZ$6,\"<=\"&'M-Q-Y'!EX$7))","v":0},{"$f":"IF(EY$4=\"\",0,SUMIFS(Model!$W35:$ZZ35,Model!$W$6:$ZZ$6,\">=\"&'M-Q-Y'!EY$6,Model!$W$6:$ZZ$6,\"<=\"&'M-Q-Y'!EY$7))","v":0},{"$f":"IF(EZ$4=\"\",0,SUMIFS(Model!$W35:$ZZ35,Model!$W$6:$ZZ$6,\">=\"&'M-Q-Y'!EZ$6,Model!$W$6:$ZZ$6,\"<=\"&'M-Q-Y'!EZ$7))","v":0},{"$f":"IF(FA$4=\"\",0,SUMIFS(Model!$W35:$ZZ35,Model!$W$6:$ZZ$6,\">=\"&'M-Q-Y'!FA$6,Model!$W$6:$ZZ$6,\"<=\"&'M-Q-Y'!FA$7))","v":0},{"$f":"IF(FB$4=\"\",0,SUMIFS(Model!$W35:$ZZ35,Model!$W$6:$ZZ$6,\">=\"&'M-Q-Y'!FB$6,Model!$W$6:$ZZ$6,\"<=\"&'M-Q-Y'!FB$7))","v":0},{"$f":"IF(FC$4=\"\",0,SUMIFS(Model!$W35:$ZZ35,Model!$W$6:$ZZ$6,\">=\"&'M-Q-Y'!FC$6,Model!$W$6:$ZZ$6,\"<=\"&'M-Q-Y'!FC$7))","v":0},{"$f":"IF(FD$4=\"\",0,SUMIFS(Model!$W35:$ZZ35,Model!$W$6:$ZZ$6,\">=\"&'M-Q-Y'!FD$6,Model!$W$6:$ZZ$6,\"<=\"&'M-Q-Y'!FD$7))","v":0},{"$f":"IF(FE$4=\"\",0,SUMIFS(Model!$W35:$ZZ35,Model!$W$6:$ZZ$6,\">=\"&'M-Q-Y'!FE$6,Model!$W$6:$ZZ$6,\"<=\"&'M-Q-Y'!FE$7))","v":0},{"$f":"IF(FF$4=\"\",0,SUMIFS(Model!$W35:$ZZ35,Model!$W$6:$ZZ$6,\">=\"&'M-Q-Y'!FF$6,Model!$W$6:$ZZ$6,\"<=\"&'M-Q-Y'!FF$7))","v":0},{"$f":"IF(FG$4=\"\",0,SUMIFS(Model!$W35:$ZZ35,Model!$W$6:$ZZ$6,\">=\"&'M-Q-Y'!FG$6,Model!$W$6:$ZZ$6,\"<=\"&'M-Q-Y'!FG$7))","v":0},{"$f":"IF(FH$4=\"\",0,SUMIFS(Model!$W35:$ZZ35,Model!$W$6:$ZZ$6,\">=\"&'M-Q-Y'!FH$6,Model!$W$6:$ZZ$6,\"<=\"&'M-Q-Y'!FH$7))","v":0},{"$f":"IF(FI$4=\"\",0,SUMIFS(Model!$W35:$ZZ35,Model!$W$6:$ZZ$6,\">=\"&'M-Q-Y'!FI$6,Model!$W$6:$ZZ$6,\"<=\"&'M-Q-Y'!FI$7))","v":0},{"$f":"IF(FJ$4=\"\",0,SUMIFS(Model!$W35:$ZZ35,Model!$W$6:$ZZ$6,\">=\"&'M-Q-Y'!FJ$6,Model!$W$6:$ZZ$6,\"<=\"&'M-Q-Y'!FJ$7))","v":0},{"$f":"IF(FK$4=\"\",0,SUMIFS(Model!$W35:$ZZ35,Model!$W$6:$ZZ$6,\">=\"&'M-Q-Y'!FK$6,Model!$W$6:$ZZ$6,\"<=\"&'M-Q-Y'!FK$7))","v":0},{"$f":"IF(FL$4=\"\",0,SUMIFS(Model!$W35:$ZZ35,Model!$W$6:$ZZ$6,\">=\"&'M-Q-Y'!FL$6,Model!$W$6:$ZZ$6,\"<=\"&'M-Q-Y'!FL$7))","v":0},{"$f":"IF(FM$4=\"\",0,SUMIFS(Model!$W35:$ZZ35,Model!$W$6:$ZZ$6,\">=\"&'M-Q-Y'!FM$6,Model!$W$6:$ZZ$6,\"<=\"&'M-Q-Y'!FM$7))","v":0},{"$f":"IF(FN$4=\"\",0,SUMIFS(Model!$W35:$ZZ35,Model!$W$6:$ZZ$6,\">=\"&'M-Q-Y'!FN$6,Model!$W$6:$ZZ$6,\"<=\"&'M-Q-Y'!FN$7))","v":0},{"$f":"IF(FO$4=\"\",0,SUMIFS(Model!$W35:$ZZ35,Model!$W$6:$ZZ$6,\">=\"&'M-Q-Y'!FO$6,Model!$W$6:$ZZ$6,\"<=\"&'M-Q-Y'!FO$7))","v":0},{"$f":"IF(FP$4=\"\",0,SUMIFS(Model!$W35:$ZZ35,Model!$W$6:$ZZ$6,\">=\"&'M-Q-Y'!FP$6,Model!$W$6:$ZZ$6,\"<=\"&'M-Q-Y'!FP$7))","v":0},{"$f":"IF(FQ$4=\"\",0,SUMIFS(Model!$W35:$ZZ35,Model!$W$6:$ZZ$6,\">=\"&'M-Q-Y'!FQ$6,Model!$W$6:$ZZ$6,\"<=\"&'M-Q-Y'!FQ$7))","v":0},{"$f":"IF(FR$4=\"\",0,SUMIFS(Model!$W35:$ZZ35,Model!$W$6:$ZZ$6,\">=\"&'M-Q-Y'!FR$6,Model!$W$6:$ZZ$6,\"<=\"&'M-Q-Y'!FR$7))","v":0},{"$f":"IF(FS$4=\"\",0,SUMIFS(Model!$W35:$ZZ35,Model!$W$6:$ZZ$6,\">=\"&'M-Q-Y'!FS$6,Model!$W$6:$ZZ$6,\"<=\"&'M-Q-Y'!FS$7))","v":0},{"$f":"IF(FT$4=\"\",0,SUMIFS(Model!$W35:$ZZ35,Model!$W$6:$ZZ$6,\">=\"&'M-Q-Y'!FT$6,Model!$W$6:$ZZ$6,\"<=\"&'M-Q-Y'!FT$7))","v":0},{"$f":"IF(FU$4=\"\",0,SUMIFS(Model!$W35:$ZZ35,Model!$W$6:$ZZ$6,\">=\"&'M-Q-Y'!FU$6,Model!$W$6:$ZZ$6,\"<=\"&'M-Q-Y'!FU$7))","v":0},{"$f":"IF(FV$4=\"\",0,SUMIFS(Model!$W35:$ZZ35,Model!$W$6:$ZZ$6,\">=\"&'M-Q-Y'!FV$6,Model!$W$6:$ZZ$6,\"<=\"&'M-Q-Y'!FV$7))","v":0},{"$f":"IF(FW$4=\"\",0,SUMIFS(Model!$W35:$ZZ35,Model!$W$6:$ZZ$6,\">=\"&'M-Q-Y'!FW$6,Model!$W$6:$ZZ$6,\"<=\"&'M-Q-Y'!FW$7))","v":0},{"$f":"IF(FX$4=\"\",0,SUMIFS(Model!$W35:$ZZ35,Model!$W$6:$ZZ$6,\">=\"&'M-Q-Y'!FX$6,Model!$W$6:$ZZ$6,\"<=\"&'M-Q-Y'!FX$7))","v":0},{"$f":"IF(FY$4=\"\",0,SUMIFS(Model!$W35:$ZZ35,Model!$W$6:$ZZ$6,\">=\"&'M-Q-Y'!FY$6,Model!$W$6:$ZZ$6,\"<=\"&'M-Q-Y'!FY$7))","v":0},{"$f":"IF(FZ$4=\"\",0,SUMIFS(Model!$W35:$ZZ35,Model!$W$6:$ZZ$6,\">=\"&'M-Q-Y'!FZ$6,Model!$W$6:$ZZ$6,\"<=\"&'M-Q-Y'!FZ$7))","v":0},{"$f":"IF(GA$4=\"\",0,SUMIFS(Model!$W35:$ZZ35,Model!$W$6:$ZZ$6,\">=\"&'M-Q-Y'!GA$6,Model!$W$6:$ZZ$6,\"<=\"&'M-Q-Y'!GA$7))","v":0},{"$f":"IF(GB$4=\"\",0,SUMIFS(Model!$W35:$ZZ35,Model!$W$6:$ZZ$6,\">=\"&'M-Q-Y'!GB$6,Model!$W$6:$ZZ$6,\"<=\"&'M-Q-Y'!GB$7))","v":0},{"$f":"IF(GC$4=\"\",0,SUMIFS(Model!$W35:$ZZ35,Model!$W$6:$ZZ$6,\">=\"&'M-Q-Y'!GC$6,Model!$W$6:$ZZ$6,\"<=\"&'M-Q-Y'!GC$7))","v":0},{"$f":"IF(GD$4=\"\",0,SUMIFS(Model!$W35:$ZZ35,Model!$W$6:$ZZ$6,\">=\"&'M-Q-Y'!GD$6,Model!$W$6:$ZZ$6,\"<=\"&'M-Q-Y'!GD$7))","v":0},{"$f":"IF(GE$4=\"\",0,SUMIFS(Model!$W35:$ZZ35,Model!$W$6:$ZZ$6,\">=\"&'M-Q-Y'!GE$6,Model!$W$6:$ZZ$6,\"<=\"&'M-Q-Y'!GE$7))","v":0},{"$f":"IF(GF$4=\"\",0,SUMIFS(Model!$W35:$ZZ35,Model!$W$6:$ZZ$6,\">=\"&'M-Q-Y'!GF$6,Model!$W$6:$ZZ$6,\"<=\"&'M-Q-Y'!GF$7))","v":0},{"$f":"IF(GG$4=\"\",0,SUMIFS(Model!$W35:$ZZ35,Model!$W$6:$ZZ$6,\">=\"&'M-Q-Y'!GG$6,Model!$W$6:$ZZ$6,\"<=\"&'M-Q-Y'!GG$7))","v":0},{"$f":"IF(GH$4=\"\",0,SUMIFS(Model!$W35:$ZZ35,Model!$W$6:$ZZ$6,\">=\"&'M-Q-Y'!GH$6,Model!$W$6:$ZZ$6,\"<=\"&'M-Q-Y'!GH$7))","v":0},{"$f":"IF(GI$4=\"\",0,SUMIFS(Model!$W35:$ZZ35,Model!$W$6:$ZZ$6,\">=\"&'M-Q-Y'!GI$6,Model!$W$6:$ZZ$6,\"<=\"&'M-Q-Y'!GI$7))","v":0},{"$f":"IF(GJ$4=\"\",0,SUMIFS(Model!$W35:$ZZ35,Model!$W$6:$ZZ$6,\">=\"&'M-Q-Y'!GJ$6,Model!$W$6:$ZZ$6,\"<=\"&'M-Q-Y'!GJ$7))","v":0},{"$f":"IF(GK$4=\"\",0,SUMIFS(Model!$W35:$ZZ35,Model!$W$6:$ZZ$6,\">=\"&'M-Q-Y'!GK$6,Model!$W$6:$ZZ$6,\"<=\"&'M-Q-Y'!GK$7))","v":0},{"$f":"IF(GL$4=\"\",0,SUMIFS(Model!$W35:$ZZ35,Model!$W$6:$ZZ$6,\">=\"&'M-Q-Y'!GL$6,Model!$W$6:$ZZ$6,\"<=\"&'M-Q-Y'!GL$7))","v":0},{"$f":"IF(GM$4=\"\",0,SUMIFS(Model!$W35:$ZZ35,Model!$W$6:$ZZ$6,\">=\"&'M-Q-Y'!GM$6,Model!$W$6:$ZZ$6,\"<=\"&'M-Q-Y'!GM$7))","v":0},{"$f":"IF(GN$4=\"\",0,SUMIFS(Model!$W35:$ZZ35,Model!$W$6:$ZZ$6,\">=\"&'M-Q-Y'!GN$6,Model!$W$6:$ZZ$6,\"<=\"&'M-Q-Y'!GN$7))","v":0},{"$f":"IF(GO$4=\"\",0,SUMIFS(Model!$W35:$ZZ35,Model!$W$6:$ZZ$6,\">=\"&'M-Q-Y'!GO$6,Model!$W$6:$ZZ$6,\"<=\"&'M-Q-Y'!GO$7))","v":0},{"$f":"IF(GP$4=\"\",0,SUMIFS(Model!$W35:$ZZ35,Model!$W$6:$ZZ$6,\">=\"&'M-Q-Y'!GP$6,Model!$W$6:$ZZ$6,\"<=\"&'M-Q-Y'!GP$7))","v":0},{"$f":"IF(GQ$4=\"\",0,SUMIFS(Model!$W35:$ZZ35,Model!$W$6:$ZZ$6,\">=\"&'M-Q-Y'!GQ$6,Model!$W$6:$ZZ$6,\"<=\"&'M-Q-Y'!GQ$7))","v":0},{"$f":"IF(GR$4=\"\",0,SUMIFS(Model!$W35:$ZZ35,Model!$W$6:$ZZ$6,\">=\"&'M-Q-Y'!GR$6,Model!$W$6:$ZZ$6,\"<=\"&'M-Q-Y'!GR$7))","v":0},{"$f":"IF(GS$4=\"\",0,SUMIFS(Model!$W35:$ZZ35,Model!$W$6:$ZZ$6,\">=\"&'M-Q-Y'!GS$6,Model!$W$6:$ZZ$6,\"<=\"&'M-Q-Y'!GS$7))","v":0},{"$f":"IF(GT$4=\"\",0,SUMIFS(Model!$W35:$ZZ35,Model!$W$6:$ZZ$6,\">=\"&'M-Q-Y'!GT$6,Model!$W$6:$ZZ$6,\"<=\"&'M-Q-Y'!GT$7))","v":0},{"$f":"IF(GU$4=\"\",0,SUMIFS(Model!$W35:$ZZ35,Model!$W$6:$ZZ$6,\">=\"&'M-Q-Y'!GU$6,Model!$W$6:$ZZ$6,\"<=\"&'M-Q-Y'!GU$7))","v":0},{"$f":"IF(GV$4=\"\",0,SUMIFS(Model!$W35:$ZZ35,Model!$W$6:$ZZ$6,\">=\"&'M-Q-Y'!GV$6,Model!$W$6:$ZZ$6,\"<=\"&'M-Q-Y'!GV$7))","v":0}]
[]
[null,{"$f":"ROW()","v":30},null,null,null,null,null,"Ежемесячные платежи по кредиту",null,null,null,null,"руб.",null,null,"CF(-)",null,null,null,null,{"$f":"SUM(INDIRECT(ADDRESS($B30,X$2)&\":\"&ADDRESS($B30,MAX($2:$2))))","v":0},null,null,{"$f":"IF(X$4=\"\",0,SUMIFS(Model!$W37:$ZZ37,Model!$W$6:$ZZ$6,\">=\"&'M-Q-Y'!X$6,Model!$W$6:$ZZ$6,\"<=\"&'M-Q-Y'!X$7))","v":0},{"$f":"IF(Y$4=\"\",0,SUMIFS(Model!$W37:$ZZ37,Model!$W$6:$ZZ$6,\">=\"&'M-Q-Y'!Y$6,Model!$W$6:$ZZ$6,\"<=\"&'M-Q-Y'!Y$7))","v":0},{"$f":"IF(Z$4=\"\",0,SUMIFS(Model!$W37:$ZZ37,Model!$W$6:$ZZ$6,\">=\"&'M-Q-Y'!Z$6,Model!$W$6:$ZZ$6,\"<=\"&'M-Q-Y'!Z$7))","v":0},{"$f":"IF(AA$4=\"\",0,SUMIFS(Model!$W37:$ZZ37,Model!$W$6:$ZZ$6,\">=\"&'M-Q-Y'!AA$6,Model!$W$6:$ZZ$6,\"<=\"&'M-Q-Y'!AA$7))","v":0},{"$f":"IF(AB$4=\"\",0,SUMIFS(Model!$W37:$ZZ37,Model!$W$6:$ZZ$6,\">=\"&'M-Q-Y'!AB$6,Model!$W$6:$ZZ$6,\"<=\"&'M-Q-Y'!AB$7))","v":0},{"$f":"IF(AC$4=\"\",0,SUMIFS(Model!$W37:$ZZ37,Model!$W$6:$ZZ$6,\">=\"&'M-Q-Y'!AC$6,Model!$W$6:$ZZ$6,\"<=\"&'M-Q-Y'!AC$7))","v":0},{"$f":"IF(AD$4=\"\",0,SUMIFS(Model!$W37:$ZZ37,Model!$W$6:$ZZ$6,\">=\"&'M-Q-Y'!AD$6,Model!$W$6:$ZZ$6,\"<=\"&'M-Q-Y'!AD$7))","v":0},{"$f":"IF(AE$4=\"\",0,SUMIFS(Model!$W37:$ZZ37,Model!$W$6:$ZZ$6,\">=\"&'M-Q-Y'!AE$6,Model!$W$6:$ZZ$6,\"<=\"&'M-Q-Y'!AE$7))","v":0},{"$f":"IF(AF$4=\"\",0,SUMIFS(Model!$W37:$ZZ37,Model!$W$6:$ZZ$6,\">=\"&'M-Q-Y'!AF$6,Model!$W$6:$ZZ$6,\"<=\"&'M-Q-Y'!AF$7))","v":0},{"$f":"IF(AG$4=\"\",0,SUMIFS(Model!$W37:$ZZ37,Model!$W$6:$ZZ$6,\">=\"&'M-Q-Y'!AG$6,Model!$W$6:$ZZ$6,\"<=\"&'M-Q-Y'!AG$7))","v":0},{"$f":"IF(AH$4=\"\",0,SUMIFS(Model!$W37:$ZZ37,Model!$W$6:$ZZ$6,\">=\"&'M-Q-Y'!AH$6,Model!$W$6:$ZZ$6,\"<=\"&'M-Q-Y'!AH$7))","v":0},{"$f":"IF(AI$4=\"\",0,SUMIFS(Model!$W37:$ZZ37,Model!$W$6:$ZZ$6,\">=\"&'M-Q-Y'!AI$6,Model!$W$6:$ZZ$6,\"<=\"&'M-Q-Y'!AI$7))","v":0},{"$f":"IF(AJ$4=\"\",0,SUMIFS(Model!$W37:$ZZ37,Model!$W$6:$ZZ$6,\">=\"&'M-Q-Y'!AJ$6,Model!$W$6:$ZZ$6,\"<=\"&'M-Q-Y'!AJ$7))","v":0},{"$f":"IF(AK$4=\"\",0,SUMIFS(Model!$W37:$ZZ37,Model!$W$6:$ZZ$6,\">=\"&'M-Q-Y'!AK$6,Model!$W$6:$ZZ$6,\"<=\"&'M-Q-Y'!AK$7))","v":0},{"$f":"IF(AL$4=\"\",0,SUMIFS(Model!$W37:$ZZ37,Model!$W$6:$ZZ$6,\">=\"&'M-Q-Y'!AL$6,Model!$W$6:$ZZ$6,\"<=\"&'M-Q-Y'!AL$7))","v":0},{"$f":"IF(AM$4=\"\",0,SUMIFS(Model!$W37:$ZZ37,Model!$W$6:$ZZ$6,\">=\"&'M-Q-Y'!AM$6,Model!$W$6:$ZZ$6,\"<=\"&'M-Q-Y'!AM$7))","v":0},{"$f":"IF(AN$4=\"\",0,SUMIFS(Model!$W37:$ZZ37,Model!$W$6:$ZZ$6,\">=\"&'M-Q-Y'!AN$6,Model!$W$6:$ZZ$6,\"<=\"&'M-Q-Y'!AN$7))","v":0},{"$f":"IF(AO$4=\"\",0,SUMIFS(Model!$W37:$ZZ37,Model!$W$6:$ZZ$6,\">=\"&'M-Q-Y'!AO$6,Model!$W$6:$ZZ$6,\"<=\"&'M-Q-Y'!AO$7))","v":0},{"$f":"IF(AP$4=\"\",0,SUMIFS(Model!$W37:$ZZ37,Model!$W$6:$ZZ$6,\">=\"&'M-Q-Y'!AP$6,Model!$W$6:$ZZ$6,\"<=\"&'M-Q-Y'!AP$7))","v":0},{"$f":"IF(AQ$4=\"\",0,SUMIFS(Model!$W37:$ZZ37,Model!$W$6:$ZZ$6,\">=\"&'M-Q-Y'!AQ$6,Model!$W$6:$ZZ$6,\"<=\"&'M-Q-Y'!AQ$7))","v":0},{"$f":"IF(AR$4=\"\",0,SUMIFS(Model!$W37:$ZZ37,Model!$W$6:$ZZ$6,\">=\"&'M-Q-Y'!AR$6,Model!$W$6:$ZZ$6,\"<=\"&'M-Q-Y'!AR$7))","v":0},{"$f":"IF(AS$4=\"\",0,SUMIFS(Model!$W37:$ZZ37,Model!$W$6:$ZZ$6,\">=\"&'M-Q-Y'!AS$6,Model!$W$6:$ZZ$6,\"<=\"&'M-Q-Y'!AS$7))","v":0},{"$f":"IF(AT$4=\"\",0,SUMIFS(Model!$W37:$ZZ37,Model!$W$6:$ZZ$6,\">=\"&'M-Q-Y'!AT$6,Model!$W$6:$ZZ$6,\"<=\"&'M-Q-Y'!AT$7))","v":0},{"$f":"IF(AU$4=\"\",0,SUMIFS(Model!$W37:$ZZ37,Model!$W$6:$ZZ$6,\">=\"&'M-Q-Y'!AU$6,Model!$W$6:$ZZ$6,\"<=\"&'M-Q-Y'!AU$7))","v":0},{"$f":"IF(AV$4=\"\",0,SUMIFS(Model!$W37:$ZZ37,Model!$W$6:$ZZ$6,\">=\"&'M-Q-Y'!AV$6,Model!$W$6:$ZZ$6,\"<=\"&'M-Q-Y'!AV$7))","v":0},{"$f":"IF(AW$4=\"\",0,SUMIFS(Model!$W37:$ZZ37,Model!$W$6:$ZZ$6,\">=\"&'M-Q-Y'!AW$6,Model!$W$6:$ZZ$6,\"<=\"&'M-Q-Y'!AW$7))","v":0},{"$f":"IF(AX$4=\"\",0,SUMIFS(Model!$W37:$ZZ37,Model!$W$6:$ZZ$6,\">=\"&'M-Q-Y'!AX$6,Model!$W$6:$ZZ$6,\"<=\"&'M-Q-Y'!AX$7))","v":0},{"$f":"IF(AY$4=\"\",0,SUMIFS(Model!$W37:$ZZ37,Model!$W$6:$ZZ$6,\">=\"&'M-Q-Y'!AY$6,Model!$W$6:$ZZ$6,\"<=\"&'M-Q-Y'!AY$7))","v":0},{"$f":"IF(AZ$4=\"\",0,SUMIFS(Model!$W37:$ZZ37,Model!$W$6:$ZZ$6,\">=\"&'M-Q-Y'!AZ$6,Model!$W$6:$ZZ$6,\"<=\"&'M-Q-Y'!AZ$7))","v":0},{"$f":"IF(BA$4=\"\",0,SUMIFS(Model!$W37:$ZZ37,Model!$W$6:$ZZ$6,\">=\"&'M-Q-Y'!BA$6,Model!$W$6:$ZZ$6,\"<=\"&'M-Q-Y'!BA$7))","v":0},{"$f":"IF(BB$4=\"\",0,SUMIFS(Model!$W37:$ZZ37,Model!$W$6:$ZZ$6,\">=\"&'M-Q-Y'!BB$6,Model!$W$6:$ZZ$6,\"<=\"&'M-Q-Y'!BB$7))","v":0},{"$f":"IF(BC$4=\"\",0,SUMIFS(Model!$W37:$ZZ37,Model!$W$6:$ZZ$6,\">=\"&'M-Q-Y'!BC$6,Model!$W$6:$ZZ$6,\"<=\"&'M-Q-Y'!BC$7))","v":0},{"$f":"IF(BD$4=\"\",0,SUMIFS(Model!$W37:$ZZ37,Model!$W$6:$ZZ$6,\">=\"&'M-Q-Y'!BD$6,Model!$W$6:$ZZ$6,\"<=\"&'M-Q-Y'!BD$7))","v":0},{"$f":"IF(BE$4=\"\",0,SUMIFS(Model!$W37:$ZZ37,Model!$W$6:$ZZ$6,\">=\"&'M-Q-Y'!BE$6,Model!$W$6:$ZZ$6,\"<=\"&'M-Q-Y'!BE$7))","v":0},{"$f":"IF(BF$4=\"\",0,SUMIFS(Model!$W37:$ZZ37,Model!$W$6:$ZZ$6,\">=\"&'M-Q-Y'!BF$6,Model!$W$6:$ZZ$6,\"<=\"&'M-Q-Y'!BF$7))","v":0},{"$f":"IF(BG$4=\"\",0,SUMIFS(Model!$W37:$ZZ37,Model!$W$6:$ZZ$6,\">=\"&'M-Q-Y'!BG$6,Model!$W$6:$ZZ$6,\"<=\"&'M-Q-Y'!BG$7))","v":0},{"$f":"IF(BH$4=\"\",0,SUMIFS(Model!$W37:$ZZ37,Model!$W$6:$ZZ$6,\">=\"&'M-Q-Y'!BH$6,Model!$W$6:$ZZ$6,\"<=\"&'M-Q-Y'!BH$7))","v":0},{"$f":"IF(BI$4=\"\",0,SUMIFS(Model!$W37:$ZZ37,Model!$W$6:$ZZ$6,\">=\"&'M-Q-Y'!BI$6,Model!$W$6:$ZZ$6,\"<=\"&'M-Q-Y'!BI$7))","v":0},{"$f":"IF(BJ$4=\"\",0,SUMIFS(Model!$W37:$ZZ37,Model!$W$6:$ZZ$6,\">=\"&'M-Q-Y'!BJ$6,Model!$W$6:$ZZ$6,\"<=\"&'M-Q-Y'!BJ$7))","v":0},{"$f":"IF(BK$4=\"\",0,SUMIFS(Model!$W37:$ZZ37,Model!$W$6:$ZZ$6,\">=\"&'M-Q-Y'!BK$6,Model!$W$6:$ZZ$6,\"<=\"&'M-Q-Y'!BK$7))","v":0},{"$f":"IF(BL$4=\"\",0,SUMIFS(Model!$W37:$ZZ37,Model!$W$6:$ZZ$6,\">=\"&'M-Q-Y'!BL$6,Model!$W$6:$ZZ$6,\"<=\"&'M-Q-Y'!BL$7))","v":0},{"$f":"IF(BM$4=\"\",0,SUMIFS(Model!$W37:$ZZ37,Model!$W$6:$ZZ$6,\">=\"&'M-Q-Y'!BM$6,Model!$W$6:$ZZ$6,\"<=\"&'M-Q-Y'!BM$7))","v":0},{"$f":"IF(BN$4=\"\",0,SUMIFS(Model!$W37:$ZZ37,Model!$W$6:$ZZ$6,\">=\"&'M-Q-Y'!BN$6,Model!$W$6:$ZZ$6,\"<=\"&'M-Q-Y'!BN$7))","v":0},{"$f":"IF(BO$4=\"\",0,SUMIFS(Model!$W37:$ZZ37,Model!$W$6:$ZZ$6,\">=\"&'M-Q-Y'!BO$6,Model!$W$6:$ZZ$6,\"<=\"&'M-Q-Y'!BO$7))","v":0},{"$f":"IF(BP$4=\"\",0,SUMIFS(Model!$W37:$ZZ37,Model!$W$6:$ZZ$6,\">=\"&'M-Q-Y'!BP$6,Model!$W$6:$ZZ$6,\"<=\"&'M-Q-Y'!BP$7))","v":0},{"$f":"IF(BQ$4=\"\",0,SUMIFS(Model!$W37:$ZZ37,Model!$W$6:$ZZ$6,\">=\"&'M-Q-Y'!BQ$6,Model!$W$6:$ZZ$6,\"<=\"&'M-Q-Y'!BQ$7))","v":0},{"$f":"IF(BR$4=\"\",0,SUMIFS(Model!$W37:$ZZ37,Model!$W$6:$ZZ$6,\">=\"&'M-Q-Y'!BR$6,Model!$W$6:$ZZ$6,\"<=\"&'M-Q-Y'!BR$7))","v":0},{"$f":"IF(BS$4=\"\",0,SUMIFS(Model!$W37:$ZZ37,Model!$W$6:$ZZ$6,\">=\"&'M-Q-Y'!BS$6,Model!$W$6:$ZZ$6,\"<=\"&'M-Q-Y'!BS$7))","v":0},{"$f":"IF(BT$4=\"\",0,SUMIFS(Model!$W37:$ZZ37,Model!$W$6:$ZZ$6,\">=\"&'M-Q-Y'!BT$6,Model!$W$6:$ZZ$6,\"<=\"&'M-Q-Y'!BT$7))","v":0},{"$f":"IF(BU$4=\"\",0,SUMIFS(Model!$W37:$ZZ37,Model!$W$6:$ZZ$6,\">=\"&'M-Q-Y'!BU$6,Model!$W$6:$ZZ$6,\"<=\"&'M-Q-Y'!BU$7))","v":0},{"$f":"IF(BV$4=\"\",0,SUMIFS(Model!$W37:$ZZ37,Model!$W$6:$ZZ$6,\">=\"&'M-Q-Y'!BV$6,Model!$W$6:$ZZ$6,\"<=\"&'M-Q-Y'!BV$7))","v":0},{"$f":"IF(BW$4=\"\",0,SUMIFS(Model!$W37:$ZZ37,Model!$W$6:$ZZ$6,\">=\"&'M-Q-Y'!BW$6,Model!$W$6:$ZZ$6,\"<=\"&'M-Q-Y'!BW$7))","v":0},{"$f":"IF(BX$4=\"\",0,SUMIFS(Model!$W37:$ZZ37,Model!$W$6:$ZZ$6,\">=\"&'M-Q-Y'!BX$6,Model!$W$6:$ZZ$6,\"<=\"&'M-Q-Y'!BX$7))","v":0},{"$f":"IF(BY$4=\"\",0,SUMIFS(Model!$W37:$ZZ37,Model!$W$6:$ZZ$6,\">=\"&'M-Q-Y'!BY$6,Model!$W$6:$ZZ$6,\"<=\"&'M-Q-Y'!BY$7))","v":0},{"$f":"IF(BZ$4=\"\",0,SUMIFS(Model!$W37:$ZZ37,Model!$W$6:$ZZ$6,\">=\"&'M-Q-Y'!BZ$6,Model!$W$6:$ZZ$6,\"<=\"&'M-Q-Y'!BZ$7))","v":0},{"$f":"IF(CA$4=\"\",0,SUMIFS(Model!$W37:$ZZ37,Model!$W$6:$ZZ$6,\">=\"&'M-Q-Y'!CA$6,Model!$W$6:$ZZ$6,\"<=\"&'M-Q-Y'!CA$7))","v":0},{"$f":"IF(CB$4=\"\",0,SUMIFS(Model!$W37:$ZZ37,Model!$W$6:$ZZ$6,\">=\"&'M-Q-Y'!CB$6,Model!$W$6:$ZZ$6,\"<=\"&'M-Q-Y'!CB$7))","v":0},{"$f":"IF(CC$4=\"\",0,SUMIFS(Model!$W37:$ZZ37,Model!$W$6:$ZZ$6,\">=\"&'M-Q-Y'!CC$6,Model!$W$6:$ZZ$6,\"<=\"&'M-Q-Y'!CC$7))","v":0},{"$f":"IF(CD$4=\"\",0,SUMIFS(Model!$W37:$ZZ37,Model!$W$6:$ZZ$6,\">=\"&'M-Q-Y'!CD$6,Model!$W$6:$ZZ$6,\"<=\"&'M-Q-Y'!CD$7))","v":0},{"$f":"IF(CE$4=\"\",0,SUMIFS(Model!$W37:$ZZ37,Model!$W$6:$ZZ$6,\">=\"&'M-Q-Y'!CE$6,Model!$W$6:$ZZ$6,\"<=\"&'M-Q-Y'!CE$7))","v":0},{"$f":"IF(CF$4=\"\",0,SUMIFS(Model!$W37:$ZZ37,Model!$W$6:$ZZ$6,\">=\"&'M-Q-Y'!CF$6,Model!$W$6:$ZZ$6,\"<=\"&'M-Q-Y'!CF$7))","v":0},{"$f":"IF(CG$4=\"\",0,SUMIFS(Model!$W37:$ZZ37,Model!$W$6:$ZZ$6,\">=\"&'M-Q-Y'!CG$6,Model!$W$6:$ZZ$6,\"<=\"&'M-Q-Y'!CG$7))","v":0},{"$f":"IF(CH$4=\"\",0,SUMIFS(Model!$W37:$ZZ37,Model!$W$6:$ZZ$6,\">=\"&'M-Q-Y'!CH$6,Model!$W$6:$ZZ$6,\"<=\"&'M-Q-Y'!CH$7))","v":0},{"$f":"IF(CI$4=\"\",0,SUMIFS(Model!$W37:$ZZ37,Model!$W$6:$ZZ$6,\">=\"&'M-Q-Y'!CI$6,Model!$W$6:$ZZ$6,\"<=\"&'M-Q-Y'!CI$7))","v":0},{"$f":"IF(CJ$4=\"\",0,SUMIFS(Model!$W37:$ZZ37,Model!$W$6:$ZZ$6,\">=\"&'M-Q-Y'!CJ$6,Model!$W$6:$ZZ$6,\"<=\"&'M-Q-Y'!CJ$7))","v":0},{"$f":"IF(CK$4=\"\",0,SUMIFS(Model!$W37:$ZZ37,Model!$W$6:$ZZ$6,\">=\"&'M-Q-Y'!CK$6,Model!$W$6:$ZZ$6,\"<=\"&'M-Q-Y'!CK$7))","v":0},{"$f":"IF(CL$4=\"\",0,SUMIFS(Model!$W37:$ZZ37,Model!$W$6:$ZZ$6,\">=\"&'M-Q-Y'!CL$6,Model!$W$6:$ZZ$6,\"<=\"&'M-Q-Y'!CL$7))","v":0},{"$f":"IF(CM$4=\"\",0,SUMIFS(Model!$W37:$ZZ37,Model!$W$6:$ZZ$6,\">=\"&'M-Q-Y'!CM$6,Model!$W$6:$ZZ$6,\"<=\"&'M-Q-Y'!CM$7))","v":0},{"$f":"IF(CN$4=\"\",0,SUMIFS(Model!$W37:$ZZ37,Model!$W$6:$ZZ$6,\">=\"&'M-Q-Y'!CN$6,Model!$W$6:$ZZ$6,\"<=\"&'M-Q-Y'!CN$7))","v":0},{"$f":"IF(CO$4=\"\",0,SUMIFS(Model!$W37:$ZZ37,Model!$W$6:$ZZ$6,\">=\"&'M-Q-Y'!CO$6,Model!$W$6:$ZZ$6,\"<=\"&'M-Q-Y'!CO$7))","v":0},{"$f":"IF(CP$4=\"\",0,SUMIFS(Model!$W37:$ZZ37,Model!$W$6:$ZZ$6,\">=\"&'M-Q-Y'!CP$6,Model!$W$6:$ZZ$6,\"<=\"&'M-Q-Y'!CP$7))","v":0},{"$f":"IF(CQ$4=\"\",0,SUMIFS(Model!$W37:$ZZ37,Model!$W$6:$ZZ$6,\">=\"&'M-Q-Y'!CQ$6,Model!$W$6:$ZZ$6,\"<=\"&'M-Q-Y'!CQ$7))","v":0},{"$f":"IF(CR$4=\"\",0,SUMIFS(Model!$W37:$ZZ37,Model!$W$6:$ZZ$6,\">=\"&'M-Q-Y'!CR$6,Model!$W$6:$ZZ$6,\"<=\"&'M-Q-Y'!CR$7))","v":0},{"$f":"IF(CS$4=\"\",0,SUMIFS(Model!$W37:$ZZ37,Model!$W$6:$ZZ$6,\">=\"&'M-Q-Y'!CS$6,Model!$W$6:$ZZ$6,\"<=\"&'M-Q-Y'!CS$7))","v":0},{"$f":"IF(CT$4=\"\",0,SUMIFS(Model!$W37:$ZZ37,Model!$W$6:$ZZ$6,\">=\"&'M-Q-Y'!CT$6,Model!$W$6:$ZZ$6,\"<=\"&'M-Q-Y'!CT$7))","v":0},{"$f":"IF(CU$4=\"\",0,SUMIFS(Model!$W37:$ZZ37,Model!$W$6:$ZZ$6,\">=\"&'M-Q-Y'!CU$6,Model!$W$6:$ZZ$6,\"<=\"&'M-Q-Y'!CU$7))","v":0},{"$f":"IF(CV$4=\"\",0,SUMIFS(Model!$W37:$ZZ37,Model!$W$6:$ZZ$6,\">=\"&'M-Q-Y'!CV$6,Model!$W$6:$ZZ$6,\"<=\"&'M-Q-Y'!CV$7))","v":0},{"$f":"IF(CW$4=\"\",0,SUMIFS(Model!$W37:$ZZ37,Model!$W$6:$ZZ$6,\">=\"&'M-Q-Y'!CW$6,Model!$W$6:$ZZ$6,\"<=\"&'M-Q-Y'!CW$7))","v":0},{"$f":"IF(CX$4=\"\",0,SUMIFS(Model!$W37:$ZZ37,Model!$W$6:$ZZ$6,\">=\"&'M-Q-Y'!CX$6,Model!$W$6:$ZZ$6,\"<=\"&'M-Q-Y'!CX$7))","v":0},{"$f":"IF(CY$4=\"\",0,SUMIFS(Model!$W37:$ZZ37,Model!$W$6:$ZZ$6,\">=\"&'M-Q-Y'!CY$6,Model!$W$6:$ZZ$6,\"<=\"&'M-Q-Y'!CY$7))","v":0},{"$f":"IF(CZ$4=\"\",0,SUMIFS(Model!$W37:$ZZ37,Model!$W$6:$ZZ$6,\">=\"&'M-Q-Y'!CZ$6,Model!$W$6:$ZZ$6,\"<=\"&'M-Q-Y'!CZ$7))","v":0},{"$f":"IF(DA$4=\"\",0,SUMIFS(Model!$W37:$ZZ37,Model!$W$6:$ZZ$6,\">=\"&'M-Q-Y'!DA$6,Model!$W$6:$ZZ$6,\"<=\"&'M-Q-Y'!DA$7))","v":0},{"$f":"IF(DB$4=\"\",0,SUMIFS(Model!$W37:$ZZ37,Model!$W$6:$ZZ$6,\">=\"&'M-Q-Y'!DB$6,Model!$W$6:$ZZ$6,\"<=\"&'M-Q-Y'!DB$7))","v":0},{"$f":"IF(DC$4=\"\",0,SUMIFS(Model!$W37:$ZZ37,Model!$W$6:$ZZ$6,\">=\"&'M-Q-Y'!DC$6,Model!$W$6:$ZZ$6,\"<=\"&'M-Q-Y'!DC$7))","v":0},{"$f":"IF(DD$4=\"\",0,SUMIFS(Model!$W37:$ZZ37,Model!$W$6:$ZZ$6,\">=\"&'M-Q-Y'!DD$6,Model!$W$6:$ZZ$6,\"<=\"&'M-Q-Y'!DD$7))","v":0},{"$f":"IF(DE$4=\"\",0,SUMIFS(Model!$W37:$ZZ37,Model!$W$6:$ZZ$6,\">=\"&'M-Q-Y'!DE$6,Model!$W$6:$ZZ$6,\"<=\"&'M-Q-Y'!DE$7))","v":0},{"$f":"IF(DF$4=\"\",0,SUMIFS(Model!$W37:$ZZ37,Model!$W$6:$ZZ$6,\">=\"&'M-Q-Y'!DF$6,Model!$W$6:$ZZ$6,\"<=\"&'M-Q-Y'!DF$7))","v":0},{"$f":"IF(DG$4=\"\",0,SUMIFS(Model!$W37:$ZZ37,Model!$W$6:$ZZ$6,\">=\"&'M-Q-Y'!DG$6,Model!$W$6:$ZZ$6,\"<=\"&'M-Q-Y'!DG$7))","v":0},{"$f":"IF(DH$4=\"\",0,SUMIFS(Model!$W37:$ZZ37,Model!$W$6:$ZZ$6,\">=\"&'M-Q-Y'!DH$6,Model!$W$6:$ZZ$6,\"<=\"&'M-Q-Y'!DH$7))","v":0},{"$f":"IF(DI$4=\"\",0,SUMIFS(Model!$W37:$ZZ37,Model!$W$6:$ZZ$6,\">=\"&'M-Q-Y'!DI$6,Model!$W$6:$ZZ$6,\"<=\"&'M-Q-Y'!DI$7))","v":0},{"$f":"IF(DJ$4=\"\",0,SUMIFS(Model!$W37:$ZZ37,Model!$W$6:$ZZ$6,\">=\"&'M-Q-Y'!DJ$6,Model!$W$6:$ZZ$6,\"<=\"&'M-Q-Y'!DJ$7))","v":0},{"$f":"IF(DK$4=\"\",0,SUMIFS(Model!$W37:$ZZ37,Model!$W$6:$ZZ$6,\">=\"&'M-Q-Y'!DK$6,Model!$W$6:$ZZ$6,\"<=\"&'M-Q-Y'!DK$7))","v":0},{"$f":"IF(DL$4=\"\",0,SUMIFS(Model!$W37:$ZZ37,Model!$W$6:$ZZ$6,\">=\"&'M-Q-Y'!DL$6,Model!$W$6:$ZZ$6,\"<=\"&'M-Q-Y'!DL$7))","v":0},{"$f":"IF(DM$4=\"\",0,SUMIFS(Model!$W37:$ZZ37,Model!$W$6:$ZZ$6,\">=\"&'M-Q-Y'!DM$6,Model!$W$6:$ZZ$6,\"<=\"&'M-Q-Y'!DM$7))","v":0},{"$f":"IF(DN$4=\"\",0,SUMIFS(Model!$W37:$ZZ37,Model!$W$6:$ZZ$6,\">=\"&'M-Q-Y'!DN$6,Model!$W$6:$ZZ$6,\"<=\"&'M-Q-Y'!DN$7))","v":0},{"$f":"IF(DO$4=\"\",0,SUMIFS(Model!$W37:$ZZ37,Model!$W$6:$ZZ$6,\">=\"&'M-Q-Y'!DO$6,Model!$W$6:$ZZ$6,\"<=\"&'M-Q-Y'!DO$7))","v":0},{"$f":"IF(DP$4=\"\",0,SUMIFS(Model!$W37:$ZZ37,Model!$W$6:$ZZ$6,\">=\"&'M-Q-Y'!DP$6,Model!$W$6:$ZZ$6,\"<=\"&'M-Q-Y'!DP$7))","v":0},{"$f":"IF(DQ$4=\"\",0,SUMIFS(Model!$W37:$ZZ37,Model!$W$6:$ZZ$6,\">=\"&'M-Q-Y'!DQ$6,Model!$W$6:$ZZ$6,\"<=\"&'M-Q-Y'!DQ$7))","v":0},{"$f":"IF(DR$4=\"\",0,SUMIFS(Model!$W37:$ZZ37,Model!$W$6:$ZZ$6,\">=\"&'M-Q-Y'!DR$6,Model!$W$6:$ZZ$6,\"<=\"&'M-Q-Y'!DR$7))","v":0},{"$f":"IF(DS$4=\"\",0,SUMIFS(Model!$W37:$ZZ37,Model!$W$6:$ZZ$6,\">=\"&'M-Q-Y'!DS$6,Model!$W$6:$ZZ$6,\"<=\"&'M-Q-Y'!DS$7))","v":0},{"$f":"IF(DT$4=\"\",0,SUMIFS(Model!$W37:$ZZ37,Model!$W$6:$ZZ$6,\">=\"&'M-Q-Y'!DT$6,Model!$W$6:$ZZ$6,\"<=\"&'M-Q-Y'!DT$7))","v":0},{"$f":"IF(DU$4=\"\",0,SUMIFS(Model!$W37:$ZZ37,Model!$W$6:$ZZ$6,\">=\"&'M-Q-Y'!DU$6,Model!$W$6:$ZZ$6,\"<=\"&'M-Q-Y'!DU$7))","v":0},{"$f":"IF(DV$4=\"\",0,SUMIFS(Model!$W37:$ZZ37,Model!$W$6:$ZZ$6,\">=\"&'M-Q-Y'!DV$6,Model!$W$6:$ZZ$6,\"<=\"&'M-Q-Y'!DV$7))","v":0},{"$f":"IF(DW$4=\"\",0,SUMIFS(Model!$W37:$ZZ37,Model!$W$6:$ZZ$6,\">=\"&'M-Q-Y'!DW$6,Model!$W$6:$ZZ$6,\"<=\"&'M-Q-Y'!DW$7))","v":0},{"$f":"IF(DX$4=\"\",0,SUMIFS(Model!$W37:$ZZ37,Model!$W$6:$ZZ$6,\">=\"&'M-Q-Y'!DX$6,Model!$W$6:$ZZ$6,\"<=\"&'M-Q-Y'!DX$7))","v":0},{"$f":"IF(DY$4=\"\",0,SUMIFS(Model!$W37:$ZZ37,Model!$W$6:$ZZ$6,\">=\"&'M-Q-Y'!DY$6,Model!$W$6:$ZZ$6,\"<=\"&'M-Q-Y'!DY$7))","v":0},{"$f":"IF(DZ$4=\"\",0,SUMIFS(Model!$W37:$ZZ37,Model!$W$6:$ZZ$6,\">=\"&'M-Q-Y'!DZ$6,Model!$W$6:$ZZ$6,\"<=\"&'M-Q-Y'!DZ$7))","v":0},{"$f":"IF(EA$4=\"\",0,SUMIFS(Model!$W37:$ZZ37,Model!$W$6:$ZZ$6,\">=\"&'M-Q-Y'!EA$6,Model!$W$6:$ZZ$6,\"<=\"&'M-Q-Y'!EA$7))","v":0},{"$f":"IF(EB$4=\"\",0,SUMIFS(Model!$W37:$ZZ37,Model!$W$6:$ZZ$6,\">=\"&'M-Q-Y'!EB$6,Model!$W$6:$ZZ$6,\"<=\"&'M-Q-Y'!EB$7))","v":0},{"$f":"IF(EC$4=\"\",0,SUMIFS(Model!$W37:$ZZ37,Model!$W$6:$ZZ$6,\">=\"&'M-Q-Y'!EC$6,Model!$W$6:$ZZ$6,\"<=\"&'M-Q-Y'!EC$7))","v":0},{"$f":"IF(ED$4=\"\",0,SUMIFS(Model!$W37:$ZZ37,Model!$W$6:$ZZ$6,\">=\"&'M-Q-Y'!ED$6,Model!$W$6:$ZZ$6,\"<=\"&'M-Q-Y'!ED$7))","v":0},{"$f":"IF(EE$4=\"\",0,SUMIFS(Model!$W37:$ZZ37,Model!$W$6:$ZZ$6,\">=\"&'M-Q-Y'!EE$6,Model!$W$6:$ZZ$6,\"<=\"&'M-Q-Y'!EE$7))","v":0},{"$f":"IF(EF$4=\"\",0,SUMIFS(Model!$W37:$ZZ37,Model!$W$6:$ZZ$6,\">=\"&'M-Q-Y'!EF$6,Model!$W$6:$ZZ$6,\"<=\"&'M-Q-Y'!EF$7))","v":0},{"$f":"IF(EG$4=\"\",0,SUMIFS(Model!$W37:$ZZ37,Model!$W$6:$ZZ$6,\">=\"&'M-Q-Y'!EG$6,Model!$W$6:$ZZ$6,\"<=\"&'M-Q-Y'!EG$7))","v":0},{"$f":"IF(EH$4=\"\",0,SUMIFS(Model!$W37:$ZZ37,Model!$W$6:$ZZ$6,\">=\"&'M-Q-Y'!EH$6,Model!$W$6:$ZZ$6,\"<=\"&'M-Q-Y'!EH$7))","v":0},{"$f":"IF(EI$4=\"\",0,SUMIFS(Model!$W37:$ZZ37,Model!$W$6:$ZZ$6,\">=\"&'M-Q-Y'!EI$6,Model!$W$6:$ZZ$6,\"<=\"&'M-Q-Y'!EI$7))","v":0},{"$f":"IF(EJ$4=\"\",0,SUMIFS(Model!$W37:$ZZ37,Model!$W$6:$ZZ$6,\">=\"&'M-Q-Y'!EJ$6,Model!$W$6:$ZZ$6,\"<=\"&'M-Q-Y'!EJ$7))","v":0},{"$f":"IF(EK$4=\"\",0,SUMIFS(Model!$W37:$ZZ37,Model!$W$6:$ZZ$6,\">=\"&'M-Q-Y'!EK$6,Model!$W$6:$ZZ$6,\"<=\"&'M-Q-Y'!EK$7))","v":0},{"$f":"IF(EL$4=\"\",0,SUMIFS(Model!$W37:$ZZ37,Model!$W$6:$ZZ$6,\">=\"&'M-Q-Y'!EL$6,Model!$W$6:$ZZ$6,\"<=\"&'M-Q-Y'!EL$7))","v":0},{"$f":"IF(EM$4=\"\",0,SUMIFS(Model!$W37:$ZZ37,Model!$W$6:$ZZ$6,\">=\"&'M-Q-Y'!EM$6,Model!$W$6:$ZZ$6,\"<=\"&'M-Q-Y'!EM$7))","v":0},{"$f":"IF(EN$4=\"\",0,SUMIFS(Model!$W37:$ZZ37,Model!$W$6:$ZZ$6,\">=\"&'M-Q-Y'!EN$6,Model!$W$6:$ZZ$6,\"<=\"&'M-Q-Y'!EN$7))","v":0},{"$f":"IF(EO$4=\"\",0,SUMIFS(Model!$W37:$ZZ37,Model!$W$6:$ZZ$6,\">=\"&'M-Q-Y'!EO$6,Model!$W$6:$ZZ$6,\"<=\"&'M-Q-Y'!EO$7))","v":0},{"$f":"IF(EP$4=\"\",0,SUMIFS(Model!$W37:$ZZ37,Model!$W$6:$ZZ$6,\">=\"&'M-Q-Y'!EP$6,Model!$W$6:$ZZ$6,\"<=\"&'M-Q-Y'!EP$7))","v":0},{"$f":"IF(EQ$4=\"\",0,SUMIFS(Model!$W37:$ZZ37,Model!$W$6:$ZZ$6,\">=\"&'M-Q-Y'!EQ$6,Model!$W$6:$ZZ$6,\"<=\"&'M-Q-Y'!EQ$7))","v":0},{"$f":"IF(ER$4=\"\",0,SUMIFS(Model!$W37:$ZZ37,Model!$W$6:$ZZ$6,\">=\"&'M-Q-Y'!ER$6,Model!$W$6:$ZZ$6,\"<=\"&'M-Q-Y'!ER$7))","v":0},{"$f":"IF(ES$4=\"\",0,SUMIFS(Model!$W37:$ZZ37,Model!$W$6:$ZZ$6,\">=\"&'M-Q-Y'!ES$6,Model!$W$6:$ZZ$6,\"<=\"&'M-Q-Y'!ES$7))","v":0},{"$f":"IF(ET$4=\"\",0,SUMIFS(Model!$W37:$ZZ37,Model!$W$6:$ZZ$6,\">=\"&'M-Q-Y'!ET$6,Model!$W$6:$ZZ$6,\"<=\"&'M-Q-Y'!ET$7))","v":0},{"$f":"IF(EU$4=\"\",0,SUMIFS(Model!$W37:$ZZ37,Model!$W$6:$ZZ$6,\">=\"&'M-Q-Y'!EU$6,Model!$W$6:$ZZ$6,\"<=\"&'M-Q-Y'!EU$7))","v":0},{"$f":"IF(EV$4=\"\",0,SUMIFS(Model!$W37:$ZZ37,Model!$W$6:$ZZ$6,\">=\"&'M-Q-Y'!EV$6,Model!$W$6:$ZZ$6,\"<=\"&'M-Q-Y'!EV$7))","v":0},{"$f":"IF(EW$4=\"\",0,SUMIFS(Model!$W37:$ZZ37,Model!$W$6:$ZZ$6,\">=\"&'M-Q-Y'!EW$6,Model!$W$6:$ZZ$6,\"<=\"&'M-Q-Y'!EW$7))","v":0},{"$f":"IF(EX$4=\"\",0,SUMIFS(Model!$W37:$ZZ37,Model!$W$6:$ZZ$6,\">=\"&'M-Q-Y'!EX$6,Model!$W$6:$ZZ$6,\"<=\"&'M-Q-Y'!EX$7))","v":0},{"$f":"IF(EY$4=\"\",0,SUMIFS(Model!$W37:$ZZ37,Model!$W$6:$ZZ$6,\">=\"&'M-Q-Y'!EY$6,Model!$W$6:$ZZ$6,\"<=\"&'M-Q-Y'!EY$7))","v":0},{"$f":"IF(EZ$4=\"\",0,SUMIFS(Model!$W37:$ZZ37,Model!$W$6:$ZZ$6,\">=\"&'M-Q-Y'!EZ$6,Model!$W$6:$ZZ$6,\"<=\"&'M-Q-Y'!EZ$7))","v":0},{"$f":"IF(FA$4=\"\",0,SUMIFS(Model!$W37:$ZZ37,Model!$W$6:$ZZ$6,\">=\"&'M-Q-Y'!FA$6,Model!$W$6:$ZZ$6,\"<=\"&'M-Q-Y'!FA$7))","v":0},{"$f":"IF(FB$4=\"\",0,SUMIFS(Model!$W37:$ZZ37,Model!$W$6:$ZZ$6,\">=\"&'M-Q-Y'!FB$6,Model!$W$6:$ZZ$6,\"<=\"&'M-Q-Y'!FB$7))","v":0},{"$f":"IF(FC$4=\"\",0,SUMIFS(Model!$W37:$ZZ37,Model!$W$6:$ZZ$6,\">=\"&'M-Q-Y'!FC$6,Model!$W$6:$ZZ$6,\"<=\"&'M-Q-Y'!FC$7))","v":0},{"$f":"IF(FD$4=\"\",0,SUMIFS(Model!$W37:$ZZ37,Model!$W$6:$ZZ$6,\">=\"&'M-Q-Y'!FD$6,Model!$W$6:$ZZ$6,\"<=\"&'M-Q-Y'!FD$7))","v":0},{"$f":"IF(FE$4=\"\",0,SUMIFS(Model!$W37:$ZZ37,Model!$W$6:$ZZ$6,\">=\"&'M-Q-Y'!FE$6,Model!$W$6:$ZZ$6,\"<=\"&'M-Q-Y'!FE$7))","v":0},{"$f":"IF(FF$4=\"\",0,SUMIFS(Model!$W37:$ZZ37,Model!$W$6:$ZZ$6,\">=\"&'M-Q-Y'!FF$6,Model!$W$6:$ZZ$6,\"<=\"&'M-Q-Y'!FF$7))","v":0},{"$f":"IF(FG$4=\"\",0,SUMIFS(Model!$W37:$ZZ37,Model!$W$6:$ZZ$6,\">=\"&'M-Q-Y'!FG$6,Model!$W$6:$ZZ$6,\"<=\"&'M-Q-Y'!FG$7))","v":0},{"$f":"IF(FH$4=\"\",0,SUMIFS(Model!$W37:$ZZ37,Model!$W$6:$ZZ$6,\">=\"&'M-Q-Y'!FH$6,Model!$W$6:$ZZ$6,\"<=\"&'M-Q-Y'!FH$7))","v":0},{"$f":"IF(FI$4=\"\",0,SUMIFS(Model!$W37:$ZZ37,Model!$W$6:$ZZ$6,\">=\"&'M-Q-Y'!FI$6,Model!$W$6:$ZZ$6,\"<=\"&'M-Q-Y'!FI$7))","v":0},{"$f":"IF(FJ$4=\"\",0,SUMIFS(Model!$W37:$ZZ37,Model!$W$6:$ZZ$6,\">=\"&'M-Q-Y'!FJ$6,Model!$W$6:$ZZ$6,\"<=\"&'M-Q-Y'!FJ$7))","v":0},{"$f":"IF(FK$4=\"\",0,SUMIFS(Model!$W37:$ZZ37,Model!$W$6:$ZZ$6,\">=\"&'M-Q-Y'!FK$6,Model!$W$6:$ZZ$6,\"<=\"&'M-Q-Y'!FK$7))","v":0},{"$f":"IF(FL$4=\"\",0,SUMIFS(Model!$W37:$ZZ37,Model!$W$6:$ZZ$6,\">=\"&'M-Q-Y'!FL$6,Model!$W$6:$ZZ$6,\"<=\"&'M-Q-Y'!FL$7))","v":0},{"$f":"IF(FM$4=\"\",0,SUMIFS(Model!$W37:$ZZ37,Model!$W$6:$ZZ$6,\">=\"&'M-Q-Y'!FM$6,Model!$W$6:$ZZ$6,\"<=\"&'M-Q-Y'!FM$7))","v":0},{"$f":"IF(FN$4=\"\",0,SUMIFS(Model!$W37:$ZZ37,Model!$W$6:$ZZ$6,\">=\"&'M-Q-Y'!FN$6,Model!$W$6:$ZZ$6,\"<=\"&'M-Q-Y'!FN$7))","v":0},{"$f":"IF(FO$4=\"\",0,SUMIFS(Model!$W37:$ZZ37,Model!$W$6:$ZZ$6,\">=\"&'M-Q-Y'!FO$6,Model!$W$6:$ZZ$6,\"<=\"&'M-Q-Y'!FO$7))","v":0},{"$f":"IF(FP$4=\"\",0,SUMIFS(Model!$W37:$ZZ37,Model!$W$6:$ZZ$6,\">=\"&'M-Q-Y'!FP$6,Model!$W$6:$ZZ$6,\"<=\"&'M-Q-Y'!FP$7))","v":0},{"$f":"IF(FQ$4=\"\",0,SUMIFS(Model!$W37:$ZZ37,Model!$W$6:$ZZ$6,\">=\"&'M-Q-Y'!FQ$6,Model!$W$6:$ZZ$6,\"<=\"&'M-Q-Y'!FQ$7))","v":0},{"$f":"IF(FR$4=\"\",0,SUMIFS(Model!$W37:$ZZ37,Model!$W$6:$ZZ$6,\">=\"&'M-Q-Y'!FR$6,Model!$W$6:$ZZ$6,\"<=\"&'M-Q-Y'!FR$7))","v":0},{"$f":"IF(FS$4=\"\",0,SUMIFS(Model!$W37:$ZZ37,Model!$W$6:$ZZ$6,\">=\"&'M-Q-Y'!FS$6,Model!$W$6:$ZZ$6,\"<=\"&'M-Q-Y'!FS$7))","v":0},{"$f":"IF(FT$4=\"\",0,SUMIFS(Model!$W37:$ZZ37,Model!$W$6:$ZZ$6,\">=\"&'M-Q-Y'!FT$6,Model!$W$6:$ZZ$6,\"<=\"&'M-Q-Y'!FT$7))","v":0},{"$f":"IF(FU$4=\"\",0,SUMIFS(Model!$W37:$ZZ37,Model!$W$6:$ZZ$6,\">=\"&'M-Q-Y'!FU$6,Model!$W$6:$ZZ$6,\"<=\"&'M-Q-Y'!FU$7))","v":0},{"$f":"IF(FV$4=\"\",0,SUMIFS(Model!$W37:$ZZ37,Model!$W$6:$ZZ$6,\">=\"&'M-Q-Y'!FV$6,Model!$W$6:$ZZ$6,\"<=\"&'M-Q-Y'!FV$7))","v":0},{"$f":"IF(FW$4=\"\",0,SUMIFS(Model!$W37:$ZZ37,Model!$W$6:$ZZ$6,\">=\"&'M-Q-Y'!FW$6,Model!$W$6:$ZZ$6,\"<=\"&'M-Q-Y'!FW$7))","v":0},{"$f":"IF(FX$4=\"\",0,SUMIFS(Model!$W37:$ZZ37,Model!$W$6:$ZZ$6,\">=\"&'M-Q-Y'!FX$6,Model!$W$6:$ZZ$6,\"<=\"&'M-Q-Y'!FX$7))","v":0},{"$f":"IF(FY$4=\"\",0,SUMIFS(Model!$W37:$ZZ37,Model!$W$6:$ZZ$6,\">=\"&'M-Q-Y'!FY$6,Model!$W$6:$ZZ$6,\"<=\"&'M-Q-Y'!FY$7))","v":0},{"$f":"IF(FZ$4=\"\",0,SUMIFS(Model!$W37:$ZZ37,Model!$W$6:$ZZ$6,\">=\"&'M-Q-Y'!FZ$6,Model!$W$6:$ZZ$6,\"<=\"&'M-Q-Y'!FZ$7))","v":0},{"$f":"IF(GA$4=\"\",0,SUMIFS(Model!$W37:$ZZ37,Model!$W$6:$ZZ$6,\">=\"&'M-Q-Y'!GA$6,Model!$W$6:$ZZ$6,\"<=\"&'M-Q-Y'!GA$7))","v":0},{"$f":"IF(GB$4=\"\",0,SUMIFS(Model!$W37:$ZZ37,Model!$W$6:$ZZ$6,\">=\"&'M-Q-Y'!GB$6,Model!$W$6:$ZZ$6,\"<=\"&'M-Q-Y'!GB$7))","v":0},{"$f":"IF(GC$4=\"\",0,SUMIFS(Model!$W37:$ZZ37,Model!$W$6:$ZZ$6,\">=\"&'M-Q-Y'!GC$6,Model!$W$6:$ZZ$6,\"<=\"&'M-Q-Y'!GC$7))","v":0},{"$f":"IF(GD$4=\"\",0,SUMIFS(Model!$W37:$ZZ37,Model!$W$6:$ZZ$6,\">=\"&'M-Q-Y'!GD$6,Model!$W$6:$ZZ$6,\"<=\"&'M-Q-Y'!GD$7))","v":0},{"$f":"IF(GE$4=\"\",0,SUMIFS(Model!$W37:$ZZ37,Model!$W$6:$ZZ$6,\">=\"&'M-Q-Y'!GE$6,Model!$W$6:$ZZ$6,\"<=\"&'M-Q-Y'!GE$7))","v":0},{"$f":"IF(GF$4=\"\",0,SUMIFS(Model!$W37:$ZZ37,Model!$W$6:$ZZ$6,\">=\"&'M-Q-Y'!GF$6,Model!$W$6:$ZZ$6,\"<=\"&'M-Q-Y'!GF$7))","v":0},{"$f":"IF(GG$4=\"\",0,SUMIFS(Model!$W37:$ZZ37,Model!$W$6:$ZZ$6,\">=\"&'M-Q-Y'!GG$6,Model!$W$6:$ZZ$6,\"<=\"&'M-Q-Y'!GG$7))","v":0},{"$f":"IF(GH$4=\"\",0,SUMIFS(Model!$W37:$ZZ37,Model!$W$6:$ZZ$6,\">=\"&'M-Q-Y'!GH$6,Model!$W$6:$ZZ$6,\"<=\"&'M-Q-Y'!GH$7))","v":0},{"$f":"IF(GI$4=\"\",0,SUMIFS(Model!$W37:$ZZ37,Model!$W$6:$ZZ$6,\">=\"&'M-Q-Y'!GI$6,Model!$W$6:$ZZ$6,\"<=\"&'M-Q-Y'!GI$7))","v":0},{"$f":"IF(GJ$4=\"\",0,SUMIFS(Model!$W37:$ZZ37,Model!$W$6:$ZZ$6,\">=\"&'M-Q-Y'!GJ$6,Model!$W$6:$ZZ$6,\"<=\"&'M-Q-Y'!GJ$7))","v":0},{"$f":"IF(GK$4=\"\",0,SUMIFS(Model!$W37:$ZZ37,Model!$W$6:$ZZ$6,\">=\"&'M-Q-Y'!GK$6,Model!$W$6:$ZZ$6,\"<=\"&'M-Q-Y'!GK$7))","v":0},{"$f":"IF(GL$4=\"\",0,SUMIFS(Model!$W37:$ZZ37,Model!$W$6:$ZZ$6,\">=\"&'M-Q-Y'!GL$6,Model!$W$6:$ZZ$6,\"<=\"&'M-Q-Y'!GL$7))","v":0},{"$f":"IF(GM$4=\"\",0,SUMIFS(Model!$W37:$ZZ37,Model!$W$6:$ZZ$6,\">=\"&'M-Q-Y'!GM$6,Model!$W$6:$ZZ$6,\"<=\"&'M-Q-Y'!GM$7))","v":0},{"$f":"IF(GN$4=\"\",0,SUMIFS(Model!$W37:$ZZ37,Model!$W$6:$ZZ$6,\">=\"&'M-Q-Y'!GN$6,Model!$W$6:$ZZ$6,\"<=\"&'M-Q-Y'!GN$7))","v":0},{"$f":"IF(GO$4=\"\",0,SUMIFS(Model!$W37:$ZZ37,Model!$W$6:$ZZ$6,\">=\"&'M-Q-Y'!GO$6,Model!$W$6:$ZZ$6,\"<=\"&'M-Q-Y'!GO$7))","v":0},{"$f":"IF(GP$4=\"\",0,SUMIFS(Model!$W37:$ZZ37,Model!$W$6:$ZZ$6,\">=\"&'M-Q-Y'!GP$6,Model!$W$6:$ZZ$6,\"<=\"&'M-Q-Y'!GP$7))","v":0},{"$f":"IF(GQ$4=\"\",0,SUMIFS(Model!$W37:$ZZ37,Model!$W$6:$ZZ$6,\">=\"&'M-Q-Y'!GQ$6,Model!$W$6:$ZZ$6,\"<=\"&'M-Q-Y'!GQ$7))","v":0},{"$f":"IF(GR$4=\"\",0,SUMIFS(Model!$W37:$ZZ37,Model!$W$6:$ZZ$6,\">=\"&'M-Q-Y'!GR$6,Model!$W$6:$ZZ$6,\"<=\"&'M-Q-Y'!GR$7))","v":0},{"$f":"IF(GS$4=\"\",0,SUMIFS(Model!$W37:$ZZ37,Model!$W$6:$ZZ$6,\">=\"&'M-Q-Y'!GS$6,Model!$W$6:$ZZ$6,\"<=\"&'M-Q-Y'!GS$7))","v":0},{"$f":"IF(GT$4=\"\",0,SUMIFS(Model!$W37:$ZZ37,Model!$W$6:$ZZ$6,\">=\"&'M-Q-Y'!GT$6,Model!$W$6:$ZZ$6,\"<=\"&'M-Q-Y'!GT$7))","v":0},{"$f":"IF(GU$4=\"\",0,SUMIFS(Model!$W37:$ZZ37,Model!$W$6:$ZZ$6,\">=\"&'M-Q-Y'!GU$6,Model!$W$6:$ZZ$6,\"<=\"&'M-Q-Y'!GU$7))","v":0},{"$f":"IF(GV$4=\"\",0,SUMIFS(Model!$W37:$ZZ37,Model!$W$6:$ZZ$6,\">=\"&'M-Q-Y'!GV$6,Model!$W$6:$ZZ$6,\"<=\"&'M-Q-Y'!GV$7))","v":0}]
[null,{"$f":"ROW()","v":31},null,null,null,null,null,{"$f":"H30","v":"Ежемесячные платежи по кредиту"},"Возврат тела кредита",null,null,null,"руб.",null,null,null,null,null,null,null,{"$f":"SUM(INDIRECT(ADDRESS($B31,X$2)&\":\"&ADDRESS($B31,MAX($2:$2))))","v":0},null,null,{"$f":"IF(X$4=\"\",0,SUMIFS(Model!$W38:$ZZ38,Model!$W$6:$ZZ$6,\">=\"&'M-Q-Y'!X$6,Model!$W$6:$ZZ$6,\"<=\"&'M-Q-Y'!X$7))","v":0},{"$f":"IF(Y$4=\"\",0,SUMIFS(Model!$W38:$ZZ38,Model!$W$6:$ZZ$6,\">=\"&'M-Q-Y'!Y$6,Model!$W$6:$ZZ$6,\"<=\"&'M-Q-Y'!Y$7))","v":0},{"$f":"IF(Z$4=\"\",0,SUMIFS(Model!$W38:$ZZ38,Model!$W$6:$ZZ$6,\">=\"&'M-Q-Y'!Z$6,Model!$W$6:$ZZ$6,\"<=\"&'M-Q-Y'!Z$7))","v":0},{"$f":"IF(AA$4=\"\",0,SUMIFS(Model!$W38:$ZZ38,Model!$W$6:$ZZ$6,\">=\"&'M-Q-Y'!AA$6,Model!$W$6:$ZZ$6,\"<=\"&'M-Q-Y'!AA$7))","v":0},{"$f":"IF(AB$4=\"\",0,SUMIFS(Model!$W38:$ZZ38,Model!$W$6:$ZZ$6,\">=\"&'M-Q-Y'!AB$6,Model!$W$6:$ZZ$6,\"<=\"&'M-Q-Y'!AB$7))","v":0},{"$f":"IF(AC$4=\"\",0,SUMIFS(Model!$W38:$ZZ38,Model!$W$6:$ZZ$6,\">=\"&'M-Q-Y'!AC$6,Model!$W$6:$ZZ$6,\"<=\"&'M-Q-Y'!AC$7))","v":0},{"$f":"IF(AD$4=\"\",0,SUMIFS(Model!$W38:$ZZ38,Model!$W$6:$ZZ$6,\">=\"&'M-Q-Y'!AD$6,Model!$W$6:$ZZ$6,\"<=\"&'M-Q-Y'!AD$7))","v":0},{"$f":"IF(AE$4=\"\",0,SUMIFS(Model!$W38:$ZZ38,Model!$W$6:$ZZ$6,\">=\"&'M-Q-Y'!AE$6,Model!$W$6:$ZZ$6,\"<=\"&'M-Q-Y'!AE$7))","v":0},{"$f":"IF(AF$4=\"\",0,SUMIFS(Model!$W38:$ZZ38,Model!$W$6:$ZZ$6,\">=\"&'M-Q-Y'!AF$6,Model!$W$6:$ZZ$6,\"<=\"&'M-Q-Y'!AF$7))","v":0},{"$f":"IF(AG$4=\"\",0,SUMIFS(Model!$W38:$ZZ38,Model!$W$6:$ZZ$6,\">=\"&'M-Q-Y'!AG$6,Model!$W$6:$ZZ$6,\"<=\"&'M-Q-Y'!AG$7))","v":0},{"$f":"IF(AH$4=\"\",0,SUMIFS(Model!$W38:$ZZ38,Model!$W$6:$ZZ$6,\">=\"&'M-Q-Y'!AH$6,Model!$W$6:$ZZ$6,\"<=\"&'M-Q-Y'!AH$7))","v":0},{"$f":"IF(AI$4=\"\",0,SUMIFS(Model!$W38:$ZZ38,Model!$W$6:$ZZ$6,\">=\"&'M-Q-Y'!AI$6,Model!$W$6:$ZZ$6,\"<=\"&'M-Q-Y'!AI$7))","v":0},{"$f":"IF(AJ$4=\"\",0,SUMIFS(Model!$W38:$ZZ38,Model!$W$6:$ZZ$6,\">=\"&'M-Q-Y'!AJ$6,Model!$W$6:$ZZ$6,\"<=\"&'M-Q-Y'!AJ$7))","v":0},{"$f":"IF(AK$4=\"\",0,SUMIFS(Model!$W38:$ZZ38,Model!$W$6:$ZZ$6,\">=\"&'M-Q-Y'!AK$6,Model!$W$6:$ZZ$6,\"<=\"&'M-Q-Y'!AK$7))","v":0},{"$f":"IF(AL$4=\"\",0,SUMIFS(Model!$W38:$ZZ38,Model!$W$6:$ZZ$6,\">=\"&'M-Q-Y'!AL$6,Model!$W$6:$ZZ$6,\"<=\"&'M-Q-Y'!AL$7))","v":0},{"$f":"IF(AM$4=\"\",0,SUMIFS(Model!$W38:$ZZ38,Model!$W$6:$ZZ$6,\">=\"&'M-Q-Y'!AM$6,Model!$W$6:$ZZ$6,\"<=\"&'M-Q-Y'!AM$7))","v":0},{"$f":"IF(AN$4=\"\",0,SUMIFS(Model!$W38:$ZZ38,Model!$W$6:$ZZ$6,\">=\"&'M-Q-Y'!AN$6,Model!$W$6:$ZZ$6,\"<=\"&'M-Q-Y'!AN$7))","v":0},{"$f":"IF(AO$4=\"\",0,SUMIFS(Model!$W38:$ZZ38,Model!$W$6:$ZZ$6,\">=\"&'M-Q-Y'!AO$6,Model!$W$6:$ZZ$6,\"<=\"&'M-Q-Y'!AO$7))","v":0},{"$f":"IF(AP$4=\"\",0,SUMIFS(Model!$W38:$ZZ38,Model!$W$6:$ZZ$6,\">=\"&'M-Q-Y'!AP$6,Model!$W$6:$ZZ$6,\"<=\"&'M-Q-Y'!AP$7))","v":0},{"$f":"IF(AQ$4=\"\",0,SUMIFS(Model!$W38:$ZZ38,Model!$W$6:$ZZ$6,\">=\"&'M-Q-Y'!AQ$6,Model!$W$6:$ZZ$6,\"<=\"&'M-Q-Y'!AQ$7))","v":0},{"$f":"IF(AR$4=\"\",0,SUMIFS(Model!$W38:$ZZ38,Model!$W$6:$ZZ$6,\">=\"&'M-Q-Y'!AR$6,Model!$W$6:$ZZ$6,\"<=\"&'M-Q-Y'!AR$7))","v":0},{"$f":"IF(AS$4=\"\",0,SUMIFS(Model!$W38:$ZZ38,Model!$W$6:$ZZ$6,\">=\"&'M-Q-Y'!AS$6,Model!$W$6:$ZZ$6,\"<=\"&'M-Q-Y'!AS$7))","v":0},{"$f":"IF(AT$4=\"\",0,SUMIFS(Model!$W38:$ZZ38,Model!$W$6:$ZZ$6,\">=\"&'M-Q-Y'!AT$6,Model!$W$6:$ZZ$6,\"<=\"&'M-Q-Y'!AT$7))","v":0},{"$f":"IF(AU$4=\"\",0,SUMIFS(Model!$W38:$ZZ38,Model!$W$6:$ZZ$6,\">=\"&'M-Q-Y'!AU$6,Model!$W$6:$ZZ$6,\"<=\"&'M-Q-Y'!AU$7))","v":0},{"$f":"IF(AV$4=\"\",0,SUMIFS(Model!$W38:$ZZ38,Model!$W$6:$ZZ$6,\">=\"&'M-Q-Y'!AV$6,Model!$W$6:$ZZ$6,\"<=\"&'M-Q-Y'!AV$7))","v":0},{"$f":"IF(AW$4=\"\",0,SUMIFS(Model!$W38:$ZZ38,Model!$W$6:$ZZ$6,\">=\"&'M-Q-Y'!AW$6,Model!$W$6:$ZZ$6,\"<=\"&'M-Q-Y'!AW$7))","v":0},{"$f":"IF(AX$4=\"\",0,SUMIFS(Model!$W38:$ZZ38,Model!$W$6:$ZZ$6,\">=\"&'M-Q-Y'!AX$6,Model!$W$6:$ZZ$6,\"<=\"&'M-Q-Y'!AX$7))","v":0},{"$f":"IF(AY$4=\"\",0,SUMIFS(Model!$W38:$ZZ38,Model!$W$6:$ZZ$6,\">=\"&'M-Q-Y'!AY$6,Model!$W$6:$ZZ$6,\"<=\"&'M-Q-Y'!AY$7))","v":0},{"$f":"IF(AZ$4=\"\",0,SUMIFS(Model!$W38:$ZZ38,Model!$W$6:$ZZ$6,\">=\"&'M-Q-Y'!AZ$6,Model!$W$6:$ZZ$6,\"<=\"&'M-Q-Y'!AZ$7))","v":0},{"$f":"IF(BA$4=\"\",0,SUMIFS(Model!$W38:$ZZ38,Model!$W$6:$ZZ$6,\">=\"&'M-Q-Y'!BA$6,Model!$W$6:$ZZ$6,\"<=\"&'M-Q-Y'!BA$7))","v":0},{"$f":"IF(BB$4=\"\",0,SUMIFS(Model!$W38:$ZZ38,Model!$W$6:$ZZ$6,\">=\"&'M-Q-Y'!BB$6,Model!$W$6:$ZZ$6,\"<=\"&'M-Q-Y'!BB$7))","v":0},{"$f":"IF(BC$4=\"\",0,SUMIFS(Model!$W38:$ZZ38,Model!$W$6:$ZZ$6,\">=\"&'M-Q-Y'!BC$6,Model!$W$6:$ZZ$6,\"<=\"&'M-Q-Y'!BC$7))","v":0},{"$f":"IF(BD$4=\"\",0,SUMIFS(Model!$W38:$ZZ38,Model!$W$6:$ZZ$6,\">=\"&'M-Q-Y'!BD$6,Model!$W$6:$ZZ$6,\"<=\"&'M-Q-Y'!BD$7))","v":0},{"$f":"IF(BE$4=\"\",0,SUMIFS(Model!$W38:$ZZ38,Model!$W$6:$ZZ$6,\">=\"&'M-Q-Y'!BE$6,Model!$W$6:$ZZ$6,\"<=\"&'M-Q-Y'!BE$7))","v":0},{"$f":"IF(BF$4=\"\",0,SUMIFS(Model!$W38:$ZZ38,Model!$W$6:$ZZ$6,\">=\"&'M-Q-Y'!BF$6,Model!$W$6:$ZZ$6,\"<=\"&'M-Q-Y'!BF$7))","v":0},{"$f":"IF(BG$4=\"\",0,SUMIFS(Model!$W38:$ZZ38,Model!$W$6:$ZZ$6,\">=\"&'M-Q-Y'!BG$6,Model!$W$6:$ZZ$6,\"<=\"&'M-Q-Y'!BG$7))","v":0},{"$f":"IF(BH$4=\"\",0,SUMIFS(Model!$W38:$ZZ38,Model!$W$6:$ZZ$6,\">=\"&'M-Q-Y'!BH$6,Model!$W$6:$ZZ$6,\"<=\"&'M-Q-Y'!BH$7))","v":0},{"$f":"IF(BI$4=\"\",0,SUMIFS(Model!$W38:$ZZ38,Model!$W$6:$ZZ$6,\">=\"&'M-Q-Y'!BI$6,Model!$W$6:$ZZ$6,\"<=\"&'M-Q-Y'!BI$7))","v":0},{"$f":"IF(BJ$4=\"\",0,SUMIFS(Model!$W38:$ZZ38,Model!$W$6:$ZZ$6,\">=\"&'M-Q-Y'!BJ$6,Model!$W$6:$ZZ$6,\"<=\"&'M-Q-Y'!BJ$7))","v":0},{"$f":"IF(BK$4=\"\",0,SUMIFS(Model!$W38:$ZZ38,Model!$W$6:$ZZ$6,\">=\"&'M-Q-Y'!BK$6,Model!$W$6:$ZZ$6,\"<=\"&'M-Q-Y'!BK$7))","v":0},{"$f":"IF(BL$4=\"\",0,SUMIFS(Model!$W38:$ZZ38,Model!$W$6:$ZZ$6,\">=\"&'M-Q-Y'!BL$6,Model!$W$6:$ZZ$6,\"<=\"&'M-Q-Y'!BL$7))","v":0},{"$f":"IF(BM$4=\"\",0,SUMIFS(Model!$W38:$ZZ38,Model!$W$6:$ZZ$6,\">=\"&'M-Q-Y'!BM$6,Model!$W$6:$ZZ$6,\"<=\"&'M-Q-Y'!BM$7))","v":0},{"$f":"IF(BN$4=\"\",0,SUMIFS(Model!$W38:$ZZ38,Model!$W$6:$ZZ$6,\">=\"&'M-Q-Y'!BN$6,Model!$W$6:$ZZ$6,\"<=\"&'M-Q-Y'!BN$7))","v":0},{"$f":"IF(BO$4=\"\",0,SUMIFS(Model!$W38:$ZZ38,Model!$W$6:$ZZ$6,\">=\"&'M-Q-Y'!BO$6,Model!$W$6:$ZZ$6,\"<=\"&'M-Q-Y'!BO$7))","v":0},{"$f":"IF(BP$4=\"\",0,SUMIFS(Model!$W38:$ZZ38,Model!$W$6:$ZZ$6,\">=\"&'M-Q-Y'!BP$6,Model!$W$6:$ZZ$6,\"<=\"&'M-Q-Y'!BP$7))","v":0},{"$f":"IF(BQ$4=\"\",0,SUMIFS(Model!$W38:$ZZ38,Model!$W$6:$ZZ$6,\">=\"&'M-Q-Y'!BQ$6,Model!$W$6:$ZZ$6,\"<=\"&'M-Q-Y'!BQ$7))","v":0},{"$f":"IF(BR$4=\"\",0,SUMIFS(Model!$W38:$ZZ38,Model!$W$6:$ZZ$6,\">=\"&'M-Q-Y'!BR$6,Model!$W$6:$ZZ$6,\"<=\"&'M-Q-Y'!BR$7))","v":0},{"$f":"IF(BS$4=\"\",0,SUMIFS(Model!$W38:$ZZ38,Model!$W$6:$ZZ$6,\">=\"&'M-Q-Y'!BS$6,Model!$W$6:$ZZ$6,\"<=\"&'M-Q-Y'!BS$7))","v":0},{"$f":"IF(BT$4=\"\",0,SUMIFS(Model!$W38:$ZZ38,Model!$W$6:$ZZ$6,\">=\"&'M-Q-Y'!BT$6,Model!$W$6:$ZZ$6,\"<=\"&'M-Q-Y'!BT$7))","v":0},{"$f":"IF(BU$4=\"\",0,SUMIFS(Model!$W38:$ZZ38,Model!$W$6:$ZZ$6,\">=\"&'M-Q-Y'!BU$6,Model!$W$6:$ZZ$6,\"<=\"&'M-Q-Y'!BU$7))","v":0},{"$f":"IF(BV$4=\"\",0,SUMIFS(Model!$W38:$ZZ38,Model!$W$6:$ZZ$6,\">=\"&'M-Q-Y'!BV$6,Model!$W$6:$ZZ$6,\"<=\"&'M-Q-Y'!BV$7))","v":0},{"$f":"IF(BW$4=\"\",0,SUMIFS(Model!$W38:$ZZ38,Model!$W$6:$ZZ$6,\">=\"&'M-Q-Y'!BW$6,Model!$W$6:$ZZ$6,\"<=\"&'M-Q-Y'!BW$7))","v":0},{"$f":"IF(BX$4=\"\",0,SUMIFS(Model!$W38:$ZZ38,Model!$W$6:$ZZ$6,\">=\"&'M-Q-Y'!BX$6,Model!$W$6:$ZZ$6,\"<=\"&'M-Q-Y'!BX$7))","v":0},{"$f":"IF(BY$4=\"\",0,SUMIFS(Model!$W38:$ZZ38,Model!$W$6:$ZZ$6,\">=\"&'M-Q-Y'!BY$6,Model!$W$6:$ZZ$6,\"<=\"&'M-Q-Y'!BY$7))","v":0},{"$f":"IF(BZ$4=\"\",0,SUMIFS(Model!$W38:$ZZ38,Model!$W$6:$ZZ$6,\">=\"&'M-Q-Y'!BZ$6,Model!$W$6:$ZZ$6,\"<=\"&'M-Q-Y'!BZ$7))","v":0},{"$f":"IF(CA$4=\"\",0,SUMIFS(Model!$W38:$ZZ38,Model!$W$6:$ZZ$6,\">=\"&'M-Q-Y'!CA$6,Model!$W$6:$ZZ$6,\"<=\"&'M-Q-Y'!CA$7))","v":0},{"$f":"IF(CB$4=\"\",0,SUMIFS(Model!$W38:$ZZ38,Model!$W$6:$ZZ$6,\">=\"&'M-Q-Y'!CB$6,Model!$W$6:$ZZ$6,\"<=\"&'M-Q-Y'!CB$7))","v":0},{"$f":"IF(CC$4=\"\",0,SUMIFS(Model!$W38:$ZZ38,Model!$W$6:$ZZ$6,\">=\"&'M-Q-Y'!CC$6,Model!$W$6:$ZZ$6,\"<=\"&'M-Q-Y'!CC$7))","v":0},{"$f":"IF(CD$4=\"\",0,SUMIFS(Model!$W38:$ZZ38,Model!$W$6:$ZZ$6,\">=\"&'M-Q-Y'!CD$6,Model!$W$6:$ZZ$6,\"<=\"&'M-Q-Y'!CD$7))","v":0},{"$f":"IF(CE$4=\"\",0,SUMIFS(Model!$W38:$ZZ38,Model!$W$6:$ZZ$6,\">=\"&'M-Q-Y'!CE$6,Model!$W$6:$ZZ$6,\"<=\"&'M-Q-Y'!CE$7))","v":0},{"$f":"IF(CF$4=\"\",0,SUMIFS(Model!$W38:$ZZ38,Model!$W$6:$ZZ$6,\">=\"&'M-Q-Y'!CF$6,Model!$W$6:$ZZ$6,\"<=\"&'M-Q-Y'!CF$7))","v":0},{"$f":"IF(CG$4=\"\",0,SUMIFS(Model!$W38:$ZZ38,Model!$W$6:$ZZ$6,\">=\"&'M-Q-Y'!CG$6,Model!$W$6:$ZZ$6,\"<=\"&'M-Q-Y'!CG$7))","v":0},{"$f":"IF(CH$4=\"\",0,SUMIFS(Model!$W38:$ZZ38,Model!$W$6:$ZZ$6,\">=\"&'M-Q-Y'!CH$6,Model!$W$6:$ZZ$6,\"<=\"&'M-Q-Y'!CH$7))","v":0},{"$f":"IF(CI$4=\"\",0,SUMIFS(Model!$W38:$ZZ38,Model!$W$6:$ZZ$6,\">=\"&'M-Q-Y'!CI$6,Model!$W$6:$ZZ$6,\"<=\"&'M-Q-Y'!CI$7))","v":0},{"$f":"IF(CJ$4=\"\",0,SUMIFS(Model!$W38:$ZZ38,Model!$W$6:$ZZ$6,\">=\"&'M-Q-Y'!CJ$6,Model!$W$6:$ZZ$6,\"<=\"&'M-Q-Y'!CJ$7))","v":0},{"$f":"IF(CK$4=\"\",0,SUMIFS(Model!$W38:$ZZ38,Model!$W$6:$ZZ$6,\">=\"&'M-Q-Y'!CK$6,Model!$W$6:$ZZ$6,\"<=\"&'M-Q-Y'!CK$7))","v":0},{"$f":"IF(CL$4=\"\",0,SUMIFS(Model!$W38:$ZZ38,Model!$W$6:$ZZ$6,\">=\"&'M-Q-Y'!CL$6,Model!$W$6:$ZZ$6,\"<=\"&'M-Q-Y'!CL$7))","v":0},{"$f":"IF(CM$4=\"\",0,SUMIFS(Model!$W38:$ZZ38,Model!$W$6:$ZZ$6,\">=\"&'M-Q-Y'!CM$6,Model!$W$6:$ZZ$6,\"<=\"&'M-Q-Y'!CM$7))","v":0},{"$f":"IF(CN$4=\"\",0,SUMIFS(Model!$W38:$ZZ38,Model!$W$6:$ZZ$6,\">=\"&'M-Q-Y'!CN$6,Model!$W$6:$ZZ$6,\"<=\"&'M-Q-Y'!CN$7))","v":0},{"$f":"IF(CO$4=\"\",0,SUMIFS(Model!$W38:$ZZ38,Model!$W$6:$ZZ$6,\">=\"&'M-Q-Y'!CO$6,Model!$W$6:$ZZ$6,\"<=\"&'M-Q-Y'!CO$7))","v":0},{"$f":"IF(CP$4=\"\",0,SUMIFS(Model!$W38:$ZZ38,Model!$W$6:$ZZ$6,\">=\"&'M-Q-Y'!CP$6,Model!$W$6:$ZZ$6,\"<=\"&'M-Q-Y'!CP$7))","v":0},{"$f":"IF(CQ$4=\"\",0,SUMIFS(Model!$W38:$ZZ38,Model!$W$6:$ZZ$6,\">=\"&'M-Q-Y'!CQ$6,Model!$W$6:$ZZ$6,\"<=\"&'M-Q-Y'!CQ$7))","v":0},{"$f":"IF(CR$4=\"\",0,SUMIFS(Model!$W38:$ZZ38,Model!$W$6:$ZZ$6,\">=\"&'M-Q-Y'!CR$6,Model!$W$6:$ZZ$6,\"<=\"&'M-Q-Y'!CR$7))","v":0},{"$f":"IF(CS$4=\"\",0,SUMIFS(Model!$W38:$ZZ38,Model!$W$6:$ZZ$6,\">=\"&'M-Q-Y'!CS$6,Model!$W$6:$ZZ$6,\"<=\"&'M-Q-Y'!CS$7))","v":0},{"$f":"IF(CT$4=\"\",0,SUMIFS(Model!$W38:$ZZ38,Model!$W$6:$ZZ$6,\">=\"&'M-Q-Y'!CT$6,Model!$W$6:$ZZ$6,\"<=\"&'M-Q-Y'!CT$7))","v":0},{"$f":"IF(CU$4=\"\",0,SUMIFS(Model!$W38:$ZZ38,Model!$W$6:$ZZ$6,\">=\"&'M-Q-Y'!CU$6,Model!$W$6:$ZZ$6,\"<=\"&'M-Q-Y'!CU$7))","v":0},{"$f":"IF(CV$4=\"\",0,SUMIFS(Model!$W38:$ZZ38,Model!$W$6:$ZZ$6,\">=\"&'M-Q-Y'!CV$6,Model!$W$6:$ZZ$6,\"<=\"&'M-Q-Y'!CV$7))","v":0},{"$f":"IF(CW$4=\"\",0,SUMIFS(Model!$W38:$ZZ38,Model!$W$6:$ZZ$6,\">=\"&'M-Q-Y'!CW$6,Model!$W$6:$ZZ$6,\"<=\"&'M-Q-Y'!CW$7))","v":0},{"$f":"IF(CX$4=\"\",0,SUMIFS(Model!$W38:$ZZ38,Model!$W$6:$ZZ$6,\">=\"&'M-Q-Y'!CX$6,Model!$W$6:$ZZ$6,\"<=\"&'M-Q-Y'!CX$7))","v":0},{"$f":"IF(CY$4=\"\",0,SUMIFS(Model!$W38:$ZZ38,Model!$W$6:$ZZ$6,\">=\"&'M-Q-Y'!CY$6,Model!$W$6:$ZZ$6,\"<=\"&'M-Q-Y'!CY$7))","v":0},{"$f":"IF(CZ$4=\"\",0,SUMIFS(Model!$W38:$ZZ38,Model!$W$6:$ZZ$6,\">=\"&'M-Q-Y'!CZ$6,Model!$W$6:$ZZ$6,\"<=\"&'M-Q-Y'!CZ$7))","v":0},{"$f":"IF(DA$4=\"\",0,SUMIFS(Model!$W38:$ZZ38,Model!$W$6:$ZZ$6,\">=\"&'M-Q-Y'!DA$6,Model!$W$6:$ZZ$6,\"<=\"&'M-Q-Y'!DA$7))","v":0},{"$f":"IF(DB$4=\"\",0,SUMIFS(Model!$W38:$ZZ38,Model!$W$6:$ZZ$6,\">=\"&'M-Q-Y'!DB$6,Model!$W$6:$ZZ$6,\"<=\"&'M-Q-Y'!DB$7))","v":0},{"$f":"IF(DC$4=\"\",0,SUMIFS(Model!$W38:$ZZ38,Model!$W$6:$ZZ$6,\">=\"&'M-Q-Y'!DC$6,Model!$W$6:$ZZ$6,\"<=\"&'M-Q-Y'!DC$7))","v":0},{"$f":"IF(DD$4=\"\",0,SUMIFS(Model!$W38:$ZZ38,Model!$W$6:$ZZ$6,\">=\"&'M-Q-Y'!DD$6,Model!$W$6:$ZZ$6,\"<=\"&'M-Q-Y'!DD$7))","v":0},{"$f":"IF(DE$4=\"\",0,SUMIFS(Model!$W38:$ZZ38,Model!$W$6:$ZZ$6,\">=\"&'M-Q-Y'!DE$6,Model!$W$6:$ZZ$6,\"<=\"&'M-Q-Y'!DE$7))","v":0},{"$f":"IF(DF$4=\"\",0,SUMIFS(Model!$W38:$ZZ38,Model!$W$6:$ZZ$6,\">=\"&'M-Q-Y'!DF$6,Model!$W$6:$ZZ$6,\"<=\"&'M-Q-Y'!DF$7))","v":0},{"$f":"IF(DG$4=\"\",0,SUMIFS(Model!$W38:$ZZ38,Model!$W$6:$ZZ$6,\">=\"&'M-Q-Y'!DG$6,Model!$W$6:$ZZ$6,\"<=\"&'M-Q-Y'!DG$7))","v":0},{"$f":"IF(DH$4=\"\",0,SUMIFS(Model!$W38:$ZZ38,Model!$W$6:$ZZ$6,\">=\"&'M-Q-Y'!DH$6,Model!$W$6:$ZZ$6,\"<=\"&'M-Q-Y'!DH$7))","v":0},{"$f":"IF(DI$4=\"\",0,SUMIFS(Model!$W38:$ZZ38,Model!$W$6:$ZZ$6,\">=\"&'M-Q-Y'!DI$6,Model!$W$6:$ZZ$6,\"<=\"&'M-Q-Y'!DI$7))","v":0},{"$f":"IF(DJ$4=\"\",0,SUMIFS(Model!$W38:$ZZ38,Model!$W$6:$ZZ$6,\">=\"&'M-Q-Y'!DJ$6,Model!$W$6:$ZZ$6,\"<=\"&'M-Q-Y'!DJ$7))","v":0},{"$f":"IF(DK$4=\"\",0,SUMIFS(Model!$W38:$ZZ38,Model!$W$6:$ZZ$6,\">=\"&'M-Q-Y'!DK$6,Model!$W$6:$ZZ$6,\"<=\"&'M-Q-Y'!DK$7))","v":0},{"$f":"IF(DL$4=\"\",0,SUMIFS(Model!$W38:$ZZ38,Model!$W$6:$ZZ$6,\">=\"&'M-Q-Y'!DL$6,Model!$W$6:$ZZ$6,\"<=\"&'M-Q-Y'!DL$7))","v":0},{"$f":"IF(DM$4=\"\",0,SUMIFS(Model!$W38:$ZZ38,Model!$W$6:$ZZ$6,\">=\"&'M-Q-Y'!DM$6,Model!$W$6:$ZZ$6,\"<=\"&'M-Q-Y'!DM$7))","v":0},{"$f":"IF(DN$4=\"\",0,SUMIFS(Model!$W38:$ZZ38,Model!$W$6:$ZZ$6,\">=\"&'M-Q-Y'!DN$6,Model!$W$6:$ZZ$6,\"<=\"&'M-Q-Y'!DN$7))","v":0},{"$f":"IF(DO$4=\"\",0,SUMIFS(Model!$W38:$ZZ38,Model!$W$6:$ZZ$6,\">=\"&'M-Q-Y'!DO$6,Model!$W$6:$ZZ$6,\"<=\"&'M-Q-Y'!DO$7))","v":0},{"$f":"IF(DP$4=\"\",0,SUMIFS(Model!$W38:$ZZ38,Model!$W$6:$ZZ$6,\">=\"&'M-Q-Y'!DP$6,Model!$W$6:$ZZ$6,\"<=\"&'M-Q-Y'!DP$7))","v":0},{"$f":"IF(DQ$4=\"\",0,SUMIFS(Model!$W38:$ZZ38,Model!$W$6:$ZZ$6,\">=\"&'M-Q-Y'!DQ$6,Model!$W$6:$ZZ$6,\"<=\"&'M-Q-Y'!DQ$7))","v":0},{"$f":"IF(DR$4=\"\",0,SUMIFS(Model!$W38:$ZZ38,Model!$W$6:$ZZ$6,\">=\"&'M-Q-Y'!DR$6,Model!$W$6:$ZZ$6,\"<=\"&'M-Q-Y'!DR$7))","v":0},{"$f":"IF(DS$4=\"\",0,SUMIFS(Model!$W38:$ZZ38,Model!$W$6:$ZZ$6,\">=\"&'M-Q-Y'!DS$6,Model!$W$6:$ZZ$6,\"<=\"&'M-Q-Y'!DS$7))","v":0},{"$f":"IF(DT$4=\"\",0,SUMIFS(Model!$W38:$ZZ38,Model!$W$6:$ZZ$6,\">=\"&'M-Q-Y'!DT$6,Model!$W$6:$ZZ$6,\"<=\"&'M-Q-Y'!DT$7))","v":0},{"$f":"IF(DU$4=\"\",0,SUMIFS(Model!$W38:$ZZ38,Model!$W$6:$ZZ$6,\">=\"&'M-Q-Y'!DU$6,Model!$W$6:$ZZ$6,\"<=\"&'M-Q-Y'!DU$7))","v":0},{"$f":"IF(DV$4=\"\",0,SUMIFS(Model!$W38:$ZZ38,Model!$W$6:$ZZ$6,\">=\"&'M-Q-Y'!DV$6,Model!$W$6:$ZZ$6,\"<=\"&'M-Q-Y'!DV$7))","v":0},{"$f":"IF(DW$4=\"\",0,SUMIFS(Model!$W38:$ZZ38,Model!$W$6:$ZZ$6,\">=\"&'M-Q-Y'!DW$6,Model!$W$6:$ZZ$6,\"<=\"&'M-Q-Y'!DW$7))","v":0},{"$f":"IF(DX$4=\"\",0,SUMIFS(Model!$W38:$ZZ38,Model!$W$6:$ZZ$6,\">=\"&'M-Q-Y'!DX$6,Model!$W$6:$ZZ$6,\"<=\"&'M-Q-Y'!DX$7))","v":0},{"$f":"IF(DY$4=\"\",0,SUMIFS(Model!$W38:$ZZ38,Model!$W$6:$ZZ$6,\">=\"&'M-Q-Y'!DY$6,Model!$W$6:$ZZ$6,\"<=\"&'M-Q-Y'!DY$7))","v":0},{"$f":"IF(DZ$4=\"\",0,SUMIFS(Model!$W38:$ZZ38,Model!$W$6:$ZZ$6,\">=\"&'M-Q-Y'!DZ$6,Model!$W$6:$ZZ$6,\"<=\"&'M-Q-Y'!DZ$7))","v":0},{"$f":"IF(EA$4=\"\",0,SUMIFS(Model!$W38:$ZZ38,Model!$W$6:$ZZ$6,\">=\"&'M-Q-Y'!EA$6,Model!$W$6:$ZZ$6,\"<=\"&'M-Q-Y'!EA$7))","v":0},{"$f":"IF(EB$4=\"\",0,SUMIFS(Model!$W38:$ZZ38,Model!$W$6:$ZZ$6,\">=\"&'M-Q-Y'!EB$6,Model!$W$6:$ZZ$6,\"<=\"&'M-Q-Y'!EB$7))","v":0},{"$f":"IF(EC$4=\"\",0,SUMIFS(Model!$W38:$ZZ38,Model!$W$6:$ZZ$6,\">=\"&'M-Q-Y'!EC$6,Model!$W$6:$ZZ$6,\"<=\"&'M-Q-Y'!EC$7))","v":0},{"$f":"IF(ED$4=\"\",0,SUMIFS(Model!$W38:$ZZ38,Model!$W$6:$ZZ$6,\">=\"&'M-Q-Y'!ED$6,Model!$W$6:$ZZ$6,\"<=\"&'M-Q-Y'!ED$7))","v":0},{"$f":"IF(EE$4=\"\",0,SUMIFS(Model!$W38:$ZZ38,Model!$W$6:$ZZ$6,\">=\"&'M-Q-Y'!EE$6,Model!$W$6:$ZZ$6,\"<=\"&'M-Q-Y'!EE$7))","v":0},{"$f":"IF(EF$4=\"\",0,SUMIFS(Model!$W38:$ZZ38,Model!$W$6:$ZZ$6,\">=\"&'M-Q-Y'!EF$6,Model!$W$6:$ZZ$6,\"<=\"&'M-Q-Y'!EF$7))","v":0},{"$f":"IF(EG$4=\"\",0,SUMIFS(Model!$W38:$ZZ38,Model!$W$6:$ZZ$6,\">=\"&'M-Q-Y'!EG$6,Model!$W$6:$ZZ$6,\"<=\"&'M-Q-Y'!EG$7))","v":0},{"$f":"IF(EH$4=\"\",0,SUMIFS(Model!$W38:$ZZ38,Model!$W$6:$ZZ$6,\">=\"&'M-Q-Y'!EH$6,Model!$W$6:$ZZ$6,\"<=\"&'M-Q-Y'!EH$7))","v":0},{"$f":"IF(EI$4=\"\",0,SUMIFS(Model!$W38:$ZZ38,Model!$W$6:$ZZ$6,\">=\"&'M-Q-Y'!EI$6,Model!$W$6:$ZZ$6,\"<=\"&'M-Q-Y'!EI$7))","v":0},{"$f":"IF(EJ$4=\"\",0,SUMIFS(Model!$W38:$ZZ38,Model!$W$6:$ZZ$6,\">=\"&'M-Q-Y'!EJ$6,Model!$W$6:$ZZ$6,\"<=\"&'M-Q-Y'!EJ$7))","v":0},{"$f":"IF(EK$4=\"\",0,SUMIFS(Model!$W38:$ZZ38,Model!$W$6:$ZZ$6,\">=\"&'M-Q-Y'!EK$6,Model!$W$6:$ZZ$6,\"<=\"&'M-Q-Y'!EK$7))","v":0},{"$f":"IF(EL$4=\"\",0,SUMIFS(Model!$W38:$ZZ38,Model!$W$6:$ZZ$6,\">=\"&'M-Q-Y'!EL$6,Model!$W$6:$ZZ$6,\"<=\"&'M-Q-Y'!EL$7))","v":0},{"$f":"IF(EM$4=\"\",0,SUMIFS(Model!$W38:$ZZ38,Model!$W$6:$ZZ$6,\">=\"&'M-Q-Y'!EM$6,Model!$W$6:$ZZ$6,\"<=\"&'M-Q-Y'!EM$7))","v":0},{"$f":"IF(EN$4=\"\",0,SUMIFS(Model!$W38:$ZZ38,Model!$W$6:$ZZ$6,\">=\"&'M-Q-Y'!EN$6,Model!$W$6:$ZZ$6,\"<=\"&'M-Q-Y'!EN$7))","v":0},{"$f":"IF(EO$4=\"\",0,SUMIFS(Model!$W38:$ZZ38,Model!$W$6:$ZZ$6,\">=\"&'M-Q-Y'!EO$6,Model!$W$6:$ZZ$6,\"<=\"&'M-Q-Y'!EO$7))","v":0},{"$f":"IF(EP$4=\"\",0,SUMIFS(Model!$W38:$ZZ38,Model!$W$6:$ZZ$6,\">=\"&'M-Q-Y'!EP$6,Model!$W$6:$ZZ$6,\"<=\"&'M-Q-Y'!EP$7))","v":0},{"$f":"IF(EQ$4=\"\",0,SUMIFS(Model!$W38:$ZZ38,Model!$W$6:$ZZ$6,\">=\"&'M-Q-Y'!EQ$6,Model!$W$6:$ZZ$6,\"<=\"&'M-Q-Y'!EQ$7))","v":0},{"$f":"IF(ER$4=\"\",0,SUMIFS(Model!$W38:$ZZ38,Model!$W$6:$ZZ$6,\">=\"&'M-Q-Y'!ER$6,Model!$W$6:$ZZ$6,\"<=\"&'M-Q-Y'!ER$7))","v":0},{"$f":"IF(ES$4=\"\",0,SUMIFS(Model!$W38:$ZZ38,Model!$W$6:$ZZ$6,\">=\"&'M-Q-Y'!ES$6,Model!$W$6:$ZZ$6,\"<=\"&'M-Q-Y'!ES$7))","v":0},{"$f":"IF(ET$4=\"\",0,SUMIFS(Model!$W38:$ZZ38,Model!$W$6:$ZZ$6,\">=\"&'M-Q-Y'!ET$6,Model!$W$6:$ZZ$6,\"<=\"&'M-Q-Y'!ET$7))","v":0},{"$f":"IF(EU$4=\"\",0,SUMIFS(Model!$W38:$ZZ38,Model!$W$6:$ZZ$6,\">=\"&'M-Q-Y'!EU$6,Model!$W$6:$ZZ$6,\"<=\"&'M-Q-Y'!EU$7))","v":0},{"$f":"IF(EV$4=\"\",0,SUMIFS(Model!$W38:$ZZ38,Model!$W$6:$ZZ$6,\">=\"&'M-Q-Y'!EV$6,Model!$W$6:$ZZ$6,\"<=\"&'M-Q-Y'!EV$7))","v":0},{"$f":"IF(EW$4=\"\",0,SUMIFS(Model!$W38:$ZZ38,Model!$W$6:$ZZ$6,\">=\"&'M-Q-Y'!EW$6,Model!$W$6:$ZZ$6,\"<=\"&'M-Q-Y'!EW$7))","v":0},{"$f":"IF(EX$4=\"\",0,SUMIFS(Model!$W38:$ZZ38,Model!$W$6:$ZZ$6,\">=\"&'M-Q-Y'!EX$6,Model!$W$6:$ZZ$6,\"<=\"&'M-Q-Y'!EX$7))","v":0},{"$f":"IF(EY$4=\"\",0,SUMIFS(Model!$W38:$ZZ38,Model!$W$6:$ZZ$6,\">=\"&'M-Q-Y'!EY$6,Model!$W$6:$ZZ$6,\"<=\"&'M-Q-Y'!EY$7))","v":0},{"$f":"IF(EZ$4=\"\",0,SUMIFS(Model!$W38:$ZZ38,Model!$W$6:$ZZ$6,\">=\"&'M-Q-Y'!EZ$6,Model!$W$6:$ZZ$6,\"<=\"&'M-Q-Y'!EZ$7))","v":0},{"$f":"IF(FA$4=\"\",0,SUMIFS(Model!$W38:$ZZ38,Model!$W$6:$ZZ$6,\">=\"&'M-Q-Y'!FA$6,Model!$W$6:$ZZ$6,\"<=\"&'M-Q-Y'!FA$7))","v":0},{"$f":"IF(FB$4=\"\",0,SUMIFS(Model!$W38:$ZZ38,Model!$W$6:$ZZ$6,\">=\"&'M-Q-Y'!FB$6,Model!$W$6:$ZZ$6,\"<=\"&'M-Q-Y'!FB$7))","v":0},{"$f":"IF(FC$4=\"\",0,SUMIFS(Model!$W38:$ZZ38,Model!$W$6:$ZZ$6,\">=\"&'M-Q-Y'!FC$6,Model!$W$6:$ZZ$6,\"<=\"&'M-Q-Y'!FC$7))","v":0},{"$f":"IF(FD$4=\"\",0,SUMIFS(Model!$W38:$ZZ38,Model!$W$6:$ZZ$6,\">=\"&'M-Q-Y'!FD$6,Model!$W$6:$ZZ$6,\"<=\"&'M-Q-Y'!FD$7))","v":0},{"$f":"IF(FE$4=\"\",0,SUMIFS(Model!$W38:$ZZ38,Model!$W$6:$ZZ$6,\">=\"&'M-Q-Y'!FE$6,Model!$W$6:$ZZ$6,\"<=\"&'M-Q-Y'!FE$7))","v":0},{"$f":"IF(FF$4=\"\",0,SUMIFS(Model!$W38:$ZZ38,Model!$W$6:$ZZ$6,\">=\"&'M-Q-Y'!FF$6,Model!$W$6:$ZZ$6,\"<=\"&'M-Q-Y'!FF$7))","v":0},{"$f":"IF(FG$4=\"\",0,SUMIFS(Model!$W38:$ZZ38,Model!$W$6:$ZZ$6,\">=\"&'M-Q-Y'!FG$6,Model!$W$6:$ZZ$6,\"<=\"&'M-Q-Y'!FG$7))","v":0},{"$f":"IF(FH$4=\"\",0,SUMIFS(Model!$W38:$ZZ38,Model!$W$6:$ZZ$6,\">=\"&'M-Q-Y'!FH$6,Model!$W$6:$ZZ$6,\"<=\"&'M-Q-Y'!FH$7))","v":0},{"$f":"IF(FI$4=\"\",0,SUMIFS(Model!$W38:$ZZ38,Model!$W$6:$ZZ$6,\">=\"&'M-Q-Y'!FI$6,Model!$W$6:$ZZ$6,\"<=\"&'M-Q-Y'!FI$7))","v":0},{"$f":"IF(FJ$4=\"\",0,SUMIFS(Model!$W38:$ZZ38,Model!$W$6:$ZZ$6,\">=\"&'M-Q-Y'!FJ$6,Model!$W$6:$ZZ$6,\"<=\"&'M-Q-Y'!FJ$7))","v":0},{"$f":"IF(FK$4=\"\",0,SUMIFS(Model!$W38:$ZZ38,Model!$W$6:$ZZ$6,\">=\"&'M-Q-Y'!FK$6,Model!$W$6:$ZZ$6,\"<=\"&'M-Q-Y'!FK$7))","v":0},{"$f":"IF(FL$4=\"\",0,SUMIFS(Model!$W38:$ZZ38,Model!$W$6:$ZZ$6,\">=\"&'M-Q-Y'!FL$6,Model!$W$6:$ZZ$6,\"<=\"&'M-Q-Y'!FL$7))","v":0},{"$f":"IF(FM$4=\"\",0,SUMIFS(Model!$W38:$ZZ38,Model!$W$6:$ZZ$6,\">=\"&'M-Q-Y'!FM$6,Model!$W$6:$ZZ$6,\"<=\"&'M-Q-Y'!FM$7))","v":0},{"$f":"IF(FN$4=\"\",0,SUMIFS(Model!$W38:$ZZ38,Model!$W$6:$ZZ$6,\">=\"&'M-Q-Y'!FN$6,Model!$W$6:$ZZ$6,\"<=\"&'M-Q-Y'!FN$7))","v":0},{"$f":"IF(FO$4=\"\",0,SUMIFS(Model!$W38:$ZZ38,Model!$W$6:$ZZ$6,\">=\"&'M-Q-Y'!FO$6,Model!$W$6:$ZZ$6,\"<=\"&'M-Q-Y'!FO$7))","v":0},{"$f":"IF(FP$4=\"\",0,SUMIFS(Model!$W38:$ZZ38,Model!$W$6:$ZZ$6,\">=\"&'M-Q-Y'!FP$6,Model!$W$6:$ZZ$6,\"<=\"&'M-Q-Y'!FP$7))","v":0},{"$f":"IF(FQ$4=\"\",0,SUMIFS(Model!$W38:$ZZ38,Model!$W$6:$ZZ$6,\">=\"&'M-Q-Y'!FQ$6,Model!$W$6:$ZZ$6,\"<=\"&'M-Q-Y'!FQ$7))","v":0},{"$f":"IF(FR$4=\"\",0,SUMIFS(Model!$W38:$ZZ38,Model!$W$6:$ZZ$6,\">=\"&'M-Q-Y'!FR$6,Model!$W$6:$ZZ$6,\"<=\"&'M-Q-Y'!FR$7))","v":0},{"$f":"IF(FS$4=\"\",0,SUMIFS(Model!$W38:$ZZ38,Model!$W$6:$ZZ$6,\">=\"&'M-Q-Y'!FS$6,Model!$W$6:$ZZ$6,\"<=\"&'M-Q-Y'!FS$7))","v":0},{"$f":"IF(FT$4=\"\",0,SUMIFS(Model!$W38:$ZZ38,Model!$W$6:$ZZ$6,\">=\"&'M-Q-Y'!FT$6,Model!$W$6:$ZZ$6,\"<=\"&'M-Q-Y'!FT$7))","v":0},{"$f":"IF(FU$4=\"\",0,SUMIFS(Model!$W38:$ZZ38,Model!$W$6:$ZZ$6,\">=\"&'M-Q-Y'!FU$6,Model!$W$6:$ZZ$6,\"<=\"&'M-Q-Y'!FU$7))","v":0},{"$f":"IF(FV$4=\"\",0,SUMIFS(Model!$W38:$ZZ38,Model!$W$6:$ZZ$6,\">=\"&'M-Q-Y'!FV$6,Model!$W$6:$ZZ$6,\"<=\"&'M-Q-Y'!FV$7))","v":0},{"$f":"IF(FW$4=\"\",0,SUMIFS(Model!$W38:$ZZ38,Model!$W$6:$ZZ$6,\">=\"&'M-Q-Y'!FW$6,Model!$W$6:$ZZ$6,\"<=\"&'M-Q-Y'!FW$7))","v":0},{"$f":"IF(FX$4=\"\",0,SUMIFS(Model!$W38:$ZZ38,Model!$W$6:$ZZ$6,\">=\"&'M-Q-Y'!FX$6,Model!$W$6:$ZZ$6,\"<=\"&'M-Q-Y'!FX$7))","v":0},{"$f":"IF(FY$4=\"\",0,SUMIFS(Model!$W38:$ZZ38,Model!$W$6:$ZZ$6,\">=\"&'M-Q-Y'!FY$6,Model!$W$6:$ZZ$6,\"<=\"&'M-Q-Y'!FY$7))","v":0},{"$f":"IF(FZ$4=\"\",0,SUMIFS(Model!$W38:$ZZ38,Model!$W$6:$ZZ$6,\">=\"&'M-Q-Y'!FZ$6,Model!$W$6:$ZZ$6,\"<=\"&'M-Q-Y'!FZ$7))","v":0},{"$f":"IF(GA$4=\"\",0,SUMIFS(Model!$W38:$ZZ38,Model!$W$6:$ZZ$6,\">=\"&'M-Q-Y'!GA$6,Model!$W$6:$ZZ$6,\"<=\"&'M-Q-Y'!GA$7))","v":0},{"$f":"IF(GB$4=\"\",0,SUMIFS(Model!$W38:$ZZ38,Model!$W$6:$ZZ$6,\">=\"&'M-Q-Y'!GB$6,Model!$W$6:$ZZ$6,\"<=\"&'M-Q-Y'!GB$7))","v":0},{"$f":"IF(GC$4=\"\",0,SUMIFS(Model!$W38:$ZZ38,Model!$W$6:$ZZ$6,\">=\"&'M-Q-Y'!GC$6,Model!$W$6:$ZZ$6,\"<=\"&'M-Q-Y'!GC$7))","v":0},{"$f":"IF(GD$4=\"\",0,SUMIFS(Model!$W38:$ZZ38,Model!$W$6:$ZZ$6,\">=\"&'M-Q-Y'!GD$6,Model!$W$6:$ZZ$6,\"<=\"&'M-Q-Y'!GD$7))","v":0},{"$f":"IF(GE$4=\"\",0,SUMIFS(Model!$W38:$ZZ38,Model!$W$6:$ZZ$6,\">=\"&'M-Q-Y'!GE$6,Model!$W$6:$ZZ$6,\"<=\"&'M-Q-Y'!GE$7))","v":0},{"$f":"IF(GF$4=\"\",0,SUMIFS(Model!$W38:$ZZ38,Model!$W$6:$ZZ$6,\">=\"&'M-Q-Y'!GF$6,Model!$W$6:$ZZ$6,\"<=\"&'M-Q-Y'!GF$7))","v":0},{"$f":"IF(GG$4=\"\",0,SUMIFS(Model!$W38:$ZZ38,Model!$W$6:$ZZ$6,\">=\"&'M-Q-Y'!GG$6,Model!$W$6:$ZZ$6,\"<=\"&'M-Q-Y'!GG$7))","v":0},{"$f":"IF(GH$4=\"\",0,SUMIFS(Model!$W38:$ZZ38,Model!$W$6:$ZZ$6,\">=\"&'M-Q-Y'!GH$6,Model!$W$6:$ZZ$6,\"<=\"&'M-Q-Y'!GH$7))","v":0},{"$f":"IF(GI$4=\"\",0,SUMIFS(Model!$W38:$ZZ38,Model!$W$6:$ZZ$6,\">=\"&'M-Q-Y'!GI$6,Model!$W$6:$ZZ$6,\"<=\"&'M-Q-Y'!GI$7))","v":0},{"$f":"IF(GJ$4=\"\",0,SUMIFS(Model!$W38:$ZZ38,Model!$W$6:$ZZ$6,\">=\"&'M-Q-Y'!GJ$6,Model!$W$6:$ZZ$6,\"<=\"&'M-Q-Y'!GJ$7))","v":0},{"$f":"IF(GK$4=\"\",0,SUMIFS(Model!$W38:$ZZ38,Model!$W$6:$ZZ$6,\">=\"&'M-Q-Y'!GK$6,Model!$W$6:$ZZ$6,\"<=\"&'M-Q-Y'!GK$7))","v":0},{"$f":"IF(GL$4=\"\",0,SUMIFS(Model!$W38:$ZZ38,Model!$W$6:$ZZ$6,\">=\"&'M-Q-Y'!GL$6,Model!$W$6:$ZZ$6,\"<=\"&'M-Q-Y'!GL$7))","v":0},{"$f":"IF(GM$4=\"\",0,SUMIFS(Model!$W38:$ZZ38,Model!$W$6:$ZZ$6,\">=\"&'M-Q-Y'!GM$6,Model!$W$6:$ZZ$6,\"<=\"&'M-Q-Y'!GM$7))","v":0},{"$f":"IF(GN$4=\"\",0,SUMIFS(Model!$W38:$ZZ38,Model!$W$6:$ZZ$6,\">=\"&'M-Q-Y'!GN$6,Model!$W$6:$ZZ$6,\"<=\"&'M-Q-Y'!GN$7))","v":0},{"$f":"IF(GO$4=\"\",0,SUMIFS(Model!$W38:$ZZ38,Model!$W$6:$ZZ$6,\">=\"&'M-Q-Y'!GO$6,Model!$W$6:$ZZ$6,\"<=\"&'M-Q-Y'!GO$7))","v":0},{"$f":"IF(GP$4=\"\",0,SUMIFS(Model!$W38:$ZZ38,Model!$W$6:$ZZ$6,\">=\"&'M-Q-Y'!GP$6,Model!$W$6:$ZZ$6,\"<=\"&'M-Q-Y'!GP$7))","v":0},{"$f":"IF(GQ$4=\"\",0,SUMIFS(Model!$W38:$ZZ38,Model!$W$6:$ZZ$6,\">=\"&'M-Q-Y'!GQ$6,Model!$W$6:$ZZ$6,\"<=\"&'M-Q-Y'!GQ$7))","v":0},{"$f":"IF(GR$4=\"\",0,SUMIFS(Model!$W38:$ZZ38,Model!$W$6:$ZZ$6,\">=\"&'M-Q-Y'!GR$6,Model!$W$6:$ZZ$6,\"<=\"&'M-Q-Y'!GR$7))","v":0},{"$f":"IF(GS$4=\"\",0,SUMIFS(Model!$W38:$ZZ38,Model!$W$6:$ZZ$6,\">=\"&'M-Q-Y'!GS$6,Model!$W$6:$ZZ$6,\"<=\"&'M-Q-Y'!GS$7))","v":0},{"$f":"IF(GT$4=\"\",0,SUMIFS(Model!$W38:$ZZ38,Model!$W$6:$ZZ$6,\">=\"&'M-Q-Y'!GT$6,Model!$W$6:$ZZ$6,\"<=\"&'M-Q-Y'!GT$7))","v":0},{"$f":"IF(GU$4=\"\",0,SUMIFS(Model!$W38:$ZZ38,Model!$W$6:$ZZ$6,\">=\"&'M-Q-Y'!GU$6,Model!$W$6:$ZZ$6,\"<=\"&'M-Q-Y'!GU$7))","v":0},{"$f":"IF(GV$4=\"\",0,SUMIFS(Model!$W38:$ZZ38,Model!$W$6:$ZZ$6,\">=\"&'M-Q-Y'!GV$6,Model!$W$6:$ZZ$6,\"<=\"&'M-Q-Y'!GV$7))","v":0}]
[null,{"$f":"ROW()","v":32},null,null,null,null,null,{"$f":"H31","v":"Ежемесячные платежи по кредиту"},"Возврат %% по кредиту",null,null,null,"руб.",null,null,null,null,null,null,null,{"$f":"SUM(INDIRECT(ADDRESS($B32,X$2)&\":\"&ADDRESS($B32,MAX($2:$2))))","v":0},null,null,{"$f":"IF(X$4=\"\",0,SUMIFS(Model!$W39:$ZZ39,Model!$W$6:$ZZ$6,\">=\"&'M-Q-Y'!X$6,Model!$W$6:$ZZ$6,\"<=\"&'M-Q-Y'!X$7))","v":0},{"$f":"IF(Y$4=\"\",0,SUMIFS(Model!$W39:$ZZ39,Model!$W$6:$ZZ$6,\">=\"&'M-Q-Y'!Y$6,Model!$W$6:$ZZ$6,\"<=\"&'M-Q-Y'!Y$7))","v":0},{"$f":"IF(Z$4=\"\",0,SUMIFS(Model!$W39:$ZZ39,Model!$W$6:$ZZ$6,\">=\"&'M-Q-Y'!Z$6,Model!$W$6:$ZZ$6,\"<=\"&'M-Q-Y'!Z$7))","v":0},{"$f":"IF(AA$4=\"\",0,SUMIFS(Model!$W39:$ZZ39,Model!$W$6:$ZZ$6,\">=\"&'M-Q-Y'!AA$6,Model!$W$6:$ZZ$6,\"<=\"&'M-Q-Y'!AA$7))","v":0},{"$f":"IF(AB$4=\"\",0,SUMIFS(Model!$W39:$ZZ39,Model!$W$6:$ZZ$6,\">=\"&'M-Q-Y'!AB$6,Model!$W$6:$ZZ$6,\"<=\"&'M-Q-Y'!AB$7))","v":0},{"$f":"IF(AC$4=\"\",0,SUMIFS(Model!$W39:$ZZ39,Model!$W$6:$ZZ$6,\">=\"&'M-Q-Y'!AC$6,Model!$W$6:$ZZ$6,\"<=\"&'M-Q-Y'!AC$7))","v":0},{"$f":"IF(AD$4=\"\",0,SUMIFS(Model!$W39:$ZZ39,Model!$W$6:$ZZ$6,\">=\"&'M-Q-Y'!AD$6,Model!$W$6:$ZZ$6,\"<=\"&'M-Q-Y'!AD$7))","v":0},{"$f":"IF(AE$4=\"\",0,SUMIFS(Model!$W39:$ZZ39,Model!$W$6:$ZZ$6,\">=\"&'M-Q-Y'!AE$6,Model!$W$6:$ZZ$6,\"<=\"&'M-Q-Y'!AE$7))","v":0},{"$f":"IF(AF$4=\"\",0,SUMIFS(Model!$W39:$ZZ39,Model!$W$6:$ZZ$6,\">=\"&'M-Q-Y'!AF$6,Model!$W$6:$ZZ$6,\"<=\"&'M-Q-Y'!AF$7))","v":0},{"$f":"IF(AG$4=\"\",0,SUMIFS(Model!$W39:$ZZ39,Model!$W$6:$ZZ$6,\">=\"&'M-Q-Y'!AG$6,Model!$W$6:$ZZ$6,\"<=\"&'M-Q-Y'!AG$7))","v":0},{"$f":"IF(AH$4=\"\",0,SUMIFS(Model!$W39:$ZZ39,Model!$W$6:$ZZ$6,\">=\"&'M-Q-Y'!AH$6,Model!$W$6:$ZZ$6,\"<=\"&'M-Q-Y'!AH$7))","v":0},{"$f":"IF(AI$4=\"\",0,SUMIFS(Model!$W39:$ZZ39,Model!$W$6:$ZZ$6,\">=\"&'M-Q-Y'!AI$6,Model!$W$6:$ZZ$6,\"<=\"&'M-Q-Y'!AI$7))","v":0},{"$f":"IF(AJ$4=\"\",0,SUMIFS(Model!$W39:$ZZ39,Model!$W$6:$ZZ$6,\">=\"&'M-Q-Y'!AJ$6,Model!$W$6:$ZZ$6,\"<=\"&'M-Q-Y'!AJ$7))","v":0},{"$f":"IF(AK$4=\"\",0,SUMIFS(Model!$W39:$ZZ39,Model!$W$6:$ZZ$6,\">=\"&'M-Q-Y'!AK$6,Model!$W$6:$ZZ$6,\"<=\"&'M-Q-Y'!AK$7))","v":0},{"$f":"IF(AL$4=\"\",0,SUMIFS(Model!$W39:$ZZ39,Model!$W$6:$ZZ$6,\">=\"&'M-Q-Y'!AL$6,Model!$W$6:$ZZ$6,\"<=\"&'M-Q-Y'!AL$7))","v":0},{"$f":"IF(AM$4=\"\",0,SUMIFS(Model!$W39:$ZZ39,Model!$W$6:$ZZ$6,\">=\"&'M-Q-Y'!AM$6,Model!$W$6:$ZZ$6,\"<=\"&'M-Q-Y'!AM$7))","v":0},{"$f":"IF(AN$4=\"\",0,SUMIFS(Model!$W39:$ZZ39,Model!$W$6:$ZZ$6,\">=\"&'M-Q-Y'!AN$6,Model!$W$6:$ZZ$6,\"<=\"&'M-Q-Y'!AN$7))","v":0},{"$f":"IF(AO$4=\"\",0,SUMIFS(Model!$W39:$ZZ39,Model!$W$6:$ZZ$6,\">=\"&'M-Q-Y'!AO$6,Model!$W$6:$ZZ$6,\"<=\"&'M-Q-Y'!AO$7))","v":0},{"$f":"IF(AP$4=\"\",0,SUMIFS(Model!$W39:$ZZ39,Model!$W$6:$ZZ$6,\">=\"&'M-Q-Y'!AP$6,Model!$W$6:$ZZ$6,\"<=\"&'M-Q-Y'!AP$7))","v":0},{"$f":"IF(AQ$4=\"\",0,SUMIFS(Model!$W39:$ZZ39,Model!$W$6:$ZZ$6,\">=\"&'M-Q-Y'!AQ$6,Model!$W$6:$ZZ$6,\"<=\"&'M-Q-Y'!AQ$7))","v":0},{"$f":"IF(AR$4=\"\",0,SUMIFS(Model!$W39:$ZZ39,Model!$W$6:$ZZ$6,\">=\"&'M-Q-Y'!AR$6,Model!$W$6:$ZZ$6,\"<=\"&'M-Q-Y'!AR$7))","v":0},{"$f":"IF(AS$4=\"\",0,SUMIFS(Model!$W39:$ZZ39,Model!$W$6:$ZZ$6,\">=\"&'M-Q-Y'!AS$6,Model!$W$6:$ZZ$6,\"<=\"&'M-Q-Y'!AS$7))","v":0},{"$f":"IF(AT$4=\"\",0,SUMIFS(Model!$W39:$ZZ39,Model!$W$6:$ZZ$6,\">=\"&'M-Q-Y'!AT$6,Model!$W$6:$ZZ$6,\"<=\"&'M-Q-Y'!AT$7))","v":0},{"$f":"IF(AU$4=\"\",0,SUMIFS(Model!$W39:$ZZ39,Model!$W$6:$ZZ$6,\">=\"&'M-Q-Y'!AU$6,Model!$W$6:$ZZ$6,\"<=\"&'M-Q-Y'!AU$7))","v":0},{"$f":"IF(AV$4=\"\",0,SUMIFS(Model!$W39:$ZZ39,Model!$W$6:$ZZ$6,\">=\"&'M-Q-Y'!AV$6,Model!$W$6:$ZZ$6,\"<=\"&'M-Q-Y'!AV$7))","v":0},{"$f":"IF(AW$4=\"\",0,SUMIFS(Model!$W39:$ZZ39,Model!$W$6:$ZZ$6,\">=\"&'M-Q-Y'!AW$6,Model!$W$6:$ZZ$6,\"<=\"&'M-Q-Y'!AW$7))","v":0},{"$f":"IF(AX$4=\"\",0,SUMIFS(Model!$W39:$ZZ39,Model!$W$6:$ZZ$6,\">=\"&'M-Q-Y'!AX$6,Model!$W$6:$ZZ$6,\"<=\"&'M-Q-Y'!AX$7))","v":0},{"$f":"IF(AY$4=\"\",0,SUMIFS(Model!$W39:$ZZ39,Model!$W$6:$ZZ$6,\">=\"&'M-Q-Y'!AY$6,Model!$W$6:$ZZ$6,\"<=\"&'M-Q-Y'!AY$7))","v":0},{"$f":"IF(AZ$4=\"\",0,SUMIFS(Model!$W39:$ZZ39,Model!$W$6:$ZZ$6,\">=\"&'M-Q-Y'!AZ$6,Model!$W$6:$ZZ$6,\"<=\"&'M-Q-Y'!AZ$7))","v":0},{"$f":"IF(BA$4=\"\",0,SUMIFS(Model!$W39:$ZZ39,Model!$W$6:$ZZ$6,\">=\"&'M-Q-Y'!BA$6,Model!$W$6:$ZZ$6,\"<=\"&'M-Q-Y'!BA$7))","v":0},{"$f":"IF(BB$4=\"\",0,SUMIFS(Model!$W39:$ZZ39,Model!$W$6:$ZZ$6,\">=\"&'M-Q-Y'!BB$6,Model!$W$6:$ZZ$6,\"<=\"&'M-Q-Y'!BB$7))","v":0},{"$f":"IF(BC$4=\"\",0,SUMIFS(Model!$W39:$ZZ39,Model!$W$6:$ZZ$6,\">=\"&'M-Q-Y'!BC$6,Model!$W$6:$ZZ$6,\"<=\"&'M-Q-Y'!BC$7))","v":0},{"$f":"IF(BD$4=\"\",0,SUMIFS(Model!$W39:$ZZ39,Model!$W$6:$ZZ$6,\">=\"&'M-Q-Y'!BD$6,Model!$W$6:$ZZ$6,\"<=\"&'M-Q-Y'!BD$7))","v":0},{"$f":"IF(BE$4=\"\",0,SUMIFS(Model!$W39:$ZZ39,Model!$W$6:$ZZ$6,\">=\"&'M-Q-Y'!BE$6,Model!$W$6:$ZZ$6,\"<=\"&'M-Q-Y'!BE$7))","v":0},{"$f":"IF(BF$4=\"\",0,SUMIFS(Model!$W39:$ZZ39,Model!$W$6:$ZZ$6,\">=\"&'M-Q-Y'!BF$6,Model!$W$6:$ZZ$6,\"<=\"&'M-Q-Y'!BF$7))","v":0},{"$f":"IF(BG$4=\"\",0,SUMIFS(Model!$W39:$ZZ39,Model!$W$6:$ZZ$6,\">=\"&'M-Q-Y'!BG$6,Model!$W$6:$ZZ$6,\"<=\"&'M-Q-Y'!BG$7))","v":0},{"$f":"IF(BH$4=\"\",0,SUMIFS(Model!$W39:$ZZ39,Model!$W$6:$ZZ$6,\">=\"&'M-Q-Y'!BH$6,Model!$W$6:$ZZ$6,\"<=\"&'M-Q-Y'!BH$7))","v":0},{"$f":"IF(BI$4=\"\",0,SUMIFS(Model!$W39:$ZZ39,Model!$W$6:$ZZ$6,\">=\"&'M-Q-Y'!BI$6,Model!$W$6:$ZZ$6,\"<=\"&'M-Q-Y'!BI$7))","v":0},{"$f":"IF(BJ$4=\"\",0,SUMIFS(Model!$W39:$ZZ39,Model!$W$6:$ZZ$6,\">=\"&'M-Q-Y'!BJ$6,Model!$W$6:$ZZ$6,\"<=\"&'M-Q-Y'!BJ$7))","v":0},{"$f":"IF(BK$4=\"\",0,SUMIFS(Model!$W39:$ZZ39,Model!$W$6:$ZZ$6,\">=\"&'M-Q-Y'!BK$6,Model!$W$6:$ZZ$6,\"<=\"&'M-Q-Y'!BK$7))","v":0},{"$f":"IF(BL$4=\"\",0,SUMIFS(Model!$W39:$ZZ39,Model!$W$6:$ZZ$6,\">=\"&'M-Q-Y'!BL$6,Model!$W$6:$ZZ$6,\"<=\"&'M-Q-Y'!BL$7))","v":0},{"$f":"IF(BM$4=\"\",0,SUMIFS(Model!$W39:$ZZ39,Model!$W$6:$ZZ$6,\">=\"&'M-Q-Y'!BM$6,Model!$W$6:$ZZ$6,\"<=\"&'M-Q-Y'!BM$7))","v":0},{"$f":"IF(BN$4=\"\",0,SUMIFS(Model!$W39:$ZZ39,Model!$W$6:$ZZ$6,\">=\"&'M-Q-Y'!BN$6,Model!$W$6:$ZZ$6,\"<=\"&'M-Q-Y'!BN$7))","v":0},{"$f":"IF(BO$4=\"\",0,SUMIFS(Model!$W39:$ZZ39,Model!$W$6:$ZZ$6,\">=\"&'M-Q-Y'!BO$6,Model!$W$6:$ZZ$6,\"<=\"&'M-Q-Y'!BO$7))","v":0},{"$f":"IF(BP$4=\"\",0,SUMIFS(Model!$W39:$ZZ39,Model!$W$6:$ZZ$6,\">=\"&'M-Q-Y'!BP$6,Model!$W$6:$ZZ$6,\"<=\"&'M-Q-Y'!BP$7))","v":0},{"$f":"IF(BQ$4=\"\",0,SUMIFS(Model!$W39:$ZZ39,Model!$W$6:$ZZ$6,\">=\"&'M-Q-Y'!BQ$6,Model!$W$6:$ZZ$6,\"<=\"&'M-Q-Y'!BQ$7))","v":0},{"$f":"IF(BR$4=\"\",0,SUMIFS(Model!$W39:$ZZ39,Model!$W$6:$ZZ$6,\">=\"&'M-Q-Y'!BR$6,Model!$W$6:$ZZ$6,\"<=\"&'M-Q-Y'!BR$7))","v":0},{"$f":"IF(BS$4=\"\",0,SUMIFS(Model!$W39:$ZZ39,Model!$W$6:$ZZ$6,\">=\"&'M-Q-Y'!BS$6,Model!$W$6:$ZZ$6,\"<=\"&'M-Q-Y'!BS$7))","v":0},{"$f":"IF(BT$4=\"\",0,SUMIFS(Model!$W39:$ZZ39,Model!$W$6:$ZZ$6,\">=\"&'M-Q-Y'!BT$6,Model!$W$6:$ZZ$6,\"<=\"&'M-Q-Y'!BT$7))","v":0},{"$f":"IF(BU$4=\"\",0,SUMIFS(Model!$W39:$ZZ39,Model!$W$6:$ZZ$6,\">=\"&'M-Q-Y'!BU$6,Model!$W$6:$ZZ$6,\"<=\"&'M-Q-Y'!BU$7))","v":0},{"$f":"IF(BV$4=\"\",0,SUMIFS(Model!$W39:$ZZ39,Model!$W$6:$ZZ$6,\">=\"&'M-Q-Y'!BV$6,Model!$W$6:$ZZ$6,\"<=\"&'M-Q-Y'!BV$7))","v":0},{"$f":"IF(BW$4=\"\",0,SUMIFS(Model!$W39:$ZZ39,Model!$W$6:$ZZ$6,\">=\"&'M-Q-Y'!BW$6,Model!$W$6:$ZZ$6,\"<=\"&'M-Q-Y'!BW$7))","v":0},{"$f":"IF(BX$4=\"\",0,SUMIFS(Model!$W39:$ZZ39,Model!$W$6:$ZZ$6,\">=\"&'M-Q-Y'!BX$6,Model!$W$6:$ZZ$6,\"<=\"&'M-Q-Y'!BX$7))","v":0},{"$f":"IF(BY$4=\"\",0,SUMIFS(Model!$W39:$ZZ39,Model!$W$6:$ZZ$6,\">=\"&'M-Q-Y'!BY$6,Model!$W$6:$ZZ$6,\"<=\"&'M-Q-Y'!BY$7))","v":0},{"$f":"IF(BZ$4=\"\",0,SUMIFS(Model!$W39:$ZZ39,Model!$W$6:$ZZ$6,\">=\"&'M-Q-Y'!BZ$6,Model!$W$6:$ZZ$6,\"<=\"&'M-Q-Y'!BZ$7))","v":0},{"$f":"IF(CA$4=\"\",0,SUMIFS(Model!$W39:$ZZ39,Model!$W$6:$ZZ$6,\">=\"&'M-Q-Y'!CA$6,Model!$W$6:$ZZ$6,\"<=\"&'M-Q-Y'!CA$7))","v":0},{"$f":"IF(CB$4=\"\",0,SUMIFS(Model!$W39:$ZZ39,Model!$W$6:$ZZ$6,\">=\"&'M-Q-Y'!CB$6,Model!$W$6:$ZZ$6,\"<=\"&'M-Q-Y'!CB$7))","v":0},{"$f":"IF(CC$4=\"\",0,SUMIFS(Model!$W39:$ZZ39,Model!$W$6:$ZZ$6,\">=\"&'M-Q-Y'!CC$6,Model!$W$6:$ZZ$6,\"<=\"&'M-Q-Y'!CC$7))","v":0},{"$f":"IF(CD$4=\"\",0,SUMIFS(Model!$W39:$ZZ39,Model!$W$6:$ZZ$6,\">=\"&'M-Q-Y'!CD$6,Model!$W$6:$ZZ$6,\"<=\"&'M-Q-Y'!CD$7))","v":0},{"$f":"IF(CE$4=\"\",0,SUMIFS(Model!$W39:$ZZ39,Model!$W$6:$ZZ$6,\">=\"&'M-Q-Y'!CE$6,Model!$W$6:$ZZ$6,\"<=\"&'M-Q-Y'!CE$7))","v":0},{"$f":"IF(CF$4=\"\",0,SUMIFS(Model!$W39:$ZZ39,Model!$W$6:$ZZ$6,\">=\"&'M-Q-Y'!CF$6,Model!$W$6:$ZZ$6,\"<=\"&'M-Q-Y'!CF$7))","v":0},{"$f":"IF(CG$4=\"\",0,SUMIFS(Model!$W39:$ZZ39,Model!$W$6:$ZZ$6,\">=\"&'M-Q-Y'!CG$6,Model!$W$6:$ZZ$6,\"<=\"&'M-Q-Y'!CG$7))","v":0},{"$f":"IF(CH$4=\"\",0,SUMIFS(Model!$W39:$ZZ39,Model!$W$6:$ZZ$6,\">=\"&'M-Q-Y'!CH$6,Model!$W$6:$ZZ$6,\"<=\"&'M-Q-Y'!CH$7))","v":0},{"$f":"IF(CI$4=\"\",0,SUMIFS(Model!$W39:$ZZ39,Model!$W$6:$ZZ$6,\">=\"&'M-Q-Y'!CI$6,Model!$W$6:$ZZ$6,\"<=\"&'M-Q-Y'!CI$7))","v":0},{"$f":"IF(CJ$4=\"\",0,SUMIFS(Model!$W39:$ZZ39,Model!$W$6:$ZZ$6,\">=\"&'M-Q-Y'!CJ$6,Model!$W$6:$ZZ$6,\"<=\"&'M-Q-Y'!CJ$7))","v":0},{"$f":"IF(CK$4=\"\",0,SUMIFS(Model!$W39:$ZZ39,Model!$W$6:$ZZ$6,\">=\"&'M-Q-Y'!CK$6,Model!$W$6:$ZZ$6,\"<=\"&'M-Q-Y'!CK$7))","v":0},{"$f":"IF(CL$4=\"\",0,SUMIFS(Model!$W39:$ZZ39,Model!$W$6:$ZZ$6,\">=\"&'M-Q-Y'!CL$6,Model!$W$6:$ZZ$6,\"<=\"&'M-Q-Y'!CL$7))","v":0},{"$f":"IF(CM$4=\"\",0,SUMIFS(Model!$W39:$ZZ39,Model!$W$6:$ZZ$6,\">=\"&'M-Q-Y'!CM$6,Model!$W$6:$ZZ$6,\"<=\"&'M-Q-Y'!CM$7))","v":0},{"$f":"IF(CN$4=\"\",0,SUMIFS(Model!$W39:$ZZ39,Model!$W$6:$ZZ$6,\">=\"&'M-Q-Y'!CN$6,Model!$W$6:$ZZ$6,\"<=\"&'M-Q-Y'!CN$7))","v":0},{"$f":"IF(CO$4=\"\",0,SUMIFS(Model!$W39:$ZZ39,Model!$W$6:$ZZ$6,\">=\"&'M-Q-Y'!CO$6,Model!$W$6:$ZZ$6,\"<=\"&'M-Q-Y'!CO$7))","v":0},{"$f":"IF(CP$4=\"\",0,SUMIFS(Model!$W39:$ZZ39,Model!$W$6:$ZZ$6,\">=\"&'M-Q-Y'!CP$6,Model!$W$6:$ZZ$6,\"<=\"&'M-Q-Y'!CP$7))","v":0},{"$f":"IF(CQ$4=\"\",0,SUMIFS(Model!$W39:$ZZ39,Model!$W$6:$ZZ$6,\">=\"&'M-Q-Y'!CQ$6,Model!$W$6:$ZZ$6,\"<=\"&'M-Q-Y'!CQ$7))","v":0},{"$f":"IF(CR$4=\"\",0,SUMIFS(Model!$W39:$ZZ39,Model!$W$6:$ZZ$6,\">=\"&'M-Q-Y'!CR$6,Model!$W$6:$ZZ$6,\"<=\"&'M-Q-Y'!CR$7))","v":0},{"$f":"IF(CS$4=\"\",0,SUMIFS(Model!$W39:$ZZ39,Model!$W$6:$ZZ$6,\">=\"&'M-Q-Y'!CS$6,Model!$W$6:$ZZ$6,\"<=\"&'M-Q-Y'!CS$7))","v":0},{"$f":"IF(CT$4=\"\",0,SUMIFS(Model!$W39:$ZZ39,Model!$W$6:$ZZ$6,\">=\"&'M-Q-Y'!CT$6,Model!$W$6:$ZZ$6,\"<=\"&'M-Q-Y'!CT$7))","v":0},{"$f":"IF(CU$4=\"\",0,SUMIFS(Model!$W39:$ZZ39,Model!$W$6:$ZZ$6,\">=\"&'M-Q-Y'!CU$6,Model!$W$6:$ZZ$6,\"<=\"&'M-Q-Y'!CU$7))","v":0},{"$f":"IF(CV$4=\"\",0,SUMIFS(Model!$W39:$ZZ39,Model!$W$6:$ZZ$6,\">=\"&'M-Q-Y'!CV$6,Model!$W$6:$ZZ$6,\"<=\"&'M-Q-Y'!CV$7))","v":0},{"$f":"IF(CW$4=\"\",0,SUMIFS(Model!$W39:$ZZ39,Model!$W$6:$ZZ$6,\">=\"&'M-Q-Y'!CW$6,Model!$W$6:$ZZ$6,\"<=\"&'M-Q-Y'!CW$7))","v":0},{"$f":"IF(CX$4=\"\",0,SUMIFS(Model!$W39:$ZZ39,Model!$W$6:$ZZ$6,\">=\"&'M-Q-Y'!CX$6,Model!$W$6:$ZZ$6,\"<=\"&'M-Q-Y'!CX$7))","v":0},{"$f":"IF(CY$4=\"\",0,SUMIFS(Model!$W39:$ZZ39,Model!$W$6:$ZZ$6,\">=\"&'M-Q-Y'!CY$6,Model!$W$6:$ZZ$6,\"<=\"&'M-Q-Y'!CY$7))","v":0},{"$f":"IF(CZ$4=\"\",0,SUMIFS(Model!$W39:$ZZ39,Model!$W$6:$ZZ$6,\">=\"&'M-Q-Y'!CZ$6,Model!$W$6:$ZZ$6,\"<=\"&'M-Q-Y'!CZ$7))","v":0},{"$f":"IF(DA$4=\"\",0,SUMIFS(Model!$W39:$ZZ39,Model!$W$6:$ZZ$6,\">=\"&'M-Q-Y'!DA$6,Model!$W$6:$ZZ$6,\"<=\"&'M-Q-Y'!DA$7))","v":0},{"$f":"IF(DB$4=\"\",0,SUMIFS(Model!$W39:$ZZ39,Model!$W$6:$ZZ$6,\">=\"&'M-Q-Y'!DB$6,Model!$W$6:$ZZ$6,\"<=\"&'M-Q-Y'!DB$7))","v":0},{"$f":"IF(DC$4=\"\",0,SUMIFS(Model!$W39:$ZZ39,Model!$W$6:$ZZ$6,\">=\"&'M-Q-Y'!DC$6,Model!$W$6:$ZZ$6,\"<=\"&'M-Q-Y'!DC$7))","v":0},{"$f":"IF(DD$4=\"\",0,SUMIFS(Model!$W39:$ZZ39,Model!$W$6:$ZZ$6,\">=\"&'M-Q-Y'!DD$6,Model!$W$6:$ZZ$6,\"<=\"&'M-Q-Y'!DD$7))","v":0},{"$f":"IF(DE$4=\"\",0,SUMIFS(Model!$W39:$ZZ39,Model!$W$6:$ZZ$6,\">=\"&'M-Q-Y'!DE$6,Model!$W$6:$ZZ$6,\"<=\"&'M-Q-Y'!DE$7))","v":0},{"$f":"IF(DF$4=\"\",0,SUMIFS(Model!$W39:$ZZ39,Model!$W$6:$ZZ$6,\">=\"&'M-Q-Y'!DF$6,Model!$W$6:$ZZ$6,\"<=\"&'M-Q-Y'!DF$7))","v":0},{"$f":"IF(DG$4=\"\",0,SUMIFS(Model!$W39:$ZZ39,Model!$W$6:$ZZ$6,\">=\"&'M-Q-Y'!DG$6,Model!$W$6:$ZZ$6,\"<=\"&'M-Q-Y'!DG$7))","v":0},{"$f":"IF(DH$4=\"\",0,SUMIFS(Model!$W39:$ZZ39,Model!$W$6:$ZZ$6,\">=\"&'M-Q-Y'!DH$6,Model!$W$6:$ZZ$6,\"<=\"&'M-Q-Y'!DH$7))","v":0},{"$f":"IF(DI$4=\"\",0,SUMIFS(Model!$W39:$ZZ39,Model!$W$6:$ZZ$6,\">=\"&'M-Q-Y'!DI$6,Model!$W$6:$ZZ$6,\"<=\"&'M-Q-Y'!DI$7))","v":0},{"$f":"IF(DJ$4=\"\",0,SUMIFS(Model!$W39:$ZZ39,Model!$W$6:$ZZ$6,\">=\"&'M-Q-Y'!DJ$6,Model!$W$6:$ZZ$6,\"<=\"&'M-Q-Y'!DJ$7))","v":0},{"$f":"IF(DK$4=\"\",0,SUMIFS(Model!$W39:$ZZ39,Model!$W$6:$ZZ$6,\">=\"&'M-Q-Y'!DK$6,Model!$W$6:$ZZ$6,\"<=\"&'M-Q-Y'!DK$7))","v":0},{"$f":"IF(DL$4=\"\",0,SUMIFS(Model!$W39:$ZZ39,Model!$W$6:$ZZ$6,\">=\"&'M-Q-Y'!DL$6,Model!$W$6:$ZZ$6,\"<=\"&'M-Q-Y'!DL$7))","v":0},{"$f":"IF(DM$4=\"\",0,SUMIFS(Model!$W39:$ZZ39,Model!$W$6:$ZZ$6,\">=\"&'M-Q-Y'!DM$6,Model!$W$6:$ZZ$6,\"<=\"&'M-Q-Y'!DM$7))","v":0},{"$f":"IF(DN$4=\"\",0,SUMIFS(Model!$W39:$ZZ39,Model!$W$6:$ZZ$6,\">=\"&'M-Q-Y'!DN$6,Model!$W$6:$ZZ$6,\"<=\"&'M-Q-Y'!DN$7))","v":0},{"$f":"IF(DO$4=\"\",0,SUMIFS(Model!$W39:$ZZ39,Model!$W$6:$ZZ$6,\">=\"&'M-Q-Y'!DO$6,Model!$W$6:$ZZ$6,\"<=\"&'M-Q-Y'!DO$7))","v":0},{"$f":"IF(DP$4=\"\",0,SUMIFS(Model!$W39:$ZZ39,Model!$W$6:$ZZ$6,\">=\"&'M-Q-Y'!DP$6,Model!$W$6:$ZZ$6,\"<=\"&'M-Q-Y'!DP$7))","v":0},{"$f":"IF(DQ$4=\"\",0,SUMIFS(Model!$W39:$ZZ39,Model!$W$6:$ZZ$6,\">=\"&'M-Q-Y'!DQ$6,Model!$W$6:$ZZ$6,\"<=\"&'M-Q-Y'!DQ$7))","v":0},{"$f":"IF(DR$4=\"\",0,SUMIFS(Model!$W39:$ZZ39,Model!$W$6:$ZZ$6,\">=\"&'M-Q-Y'!DR$6,Model!$W$6:$ZZ$6,\"<=\"&'M-Q-Y'!DR$7))","v":0},{"$f":"IF(DS$4=\"\",0,SUMIFS(Model!$W39:$ZZ39,Model!$W$6:$ZZ$6,\">=\"&'M-Q-Y'!DS$6,Model!$W$6:$ZZ$6,\"<=\"&'M-Q-Y'!DS$7))","v":0},{"$f":"IF(DT$4=\"\",0,SUMIFS(Model!$W39:$ZZ39,Model!$W$6:$ZZ$6,\">=\"&'M-Q-Y'!DT$6,Model!$W$6:$ZZ$6,\"<=\"&'M-Q-Y'!DT$7))","v":0},{"$f":"IF(DU$4=\"\",0,SUMIFS(Model!$W39:$ZZ39,Model!$W$6:$ZZ$6,\">=\"&'M-Q-Y'!DU$6,Model!$W$6:$ZZ$6,\"<=\"&'M-Q-Y'!DU$7))","v":0},{"$f":"IF(DV$4=\"\",0,SUMIFS(Model!$W39:$ZZ39,Model!$W$6:$ZZ$6,\">=\"&'M-Q-Y'!DV$6,Model!$W$6:$ZZ$6,\"<=\"&'M-Q-Y'!DV$7))","v":0},{"$f":"IF(DW$4=\"\",0,SUMIFS(Model!$W39:$ZZ39,Model!$W$6:$ZZ$6,\">=\"&'M-Q-Y'!DW$6,Model!$W$6:$ZZ$6,\"<=\"&'M-Q-Y'!DW$7))","v":0},{"$f":"IF(DX$4=\"\",0,SUMIFS(Model!$W39:$ZZ39,Model!$W$6:$ZZ$6,\">=\"&'M-Q-Y'!DX$6,Model!$W$6:$ZZ$6,\"<=\"&'M-Q-Y'!DX$7))","v":0},{"$f":"IF(DY$4=\"\",0,SUMIFS(Model!$W39:$ZZ39,Model!$W$6:$ZZ$6,\">=\"&'M-Q-Y'!DY$6,Model!$W$6:$ZZ$6,\"<=\"&'M-Q-Y'!DY$7))","v":0},{"$f":"IF(DZ$4=\"\",0,SUMIFS(Model!$W39:$ZZ39,Model!$W$6:$ZZ$6,\">=\"&'M-Q-Y'!DZ$6,Model!$W$6:$ZZ$6,\"<=\"&'M-Q-Y'!DZ$7))","v":0},{"$f":"IF(EA$4=\"\",0,SUMIFS(Model!$W39:$ZZ39,Model!$W$6:$ZZ$6,\">=\"&'M-Q-Y'!EA$6,Model!$W$6:$ZZ$6,\"<=\"&'M-Q-Y'!EA$7))","v":0},{"$f":"IF(EB$4=\"\",0,SUMIFS(Model!$W39:$ZZ39,Model!$W$6:$ZZ$6,\">=\"&'M-Q-Y'!EB$6,Model!$W$6:$ZZ$6,\"<=\"&'M-Q-Y'!EB$7))","v":0},{"$f":"IF(EC$4=\"\",0,SUMIFS(Model!$W39:$ZZ39,Model!$W$6:$ZZ$6,\">=\"&'M-Q-Y'!EC$6,Model!$W$6:$ZZ$6,\"<=\"&'M-Q-Y'!EC$7))","v":0},{"$f":"IF(ED$4=\"\",0,SUMIFS(Model!$W39:$ZZ39,Model!$W$6:$ZZ$6,\">=\"&'M-Q-Y'!ED$6,Model!$W$6:$ZZ$6,\"<=\"&'M-Q-Y'!ED$7))","v":0},{"$f":"IF(EE$4=\"\",0,SUMIFS(Model!$W39:$ZZ39,Model!$W$6:$ZZ$6,\">=\"&'M-Q-Y'!EE$6,Model!$W$6:$ZZ$6,\"<=\"&'M-Q-Y'!EE$7))","v":0},{"$f":"IF(EF$4=\"\",0,SUMIFS(Model!$W39:$ZZ39,Model!$W$6:$ZZ$6,\">=\"&'M-Q-Y'!EF$6,Model!$W$6:$ZZ$6,\"<=\"&'M-Q-Y'!EF$7))","v":0},{"$f":"IF(EG$4=\"\",0,SUMIFS(Model!$W39:$ZZ39,Model!$W$6:$ZZ$6,\">=\"&'M-Q-Y'!EG$6,Model!$W$6:$ZZ$6,\"<=\"&'M-Q-Y'!EG$7))","v":0},{"$f":"IF(EH$4=\"\",0,SUMIFS(Model!$W39:$ZZ39,Model!$W$6:$ZZ$6,\">=\"&'M-Q-Y'!EH$6,Model!$W$6:$ZZ$6,\"<=\"&'M-Q-Y'!EH$7))","v":0},{"$f":"IF(EI$4=\"\",0,SUMIFS(Model!$W39:$ZZ39,Model!$W$6:$ZZ$6,\">=\"&'M-Q-Y'!EI$6,Model!$W$6:$ZZ$6,\"<=\"&'M-Q-Y'!EI$7))","v":0},{"$f":"IF(EJ$4=\"\",0,SUMIFS(Model!$W39:$ZZ39,Model!$W$6:$ZZ$6,\">=\"&'M-Q-Y'!EJ$6,Model!$W$6:$ZZ$6,\"<=\"&'M-Q-Y'!EJ$7))","v":0},{"$f":"IF(EK$4=\"\",0,SUMIFS(Model!$W39:$ZZ39,Model!$W$6:$ZZ$6,\">=\"&'M-Q-Y'!EK$6,Model!$W$6:$ZZ$6,\"<=\"&'M-Q-Y'!EK$7))","v":0},{"$f":"IF(EL$4=\"\",0,SUMIFS(Model!$W39:$ZZ39,Model!$W$6:$ZZ$6,\">=\"&'M-Q-Y'!EL$6,Model!$W$6:$ZZ$6,\"<=\"&'M-Q-Y'!EL$7))","v":0},{"$f":"IF(EM$4=\"\",0,SUMIFS(Model!$W39:$ZZ39,Model!$W$6:$ZZ$6,\">=\"&'M-Q-Y'!EM$6,Model!$W$6:$ZZ$6,\"<=\"&'M-Q-Y'!EM$7))","v":0},{"$f":"IF(EN$4=\"\",0,SUMIFS(Model!$W39:$ZZ39,Model!$W$6:$ZZ$6,\">=\"&'M-Q-Y'!EN$6,Model!$W$6:$ZZ$6,\"<=\"&'M-Q-Y'!EN$7))","v":0},{"$f":"IF(EO$4=\"\",0,SUMIFS(Model!$W39:$ZZ39,Model!$W$6:$ZZ$6,\">=\"&'M-Q-Y'!EO$6,Model!$W$6:$ZZ$6,\"<=\"&'M-Q-Y'!EO$7))","v":0},{"$f":"IF(EP$4=\"\",0,SUMIFS(Model!$W39:$ZZ39,Model!$W$6:$ZZ$6,\">=\"&'M-Q-Y'!EP$6,Model!$W$6:$ZZ$6,\"<=\"&'M-Q-Y'!EP$7))","v":0},{"$f":"IF(EQ$4=\"\",0,SUMIFS(Model!$W39:$ZZ39,Model!$W$6:$ZZ$6,\">=\"&'M-Q-Y'!EQ$6,Model!$W$6:$ZZ$6,\"<=\"&'M-Q-Y'!EQ$7))","v":0},{"$f":"IF(ER$4=\"\",0,SUMIFS(Model!$W39:$ZZ39,Model!$W$6:$ZZ$6,\">=\"&'M-Q-Y'!ER$6,Model!$W$6:$ZZ$6,\"<=\"&'M-Q-Y'!ER$7))","v":0},{"$f":"IF(ES$4=\"\",0,SUMIFS(Model!$W39:$ZZ39,Model!$W$6:$ZZ$6,\">=\"&'M-Q-Y'!ES$6,Model!$W$6:$ZZ$6,\"<=\"&'M-Q-Y'!ES$7))","v":0},{"$f":"IF(ET$4=\"\",0,SUMIFS(Model!$W39:$ZZ39,Model!$W$6:$ZZ$6,\">=\"&'M-Q-Y'!ET$6,Model!$W$6:$ZZ$6,\"<=\"&'M-Q-Y'!ET$7))","v":0},{"$f":"IF(EU$4=\"\",0,SUMIFS(Model!$W39:$ZZ39,Model!$W$6:$ZZ$6,\">=\"&'M-Q-Y'!EU$6,Model!$W$6:$ZZ$6,\"<=\"&'M-Q-Y'!EU$7))","v":0},{"$f":"IF(EV$4=\"\",0,SUMIFS(Model!$W39:$ZZ39,Model!$W$6:$ZZ$6,\">=\"&'M-Q-Y'!EV$6,Model!$W$6:$ZZ$6,\"<=\"&'M-Q-Y'!EV$7))","v":0},{"$f":"IF(EW$4=\"\",0,SUMIFS(Model!$W39:$ZZ39,Model!$W$6:$ZZ$6,\">=\"&'M-Q-Y'!EW$6,Model!$W$6:$ZZ$6,\"<=\"&'M-Q-Y'!EW$7))","v":0},{"$f":"IF(EX$4=\"\",0,SUMIFS(Model!$W39:$ZZ39,Model!$W$6:$ZZ$6,\">=\"&'M-Q-Y'!EX$6,Model!$W$6:$ZZ$6,\"<=\"&'M-Q-Y'!EX$7))","v":0},{"$f":"IF(EY$4=\"\",0,SUMIFS(Model!$W39:$ZZ39,Model!$W$6:$ZZ$6,\">=\"&'M-Q-Y'!EY$6,Model!$W$6:$ZZ$6,\"<=\"&'M-Q-Y'!EY$7))","v":0},{"$f":"IF(EZ$4=\"\",0,SUMIFS(Model!$W39:$ZZ39,Model!$W$6:$ZZ$6,\">=\"&'M-Q-Y'!EZ$6,Model!$W$6:$ZZ$6,\"<=\"&'M-Q-Y'!EZ$7))","v":0},{"$f":"IF(FA$4=\"\",0,SUMIFS(Model!$W39:$ZZ39,Model!$W$6:$ZZ$6,\">=\"&'M-Q-Y'!FA$6,Model!$W$6:$ZZ$6,\"<=\"&'M-Q-Y'!FA$7))","v":0},{"$f":"IF(FB$4=\"\",0,SUMIFS(Model!$W39:$ZZ39,Model!$W$6:$ZZ$6,\">=\"&'M-Q-Y'!FB$6,Model!$W$6:$ZZ$6,\"<=\"&'M-Q-Y'!FB$7))","v":0},{"$f":"IF(FC$4=\"\",0,SUMIFS(Model!$W39:$ZZ39,Model!$W$6:$ZZ$6,\">=\"&'M-Q-Y'!FC$6,Model!$W$6:$ZZ$6,\"<=\"&'M-Q-Y'!FC$7))","v":0},{"$f":"IF(FD$4=\"\",0,SUMIFS(Model!$W39:$ZZ39,Model!$W$6:$ZZ$6,\">=\"&'M-Q-Y'!FD$6,Model!$W$6:$ZZ$6,\"<=\"&'M-Q-Y'!FD$7))","v":0},{"$f":"IF(FE$4=\"\",0,SUMIFS(Model!$W39:$ZZ39,Model!$W$6:$ZZ$6,\">=\"&'M-Q-Y'!FE$6,Model!$W$6:$ZZ$6,\"<=\"&'M-Q-Y'!FE$7))","v":0},{"$f":"IF(FF$4=\"\",0,SUMIFS(Model!$W39:$ZZ39,Model!$W$6:$ZZ$6,\">=\"&'M-Q-Y'!FF$6,Model!$W$6:$ZZ$6,\"<=\"&'M-Q-Y'!FF$7))","v":0},{"$f":"IF(FG$4=\"\",0,SUMIFS(Model!$W39:$ZZ39,Model!$W$6:$ZZ$6,\">=\"&'M-Q-Y'!FG$6,Model!$W$6:$ZZ$6,\"<=\"&'M-Q-Y'!FG$7))","v":0},{"$f":"IF(FH$4=\"\",0,SUMIFS(Model!$W39:$ZZ39,Model!$W$6:$ZZ$6,\">=\"&'M-Q-Y'!FH$6,Model!$W$6:$ZZ$6,\"<=\"&'M-Q-Y'!FH$7))","v":0},{"$f":"IF(FI$4=\"\",0,SUMIFS(Model!$W39:$ZZ39,Model!$W$6:$ZZ$6,\">=\"&'M-Q-Y'!FI$6,Model!$W$6:$ZZ$6,\"<=\"&'M-Q-Y'!FI$7))","v":0},{"$f":"IF(FJ$4=\"\",0,SUMIFS(Model!$W39:$ZZ39,Model!$W$6:$ZZ$6,\">=\"&'M-Q-Y'!FJ$6,Model!$W$6:$ZZ$6,\"<=\"&'M-Q-Y'!FJ$7))","v":0},{"$f":"IF(FK$4=\"\",0,SUMIFS(Model!$W39:$ZZ39,Model!$W$6:$ZZ$6,\">=\"&'M-Q-Y'!FK$6,Model!$W$6:$ZZ$6,\"<=\"&'M-Q-Y'!FK$7))","v":0},{"$f":"IF(FL$4=\"\",0,SUMIFS(Model!$W39:$ZZ39,Model!$W$6:$ZZ$6,\">=\"&'M-Q-Y'!FL$6,Model!$W$6:$ZZ$6,\"<=\"&'M-Q-Y'!FL$7))","v":0},{"$f":"IF(FM$4=\"\",0,SUMIFS(Model!$W39:$ZZ39,Model!$W$6:$ZZ$6,\">=\"&'M-Q-Y'!FM$6,Model!$W$6:$ZZ$6,\"<=\"&'M-Q-Y'!FM$7))","v":0},{"$f":"IF(FN$4=\"\",0,SUMIFS(Model!$W39:$ZZ39,Model!$W$6:$ZZ$6,\">=\"&'M-Q-Y'!FN$6,Model!$W$6:$ZZ$6,\"<=\"&'M-Q-Y'!FN$7))","v":0},{"$f":"IF(FO$4=\"\",0,SUMIFS(Model!$W39:$ZZ39,Model!$W$6:$ZZ$6,\">=\"&'M-Q-Y'!FO$6,Model!$W$6:$ZZ$6,\"<=\"&'M-Q-Y'!FO$7))","v":0},{"$f":"IF(FP$4=\"\",0,SUMIFS(Model!$W39:$ZZ39,Model!$W$6:$ZZ$6,\">=\"&'M-Q-Y'!FP$6,Model!$W$6:$ZZ$6,\"<=\"&'M-Q-Y'!FP$7))","v":0},{"$f":"IF(FQ$4=\"\",0,SUMIFS(Model!$W39:$ZZ39,Model!$W$6:$ZZ$6,\">=\"&'M-Q-Y'!FQ$6,Model!$W$6:$ZZ$6,\"<=\"&'M-Q-Y'!FQ$7))","v":0},{"$f":"IF(FR$4=\"\",0,SUMIFS(Model!$W39:$ZZ39,Model!$W$6:$ZZ$6,\">=\"&'M-Q-Y'!FR$6,Model!$W$6:$ZZ$6,\"<=\"&'M-Q-Y'!FR$7))","v":0},{"$f":"IF(FS$4=\"\",0,SUMIFS(Model!$W39:$ZZ39,Model!$W$6:$ZZ$6,\">=\"&'M-Q-Y'!FS$6,Model!$W$6:$ZZ$6,\"<=\"&'M-Q-Y'!FS$7))","v":0},{"$f":"IF(FT$4=\"\",0,SUMIFS(Model!$W39:$ZZ39,Model!$W$6:$ZZ$6,\">=\"&'M-Q-Y'!FT$6,Model!$W$6:$ZZ$6,\"<=\"&'M-Q-Y'!FT$7))","v":0},{"$f":"IF(FU$4=\"\",0,SUMIFS(Model!$W39:$ZZ39,Model!$W$6:$ZZ$6,\">=\"&'M-Q-Y'!FU$6,Model!$W$6:$ZZ$6,\"<=\"&'M-Q-Y'!FU$7))","v":0},{"$f":"IF(FV$4=\"\",0,SUMIFS(Model!$W39:$ZZ39,Model!$W$6:$ZZ$6,\">=\"&'M-Q-Y'!FV$6,Model!$W$6:$ZZ$6,\"<=\"&'M-Q-Y'!FV$7))","v":0},{"$f":"IF(FW$4=\"\",0,SUMIFS(Model!$W39:$ZZ39,Model!$W$6:$ZZ$6,\">=\"&'M-Q-Y'!FW$6,Model!$W$6:$ZZ$6,\"<=\"&'M-Q-Y'!FW$7))","v":0},{"$f":"IF(FX$4=\"\",0,SUMIFS(Model!$W39:$ZZ39,Model!$W$6:$ZZ$6,\">=\"&'M-Q-Y'!FX$6,Model!$W$6:$ZZ$6,\"<=\"&'M-Q-Y'!FX$7))","v":0},{"$f":"IF(FY$4=\"\",0,SUMIFS(Model!$W39:$ZZ39,Model!$W$6:$ZZ$6,\">=\"&'M-Q-Y'!FY$6,Model!$W$6:$ZZ$6,\"<=\"&'M-Q-Y'!FY$7))","v":0},{"$f":"IF(FZ$4=\"\",0,SUMIFS(Model!$W39:$ZZ39,Model!$W$6:$ZZ$6,\">=\"&'M-Q-Y'!FZ$6,Model!$W$6:$ZZ$6,\"<=\"&'M-Q-Y'!FZ$7))","v":0},{"$f":"IF(GA$4=\"\",0,SUMIFS(Model!$W39:$ZZ39,Model!$W$6:$ZZ$6,\">=\"&'M-Q-Y'!GA$6,Model!$W$6:$ZZ$6,\"<=\"&'M-Q-Y'!GA$7))","v":0},{"$f":"IF(GB$4=\"\",0,SUMIFS(Model!$W39:$ZZ39,Model!$W$6:$ZZ$6,\">=\"&'M-Q-Y'!GB$6,Model!$W$6:$ZZ$6,\"<=\"&'M-Q-Y'!GB$7))","v":0},{"$f":"IF(GC$4=\"\",0,SUMIFS(Model!$W39:$ZZ39,Model!$W$6:$ZZ$6,\">=\"&'M-Q-Y'!GC$6,Model!$W$6:$ZZ$6,\"<=\"&'M-Q-Y'!GC$7))","v":0},{"$f":"IF(GD$4=\"\",0,SUMIFS(Model!$W39:$ZZ39,Model!$W$6:$ZZ$6,\">=\"&'M-Q-Y'!GD$6,Model!$W$6:$ZZ$6,\"<=\"&'M-Q-Y'!GD$7))","v":0},{"$f":"IF(GE$4=\"\",0,SUMIFS(Model!$W39:$ZZ39,Model!$W$6:$ZZ$6,\">=\"&'M-Q-Y'!GE$6,Model!$W$6:$ZZ$6,\"<=\"&'M-Q-Y'!GE$7))","v":0},{"$f":"IF(GF$4=\"\",0,SUMIFS(Model!$W39:$ZZ39,Model!$W$6:$ZZ$6,\">=\"&'M-Q-Y'!GF$6,Model!$W$6:$ZZ$6,\"<=\"&'M-Q-Y'!GF$7))","v":0},{"$f":"IF(GG$4=\"\",0,SUMIFS(Model!$W39:$ZZ39,Model!$W$6:$ZZ$6,\">=\"&'M-Q-Y'!GG$6,Model!$W$6:$ZZ$6,\"<=\"&'M-Q-Y'!GG$7))","v":0},{"$f":"IF(GH$4=\"\",0,SUMIFS(Model!$W39:$ZZ39,Model!$W$6:$ZZ$6,\">=\"&'M-Q-Y'!GH$6,Model!$W$6:$ZZ$6,\"<=\"&'M-Q-Y'!GH$7))","v":0},{"$f":"IF(GI$4=\"\",0,SUMIFS(Model!$W39:$ZZ39,Model!$W$6:$ZZ$6,\">=\"&'M-Q-Y'!GI$6,Model!$W$6:$ZZ$6,\"<=\"&'M-Q-Y'!GI$7))","v":0},{"$f":"IF(GJ$4=\"\",0,SUMIFS(Model!$W39:$ZZ39,Model!$W$6:$ZZ$6,\">=\"&'M-Q-Y'!GJ$6,Model!$W$6:$ZZ$6,\"<=\"&'M-Q-Y'!GJ$7))","v":0},{"$f":"IF(GK$4=\"\",0,SUMIFS(Model!$W39:$ZZ39,Model!$W$6:$ZZ$6,\">=\"&'M-Q-Y'!GK$6,Model!$W$6:$ZZ$6,\"<=\"&'M-Q-Y'!GK$7))","v":0},{"$f":"IF(GL$4=\"\",0,SUMIFS(Model!$W39:$ZZ39,Model!$W$6:$ZZ$6,\">=\"&'M-Q-Y'!GL$6,Model!$W$6:$ZZ$6,\"<=\"&'M-Q-Y'!GL$7))","v":0},{"$f":"IF(GM$4=\"\",0,SUMIFS(Model!$W39:$ZZ39,Model!$W$6:$ZZ$6,\">=\"&'M-Q-Y'!GM$6,Model!$W$6:$ZZ$6,\"<=\"&'M-Q-Y'!GM$7))","v":0},{"$f":"IF(GN$4=\"\",0,SUMIFS(Model!$W39:$ZZ39,Model!$W$6:$ZZ$6,\">=\"&'M-Q-Y'!GN$6,Model!$W$6:$ZZ$6,\"<=\"&'M-Q-Y'!GN$7))","v":0},{"$f":"IF(GO$4=\"\",0,SUMIFS(Model!$W39:$ZZ39,Model!$W$6:$ZZ$6,\">=\"&'M-Q-Y'!GO$6,Model!$W$6:$ZZ$6,\"<=\"&'M-Q-Y'!GO$7))","v":0},{"$f":"IF(GP$4=\"\",0,SUMIFS(Model!$W39:$ZZ39,Model!$W$6:$ZZ$6,\">=\"&'M-Q-Y'!GP$6,Model!$W$6:$ZZ$6,\"<=\"&'M-Q-Y'!GP$7))","v":0},{"$f":"IF(GQ$4=\"\",0,SUMIFS(Model!$W39:$ZZ39,Model!$W$6:$ZZ$6,\">=\"&'M-Q-Y'!GQ$6,Model!$W$6:$ZZ$6,\"<=\"&'M-Q-Y'!GQ$7))","v":0},{"$f":"IF(GR$4=\"\",0,SUMIFS(Model!$W39:$ZZ39,Model!$W$6:$ZZ$6,\">=\"&'M-Q-Y'!GR$6,Model!$W$6:$ZZ$6,\"<=\"&'M-Q-Y'!GR$7))","v":0},{"$f":"IF(GS$4=\"\",0,SUMIFS(Model!$W39:$ZZ39,Model!$W$6:$ZZ$6,\">=\"&'M-Q-Y'!GS$6,Model!$W$6:$ZZ$6,\"<=\"&'M-Q-Y'!GS$7))","v":0},{"$f":"IF(GT$4=\"\",0,SUMIFS(Model!$W39:$ZZ39,Model!$W$6:$ZZ$6,\">=\"&'M-Q-Y'!GT$6,Model!$W$6:$ZZ$6,\"<=\"&'M-Q-Y'!GT$7))","v":0},{"$f":"IF(GU$4=\"\",0,SUMIFS(Model!$W39:$ZZ39,Model!$W$6:$ZZ$6,\">=\"&'M-Q-Y'!GU$6,Model!$W$6:$ZZ$6,\"<=\"&'M-Q-Y'!GU$7))","v":0},{"$f":"IF(GV$4=\"\",0,SUMIFS(Model!$W39:$ZZ39,Model!$W$6:$ZZ$6,\">=\"&'M-Q-Y'!GV$6,Model!$W$6:$ZZ$6,\"<=\"&'M-Q-Y'!GV$7))","v":0}]
[null,{"$f":"ROW()","v":33}]
[null,{"$f":"ROW()","v":34},null,null,null,null,null,"Финпоток",null,null,null,null,null,null,null,"CF",null,null,null,null,{"$f":"SUM(INDIRECT(ADDRESS($B34,X$2)&\":\"&ADDRESS($B34,MAX($2:$2))))","v":0},null,null,{"$f":"IF(X$4=\"\",0,SUMIFS(X$10:X33,$P$10:$P33,\"CF(+)\")-SUMIFS(X$10:X33,$P$10:$P33,\"CF(-)\"))","v":0},{"$f":"IF(Y$4=\"\",0,SUMIFS(Y$10:Y33,$P$10:$P33,\"CF(+)\")-SUMIFS(Y$10:Y33,$P$10:$P33,\"CF(-)\"))","v":0},{"$f":"IF(Z$4=\"\",0,SUMIFS(Z$10:Z33,$P$10:$P33,\"CF(+)\")-SUMIFS(Z$10:Z33,$P$10:$P33,\"CF(-)\"))","v":0},{"$f":"IF(AA$4=\"\",0,SUMIFS(AA$10:AA33,$P$10:$P33,\"CF(+)\")-SUMIFS(AA$10:AA33,$P$10:$P33,\"CF(-)\"))","v":0},{"$f":"IF(AB$4=\"\",0,SUMIFS(AB$10:AB33,$P$10:$P33,\"CF(+)\")-SUMIFS(AB$10:AB33,$P$10:$P33,\"CF(-)\"))","v":0},{"$f":"IF(AC$4=\"\",0,SUMIFS(AC$10:AC33,$P$10:$P33,\"CF(+)\")-SUMIFS(AC$10:AC33,$P$10:$P33,\"CF(-)\"))","v":0},{"$f":"IF(AD$4=\"\",0,SUMIFS(AD$10:AD33,$P$10:$P33,\"CF(+)\")-SUMIFS(AD$10:AD33,$P$10:$P33,\"CF(-)\"))","v":0},{"$f":"IF(AE$4=\"\",0,SUMIFS(AE$10:AE33,$P$10:$P33,\"CF(+)\")-SUMIFS(AE$10:AE33,$P$10:$P33,\"CF(-)\"))","v":0},{"$f":"IF(AF$4=\"\",0,SUMIFS(AF$10:AF33,$P$10:$P33,\"CF(+)\")-SUMIFS(AF$10:AF33,$P$10:$P33,\"CF(-)\"))","v":0},{"$f":"IF(AG$4=\"\",0,SUMIFS(AG$10:AG33,$P$10:$P33,\"CF(+)\")-SUMIFS(AG$10:AG33,$P$10:$P33,\"CF(-)\"))","v":0},{"$f":"IF(AH$4=\"\",0,SUMIFS(AH$10:AH33,$P$10:$P33,\"CF(+)\")-SUMIFS(AH$10:AH33,$P$10:$P33,\"CF(-)\"))","v":0},{"$f":"IF(AI$4=\"\",0,SUMIFS(AI$10:AI33,$P$10:$P33,\"CF(+)\")-SUMIFS(AI$10:AI33,$P$10:$P33,\"CF(-)\"))","v":0},{"$f":"IF(AJ$4=\"\",0,SUMIFS(AJ$10:AJ33,$P$10:$P33,\"CF(+)\")-SUMIFS(AJ$10:AJ33,$P$10:$P33,\"CF(-)\"))","v":0},{"$f":"IF(AK$4=\"\",0,SUMIFS(AK$10:AK33,$P$10:$P33,\"CF(+)\")-SUMIFS(AK$10:AK33,$P$10:$P33,\"CF(-)\"))","v":0},{"$f":"IF(AL$4=\"\",0,SUMIFS(AL$10:AL33,$P$10:$P33,\"CF(+)\")-SUMIFS(AL$10:AL33,$P$10:$P33,\"CF(-)\"))","v":0},{"$f":"IF(AM$4=\"\",0,SUMIFS(AM$10:AM33,$P$10:$P33,\"CF(+)\")-SUMIFS(AM$10:AM33,$P$10:$P33,\"CF(-)\"))","v":0},{"$f":"IF(AN$4=\"\",0,SUMIFS(AN$10:AN33,$P$10:$P33,\"CF(+)\")-SUMIFS(AN$10:AN33,$P$10:$P33,\"CF(-)\"))","v":0},{"$f":"IF(AO$4=\"\",0,SUMIFS(AO$10:AO33,$P$10:$P33,\"CF(+)\")-SUMIFS(AO$10:AO33,$P$10:$P33,\"CF(-)\"))","v":0},{"$f":"IF(AP$4=\"\",0,SUMIFS(AP$10:AP33,$P$10:$P33,\"CF(+)\")-SUMIFS(AP$10:AP33,$P$10:$P33,\"CF(-)\"))","v":0},{"$f":"IF(AQ$4=\"\",0,SUMIFS(AQ$10:AQ33,$P$10:$P33,\"CF(+)\")-SUMIFS(AQ$10:AQ33,$P$10:$P33,\"CF(-)\"))","v":0},{"$f":"IF(AR$4=\"\",0,SUMIFS(AR$10:AR33,$P$10:$P33,\"CF(+)\")-SUMIFS(AR$10:AR33,$P$10:$P33,\"CF(-)\"))","v":0},{"$f":"IF(AS$4=\"\",0,SUMIFS(AS$10:AS33,$P$10:$P33,\"CF(+)\")-SUMIFS(AS$10:AS33,$P$10:$P33,\"CF(-)\"))","v":0},{"$f":"IF(AT$4=\"\",0,SUMIFS(AT$10:AT33,$P$10:$P33,\"CF(+)\")-SUMIFS(AT$10:AT33,$P$10:$P33,\"CF(-)\"))","v":0},{"$f":"IF(AU$4=\"\",0,SUMIFS(AU$10:AU33,$P$10:$P33,\"CF(+)\")-SUMIFS(AU$10:AU33,$P$10:$P33,\"CF(-)\"))","v":0},{"$f":"IF(AV$4=\"\",0,SUMIFS(AV$10:AV33,$P$10:$P33,\"CF(+)\")-SUMIFS(AV$10:AV33,$P$10:$P33,\"CF(-)\"))","v":0},{"$f":"IF(AW$4=\"\",0,SUMIFS(AW$10:AW33,$P$10:$P33,\"CF(+)\")-SUMIFS(AW$10:AW33,$P$10:$P33,\"CF(-)\"))","v":0},{"$f":"IF(AX$4=\"\",0,SUMIFS(AX$10:AX33,$P$10:$P33,\"CF(+)\")-SUMIFS(AX$10:AX33,$P$10:$P33,\"CF(-)\"))","v":0},{"$f":"IF(AY$4=\"\",0,SUMIFS(AY$10:AY33,$P$10:$P33,\"CF(+)\")-SUMIFS(AY$10:AY33,$P$10:$P33,\"CF(-)\"))","v":0},{"$f":"IF(AZ$4=\"\",0,SUMIFS(AZ$10:AZ33,$P$10:$P33,\"CF(+)\")-SUMIFS(AZ$10:AZ33,$P$10:$P33,\"CF(-)\"))","v":0},{"$f":"IF(BA$4=\"\",0,SUMIFS(BA$10:BA33,$P$10:$P33,\"CF(+)\")-SUMIFS(BA$10:BA33,$P$10:$P33,\"CF(-)\"))","v":0},{"$f":"IF(BB$4=\"\",0,SUMIFS(BB$10:BB33,$P$10:$P33,\"CF(+)\")-SUMIFS(BB$10:BB33,$P$10:$P33,\"CF(-)\"))","v":0},{"$f":"IF(BC$4=\"\",0,SUMIFS(BC$10:BC33,$P$10:$P33,\"CF(+)\")-SUMIFS(BC$10:BC33,$P$10:$P33,\"CF(-)\"))","v":0},{"$f":"IF(BD$4=\"\",0,SUMIFS(BD$10:BD33,$P$10:$P33,\"CF(+)\")-SUMIFS(BD$10:BD33,$P$10:$P33,\"CF(-)\"))","v":0},{"$f":"IF(BE$4=\"\",0,SUMIFS(BE$10:BE33,$P$10:$P33,\"CF(+)\")-SUMIFS(BE$10:BE33,$P$10:$P33,\"CF(-)\"))","v":0},{"$f":"IF(BF$4=\"\",0,SUMIFS(BF$10:BF33,$P$10:$P33,\"CF(+)\")-SUMIFS(BF$10:BF33,$P$10:$P33,\"CF(-)\"))","v":0},{"$f":"IF(BG$4=\"\",0,SUMIFS(BG$10:BG33,$P$10:$P33,\"CF(+)\")-SUMIFS(BG$10:BG33,$P$10:$P33,\"CF(-)\"))","v":0},{"$f":"IF(BH$4=\"\",0,SUMIFS(BH$10:BH33,$P$10:$P33,\"CF(+)\")-SUMIFS(BH$10:BH33,$P$10:$P33,\"CF(-)\"))","v":0},{"$f":"IF(BI$4=\"\",0,SUMIFS(BI$10:BI33,$P$10:$P33,\"CF(+)\")-SUMIFS(BI$10:BI33,$P$10:$P33,\"CF(-)\"))","v":0},{"$f":"IF(BJ$4=\"\",0,SUMIFS(BJ$10:BJ33,$P$10:$P33,\"CF(+)\")-SUMIFS(BJ$10:BJ33,$P$10:$P33,\"CF(-)\"))","v":0},{"$f":"IF(BK$4=\"\",0,SUMIFS(BK$10:BK33,$P$10:$P33,\"CF(+)\")-SUMIFS(BK$10:BK33,$P$10:$P33,\"CF(-)\"))","v":0},{"$f":"IF(BL$4=\"\",0,SUMIFS(BL$10:BL33,$P$10:$P33,\"CF(+)\")-SUMIFS(BL$10:BL33,$P$10:$P33,\"CF(-)\"))","v":0},{"$f":"IF(BM$4=\"\",0,SUMIFS(BM$10:BM33,$P$10:$P33,\"CF(+)\")-SUMIFS(BM$10:BM33,$P$10:$P33,\"CF(-)\"))","v":0},{"$f":"IF(BN$4=\"\",0,SUMIFS(BN$10:BN33,$P$10:$P33,\"CF(+)\")-SUMIFS(BN$10:BN33,$P$10:$P33,\"CF(-)\"))","v":0},{"$f":"IF(BO$4=\"\",0,SUMIFS(BO$10:BO33,$P$10:$P33,\"CF(+)\")-SUMIFS(BO$10:BO33,$P$10:$P33,\"CF(-)\"))","v":0},{"$f":"IF(BP$4=\"\",0,SUMIFS(BP$10:BP33,$P$10:$P33,\"CF(+)\")-SUMIFS(BP$10:BP33,$P$10:$P33,\"CF(-)\"))","v":0},{"$f":"IF(BQ$4=\"\",0,SUMIFS(BQ$10:BQ33,$P$10:$P33,\"CF(+)\")-SUMIFS(BQ$10:BQ33,$P$10:$P33,\"CF(-)\"))","v":0},{"$f":"IF(BR$4=\"\",0,SUMIFS(BR$10:BR33,$P$10:$P33,\"CF(+)\")-SUMIFS(BR$10:BR33,$P$10:$P33,\"CF(-)\"))","v":0},{"$f":"IF(BS$4=\"\",0,SUMIFS(BS$10:BS33,$P$10:$P33,\"CF(+)\")-SUMIFS(BS$10:BS33,$P$10:$P33,\"CF(-)\"))","v":0},{"$f":"IF(BT$4=\"\",0,SUMIFS(BT$10:BT33,$P$10:$P33,\"CF(+)\")-SUMIFS(BT$10:BT33,$P$10:$P33,\"CF(-)\"))","v":0},{"$f":"IF(BU$4=\"\",0,SUMIFS(BU$10:BU33,$P$10:$P33,\"CF(+)\")-SUMIFS(BU$10:BU33,$P$10:$P33,\"CF(-)\"))","v":0},{"$f":"IF(BV$4=\"\",0,SUMIFS(BV$10:BV33,$P$10:$P33,\"CF(+)\")-SUMIFS(BV$10:BV33,$P$10:$P33,\"CF(-)\"))","v":0},{"$f":"IF(BW$4=\"\",0,SUMIFS(BW$10:BW33,$P$10:$P33,\"CF(+)\")-SUMIFS(BW$10:BW33,$P$10:$P33,\"CF(-)\"))","v":0},{"$f":"IF(BX$4=\"\",0,SUMIFS(BX$10:BX33,$P$10:$P33,\"CF(+)\")-SUMIFS(BX$10:BX33,$P$10:$P33,\"CF(-)\"))","v":0},{"$f":"IF(BY$4=\"\",0,SUMIFS(BY$10:BY33,$P$10:$P33,\"CF(+)\")-SUMIFS(BY$10:BY33,$P$10:$P33,\"CF(-)\"))","v":0},{"$f":"IF(BZ$4=\"\",0,SUMIFS(BZ$10:BZ33,$P$10:$P33,\"CF(+)\")-SUMIFS(BZ$10:BZ33,$P$10:$P33,\"CF(-)\"))","v":0},{"$f":"IF(CA$4=\"\",0,SUMIFS(CA$10:CA33,$P$10:$P33,\"CF(+)\")-SUMIFS(CA$10:CA33,$P$10:$P33,\"CF(-)\"))","v":0},{"$f":"IF(CB$4=\"\",0,SUMIFS(CB$10:CB33,$P$10:$P33,\"CF(+)\")-SUMIFS(CB$10:CB33,$P$10:$P33,\"CF(-)\"))","v":0},{"$f":"IF(CC$4=\"\",0,SUMIFS(CC$10:CC33,$P$10:$P33,\"CF(+)\")-SUMIFS(CC$10:CC33,$P$10:$P33,\"CF(-)\"))","v":0},{"$f":"IF(CD$4=\"\",0,SUMIFS(CD$10:CD33,$P$10:$P33,\"CF(+)\")-SUMIFS(CD$10:CD33,$P$10:$P33,\"CF(-)\"))","v":0},{"$f":"IF(CE$4=\"\",0,SUMIFS(CE$10:CE33,$P$10:$P33,\"CF(+)\")-SUMIFS(CE$10:CE33,$P$10:$P33,\"CF(-)\"))","v":0},{"$f":"IF(CF$4=\"\",0,SUMIFS(CF$10:CF33,$P$10:$P33,\"CF(+)\")-SUMIFS(CF$10:CF33,$P$10:$P33,\"CF(-)\"))","v":0},{"$f":"IF(CG$4=\"\",0,SUMIFS(CG$10:CG33,$P$10:$P33,\"CF(+)\")-SUMIFS(CG$10:CG33,$P$10:$P33,\"CF(-)\"))","v":0},{"$f":"IF(CH$4=\"\",0,SUMIFS(CH$10:CH33,$P$10:$P33,\"CF(+)\")-SUMIFS(CH$10:CH33,$P$10:$P33,\"CF(-)\"))","v":0},{"$f":"IF(CI$4=\"\",0,SUMIFS(CI$10:CI33,$P$10:$P33,\"CF(+)\")-SUMIFS(CI$10:CI33,$P$10:$P33,\"CF(-)\"))","v":0},{"$f":"IF(CJ$4=\"\",0,SUMIFS(CJ$10:CJ33,$P$10:$P33,\"CF(+)\")-SUMIFS(CJ$10:CJ33,$P$10:$P33,\"CF(-)\"))","v":0},{"$f":"IF(CK$4=\"\",0,SUMIFS(CK$10:CK33,$P$10:$P33,\"CF(+)\")-SUMIFS(CK$10:CK33,$P$10:$P33,\"CF(-)\"))","v":0},{"$f":"IF(CL$4=\"\",0,SUMIFS(CL$10:CL33,$P$10:$P33,\"CF(+)\")-SUMIFS(CL$10:CL33,$P$10:$P33,\"CF(-)\"))","v":0},{"$f":"IF(CM$4=\"\",0,SUMIFS(CM$10:CM33,$P$10:$P33,\"CF(+)\")-SUMIFS(CM$10:CM33,$P$10:$P33,\"CF(-)\"))","v":0},{"$f":"IF(CN$4=\"\",0,SUMIFS(CN$10:CN33,$P$10:$P33,\"CF(+)\")-SUMIFS(CN$10:CN33,$P$10:$P33,\"CF(-)\"))","v":0},{"$f":"IF(CO$4=\"\",0,SUMIFS(CO$10:CO33,$P$10:$P33,\"CF(+)\")-SUMIFS(CO$10:CO33,$P$10:$P33,\"CF(-)\"))","v":0},{"$f":"IF(CP$4=\"\",0,SUMIFS(CP$10:CP33,$P$10:$P33,\"CF(+)\")-SUMIFS(CP$10:CP33,$P$10:$P33,\"CF(-)\"))","v":0},{"$f":"IF(CQ$4=\"\",0,SUMIFS(CQ$10:CQ33,$P$10:$P33,\"CF(+)\")-SUMIFS(CQ$10:CQ33,$P$10:$P33,\"CF(-)\"))","v":0},{"$f":"IF(CR$4=\"\",0,SUMIFS(CR$10:CR33,$P$10:$P33,\"CF(+)\")-SUMIFS(CR$10:CR33,$P$10:$P33,\"CF(-)\"))","v":0},{"$f":"IF(CS$4=\"\",0,SUMIFS(CS$10:CS33,$P$10:$P33,\"CF(+)\")-SUMIFS(CS$10:CS33,$P$10:$P33,\"CF(-)\"))","v":0},{"$f":"IF(CT$4=\"\",0,SUMIFS(CT$10:CT33,$P$10:$P33,\"CF(+)\")-SUMIFS(CT$10:CT33,$P$10:$P33,\"CF(-)\"))","v":0},{"$f":"IF(CU$4=\"\",0,SUMIFS(CU$10:CU33,$P$10:$P33,\"CF(+)\")-SUMIFS(CU$10:CU33,$P$10:$P33,\"CF(-)\"))","v":0},{"$f":"IF(CV$4=\"\",0,SUMIFS(CV$10:CV33,$P$10:$P33,\"CF(+)\")-SUMIFS(CV$10:CV33,$P$10:$P33,\"CF(-)\"))","v":0},{"$f":"IF(CW$4=\"\",0,SUMIFS(CW$10:CW33,$P$10:$P33,\"CF(+)\")-SUMIFS(CW$10:CW33,$P$10:$P33,\"CF(-)\"))","v":0},{"$f":"IF(CX$4=\"\",0,SUMIFS(CX$10:CX33,$P$10:$P33,\"CF(+)\")-SUMIFS(CX$10:CX33,$P$10:$P33,\"CF(-)\"))","v":0},{"$f":"IF(CY$4=\"\",0,SUMIFS(CY$10:CY33,$P$10:$P33,\"CF(+)\")-SUMIFS(CY$10:CY33,$P$10:$P33,\"CF(-)\"))","v":0},{"$f":"IF(CZ$4=\"\",0,SUMIFS(CZ$10:CZ33,$P$10:$P33,\"CF(+)\")-SUMIFS(CZ$10:CZ33,$P$10:$P33,\"CF(-)\"))","v":0},{"$f":"IF(DA$4=\"\",0,SUMIFS(DA$10:DA33,$P$10:$P33,\"CF(+)\")-SUMIFS(DA$10:DA33,$P$10:$P33,\"CF(-)\"))","v":0},{"$f":"IF(DB$4=\"\",0,SUMIFS(DB$10:DB33,$P$10:$P33,\"CF(+)\")-SUMIFS(DB$10:DB33,$P$10:$P33,\"CF(-)\"))","v":0},{"$f":"IF(DC$4=\"\",0,SUMIFS(DC$10:DC33,$P$10:$P33,\"CF(+)\")-SUMIFS(DC$10:DC33,$P$10:$P33,\"CF(-)\"))","v":0},{"$f":"IF(DD$4=\"\",0,SUMIFS(DD$10:DD33,$P$10:$P33,\"CF(+)\")-SUMIFS(DD$10:DD33,$P$10:$P33,\"CF(-)\"))","v":0},{"$f":"IF(DE$4=\"\",0,SUMIFS(DE$10:DE33,$P$10:$P33,\"CF(+)\")-SUMIFS(DE$10:DE33,$P$10:$P33,\"CF(-)\"))","v":0},{"$f":"IF(DF$4=\"\",0,SUMIFS(DF$10:DF33,$P$10:$P33,\"CF(+)\")-SUMIFS(DF$10:DF33,$P$10:$P33,\"CF(-)\"))","v":0},{"$f":"IF(DG$4=\"\",0,SUMIFS(DG$10:DG33,$P$10:$P33,\"CF(+)\")-SUMIFS(DG$10:DG33,$P$10:$P33,\"CF(-)\"))","v":0},{"$f":"IF(DH$4=\"\",0,SUMIFS(DH$10:DH33,$P$10:$P33,\"CF(+)\")-SUMIFS(DH$10:DH33,$P$10:$P33,\"CF(-)\"))","v":0},{"$f":"IF(DI$4=\"\",0,SUMIFS(DI$10:DI33,$P$10:$P33,\"CF(+)\")-SUMIFS(DI$10:DI33,$P$10:$P33,\"CF(-)\"))","v":0},{"$f":"IF(DJ$4=\"\",0,SUMIFS(DJ$10:DJ33,$P$10:$P33,\"CF(+)\")-SUMIFS(DJ$10:DJ33,$P$10:$P33,\"CF(-)\"))","v":0},{"$f":"IF(DK$4=\"\",0,SUMIFS(DK$10:DK33,$P$10:$P33,\"CF(+)\")-SUMIFS(DK$10:DK33,$P$10:$P33,\"CF(-)\"))","v":0},{"$f":"IF(DL$4=\"\",0,SUMIFS(DL$10:DL33,$P$10:$P33,\"CF(+)\")-SUMIFS(DL$10:DL33,$P$10:$P33,\"CF(-)\"))","v":0},{"$f":"IF(DM$4=\"\",0,SUMIFS(DM$10:DM33,$P$10:$P33,\"CF(+)\")-SUMIFS(DM$10:DM33,$P$10:$P33,\"CF(-)\"))","v":0},{"$f":"IF(DN$4=\"\",0,SUMIFS(DN$10:DN33,$P$10:$P33,\"CF(+)\")-SUMIFS(DN$10:DN33,$P$10:$P33,\"CF(-)\"))","v":0},{"$f":"IF(DO$4=\"\",0,SUMIFS(DO$10:DO33,$P$10:$P33,\"CF(+)\")-SUMIFS(DO$10:DO33,$P$10:$P33,\"CF(-)\"))","v":0},{"$f":"IF(DP$4=\"\",0,SUMIFS(DP$10:DP33,$P$10:$P33,\"CF(+)\")-SUMIFS(DP$10:DP33,$P$10:$P33,\"CF(-)\"))","v":0},{"$f":"IF(DQ$4=\"\",0,SUMIFS(DQ$10:DQ33,$P$10:$P33,\"CF(+)\")-SUMIFS(DQ$10:DQ33,$P$10:$P33,\"CF(-)\"))","v":0},{"$f":"IF(DR$4=\"\",0,SUMIFS(DR$10:DR33,$P$10:$P33,\"CF(+)\")-SUMIFS(DR$10:DR33,$P$10:$P33,\"CF(-)\"))","v":0},{"$f":"IF(DS$4=\"\",0,SUMIFS(DS$10:DS33,$P$10:$P33,\"CF(+)\")-SUMIFS(DS$10:DS33,$P$10:$P33,\"CF(-)\"))","v":0},{"$f":"IF(DT$4=\"\",0,SUMIFS(DT$10:DT33,$P$10:$P33,\"CF(+)\")-SUMIFS(DT$10:DT33,$P$10:$P33,\"CF(-)\"))","v":0},{"$f":"IF(DU$4=\"\",0,SUMIFS(DU$10:DU33,$P$10:$P33,\"CF(+)\")-SUMIFS(DU$10:DU33,$P$10:$P33,\"CF(-)\"))","v":0},{"$f":"IF(DV$4=\"\",0,SUMIFS(DV$10:DV33,$P$10:$P33,\"CF(+)\")-SUMIFS(DV$10:DV33,$P$10:$P33,\"CF(-)\"))","v":0},{"$f":"IF(DW$4=\"\",0,SUMIFS(DW$10:DW33,$P$10:$P33,\"CF(+)\")-SUMIFS(DW$10:DW33,$P$10:$P33,\"CF(-)\"))","v":0},{"$f":"IF(DX$4=\"\",0,SUMIFS(DX$10:DX33,$P$10:$P33,\"CF(+)\")-SUMIFS(DX$10:DX33,$P$10:$P33,\"CF(-)\"))","v":0},{"$f":"IF(DY$4=\"\",0,SUMIFS(DY$10:DY33,$P$10:$P33,\"CF(+)\")-SUMIFS(DY$10:DY33,$P$10:$P33,\"CF(-)\"))","v":0},{"$f":"IF(DZ$4=\"\",0,SUMIFS(DZ$10:DZ33,$P$10:$P33,\"CF(+)\")-SUMIFS(DZ$10:DZ33,$P$10:$P33,\"CF(-)\"))","v":0},{"$f":"IF(EA$4=\"\",0,SUMIFS(EA$10:EA33,$P$10:$P33,\"CF(+)\")-SUMIFS(EA$10:EA33,$P$10:$P33,\"CF(-)\"))","v":0},{"$f":"IF(EB$4=\"\",0,SUMIFS(EB$10:EB33,$P$10:$P33,\"CF(+)\")-SUMIFS(EB$10:EB33,$P$10:$P33,\"CF(-)\"))","v":0},{"$f":"IF(EC$4=\"\",0,SUMIFS(EC$10:EC33,$P$10:$P33,\"CF(+)\")-SUMIFS(EC$10:EC33,$P$10:$P33,\"CF(-)\"))","v":0},{"$f":"IF(ED$4=\"\",0,SUMIFS(ED$10:ED33,$P$10:$P33,\"CF(+)\")-SUMIFS(ED$10:ED33,$P$10:$P33,\"CF(-)\"))","v":0},{"$f":"IF(EE$4=\"\",0,SUMIFS(EE$10:EE33,$P$10:$P33,\"CF(+)\")-SUMIFS(EE$10:EE33,$P$10:$P33,\"CF(-)\"))","v":0},{"$f":"IF(EF$4=\"\",0,SUMIFS(EF$10:EF33,$P$10:$P33,\"CF(+)\")-SUMIFS(EF$10:EF33,$P$10:$P33,\"CF(-)\"))","v":0},{"$f":"IF(EG$4=\"\",0,SUMIFS(EG$10:EG33,$P$10:$P33,\"CF(+)\")-SUMIFS(EG$10:EG33,$P$10:$P33,\"CF(-)\"))","v":0},{"$f":"IF(EH$4=\"\",0,SUMIFS(EH$10:EH33,$P$10:$P33,\"CF(+)\")-SUMIFS(EH$10:EH33,$P$10:$P33,\"CF(-)\"))","v":0},{"$f":"IF(EI$4=\"\",0,SUMIFS(EI$10:EI33,$P$10:$P33,\"CF(+)\")-SUMIFS(EI$10:EI33,$P$10:$P33,\"CF(-)\"))","v":0},{"$f":"IF(EJ$4=\"\",0,SUMIFS(EJ$10:EJ33,$P$10:$P33,\"CF(+)\")-SUMIFS(EJ$10:EJ33,$P$10:$P33,\"CF(-)\"))","v":0},{"$f":"IF(EK$4=\"\",0,SUMIFS(EK$10:EK33,$P$10:$P33,\"CF(+)\")-SUMIFS(EK$10:EK33,$P$10:$P33,\"CF(-)\"))","v":0},{"$f":"IF(EL$4=\"\",0,SUMIFS(EL$10:EL33,$P$10:$P33,\"CF(+)\")-SUMIFS(EL$10:EL33,$P$10:$P33,\"CF(-)\"))","v":0},{"$f":"IF(EM$4=\"\",0,SUMIFS(EM$10:EM33,$P$10:$P33,\"CF(+)\")-SUMIFS(EM$10:EM33,$P$10:$P33,\"CF(-)\"))","v":0},{"$f":"IF(EN$4=\"\",0,SUMIFS(EN$10:EN33,$P$10:$P33,\"CF(+)\")-SUMIFS(EN$10:EN33,$P$10:$P33,\"CF(-)\"))","v":0},{"$f":"IF(EO$4=\"\",0,SUMIFS(EO$10:EO33,$P$10:$P33,\"CF(+)\")-SUMIFS(EO$10:EO33,$P$10:$P33,\"CF(-)\"))","v":0},{"$f":"IF(EP$4=\"\",0,SUMIFS(EP$10:EP33,$P$10:$P33,\"CF(+)\")-SUMIFS(EP$10:EP33,$P$10:$P33,\"CF(-)\"))","v":0},{"$f":"IF(EQ$4=\"\",0,SUMIFS(EQ$10:EQ33,$P$10:$P33,\"CF(+)\")-SUMIFS(EQ$10:EQ33,$P$10:$P33,\"CF(-)\"))","v":0},{"$f":"IF(ER$4=\"\",0,SUMIFS(ER$10:ER33,$P$10:$P33,\"CF(+)\")-SUMIFS(ER$10:ER33,$P$10:$P33,\"CF(-)\"))","v":0},{"$f":"IF(ES$4=\"\",0,SUMIFS(ES$10:ES33,$P$10:$P33,\"CF(+)\")-SUMIFS(ES$10:ES33,$P$10:$P33,\"CF(-)\"))","v":0},{"$f":"IF(ET$4=\"\",0,SUMIFS(ET$10:ET33,$P$10:$P33,\"CF(+)\")-SUMIFS(ET$10:ET33,$P$10:$P33,\"CF(-)\"))","v":0},{"$f":"IF(EU$4=\"\",0,SUMIFS(EU$10:EU33,$P$10:$P33,\"CF(+)\")-SUMIFS(EU$10:EU33,$P$10:$P33,\"CF(-)\"))","v":0},{"$f":"IF(EV$4=\"\",0,SUMIFS(EV$10:EV33,$P$10:$P33,\"CF(+)\")-SUMIFS(EV$10:EV33,$P$10:$P33,\"CF(-)\"))","v":0},{"$f":"IF(EW$4=\"\",0,SUMIFS(EW$10:EW33,$P$10:$P33,\"CF(+)\")-SUMIFS(EW$10:EW33,$P$10:$P33,\"CF(-)\"))","v":0},{"$f":"IF(EX$4=\"\",0,SUMIFS(EX$10:EX33,$P$10:$P33,\"CF(+)\")-SUMIFS(EX$10:EX33,$P$10:$P33,\"CF(-)\"))","v":0},{"$f":"IF(EY$4=\"\",0,SUMIFS(EY$10:EY33,$P$10:$P33,\"CF(+)\")-SUMIFS(EY$10:EY33,$P$10:$P33,\"CF(-)\"))","v":0},{"$f":"IF(EZ$4=\"\",0,SUMIFS(EZ$10:EZ33,$P$10:$P33,\"CF(+)\")-SUMIFS(EZ$10:EZ33,$P$10:$P33,\"CF(-)\"))","v":0},{"$f":"IF(FA$4=\"\",0,SUMIFS(FA$10:FA33,$P$10:$P33,\"CF(+)\")-SUMIFS(FA$10:FA33,$P$10:$P33,\"CF(-)\"))","v":0},{"$f":"IF(FB$4=\"\",0,SUMIFS(FB$10:FB33,$P$10:$P33,\"CF(+)\")-SUMIFS(FB$10:FB33,$P$10:$P33,\"CF(-)\"))","v":0},{"$f":"IF(FC$4=\"\",0,SUMIFS(FC$10:FC33,$P$10:$P33,\"CF(+)\")-SUMIFS(FC$10:FC33,$P$10:$P33,\"CF(-)\"))","v":0},{"$f":"IF(FD$4=\"\",0,SUMIFS(FD$10:FD33,$P$10:$P33,\"CF(+)\")-SUMIFS(FD$10:FD33,$P$10:$P33,\"CF(-)\"))","v":0},{"$f":"IF(FE$4=\"\",0,SUMIFS(FE$10:FE33,$P$10:$P33,\"CF(+)\")-SUMIFS(FE$10:FE33,$P$10:$P33,\"CF(-)\"))","v":0},{"$f":"IF(FF$4=\"\",0,SUMIFS(FF$10:FF33,$P$10:$P33,\"CF(+)\")-SUMIFS(FF$10:FF33,$P$10:$P33,\"CF(-)\"))","v":0},{"$f":"IF(FG$4=\"\",0,SUMIFS(FG$10:FG33,$P$10:$P33,\"CF(+)\")-SUMIFS(FG$10:FG33,$P$10:$P33,\"CF(-)\"))","v":0},{"$f":"IF(FH$4=\"\",0,SUMIFS(FH$10:FH33,$P$10:$P33,\"CF(+)\")-SUMIFS(FH$10:FH33,$P$10:$P33,\"CF(-)\"))","v":0},{"$f":"IF(FI$4=\"\",0,SUMIFS(FI$10:FI33,$P$10:$P33,\"CF(+)\")-SUMIFS(FI$10:FI33,$P$10:$P33,\"CF(-)\"))","v":0},{"$f":"IF(FJ$4=\"\",0,SUMIFS(FJ$10:FJ33,$P$10:$P33,\"CF(+)\")-SUMIFS(FJ$10:FJ33,$P$10:$P33,\"CF(-)\"))","v":0},{"$f":"IF(FK$4=\"\",0,SUMIFS(FK$10:FK33,$P$10:$P33,\"CF(+)\")-SUMIFS(FK$10:FK33,$P$10:$P33,\"CF(-)\"))","v":0},{"$f":"IF(FL$4=\"\",0,SUMIFS(FL$10:FL33,$P$10:$P33,\"CF(+)\")-SUMIFS(FL$10:FL33,$P$10:$P33,\"CF(-)\"))","v":0},{"$f":"IF(FM$4=\"\",0,SUMIFS(FM$10:FM33,$P$10:$P33,\"CF(+)\")-SUMIFS(FM$10:FM33,$P$10:$P33,\"CF(-)\"))","v":0},{"$f":"IF(FN$4=\"\",0,SUMIFS(FN$10:FN33,$P$10:$P33,\"CF(+)\")-SUMIFS(FN$10:FN33,$P$10:$P33,\"CF(-)\"))","v":0},{"$f":"IF(FO$4=\"\",0,SUMIFS(FO$10:FO33,$P$10:$P33,\"CF(+)\")-SUMIFS(FO$10:FO33,$P$10:$P33,\"CF(-)\"))","v":0},{"$f":"IF(FP$4=\"\",0,SUMIFS(FP$10:FP33,$P$10:$P33,\"CF(+)\")-SUMIFS(FP$10:FP33,$P$10:$P33,\"CF(-)\"))","v":0},{"$f":"IF(FQ$4=\"\",0,SUMIFS(FQ$10:FQ33,$P$10:$P33,\"CF(+)\")-SUMIFS(FQ$10:FQ33,$P$10:$P33,\"CF(-)\"))","v":0},{"$f":"IF(FR$4=\"\",0,SUMIFS(FR$10:FR33,$P$10:$P33,\"CF(+)\")-SUMIFS(FR$10:FR33,$P$10:$P33,\"CF(-)\"))","v":0},{"$f":"IF(FS$4=\"\",0,SUMIFS(FS$10:FS33,$P$10:$P33,\"CF(+)\")-SUMIFS(FS$10:FS33,$P$10:$P33,\"CF(-)\"))","v":0},{"$f":"IF(FT$4=\"\",0,SUMIFS(FT$10:FT33,$P$10:$P33,\"CF(+)\")-SUMIFS(FT$10:FT33,$P$10:$P33,\"CF(-)\"))","v":0},{"$f":"IF(FU$4=\"\",0,SUMIFS(FU$10:FU33,$P$10:$P33,\"CF(+)\")-SUMIFS(FU$10:FU33,$P$10:$P33,\"CF(-)\"))","v":0},{"$f":"IF(FV$4=\"\",0,SUMIFS(FV$10:FV33,$P$10:$P33,\"CF(+)\")-SUMIFS(FV$10:FV33,$P$10:$P33,\"CF(-)\"))","v":0},{"$f":"IF(FW$4=\"\",0,SUMIFS(FW$10:FW33,$P$10:$P33,\"CF(+)\")-SUMIFS(FW$10:FW33,$P$10:$P33,\"CF(-)\"))","v":0},{"$f":"IF(FX$4=\"\",0,SUMIFS(FX$10:FX33,$P$10:$P33,\"CF(+)\")-SUMIFS(FX$10:FX33,$P$10:$P33,\"CF(-)\"))","v":0},{"$f":"IF(FY$4=\"\",0,SUMIFS(FY$10:FY33,$P$10:$P33,\"CF(+)\")-SUMIFS(FY$10:FY33,$P$10:$P33,\"CF(-)\"))","v":0},{"$f":"IF(FZ$4=\"\",0,SUMIFS(FZ$10:FZ33,$P$10:$P33,\"CF(+)\")-SUMIFS(FZ$10:FZ33,$P$10:$P33,\"CF(-)\"))","v":0},{"$f":"IF(GA$4=\"\",0,SUMIFS(GA$10:GA33,$P$10:$P33,\"CF(+)\")-SUMIFS(GA$10:GA33,$P$10:$P33,\"CF(-)\"))","v":0},{"$f":"IF(GB$4=\"\",0,SUMIFS(GB$10:GB33,$P$10:$P33,\"CF(+)\")-SUMIFS(GB$10:GB33,$P$10:$P33,\"CF(-)\"))","v":0},{"$f":"IF(GC$4=\"\",0,SUMIFS(GC$10:GC33,$P$10:$P33,\"CF(+)\")-SUMIFS(GC$10:GC33,$P$10:$P33,\"CF(-)\"))","v":0},{"$f":"IF(GD$4=\"\",0,SUMIFS(GD$10:GD33,$P$10:$P33,\"CF(+)\")-SUMIFS(GD$10:GD33,$P$10:$P33,\"CF(-)\"))","v":0},{"$f":"IF(GE$4=\"\",0,SUMIFS(GE$10:GE33,$P$10:$P33,\"CF(+)\")-SUMIFS(GE$10:GE33,$P$10:$P33,\"CF(-)\"))","v":0},{"$f":"IF(GF$4=\"\",0,SUMIFS(GF$10:GF33,$P$10:$P33,\"CF(+)\")-SUMIFS(GF$10:GF33,$P$10:$P33,\"CF(-)\"))","v":0},{"$f":"IF(GG$4=\"\",0,SUMIFS(GG$10:GG33,$P$10:$P33,\"CF(+)\")-SUMIFS(GG$10:GG33,$P$10:$P33,\"CF(-)\"))","v":0},{"$f":"IF(GH$4=\"\",0,SUMIFS(GH$10:GH33,$P$10:$P33,\"CF(+)\")-SUMIFS(GH$10:GH33,$P$10:$P33,\"CF(-)\"))","v":0},{"$f":"IF(GI$4=\"\",0,SUMIFS(GI$10:GI33,$P$10:$P33,\"CF(+)\")-SUMIFS(GI$10:GI33,$P$10:$P33,\"CF(-)\"))","v":0},{"$f":"IF(GJ$4=\"\",0,SUMIFS(GJ$10:GJ33,$P$10:$P33,\"CF(+)\")-SUMIFS(GJ$10:GJ33,$P$10:$P33,\"CF(-)\"))","v":0},{"$f":"IF(GK$4=\"\",0,SUMIFS(GK$10:GK33,$P$10:$P33,\"CF(+)\")-SUMIFS(GK$10:GK33,$P$10:$P33,\"CF(-)\"))","v":0},{"$f":"IF(GL$4=\"\",0,SUMIFS(GL$10:GL33,$P$10:$P33,\"CF(+)\")-SUMIFS(GL$10:GL33,$P$10:$P33,\"CF(-)\"))","v":0},{"$f":"IF(GM$4=\"\",0,SUMIFS(GM$10:GM33,$P$10:$P33,\"CF(+)\")-SUMIFS(GM$10:GM33,$P$10:$P33,\"CF(-)\"))","v":0},{"$f":"IF(GN$4=\"\",0,SUMIFS(GN$10:GN33,$P$10:$P33,\"CF(+)\")-SUMIFS(GN$10:GN33,$P$10:$P33,\"CF(-)\"))","v":0},{"$f":"IF(GO$4=\"\",0,SUMIFS(GO$10:GO33,$P$10:$P33,\"CF(+)\")-SUMIFS(GO$10:GO33,$P$10:$P33,\"CF(-)\"))","v":0},{"$f":"IF(GP$4=\"\",0,SUMIFS(GP$10:GP33,$P$10:$P33,\"CF(+)\")-SUMIFS(GP$10:GP33,$P$10:$P33,\"CF(-)\"))","v":0},{"$f":"IF(GQ$4=\"\",0,SUMIFS(GQ$10:GQ33,$P$10:$P33,\"CF(+)\")-SUMIFS(GQ$10:GQ33,$P$10:$P33,\"CF(-)\"))","v":0},{"$f":"IF(GR$4=\"\",0,SUMIFS(GR$10:GR33,$P$10:$P33,\"CF(+)\")-SUMIFS(GR$10:GR33,$P$10:$P33,\"CF(-)\"))","v":0},{"$f":"IF(GS$4=\"\",0,SUMIFS(GS$10:GS33,$P$10:$P33,\"CF(+)\")-SUMIFS(GS$10:GS33,$P$10:$P33,\"CF(-)\"))","v":0},{"$f":"IF(GT$4=\"\",0,SUMIFS(GT$10:GT33,$P$10:$P33,\"CF(+)\")-SUMIFS(GT$10:GT33,$P$10:$P33,\"CF(-)\"))","v":0},{"$f":"IF(GU$4=\"\",0,SUMIFS(GU$10:GU33,$P$10:$P33,\"CF(+)\")-SUMIFS(GU$10:GU33,$P$10:$P33,\"CF(-)\"))","v":0},{"$f":"IF(GV$4=\"\",0,SUMIFS(GV$10:GV33,$P$10:$P33,\"CF(+)\")-SUMIFS(GV$10:GV33,$P$10:$P33,\"CF(-)\"))","v":0}]
[]
[null,{"$f":"ROW()","v":36},null,null,null,null,null,"Финпоток нарастающим итогом",null,null,null,null,null,null,null,"CF",null,null,null,null,{"$f":"INDIRECT(ADDRESS($B36,MAX($2:$2)))","v":0},null,null,{"$f":"IF(X$4=\"\",0,SUM($W34:X34))","v":0},{"$f":"IF(Y$4=\"\",0,SUM($W34:Y34))","v":0},{"$f":"IF(Z$4=\"\",0,SUM($W34:Z34))","v":0},{"$f":"IF(AA$4=\"\",0,SUM($W34:AA34))","v":0},{"$f":"IF(AB$4=\"\",0,SUM($W34:AB34))","v":0},{"$f":"IF(AC$4=\"\",0,SUM($W34:AC34))","v":0},{"$f":"IF(AD$4=\"\",0,SUM($W34:AD34))","v":0},{"$f":"IF(AE$4=\"\",0,SUM($W34:AE34))","v":0},{"$f":"IF(AF$4=\"\",0,SUM($W34:AF34))","v":0},{"$f":"IF(AG$4=\"\",0,SUM($W34:AG34))","v":0},{"$f":"IF(AH$4=\"\",0,SUM($W34:AH34))","v":0},{"$f":"IF(AI$4=\"\",0,SUM($W34:AI34))","v":0},{"$f":"IF(AJ$4=\"\",0,SUM($W34:AJ34))","v":0},{"$f":"IF(AK$4=\"\",0,SUM($W34:AK34))","v":0},{"$f":"IF(AL$4=\"\",0,SUM($W34:AL34))","v":0},{"$f":"IF(AM$4=\"\",0,SUM($W34:AM34))","v":0},{"$f":"IF(AN$4=\"\",0,SUM($W34:AN34))","v":0},{"$f":"IF(AO$4=\"\",0,SUM($W34:AO34))","v":0},{"$f":"IF(AP$4=\"\",0,SUM($W34:AP34))","v":0},{"$f":"IF(AQ$4=\"\",0,SUM($W34:AQ34))","v":0},{"$f":"IF(AR$4=\"\",0,SUM($W34:AR34))","v":0},{"$f":"IF(AS$4=\"\",0,SUM($W34:AS34))","v":0},{"$f":"IF(AT$4=\"\",0,SUM($W34:AT34))","v":0},{"$f":"IF(AU$4=\"\",0,SUM($W34:AU34))","v":0},{"$f":"IF(AV$4=\"\",0,SUM($W34:AV34))","v":0},{"$f":"IF(AW$4=\"\",0,SUM($W34:AW34))","v":0},{"$f":"IF(AX$4=\"\",0,SUM($W34:AX34))","v":0},{"$f":"IF(AY$4=\"\",0,SUM($W34:AY34))","v":0},{"$f":"IF(AZ$4=\"\",0,SUM($W34:AZ34))","v":0},{"$f":"IF(BA$4=\"\",0,SUM($W34:BA34))","v":0},{"$f":"IF(BB$4=\"\",0,SUM($W34:BB34))","v":0},{"$f":"IF(BC$4=\"\",0,SUM($W34:BC34))","v":0},{"$f":"IF(BD$4=\"\",0,SUM($W34:BD34))","v":0},{"$f":"IF(BE$4=\"\",0,SUM($W34:BE34))","v":0},{"$f":"IF(BF$4=\"\",0,SUM($W34:BF34))","v":0},{"$f":"IF(BG$4=\"\",0,SUM($W34:BG34))","v":0},{"$f":"IF(BH$4=\"\",0,SUM($W34:BH34))","v":0},{"$f":"IF(BI$4=\"\",0,SUM($W34:BI34))","v":0},{"$f":"IF(BJ$4=\"\",0,SUM($W34:BJ34))","v":0},{"$f":"IF(BK$4=\"\",0,SUM($W34:BK34))","v":0},{"$f":"IF(BL$4=\"\",0,SUM($W34:BL34))","v":0},{"$f":"IF(BM$4=\"\",0,SUM($W34:BM34))","v":0},{"$f":"IF(BN$4=\"\",0,SUM($W34:BN34))","v":0},{"$f":"IF(BO$4=\"\",0,SUM($W34:BO34))","v":0},{"$f":"IF(BP$4=\"\",0,SUM($W34:BP34))","v":0},{"$f":"IF(BQ$4=\"\",0,SUM($W34:BQ34))","v":0},{"$f":"IF(BR$4=\"\",0,SUM($W34:BR34))","v":0},{"$f":"IF(BS$4=\"\",0,SUM($W34:BS34))","v":0},{"$f":"IF(BT$4=\"\",0,SUM($W34:BT34))","v":0},{"$f":"IF(BU$4=\"\",0,SUM($W34:BU34))","v":0},{"$f":"IF(BV$4=\"\",0,SUM($W34:BV34))","v":0},{"$f":"IF(BW$4=\"\",0,SUM($W34:BW34))","v":0},{"$f":"IF(BX$4=\"\",0,SUM($W34:BX34))","v":0},{"$f":"IF(BY$4=\"\",0,SUM($W34:BY34))","v":0},{"$f":"IF(BZ$4=\"\",0,SUM($W34:BZ34))","v":0},{"$f":"IF(CA$4=\"\",0,SUM($W34:CA34))","v":0},{"$f":"IF(CB$4=\"\",0,SUM($W34:CB34))","v":0},{"$f":"IF(CC$4=\"\",0,SUM($W34:CC34))","v":0},{"$f":"IF(CD$4=\"\",0,SUM($W34:CD34))","v":0},{"$f":"IF(CE$4=\"\",0,SUM($W34:CE34))","v":0},{"$f":"IF(CF$4=\"\",0,SUM($W34:CF34))","v":0},{"$f":"IF(CG$4=\"\",0,SUM($W34:CG34))","v":0},{"$f":"IF(CH$4=\"\",0,SUM($W34:CH34))","v":0},{"$f":"IF(CI$4=\"\",0,SUM($W34:CI34))","v":0},{"$f":"IF(CJ$4=\"\",0,SUM($W34:CJ34))","v":0},{"$f":"IF(CK$4=\"\",0,SUM($W34:CK34))","v":0},{"$f":"IF(CL$4=\"\",0,SUM($W34:CL34))","v":0},{"$f":"IF(CM$4=\"\",0,SUM($W34:CM34))","v":0},{"$f":"IF(CN$4=\"\",0,SUM($W34:CN34))","v":0},{"$f":"IF(CO$4=\"\",0,SUM($W34:CO34))","v":0},{"$f":"IF(CP$4=\"\",0,SUM($W34:CP34))","v":0},{"$f":"IF(CQ$4=\"\",0,SUM($W34:CQ34))","v":0},{"$f":"IF(CR$4=\"\",0,SUM($W34:CR34))","v":0},{"$f":"IF(CS$4=\"\",0,SUM($W34:CS34))","v":0},{"$f":"IF(CT$4=\"\",0,SUM($W34:CT34))","v":0},{"$f":"IF(CU$4=\"\",0,SUM($W34:CU34))","v":0},{"$f":"IF(CV$4=\"\",0,SUM($W34:CV34))","v":0},{"$f":"IF(CW$4=\"\",0,SUM($W34:CW34))","v":0},{"$f":"IF(CX$4=\"\",0,SUM($W34:CX34))","v":0},{"$f":"IF(CY$4=\"\",0,SUM($W34:CY34))","v":0},{"$f":"IF(CZ$4=\"\",0,SUM($W34:CZ34))","v":0},{"$f":"IF(DA$4=\"\",0,SUM($W34:DA34))","v":0},{"$f":"IF(DB$4=\"\",0,SUM($W34:DB34))","v":0},{"$f":"IF(DC$4=\"\",0,SUM($W34:DC34))","v":0},{"$f":"IF(DD$4=\"\",0,SUM($W34:DD34))","v":0},{"$f":"IF(DE$4=\"\",0,SUM($W34:DE34))","v":0},{"$f":"IF(DF$4=\"\",0,SUM($W34:DF34))","v":0},{"$f":"IF(DG$4=\"\",0,SUM($W34:DG34))","v":0},{"$f":"IF(DH$4=\"\",0,SUM($W34:DH34))","v":0},{"$f":"IF(DI$4=\"\",0,SUM($W34:DI34))","v":0},{"$f":"IF(DJ$4=\"\",0,SUM($W34:DJ34))","v":0},{"$f":"IF(DK$4=\"\",0,SUM($W34:DK34))","v":0},{"$f":"IF(DL$4=\"\",0,SUM($W34:DL34))","v":0},{"$f":"IF(DM$4=\"\",0,SUM($W34:DM34))","v":0},{"$f":"IF(DN$4=\"\",0,SUM($W34:DN34))","v":0},{"$f":"IF(DO$4=\"\",0,SUM($W34:DO34))","v":0},{"$f":"IF(DP$4=\"\",0,SUM($W34:DP34))","v":0},{"$f":"IF(DQ$4=\"\",0,SUM($W34:DQ34))","v":0},{"$f":"IF(DR$4=\"\",0,SUM($W34:DR34))","v":0},{"$f":"IF(DS$4=\"\",0,SUM($W34:DS34))","v":0},{"$f":"IF(DT$4=\"\",0,SUM($W34:DT34))","v":0},{"$f":"IF(DU$4=\"\",0,SUM($W34:DU34))","v":0},{"$f":"IF(DV$4=\"\",0,SUM($W34:DV34))","v":0},{"$f":"IF(DW$4=\"\",0,SUM($W34:DW34))","v":0},{"$f":"IF(DX$4=\"\",0,SUM($W34:DX34))","v":0},{"$f":"IF(DY$4=\"\",0,SUM($W34:DY34))","v":0},{"$f":"IF(DZ$4=\"\",0,SUM($W34:DZ34))","v":0},{"$f":"IF(EA$4=\"\",0,SUM($W34:EA34))","v":0},{"$f":"IF(EB$4=\"\",0,SUM($W34:EB34))","v":0},{"$f":"IF(EC$4=\"\",0,SUM($W34:EC34))","v":0},{"$f":"IF(ED$4=\"\",0,SUM($W34:ED34))","v":0},{"$f":"IF(EE$4=\"\",0,SUM($W34:EE34))","v":0},{"$f":"IF(EF$4=\"\",0,SUM($W34:EF34))","v":0},{"$f":"IF(EG$4=\"\",0,SUM($W34:EG34))","v":0},{"$f":"IF(EH$4=\"\",0,SUM($W34:EH34))","v":0},{"$f":"IF(EI$4=\"\",0,SUM($W34:EI34))","v":0},{"$f":"IF(EJ$4=\"\",0,SUM($W34:EJ34))","v":0},{"$f":"IF(EK$4=\"\",0,SUM($W34:EK34))","v":0},{"$f":"IF(EL$4=\"\",0,SUM($W34:EL34))","v":0},{"$f":"IF(EM$4=\"\",0,SUM($W34:EM34))","v":0},{"$f":"IF(EN$4=\"\",0,SUM($W34:EN34))","v":0},{"$f":"IF(EO$4=\"\",0,SUM($W34:EO34))","v":0},{"$f":"IF(EP$4=\"\",0,SUM($W34:EP34))","v":0},{"$f":"IF(EQ$4=\"\",0,SUM($W34:EQ34))","v":0},{"$f":"IF(ER$4=\"\",0,SUM($W34:ER34))","v":0},{"$f":"IF(ES$4=\"\",0,SUM($W34:ES34))","v":0},{"$f":"IF(ET$4=\"\",0,SUM($W34:ET34))","v":0},{"$f":"IF(EU$4=\"\",0,SUM($W34:EU34))","v":0},{"$f":"IF(EV$4=\"\",0,SUM($W34:EV34))","v":0},{"$f":"IF(EW$4=\"\",0,SUM($W34:EW34))","v":0},{"$f":"IF(EX$4=\"\",0,SUM($W34:EX34))","v":0},{"$f":"IF(EY$4=\"\",0,SUM($W34:EY34))","v":0},{"$f":"IF(EZ$4=\"\",0,SUM($W34:EZ34))","v":0},{"$f":"IF(FA$4=\"\",0,SUM($W34:FA34))","v":0},{"$f":"IF(FB$4=\"\",0,SUM($W34:FB34))","v":0},{"$f":"IF(FC$4=\"\",0,SUM($W34:FC34))","v":0},{"$f":"IF(FD$4=\"\",0,SUM($W34:FD34))","v":0},{"$f":"IF(FE$4=\"\",0,SUM($W34:FE34))","v":0},{"$f":"IF(FF$4=\"\",0,SUM($W34:FF34))","v":0},{"$f":"IF(FG$4=\"\",0,SUM($W34:FG34))","v":0},{"$f":"IF(FH$4=\"\",0,SUM($W34:FH34))","v":0},{"$f":"IF(FI$4=\"\",0,SUM($W34:FI34))","v":0},{"$f":"IF(FJ$4=\"\",0,SUM($W34:FJ34))","v":0},{"$f":"IF(FK$4=\"\",0,SUM($W34:FK34))","v":0},{"$f":"IF(FL$4=\"\",0,SUM($W34:FL34))","v":0},{"$f":"IF(FM$4=\"\",0,SUM($W34:FM34))","v":0},{"$f":"IF(FN$4=\"\",0,SUM($W34:FN34))","v":0},{"$f":"IF(FO$4=\"\",0,SUM($W34:FO34))","v":0},{"$f":"IF(FP$4=\"\",0,SUM($W34:FP34))","v":0},{"$f":"IF(FQ$4=\"\",0,SUM($W34:FQ34))","v":0},{"$f":"IF(FR$4=\"\",0,SUM($W34:FR34))","v":0},{"$f":"IF(FS$4=\"\",0,SUM($W34:FS34))","v":0},{"$f":"IF(FT$4=\"\",0,SUM($W34:FT34))","v":0},{"$f":"IF(FU$4=\"\",0,SUM($W34:FU34))","v":0},{"$f":"IF(FV$4=\"\",0,SUM($W34:FV34))","v":0},{"$f":"IF(FW$4=\"\",0,SUM($W34:FW34))","v":0},{"$f":"IF(FX$4=\"\",0,SUM($W34:FX34))","v":0},{"$f":"IF(FY$4=\"\",0,SUM($W34:FY34))","v":0},{"$f":"IF(FZ$4=\"\",0,SUM($W34:FZ34))","v":0},{"$f":"IF(GA$4=\"\",0,SUM($W34:GA34))","v":0},{"$f":"IF(GB$4=\"\",0,SUM($W34:GB34))","v":0},{"$f":"IF(GC$4=\"\",0,SUM($W34:GC34))","v":0},{"$f":"IF(GD$4=\"\",0,SUM($W34:GD34))","v":0},{"$f":"IF(GE$4=\"\",0,SUM($W34:GE34))","v":0},{"$f":"IF(GF$4=\"\",0,SUM($W34:GF34))","v":0},{"$f":"IF(GG$4=\"\",0,SUM($W34:GG34))","v":0},{"$f":"IF(GH$4=\"\",0,SUM($W34:GH34))","v":0},{"$f":"IF(GI$4=\"\",0,SUM($W34:GI34))","v":0},{"$f":"IF(GJ$4=\"\",0,SUM($W34:GJ34))","v":0},{"$f":"IF(GK$4=\"\",0,SUM($W34:GK34))","v":0},{"$f":"IF(GL$4=\"\",0,SUM($W34:GL34))","v":0},{"$f":"IF(GM$4=\"\",0,SUM($W34:GM34))","v":0},{"$f":"IF(GN$4=\"\",0,SUM($W34:GN34))","v":0},{"$f":"IF(GO$4=\"\",0,SUM($W34:GO34))","v":0},{"$f":"IF(GP$4=\"\",0,SUM($W34:GP34))","v":0},{"$f":"IF(GQ$4=\"\",0,SUM($W34:GQ34))","v":0},{"$f":"IF(GR$4=\"\",0,SUM($W34:GR34))","v":0},{"$f":"IF(GS$4=\"\",0,SUM($W34:GS34))","v":0},{"$f":"IF(GT$4=\"\",0,SUM($W34:GT34))","v":0},{"$f":"IF(GU$4=\"\",0,SUM($W34:GU34))","v":0},{"$f":"IF(GV$4=\"\",0,SUM($W34:GV34))","v":0}]
[]
[null,{"$f":"ROW()","v":38},null,null,null,null,null,"Кассовый разрыв",null,null,null,null,null,null,null,"CF(-)",null,null,null,null,{"$f":"Model!U49","v":0}]

{"sheet":"Lists","index":2,"n_rows":200,"n_cols":14,"rows_kept":200,"cut":false,"hidden":false,"merged":[]}
[null,null,null,null,null,null,null,null,{"$f":"COLUMN()","v":9},null,null,{"$f":"COLUMN()","v":12}]
[null,null,null,null,null,null,null,null,{"$f":"LEFT(ADDRESS(1,I1,4),(LEN(ADDRESS(1,I1,4))-1))","v":"I"},null,null,{"$f":"LEFT(ADDRESS(1,L1,4),(LEN(ADDRESS(1,L1,4))-1))","v":"L"}]
[]
[null,null,null,null,null,null,null,null,"периоды",null,null,"месяцы"]
[{"$f":"ROW()","v":5},null,null,null,null,null,null,null,{"$f":"\"Lists!\"&I$2&$A6&\":\"&I$2&($A5+MAX(J:J))","v":"Lists!I6:I9"},null,null,{"$f":"\"Lists!\"&L$2&$A6&\":\"&L$2&($A5+MAX(M:M))","v":"Lists!L6:L29"}]
[{"$f":"ROW()","v":6},null,null,null,null,null,null,"*","месяц",{"$f":"MAX(J$5:J5)+1","v":1},"*","2022-10-01",{"$f":"MAX(M$5:M5)+1","v":1},{"$f":"IF(AND(L6=\"\",M6<>0),1,IF(COUNTIF(L:L,L6)<>1,1,0))","v":0}]
[{"$f":"ROW()","v":7},null,null,null,null,null,null,"*","квартал",{"$f":"MAX(J$5:J6)+1","v":2},null,{"$f":"EOMONTH(L6,0)+1","v":"2022-11-01"},{"$f":"MAX(M$5:M6)+1","v":2},0]
[{"$f":"ROW()","v":8},null,null,null,null,null,null,"*","год текущий",{"$f":"MAX(J$5:J7)+1","v":3},null,{"$f":"EOMONTH(L7,0)+1","v":"2022-12-01"},{"$f":"MAX(M$5:M7)+1","v":3},0]
[{"$f":"ROW()","v":9},null,null,null,null,null,null,"*","год календарный",{"$f":"MAX(J$5:J8)+1","v":4},null,"2023-01-01",{"$f":"MAX(M$5:M8)+1","v":4},0]
[{"$f":"ROW()","v":10},null,null,null,null,null,null,null,null,null,null,"2023-02-01",{"$f":"MAX(M$5:M9)+1","v":5},0]
[{"$f":"ROW()","v":11},null,null,null,null,null,null,null,null,null,null,"2023-03-01",{"$f":"MAX(M$5:M10)+1","v":6},0]
[{"$f":"ROW()","v":12},null,null,null,null,null,null,null,null,null,null,"2023-04-01",{"$f":"MAX(M$5:M11)+1","v":7},0]
[{"$f":"ROW()","v":13},null,null,null,null,null,null,null,null,null,null,"2023-05-01",{"$f":"MAX(M$5:M12)+1","v":8},0]
[{"$f":"ROW()","v":14},null,null,null,null,null,null,null,null,null,null,"2023-06-01",{"$f":"MAX(M$5:M13)+1","v":9},0]
[{"$f":"ROW()","v":15},null,null,null,null,null,null,null,null,null,null,"2023-07-01",{"$f":"MAX(M$5:M14)+1","v":10},0]
[{"$f":"ROW()","v":16},null,null,null,null,null,null,null,null,null,null,"2023-08-01",{"$f":"MAX(M$5:M15)+1","v":11},0]
[{"$f":"ROW()","v":17},null,null,null,null,null,null,null,null,null,null,"2023-09-01",{"$f":"MAX(M$5:M16)+1","v":12},0]
[{"$f":"ROW()","v":18},null,null,null,null,null,null,null,null,null,null,{"$f":"EOMONTH(L17,0)+1","v":"2023-10-01"},{"$f":"MAX(M$5:M17)+1","v":13},0]
[{"$f":"ROW()","v":19},null,null,null,null,null,null,null,null,null,null,"2023-11-01",{"$f":"MAX(M$5:M18)+1","v":14},0]
[{"$f":"ROW()","v":20},null,null,null,null,null,null,null,null,null,null,"2023-12-01",{"$f":"MAX(M$5:M19)+1","v":15},0]
[{"$f":"ROW()","v":21},null,null,null,null,null,null,null,null,null,null,"2024-01-01",{"$f":"MAX(M$5:M20)+1","v":16},0]
[{"$f":"ROW()","v":22},null,null,null,null,null,null,null,null,null,null,"2024-02-01",{"$f":"MAX(M$5:M21)+1","v":17},0]
[{"$f":"ROW()","v":23},null,null,null,null,null,null,null,null,null,null,"2024-03-01",{"$f":"MAX(M$5:M22)+1","v":18},0]
[{"$f":"ROW()","v":24},null,null,null,null,null,null,null,null,null,null,"2024-04-01",{"$f":"MAX(M$5:M23)+1","v":19},0]
[{"$f":"ROW()","v":25},null,null,null,null,null,null,null,null,null,null,"2024-05-01",{"$f":"MAX(M$5:M24)+1","v":20},0]
[{"$f":"ROW()","v":26},null,null,null,null,null,null,null,null,null,null,"2024-06-01",{"$f":"MAX(M$5:M25)+1","v":21},0]
[{"$f":"ROW()","v":27},null,null,null,null,null,null,null,null,null,null,"2024-07-01",{"$f":"MAX(M$5:M26)+1","v":22},0]
[{"$f":"ROW()","v":28},null,null,null,null,null,null,null,null,null,null,"2024-08-01",{"$f":"MAX(M$5:M27)+1","v":23},0]
[{"$f":"ROW()","v":29},null,null,null,null,null,null,null,null,null,null,{"$f":"EOMONTH(L28,0)+1","v":"2024-09-01"},{"$f":"MAX(M$5:M28)+1","v":24},0]
[{"$f":"ROW()","v":30}]
[{"$f":"ROW()","v":31}]
[{"$f":"ROW()","v":32}]
[{"$f":"ROW()","v":33}]
[{"$f":"ROW()","v":34}]
[{"$f":"ROW()","v":35}]
[{"$f":"ROW()","v":36}]
[{"$f":"ROW()","v":37}]
[{"$f":"ROW()","v":38}]
[{"$f":"ROW()","v":39}]
[{"$f":"ROW()","v":40}]
[{"$f":"ROW()","v":41}]
[{"$f":"ROW()","v":42}]
[{"$f":"ROW()","v":43}]
[{"$f":"ROW()","v":44}]
[{"$f":"ROW()","v":45}]
[{"$f":"ROW()","v":46}]
[{"$f":"ROW()","v":47}]
[{"$f":"ROW()","v":48}]
[{"$f":"ROW()","v":49}]
[{"$f":"ROW()","v":50}]
[{"$f":"ROW()","v":51}]
[{"$f":"ROW()","v":52}]
[{"$f":"ROW()","v":53}]
[{"$f":"ROW()","v":54}]
[{"$f":"ROW()","v":55}]
[{"$f":"ROW()","v":56}]
[{"$f":"ROW()","v":57}]
[{"$f":"ROW()","v":58}]
[{"$f":"ROW()","v":59}]
[{"$f":"ROW()","v":60}]
[{"$f":"ROW()","v":61}]
[{"$f":"ROW()","v":62}]
[{"$f":"ROW()","v":63}]
[{"$f":"ROW()","v":64}]
[{"$f":"ROW()","v":65}]
[{"$f":"ROW()","v":66}]
[{"$f":"ROW()","v":67}]
[{"$f":"ROW()","v":68}]
[{"$f":"ROW()","v":69}]
[{"$f":"ROW()","v":70}]
[{"$f":"ROW()","v":71}]
[{"$f":"ROW()","v":72}]
[{"$f":"ROW()","v":73}]
[{"$f":"ROW()","v":74}]
[{"$f":"ROW()","v":75}]
[{"$f":"ROW()","v":76}]
[{"$f":"ROW()","v":77}]
[{"$f":"ROW()","v":78}]
[{"$f":"ROW()","v":79}]
[{"$f":"ROW()","v":80}]
[{"$f":"ROW()","v":81}]
[{"$f":"ROW()","v":82}]
[{"$f":"ROW()","v":83}]
[{"$f":"ROW()","v":84}]
[{"$f":"ROW()","v":85}]
[{"$f":"ROW()","v":86}]
[{"$f":"ROW()","v":87}]
[{"$f":"ROW()","v":88}]
[{"$f":"ROW()","v":89}]
[{"$f":"ROW()","v":90}]
[{"$f":"ROW()","v":91}]
[{"$f":"ROW()","v":92}]
[{"$f":"ROW()","v":93}]
[{"$f":"ROW()","v":94}]
[{"$f":"ROW()","v":95}]
[{"$f":"ROW()","v":96}]
[{"$f":"ROW()","v":97}]
[{"$f":"ROW()","v":98}]
[{"$f":"ROW()","v":99}]
[{"$f":"ROW()","v":100}]
[{"$f":"ROW()","v":101}]
[{"$f":"ROW()","v":102}]
[{"$f":"ROW()","v":103}]
[{"$f":"ROW()","v":104}]
[{"$f":"ROW()","v":105}]
[{"$f":"ROW()","v":106}]
[{"$f":"ROW()","v":107}]
[{"$f":"ROW()","v":108}]
[{"$f":"ROW()","v":109}]
[{"$f":"ROW()","v":110}]
[{"$f":"ROW()","v":111}]
[{"$f":"ROW()","v":112}]
[{"$f":"ROW()","v":113}]
[{"$f":"ROW()","v":114}]
[{"$f":"ROW()","v":115}]
[{"$f":"ROW()","v":116}]
[{"$f":"ROW()","v":117}]
[{"$f":"ROW()","v":118}]
[{"$f":"ROW()","v":119}]
[{"$f":"ROW()","v":120}]
[{"$f":"ROW()","v":121}]
[{"$f":"ROW()","v":122}]
[{"$f":"ROW()","v":123}]
[{"$f":"ROW()","v":124}]
[{"$f":"ROW()","v":125}]
[{"$f":"ROW()","v":126}]
[{"$f":"ROW()","v":127}]
[{"$f":"ROW()","v":128}]
[{"$f":"ROW()","v":129}]
[{"$f":"ROW()","v":130}]
[{"$f":"ROW()","v":131}]
[{"$f":"ROW()","v":132}]
[{"$f":"ROW()","v":133}]
[{"$f":"ROW()","v":134}]
[{"$f":"ROW()","v":135}]
[{"$f":"ROW()","v":136}]
[{"$f":"ROW()","v":137}]
[{"$f":"ROW()","v":138}]
[{"$f":"ROW()","v":139}]
[{"$f":"ROW()","v":140}]
[{"$f":"ROW()","v":141}]
[{"$f":"ROW()","v":142}]
[{"$f":"ROW()","v":143}]
[{"$f":"ROW()","v":144}]
[{"$f":"ROW()","v":145}]
[{"$f":"ROW()","v":146}]
[{"$f":"ROW()","v":147}]
[{"$f":"ROW()","v":148}]
[{"$f":"ROW()","v":149}]
[{"$f":"ROW()","v":150}]
[{"$f":"ROW()","v":151}]
[{"$f":"ROW()","v":152}]
[{"$f":"ROW()","v":153}]
[{"$f":"ROW()","v":154}]
[{"$f":"ROW()","v":155}]
[{"$f":"ROW()","v":156}]
[{"$f":"ROW()","v":157}]
[{"$f":"ROW()","v":158}]
[{"$f":"ROW()","v":159}]
[{"$f":"ROW()","v":160}]
[{"$f":"ROW()","v":161}]
[{"$f":"ROW()","v":162}]
[{"$f":"ROW()","v":163}]
[{"$f":"ROW()","v":164}]
[{"$f":"ROW()","v":165}]
[{"$f":"ROW()","v":166}]
[{"$f":"ROW()","v":167}]
[{"$f":"ROW()","v":168}]
[{"$f":"ROW()","v":169}]
[{"$f":"ROW()","v":170}]
[{"$f":"ROW()","v":171}]
[{"$f":"ROW()","v":172}]
[{"$f":"ROW()","v":173}]
[{"$f":"ROW()","v":174}]
[{"$f":"ROW()","v":175}]
[{"$f":"ROW()","v":176}]
[{"$f":"ROW()","v":177}]
[{"$f":"ROW()","v":178}]
[{"$f":"ROW()","v":179}]
[{"$f":"ROW()","v":180}]
[{"$f":"ROW()","v":181}]
[{"$f":"ROW()","v":182}]
[{"$f":"ROW()","v":183}]
[{"$f":"ROW()","v":184}]
[{"$f":"ROW()","v":185}]
[{"$f":"ROW()","v":186}]
[{"$f":"ROW()","v":187}]
[{"$f":"ROW()","v":188}]
[{"$f":"ROW()","v":189}]
[{"$f":"ROW()","v":190}]
[{"$f":"ROW()","v":191}]
[{"$f":"ROW()","v":192}]
[{"$f":"ROW()","v":193}]
[{"$f":"ROW()","v":194}]
[{"$f":"ROW()","v":195}]
[{"$f":"ROW()","v":196}]
[{"$f":"ROW()","v":197}]
[{"$f":"ROW()","v":198}]
[{"$f":"ROW()","v":199}]
[{"$f":"ROW()","v":200}]

{"sheet":"Аннуитет","index":3,"n_rows":0,"n_cols":0,"rows_kept":0,"cut":false,"hidden":false,"merged":[]}