{"text_format":"1","workbook":"xlsx","n_sheets":6,"sheets":["методология","screen","BD","lists","PvT","conditions"],"not_rendered":{"charts":0,"images":1,"macros":1,"external_links":0,"defined_names":0,"comments":0,"pivot_tables":1},"unopened":[],"bounds":{"document_bytes":16777216,"sheet_cells":100000,"rows_first":2000,"rows_last":500,"rows_between":2000,"halvings":0,"cell_chars":16384,"cell_head_chars":4096},"cells_cut":0,"cells_raw":0,"read":"whole","date_system":"1900"}

{"sheet":"методология","index":0,"n_rows":1,"n_cols":1,"rows_kept":1,"cut":false,"hidden":false,"merged":[]}
["Методология будет добавлена до 21 июня 2021г. Ожидайте"]

{"sheet":"screen","index":1,"n_rows":100,"n_cols":18,"rows_kept":100,"cut":false,"hidden":false,"merged":[]}
["C"]
["I"]
["F",null,null,null,null,null,null,null,null,null,{"$f":"BD!$AK$1","v":"исполнитель"},"*",null,"^",{"$f":"IF(OR(M3=\"\",M3=0),0,IF(COUNTIF(lists!$CP:$CP,M3)=1,0,1))","v":0}]
[]
[{"$f":"IF($C$47=\"\",\"\",INDEX(BD!$AS:$AS,SUMIFS(BD!$A:$A,BD!$I:$I,1,BD!$L:$L,$C$47)))","v":"Зак"},null,{"$f":"lists!$G$8","v":"сокращ. название Заказчика"},"*",null,"^",{"$f":"IF(OR(E5=\"\",E5=0),0,IF(COUNTIF(lists!$G:$G,E5)=1,0,1))","v":0},null,{"$f":"BD!$O$1","v":"статус Долга"},null,{"$f":"INDEX(BD!$O:$O,SUMIFS(BD!$A:$A,BD!$I:$I,1,BD!$AS:$AS,$E$5,BD!$AT:$AT,$E$7,BD!$AV:$AV,$E$11,BD!$AW:$AW,$E$13))","v":"Долга нет"}]
[null,null,null,null,{"$f":"\"*\"&E5&\"*\"","v":"**"}]
[{"$f":"IF($C$47=\"\",\"\",INDEX(BD!$AT:$AT,SUMIFS(BD!$A:$A,BD!$I:$I,1,BD!$L:$L,$C$47)))","v":"№2"},null,{"$f":"BD!$AT$1","v":"№ Договора"},"*",null,null,null,null,{"$f":"BD!$P$1","v":"статус ответственного за Долг"},null,{"$f":"INDEX(BD!$P:$P,SUMIFS(BD!$A:$A,BD!$I:$I,1,BD!$AS:$AS,$E$5,BD!$AT:$AT,$E$7,BD!$AV:$AV,$E$11,BD!$AW:$AW,$E$13))","v":"Нет задачи"},null,null,null,null,null,null,"+7(985)201-6607"]
[null,null,null,null,{"$f":"\"*\"&E7&\"*\"","v":"**"}]
[{"$f":"IF($C$47=\"\",\"\",INDEX(BD!$AU:$AU,SUMIFS(BD!$A:$A,BD!$I:$I,1,BD!$L:$L,$C$47)))","v":43723},null,{"$f":"BD!$AU$1","v":"дата Договора"},"*",null,null,null,null,{"$f":"BD!$Q$1","v":"статус просроченного Долга"},null,{"$f":"INDEX(BD!$Q:$Q,SUMIFS(BD!$A:$A,BD!$I:$I,1,BD!$AS:$AS,$E$5,BD!$AT:$AT,$E$7,BD!$AV:$AV,$E$11,BD!$AW:$AW,$E$13))","v":"нет статуса"},null,"перевести Долг в следующий статус"]
[]
[{"$f":"IF($C$47=\"\",\"\",INDEX(BD!$AV:$AV,SUMIFS(BD!$A:$A,BD!$I:$I,1,BD!$L:$L,$C$47)))","v":"ТН"},null,{"$f":"BD!$AV$1","v":"Документ"},"*",null,null,null,null,{"$f":"BD!$R$1","v":"статус действия"},null,{"$f":"INDEX(BD!$R:$R,SUMIFS(BD!$A:$A,BD!$I:$I,1,BD!$AS:$AS,$E$5,BD!$AT:$AT,$E$7,BD!$AV:$AV,$E$11,BD!$AW:$AW,$E$13))","v":"нет действий"},null,{"$f":"IF(K11=lists!$BT$13,\"некуда переводить - неликвид\",IF(K11=lists!$BT$12,lists!$BT$13,IF(K11=lists!$CK$15,lists!$BT$12,INDEX(lists!$CK$11:$CK$15,1+IF(OR(K11=\"\",K11=0,K11=\"нет действий\"),0,SUMIFS(lists!$BW$11:$BW$15,lists!$CK$11:$CK$15,K11))))))","v":"коммуникация"}]
[null,null,null,null,{"$f":"\"*\"&E11&\"*\"","v":"**"}]
[{"$f":"IF($C$47=\"\",\"\",INDEX(BD!$AW:$AW,SUMIFS(BD!$A:$A,BD!$I:$I,1,BD!$L:$L,$C$47)))","v":"№5"},null,{"$f":"BD!$AW$1","v":"№ Документа"},"*",null,null,null,null,"красная зона",null,{"$f":"SUMIFS(BD!$U:$U,BD!$I:$I,1,BD!$AS:$AS,$E$5,BD!$AT:$AT,$E$7,BD!$AV:$AV,$E$11,BD!$AW:$AW,$E$13)+SUMIFS(BD!$X:$X,BD!$I:$I,1,BD!$AS:$AS,$E$5,BD!$AT:$AT,$E$7,BD!$AV:$AV,$E$11,BD!$AW:$AW,$E$13)+SUMIFS(BD!$AA:$AA,BD!$I:$I,1,BD!$AS:$AS,$E$5,BD!$AT:$AT,$E$7,BD!$AV:$AV,$E$11,BD!$AW:$AW,$E$13)+SUMIFS(BD!$AD:$AD,BD!$I:$I,1,BD!$AS:$AS,$E$5,BD!$AT:$AT,$E$7,BD!$AV:$AV,$E$11,BD!$AW:$AW,$E$13)+SUMIFS(BD!$AG:$AG,BD!$I:$I,1,BD!$AS:$AS,$E$5,BD!$AT:$AT,$E$7,BD!$AV:$AV,$E$11,BD!$AW:$AW,$E$13)","v":0},"*",null,"^",{"$f":"IF(OR(M13=\"\",M13=0),0,IF(COUNTIF(lists!$CW:$CW,M13)=1,0,1))","v":0}]
[null,null,null,null,{"$f":"\"*\"&E13&\"*\"","v":"**"}]
[{"$f":"IF($C$47=\"\",\"\",INDEX(BD!$AX:$AX,SUMIFS(BD!$A:$A,BD!$I:$I,1,BD!$L:$L,$C$47)))","v":43740},null,{"$f":"BD!$AX$1","v":"дата Документа"},"*",null,null,null,null,{"$f":"BD!$N$1","v":"срок просрочки"},null,{"$f":"SUMIFS(BD!$N:$N,BD!$I:$I,1,BD!$AS:$AS,$E$5,BD!$AT:$AT,$E$7,BD!$AV:$AV,$E$11,BD!$AW:$AW,$E$13)","v":0},"f",{"$f":"IF(AND(M13=screen!$M$17,screen!$M$11=lists!$BT$12,screen!$M$13=lists!$CW$11),$AI15,IF(AND(M13=screen!$M$21,screen!$M$11=lists!$BT$13,screen!$M$13=lists!$CW$11),$AI15,IF(AND(M13=screen!$M$25,screen!$M$11=lists!$CK$11,screen!$M$13=lists!$CW$11),$AI15,IF(AND(M13=screen!$M$29,screen!$M$11=lists!$CK$12,screen!$M$13=lists!$CW$11),$AI15,IF(AND(M13=screen!$M$33,screen!$M$11=lists!$CK$13,screen!$M$13=lists!$CW$11),$AI15,IF(AND(M13=screen!$M$37,screen!$M$11=lists!$CK$14,screen!$M$13=lists!$CW$11),$AI15,IF(AND(M13=screen!$M$41,screen!$M$11=lists!$CK$15,screen!$M$13=lists!$CW$11),$AI15,M14)))))))","v":0}]
[]
[{"$f":"IF($C$47=\"\",\"\",INDEX(BD!$AY:$AY,SUMIFS(BD!$A:$A,BD!$I:$I,1,BD!$L:$L,$C$47)))","v":1000000},null,{"$f":"BD!$AY$1","v":"сумма отгрузки"},"*",null,null,null,null,{"$f":"BD!$M$1","v":"сумма Долга"},null,{"$f":"SUMIFS(BD!$M:$M,BD!$I:$I,1,BD!$AS:$AS,$E$5,BD!$AT:$AT,$E$7,BD!$AV:$AV,$E$11,BD!$AW:$AW,$E$13)","v":0},null,{"$f":"BD!$AL$1","v":"дата перевода Долга в ответств. Юр"}]
[]
[null,null,"соглас. даты оплаты:",null,"соглас. суммы оплаты:",null,null,null,"фактич. даты оплаты:",null,"фактич. суммы оплаты:",null,{"$f":"SUMIFS(BD!$AL:$AL,BD!$I:$I,1,BD!$AS:$AS,$E$5,BD!$AT:$AT,$E$7,BD!$AV:$AV,$E$11,BD!$AW:$AW,$E$13)","v":"00:00:00"},{"$f":"IF($C$47=\"\",\"\",INDEX(BD!$AL:$AL,SUMIFS(BD!$A:$A,BD!$I:$I,1,BD!$L:$L,$C$47)))","v":0}]
[]
[{"$f":"IF($C$47=\"\",\"\",INDEX(BD!$AZ:$AZ,SUMIFS(BD!$A:$A,BD!$I:$I,1,BD!$L:$L,$C$47)))","v":43726},"*",null,"*",null,{"$f":"IF($C$47=\"\",\"\",INDEX(BD!$BA:$BA,SUMIFS(BD!$A:$A,BD!$I:$I,1,BD!$L:$L,$C$47)))","v":300000},{"$f":"IF($C$47=\"\",\"\",INDEX(BD!$BX:$BX,SUMIFS(BD!$A:$A,BD!$I:$I,1,BD!$L:$L,$C$47)))","v":43731},"*",null,"*",null,{"$f":"IF($C$47=\"\",\"\",INDEX(BD!$BY:$BY,SUMIFS(BD!$A:$A,BD!$I:$I,1,BD!$L:$L,$C$47)))","v":400000},{"$f":"BD!$AM$1","v":"дата перевода Долга в ответств. ТОП"}]
[]
[{"$f":"IF($C$47=\"\",\"\",INDEX(BD!$BB:$BB,SUMIFS(BD!$A:$A,BD!$I:$I,1,BD!$L:$L,$C$47)))","v":43739},"*",null,"*",null,{"$f":"IF($C$47=\"\",\"\",INDEX(BD!$BC:$BC,SUMIFS(BD!$A:$A,BD!$I:$I,1,BD!$L:$L,$C$47)))","v":500000},{"$f":"IF($C$47=\"\",\"\",INDEX(BD!$BZ:$BZ,SUMIFS(BD!$A:$A,BD!$I:$I,1,BD!$L:$L,$C$47)))","v":43741},"*",null,"*",null,{"$f":"IF($C$47=\"\",\"\",INDEX(BD!$CA:$CA,SUMIFS(BD!$A:$A,BD!$I:$I,1,BD!$L:$L,$C$47)))","v":100000},{"$f":"SUMIFS(BD!$AM:$AM,BD!$I:$I,1,BD!$AS:$AS,$E$5,BD!$AT:$AT,$E$7,BD!$AV:$AV,$E$11,BD!$AW:$AW,$E$13)","v":"00:00:00"},{"$f":"IF($C$47=\"\",\"\",INDEX(BD!$AM:$AM,SUMIFS(BD!$A:$A,BD!$I:$I,1,BD!$L:$L,$C$47)))","v":0}]
[]
[{"$f":"IF($C$47=\"\",\"\",INDEX(BD!$BD:$BD,SUMIFS(BD!$A:$A,BD!$I:$I,1,BD!$L:$L,$C$47)))","v":43742},"*",null,"*",null,{"$f":"IF($C$47=\"\",\"\",INDEX(BD!$BE:$BE,SUMIFS(BD!$A:$A,BD!$I:$I,1,BD!$L:$L,$C$47)))","v":200000},{"$f":"IF($C$47=\"\",\"\",INDEX(BD!$CB:$CB,SUMIFS(BD!$A:$A,BD!$I:$I,1,BD!$L:$L,$C$47)))","v":43746},"*",null,"*",null,{"$f":"IF($C$47=\"\",\"\",INDEX(BD!$CC:$CC,SUMIFS(BD!$A:$A,BD!$I:$I,1,BD!$L:$L,$C$47)))","v":500000},{"$f":"BD!$AN$1","v":"дата статуса-1 (коммуникация)"}]
[]
[{"$f":"IF($C$47=\"\",\"\",INDEX(BD!$BF:$BF,SUMIFS(BD!$A:$A,BD!$I:$I,1,BD!$L:$L,$C$47)))","v":0},"*",null,"*",null,{"$f":"IF($C$47=\"\",\"\",INDEX(BD!$BG:$BG,SUMIFS(BD!$A:$A,BD!$I:$I,1,BD!$L:$L,$C$47)))","v":0},{"$f":"IF($C$47=\"\",\"\",INDEX(BD!$CD:$CD,SUMIFS(BD!$A:$A,BD!$I:$I,1,BD!$L:$L,$C$47)))","v":0},"*",null,"*",null,{"$f":"IF($C$47=\"\",\"\",INDEX(BD!$CE:$CE,SUMIFS(BD!$A:$A,BD!$I:$I,1,BD!$L:$L,$C$47)))","v":0},{"$f":"SUMIFS(BD!$AN:$AN,BD!$I:$I,1,BD!$AS:$AS,$E$5,BD!$AT:$AT,$E$7,BD!$AV:$AV,$E$11,BD!$AW:$AW,$E$13)","v":"00:00:00"},{"$f":"IF($C$47=\"\",\"\",INDEX(BD!$AN:$AN,SUMIFS(BD!$A:$A,BD!$I:$I,1,BD!$L:$L,$C$47)))","v":43746.202689583333}]
[]
[{"$f":"IF($C$47=\"\",\"\",INDEX(BD!$BH:$BH,SUMIFS(BD!$A:$A,BD!$I:$I,1,BD!$L:$L,$C$47)))","v":0},"*",null,"*",null,{"$f":"IF($C$47=\"\",\"\",INDEX(BD!$BI:$BI,SUMIFS(BD!$A:$A,BD!$I:$I,1,BD!$L:$L,$C$47)))","v":0},{"$f":"IF($C$47=\"\",\"\",INDEX(BD!$CF:$CF,SUMIFS(BD!$A:$A,BD!$I:$I,1,BD!$L:$L,$C$47)))","v":0},"*",null,"*",null,{"$f":"IF($C$47=\"\",\"\",INDEX(BD!$CG:$CG,SUMIFS(BD!$A:$A,BD!$I:$I,1,BD!$L:$L,$C$47)))","v":0},{"$f":"BD!$AO$1","v":"дата статуса-2 (график рассрочки)"}]
[]
[{"$f":"IF($C$47=\"\",\"\",INDEX(BD!$BJ:$BJ,SUMIFS(BD!$A:$A,BD!$I:$I,1,BD!$L:$L,$C$47)))","v":0},"*",null,"*",null,{"$f":"IF($C$47=\"\",\"\",INDEX(BD!$BK:$BK,SUMIFS(BD!$A:$A,BD!$I:$I,1,BD!$L:$L,$C$47)))","v":0},{"$f":"IF($C$47=\"\",\"\",INDEX(BD!$CH:$CH,SUMIFS(BD!$A:$A,BD!$I:$I,1,BD!$L:$L,$C$47)))","v":0},"*",null,"*",null,{"$f":"IF($C$47=\"\",\"\",INDEX(BD!$CI:$CI,SUMIFS(BD!$A:$A,BD!$I:$I,1,BD!$L:$L,$C$47)))","v":0},{"$f":"SUMIFS(BD!$AO:$AO,BD!$I:$I,1,BD!$AS:$AS,$E$5,BD!$AT:$AT,$E$7,BD!$AV:$AV,$E$11,BD!$AW:$AW,$E$13)","v":"00:00:00"},{"$f":"IF($C$47=\"\",\"\",INDEX(BD!$AO:$AO,SUMIFS(BD!$A:$A,BD!$I:$I,1,BD!$L:$L,$C$47)))","v":43746.203541666669}]
[]
[{"$f":"IF($C$47=\"\",\"\",INDEX(BD!$BL:$BL,SUMIFS(BD!$A:$A,BD!$I:$I,1,BD!$L:$L,$C$47)))","v":0},"*",null,"*",null,{"$f":"IF($C$47=\"\",\"\",INDEX(BD!$BM:$BM,SUMIFS(BD!$A:$A,BD!$I:$I,1,BD!$L:$L,$C$47)))","v":0},{"$f":"IF($C$47=\"\",\"\",INDEX(BD!$CJ:$CJ,SUMIFS(BD!$A:$A,BD!$I:$I,1,BD!$L:$L,$C$47)))","v":0},"*",null,"*",null,{"$f":"IF($C$47=\"\",\"\",INDEX(BD!$CK:$CK,SUMIFS(BD!$A:$A,BD!$I:$I,1,BD!$L:$L,$C$47)))","v":0},{"$f":"BD!$AP$1","v":"дата статуса-3 (досудебная претензия)"}]
[]
[{"$f":"IF($C$47=\"\",\"\",INDEX(BD!$BN:$BN,SUMIFS(BD!$A:$A,BD!$I:$I,1,BD!$L:$L,$C$47)))","v":0},"*",null,"*",null,{"$f":"IF($C$47=\"\",\"\",INDEX(BD!$BO:$BO,SUMIFS(BD!$A:$A,BD!$I:$I,1,BD!$L:$L,$C$47)))","v":0},{"$f":"IF($C$47=\"\",\"\",INDEX(BD!$CL:$CL,SUMIFS(BD!$A:$A,BD!$I:$I,1,BD!$L:$L,$C$47)))","v":0},"*",null,"*",null,{"$f":"IF($C$47=\"\",\"\",INDEX(BD!$CM:$CM,SUMIFS(BD!$A:$A,BD!$I:$I,1,BD!$L:$L,$C$47)))","v":0},{"$f":"SUMIFS(BD!$AP:$AP,BD!$I:$I,1,BD!$AS:$AS,$E$5,BD!$AT:$AT,$E$7,BD!$AV:$AV,$E$11,BD!$AW:$AW,$E$13)","v":"00:00:00"},{"$f":"IF($C$47=\"\",\"\",INDEX(BD!$AP:$AP,SUMIFS(BD!$A:$A,BD!$I:$I,1,BD!$L:$L,$C$47)))","v":43746.205684375003}]
[]
[{"$f":"IF($C$47=\"\",\"\",INDEX(BD!$BP:$BP,SUMIFS(BD!$A:$A,BD!$I:$I,1,BD!$L:$L,$C$47)))","v":0},"*",null,"*",null,{"$f":"IF($C$47=\"\",\"\",INDEX(BD!$BQ:$BQ,SUMIFS(BD!$A:$A,BD!$I:$I,1,BD!$L:$L,$C$47)))","v":0},{"$f":"IF($C$47=\"\",\"\",INDEX(BD!$CN:$CN,SUMIFS(BD!$A:$A,BD!$I:$I,1,BD!$L:$L,$C$47)))","v":0},"*",null,"*",null,{"$f":"IF($C$47=\"\",\"\",INDEX(BD!$CO:$CO,SUMIFS(BD!$A:$A,BD!$I:$I,1,BD!$L:$L,$C$47)))","v":0},{"$f":"BD!$AQ$1","v":"дата статуса-4 (ознакомление Должника с иском)"}]
[]
[{"$f":"IF($C$47=\"\",\"\",INDEX(BD!$BR:$BR,SUMIFS(BD!$A:$A,BD!$I:$I,1,BD!$L:$L,$C$47)))","v":0},"*",null,"*",null,{"$f":"IF($C$47=\"\",\"\",INDEX(BD!$BS:$BS,SUMIFS(BD!$A:$A,BD!$I:$I,1,BD!$L:$L,$C$47)))","v":0},{"$f":"IF($C$47=\"\",\"\",INDEX(BD!$CP:$CP,SUMIFS(BD!$A:$A,BD!$I:$I,1,BD!$L:$L,$C$47)))","v":0},"*",null,"*",null,{"$f":"IF($C$47=\"\",\"\",INDEX(BD!$CQ:$CQ,SUMIFS(BD!$A:$A,BD!$I:$I,1,BD!$L:$L,$C$47)))","v":0},{"$f":"SUMIFS(BD!$AQ:$AQ,BD!$I:$I,1,BD!$AS:$AS,$E$5,BD!$AT:$AT,$E$7,BD!$AV:$AV,$E$11,BD!$AW:$AW,$E$13)","v":"00:00:00"},{"$f":"IF($C$47=\"\",\"\",INDEX(BD!$AQ:$AQ,SUMIFS(BD!$A:$A,BD!$I:$I,1,BD!$L:$L,$C$47)))","v":43749.504867013886}]
[]
[{"$f":"IF($C$47=\"\",\"\",INDEX(BD!$BT:$BT,SUMIFS(BD!$A:$A,BD!$I:$I,1,BD!$L:$L,$C$47)))","v":0},"*",null,"*",null,{"$f":"IF($C$47=\"\",\"\",INDEX(BD!$BU:$BU,SUMIFS(BD!$A:$A,BD!$I:$I,1,BD!$L:$L,$C$47)))","v":0},{"$f":"IF($C$47=\"\",\"\",INDEX(BD!$CR:$CR,SUMIFS(BD!$A:$A,BD!$I:$I,1,BD!$L:$L,$C$47)))","v":0},"*",null,"*",null,{"$f":"IF($C$47=\"\",\"\",INDEX(BD!$CS:$CS,SUMIFS(BD!$A:$A,BD!$I:$I,1,BD!$L:$L,$C$47)))","v":0},{"$f":"BD!$AR$1","v":"дата статуса-5 (иск в Суд)"}]
[]
[{"$f":"IF($C$47=\"\",\"\",INDEX(BD!$BV:$BV,SUMIFS(BD!$A:$A,BD!$I:$I,1,BD!$L:$L,$C$47)))","v":0},"*",null,"*",null,{"$f":"IF($C$47=\"\",\"\",INDEX(BD!$BW:$BW,SUMIFS(BD!$A:$A,BD!$I:$I,1,BD!$L:$L,$C$47)))","v":0},{"$f":"IF($C$47=\"\",\"\",INDEX(BD!$CT:$CT,SUMIFS(BD!$A:$A,BD!$I:$I,1,BD!$L:$L,$C$47)))","v":0},"*",null,"*",null,{"$f":"IF($C$47=\"\",\"\",INDEX(BD!$CU:$CU,SUMIFS(BD!$A:$A,BD!$I:$I,1,BD!$L:$L,$C$47)))","v":0},{"$f":"SUMIFS(BD!$AR:$AR,BD!$I:$I,1,BD!$AS:$AS,$E$5,BD!$AT:$AT,$E$7,BD!$AV:$AV,$E$11,BD!$AW:$AW,$E$13)","v":"00:00:00"},{"$f":"IF($C$47=\"\",\"\",INDEX(BD!$AR:$AR,SUMIFS(BD!$A:$A,BD!$I:$I,1,BD!$L:$L,$C$47)))","v":0}]
[]
[null,null,{"$f":"BD!$AH$1","v":"контроль суммы"},null,{"$f":"SUMIFS(BD!$AH:$AH,BD!$I:$I,1,BD!$AS:$AS,$E$5,BD!$AT:$AT,$E$7,BD!$AV:$AV,$E$11,BD!$AW:$AW,$E$13)","v":0},null,null,null,null,null,{"$f":"BD!$P$1","v":"статус ответственного за Долг"},null,{"$f":"BD!$R$1","v":"статус действия"}]
[]
[null,1,{"$f":"IF(SUMIFS(PvT!$A:$A,PvT!$B:$B,$B47)=0,\"\",INDEX(PvT!$C:$C,SUMIFS(PvT!$A:$A,PvT!$B:$B,$B47)))","v":"Зак / дог. №2 от 15.9.2019г. / ТН №5 от 2.10.2019г. / сумма отгр. 1000000"},null,null,null,null,null,null,null,{"$f":"IF($C47=\"\",\"\",INDEX(BD!$P:$P,SUMIFS(BD!$A:$A,BD!$I:$I,1,BD!$L:$L,$C47)))","v":"Нет задачи"},null,{"$f":"IF($C47=\"\",\"\",INDEX(BD!$R:$R,SUMIFS(BD!$A:$A,BD!$I:$I,1,BD!$L:$L,$C47)))","v":"нет действий"}]
[]
[null,{"$f":"MAX(B$46:B48)+1","v":2},{"$f":"IF(SUMIFS(PvT!$A:$A,PvT!$B:$B,$B49)=0,\"\",INDEX(PvT!$C:$C,SUMIFS(PvT!$A:$A,PvT!$B:$B,$B49)))","v":"Зак-2 / дог. №76-в от 23.9.2019г. / АКТ №786 от 1.10.2019г. / сумма отгр. 3000000"},null,null,null,null,null,null,null,{"$f":"IF($C49=\"\",\"\",INDEX(BD!$P:$P,SUMIFS(BD!$A:$A,BD!$I:$I,1,BD!$L:$L,$C49)))","v":"Долг брошенный"},null,{"$f":"IF($C49=\"\",\"\",INDEX(BD!$R:$R,SUMIFS(BD!$A:$A,BD!$I:$I,1,BD!$L:$L,$C49)))","v":"досудебная претензия"}]
[null,{"$f":"MAX(B$46:B49)+1","v":3},{"$f":"IF(SUMIFS(PvT!$A:$A,PvT!$B:$B,$B50)=0,\"\",INDEX(PvT!$C:$C,SUMIFS(PvT!$A:$A,PvT!$B:$B,$B50)))","v":"Зак-2 / дог. №555 от 1.10.2019г. / ТН №777 от 1.10.2019г. / сумма отгр. 1000000"},null,null,null,null,null,null,null,{"$f":"IF($C50=\"\",\"\",INDEX(BD!$P:$P,SUMIFS(BD!$A:$A,BD!$I:$I,1,BD!$L:$L,$C50)))","v":"Нет задачи"},null,{"$f":"IF($C50=\"\",\"\",INDEX(BD!$R:$R,SUMIFS(BD!$A:$A,BD!$I:$I,1,BD!$L:$L,$C50)))","v":"нет действий"}]
[null,{"$f":"MAX(B$46:B50)+1","v":4},{"$f":"IF(SUMIFS(PvT!$A:$A,PvT!$B:$B,$B51)=0,\"\",INDEX(PvT!$C:$C,SUMIFS(PvT!$A:$A,PvT!$B:$B,$B51)))","v":"зак-4 / дог. №444 от 1.10.2019г. / Акт №444/1 от 10.10.2019г. / сумма отгр. 1000000"},null,null,null,null,null,null,null,{"$f":"IF($C51=\"\",\"\",INDEX(BD!$P:$P,SUMIFS(BD!$A:$A,BD!$I:$I,1,BD!$L:$L,$C51)))","v":"Нет задачи"},null,{"$f":"IF($C51=\"\",\"\",INDEX(BD!$R:$R,SUMIFS(BD!$A:$A,BD!$I:$I,1,BD!$L:$L,$C51)))","v":"нет действий"}]
[null,{"$f":"MAX(B$46:B51)+1","v":5},{"$f":"IF(SUMIFS(PvT!$A:$A,PvT!$B:$B,$B52)=0,\"\",INDEX(PvT!$C:$C,SUMIFS(PvT!$A:$A,PvT!$B:$B,$B52)))","v":"Зак / дог. №1172 от 4.10.2019г. / ТН №1172/тн от 10.10.2019г. / сумма отгр. 200000"},null,null,null,null,null,null,null,{"$f":"IF($C52=\"\",\"\",INDEX(BD!$P:$P,SUMIFS(BD!$A:$A,BD!$I:$I,1,BD!$L:$L,$C52)))","v":"Долг брошенный"},null,{"$f":"IF($C52=\"\",\"\",INDEX(BD!$R:$R,SUMIFS(BD!$A:$A,BD!$I:$I,1,BD!$L:$L,$C52)))","v":"нет действий"}]
[null,{"$f":"MAX(B$46:B52)+1","v":6},{"$f":"IF(SUMIFS(PvT!$A:$A,PvT!$B:$B,$B53)=0,\"\",INDEX(PvT!$C:$C,SUMIFS(PvT!$A:$A,PvT!$B:$B,$B53)))","v":"Зак / дог. №1172 от 4.10.2019г. / ТН №1172/тн-2 от 23.10.2019г. / сумма отгр. 500000"},null,null,null,null,null,null,null,{"$f":"IF($C53=\"\",\"\",INDEX(BD!$P:$P,SUMIFS(BD!$A:$A,BD!$I:$I,1,BD!$L:$L,$C53)))","v":"Долг брошенный"},null,{"$f":"IF($C53=\"\",\"\",INDEX(BD!$R:$R,SUMIFS(BD!$A:$A,BD!$I:$I,1,BD!$L:$L,$C53)))","v":"нет действий"}]
[null,{"$f":"MAX(B$46:B53)+1","v":7},{"$f":"IF(SUMIFS(PvT!$A:$A,PvT!$B:$B,$B54)=0,\"\",INDEX(PvT!$C:$C,SUMIFS(PvT!$A:$A,PvT!$B:$B,$B54)))","v":"зак-4 / дог. №8823 от 15.10.2019г. / АКТ №45 от 31.10.2019г. / сумма отгр. 1600000"},null,null,null,null,null,null,null,{"$f":"IF($C54=\"\",\"\",INDEX(BD!$P:$P,SUMIFS(BD!$A:$A,BD!$I:$I,1,BD!$L:$L,$C54)))","v":"Долг брошенный"},null,{"$f":"IF($C54=\"\",\"\",INDEX(BD!$R:$R,SUMIFS(BD!$A:$A,BD!$I:$I,1,BD!$L:$L,$C54)))","v":"нет действий"}]
[null,{"$f":"MAX(B$46:B54)+1","v":8},{"$f":"IF(SUMIFS(PvT!$A:$A,PvT!$B:$B,$B55)=0,\"\",INDEX(PvT!$C:$C,SUMIFS(PvT!$A:$A,PvT!$B:$B,$B55)))","v":"зак-4 / дог. №12-3 от 1.10.2019г. / АКТ №12-3/акт от 12.10.2019г. / сумма отгр. 700000"},null,null,null,null,null,null,null,{"$f":"IF($C55=\"\",\"\",INDEX(BD!$P:$P,SUMIFS(BD!$A:$A,BD!$I:$I,1,BD!$L:$L,$C55)))","v":"Долг брошенный"},null,{"$f":"IF($C55=\"\",\"\",INDEX(BD!$R:$R,SUMIFS(BD!$A:$A,BD!$I:$I,1,BD!$L:$L,$C55)))","v":"нет действий"}]
[null,{"$f":"MAX(B$46:B55)+1","v":9},{"$f":"IF(SUMIFS(PvT!$A:$A,PvT!$B:$B,$B56)=0,\"\",INDEX(PvT!$C:$C,SUMIFS(PvT!$A:$A,PvT!$B:$B,$B56)))","v":""},null,null,null,null,null,null,null,{"$f":"IF($C56=\"\",\"\",INDEX(BD!$P:$P,SUMIFS(BD!$A:$A,BD!$I:$I,1,BD!$L:$L,$C56)))","v":""},null,{"$f":"IF($C56=\"\",\"\",INDEX(BD!$R:$R,SUMIFS(BD!$A:$A,BD!$I:$I,1,BD!$L:$L,$C56)))","v":""}]
[null,{"$f":"MAX(B$46:B56)+1","v":10},{"$f":"IF(SUMIFS(PvT!$A:$A,PvT!$B:$B,$B57)=0,\"\",INDEX(PvT!$C:$C,SUMIFS(PvT!$A:$A,PvT!$B:$B,$B57)))","v":""},null,null,null,null,null,null,null,{"$f":"IF($C57=\"\",\"\",INDEX(BD!$P:$P,SUMIFS(BD!$A:$A,BD!$I:$I,1,BD!$L:$L,$C57)))","v":""},null,{"$f":"IF($C57=\"\",\"\",INDEX(BD!$R:$R,SUMIFS(BD!$A:$A,BD!$I:$I,1,BD!$L:$L,$C57)))","v":""}]
[null,{"$f":"MAX(B$46:B57)+1","v":11},{"$f":"IF(SUMIFS(PvT!$A:$A,PvT!$B:$B,$B58)=0,\"\",INDEX(PvT!$C:$C,SUMIFS(PvT!$A:$A,PvT!$B:$B,$B58)))","v":""},null,null,null,null,null,null,null,{"$f":"IF($C58=\"\",\"\",INDEX(BD!$P:$P,SUMIFS(BD!$A:$A,BD!$I:$I,1,BD!$L:$L,$C58)))","v":""},null,{"$f":"IF($C58=\"\",\"\",INDEX(BD!$R:$R,SUMIFS(BD!$A:$A,BD!$I:$I,1,BD!$L:$L,$C58)))","v":""}]
[null,{"$f":"MAX(B$46:B58)+1","v":12},{"$f":"IF(SUMIFS(PvT!$A:$A,PvT!$B:$B,$B59)=0,\"\",INDEX(PvT!$C:$C,SUMIFS(PvT!$A:$A,PvT!$B:$B,$B59)))","v":""},null,null,null,null,null,null,null,{"$f":"IF($C59=\"\",\"\",INDEX(BD!$P:$P,SUMIFS(BD!$A:$A,BD!$I:$I,1,BD!$L:$L,$C59)))","v":""},null,{"$f":"IF($C59=\"\",\"\",INDEX(BD!$R:$R,SUMIFS(BD!$A:$A,BD!$I:$I,1,BD!$L:$L,$C59)))","v":""}]
[null,{"$f":"MAX(B$46:B59)+1","v":13},{"$f":"IF(SUMIFS(PvT!$A:$A,PvT!$B:$B,$B60)=0,\"\",INDEX(PvT!$C:$C,SUMIFS(PvT!$A:$A,PvT!$B:$B,$B60)))","v":""},null,null,null,null,null,null,null,{"$f":"IF($C60=\"\",\"\",INDEX(BD!$P:$P,SUMIFS(BD!$A:$A,BD!$I:$I,1,BD!$L:$L,$C60)))","v":""},null,{"$f":"IF($C60=\"\",\"\",INDEX(BD!$R:$R,SUMIFS(BD!$A:$A,BD!$I:$I,1,BD!$L:$L,$C60)))","v":""}]
[null,{"$f":"MAX(B$46:B60)+1","v":14},{"$f":"IF(SUMIFS(PvT!$A:$A,PvT!$B:$B,$B61)=0,\"\",INDEX(PvT!$C:$C,SUMIFS(PvT!$A:$A,PvT!$B:$B,$B61)))","v":""},null,null,null,null,null,null,null,{"$f":"IF($C61=\"\",\"\",INDEX(BD!$P:$P,SUMIFS(BD!$A:$A,BD!$I:$I,1,BD!$L:$L,$C61)))","v":""},null,{"$f":"IF($C61=\"\",\"\",INDEX(BD!$R:$R,SUMIFS(BD!$A:$A,BD!$I:$I,1,BD!$L:$L,$C61)))","v":""}]
[null,{"$f":"MAX(B$46:B61)+1","v":15},{"$f":"IF(SUMIFS(PvT!$A:$A,PvT!$B:$B,$B62)=0,\"\",INDEX(PvT!$C:$C,SUMIFS(PvT!$A:$A,PvT!$B:$B,$B62)))","v":""},null,null,null,null,null,null,null,{"$f":"IF($C62=\"\",\"\",INDEX(BD!$P:$P,SUMIFS(BD!$A:$A,BD!$I:$I,1,BD!$L:$L,$C62)))","v":""},null,{"$f":"IF($C62=\"\",\"\",INDEX(BD!$R:$R,SUMIFS(BD!$A:$A,BD!$I:$I,1,BD!$L:$L,$C62)))","v":""}]
[null,{"$f":"MAX(B$46:B62)+1","v":16},{"$f":"IF(SUMIFS(PvT!$A:$A,PvT!$B:$B,$B63)=0,\"\",INDEX(PvT!$C:$C,SUMIFS(PvT!$A:$A,PvT!$B:$B,$B63)))","v":""},null,null,null,null,null,null,null,{"$f":"IF($C63=\"\",\"\",INDEX(BD!$P:$P,SUMIFS(BD!$A:$A,BD!$I:$I,1,BD!$L:$L,$C63)))","v":""},null,{"$f":"IF($C63=\"\",\"\",INDEX(BD!$R:$R,SUMIFS(BD!$A:$A,BD!$I:$I,1,BD!$L:$L,$C63)))","v":""}]
[null,{"$f":"MAX(B$46:B63)+1","v":17},{"$f":"IF(SUMIFS(PvT!$A:$A,PvT!$B:$B,$B64)=0,\"\",INDEX(PvT!$C:$C,SUMIFS(PvT!$A:$A,PvT!$B:$B,$B64)))","v":""},null,null,null,null,null,null,null,{"$f":"IF($C64=\"\",\"\",INDEX(BD!$P:$P,SUMIFS(BD!$A:$A,BD!$I:$I,1,BD!$L:$L,$C64)))","v":""},null,{"$f":"IF($C64=\"\",\"\",INDEX(BD!$R:$R,SUMIFS(BD!$A:$A,BD!$I:$I,1,BD!$L:$L,$C64)))","v":""}]
[null,{"$f":"MAX(B$46:B64)+1","v":18},{"$f":"IF(SUMIFS(PvT!$A:$A,PvT!$B:$B,$B65)=0,\"\",INDEX(PvT!$C:$C,SUMIFS(PvT!$A:$A,PvT!$B:$B,$B65)))","v":""},null,null,null,null,null,null,null,{"$f":"IF($C65=\"\",\"\",INDEX(BD!$P:$P,SUMIFS(BD!$A:$A,BD!$I:$I,1,BD!$L:$L,$C65)))","v":""},null,{"$f":"IF($C65=\"\",\"\",INDEX(BD!$R:$R,SUMIFS(BD!$A:$A,BD!$I:$I,1,BD!$L:$L,$C65)))","v":""}]
[null,{"$f":"MAX(B$46:B65)+1","v":19},{"$f":"IF(SUMIFS(PvT!$A:$A,PvT!$B:$B,$B66)=0,\"\",INDEX(PvT!$C:$C,SUMIFS(PvT!$A:$A,PvT!$B:$B,$B66)))","v":""},null,null,null,null,null,null,null,{"$f":"IF($C66=\"\",\"\",INDEX(BD!$P:$P,SUMIFS(BD!$A:$A,BD!$I:$I,1,BD!$L:$L,$C66)))","v":""},null,{"$f":"IF($C66=\"\",\"\",INDEX(BD!$R:$R,SUMIFS(BD!$A:$A,BD!$I:$I,1,BD!$L:$L,$C66)))","v":""}]
[null,{"$f":"MAX(B$46:B66)+1","v":20},{"$f":"IF(SUMIFS(PvT!$A:$A,PvT!$B:$B,$B67)=0,\"\",INDEX(PvT!$C:$C,SUMIFS(PvT!$A:$A,PvT!$B:$B,$B67)))","v":""},null,null,null,null,null,null,null,{"$f":"IF($C67=\"\",\"\",INDEX(BD!$P:$P,SUMIFS(BD!$A:$A,BD!$I:$I,1,BD!$L:$L,$C67)))","v":""},null,{"$f":"IF($C67=\"\",\"\",INDEX(BD!$R:$R,SUMIFS(BD!$A:$A,BD!$I:$I,1,BD!$L:$L,$C67)))","v":""}]
[null,{"$f":"MAX(B$46:B67)+1","v":21},{"$f":"IF(SUMIFS(PvT!$A:$A,PvT!$B:$B,$B68)=0,\"\",INDEX(PvT!$C:$C,SUMIFS(PvT!$A:$A,PvT!$B:$B,$B68)))","v":""},null,null,null,null,null,null,null,{"$f":"IF($C68=\"\",\"\",INDEX(BD!$P:$P,SUMIFS(BD!$A:$A,BD!$I:$I,1,BD!$L:$L,$C68)))","v":""},null,{"$f":"IF($C68=\"\",\"\",INDEX(BD!$R:$R,SUMIFS(BD!$A:$A,BD!$I:$I,1,BD!$L:$L,$C68)))","v":""}]
[null,{"$f":"MAX(B$46:B68)+1","v":22},{"$f":"IF(SUMIFS(PvT!$A:$A,PvT!$B:$B,$B69)=0,\"\",INDEX(PvT!$C:$C,SUMIFS(PvT!$A:$A,PvT!$B:$B,$B69)))","v":""},null,null,null,null,null,null,null,{"$f":"IF($C69=\"\",\"\",INDEX(BD!$P:$P,SUMIFS(BD!$A:$A,BD!$I:$I,1,BD!$L:$L,$C69)))","v":""},null,{"$f":"IF($C69=\"\",\"\",INDEX(BD!$R:$R,SUMIFS(BD!$A:$A,BD!$I:$I,1,BD!$L:$L,$C69)))","v":""}]
[null,{"$f":"MAX(B$46:B69)+1","v":23},{"$f":"IF(SUMIFS(PvT!$A:$A,PvT!$B:$B,$B70)=0,\"\",INDEX(PvT!$C:$C,SUMIFS(PvT!$A:$A,PvT!$B:$B,$B70)))","v":""},null,null,null,null,null,null,null,{"$f":"IF($C70=\"\",\"\",INDEX(BD!$P:$P,SUMIFS(BD!$A:$A,BD!$I:$I,1,BD!$L:$L,$C70)))","v":""},null,{"$f":"IF($C70=\"\",\"\",INDEX(BD!$R:$R,SUMIFS(BD!$A:$A,BD!$I:$I,1,BD!$L:$L,$C70)))","v":""}]
[null,{"$f":"MAX(B$46:B70)+1","v":24},{"$f":"IF(SUMIFS(PvT!$A:$A,PvT!$B:$B,$B71)=0,\"\",INDEX(PvT!$C:$C,SUMIFS(PvT!$A:$A,PvT!$B:$B,$B71)))","v":""},null,null,null,null,null,null,null,{"$f":"IF($C71=\"\",\"\",INDEX(BD!$P:$P,SUMIFS(BD!$A:$A,BD!$I:$I,1,BD!$L:$L,$C71)))","v":""},null,{"$f":"IF($C71=\"\",\"\",INDEX(BD!$R:$R,SUMIFS(BD!$A:$A,BD!$I:$I,1,BD!$L:$L,$C71)))","v":""}]
[null,{"$f":"MAX(B$46:B71)+1","v":25},{"$f":"IF(SUMIFS(PvT!$A:$A,PvT!$B:$B,$B72)=0,\"\",INDEX(PvT!$C:$C,SUMIFS(PvT!$A:$A,PvT!$B:$B,$B72)))","v":""},null,null,null,null,null,null,null,{"$f":"IF($C72=\"\",\"\",INDEX(BD!$P:$P,SUMIFS(BD!$A:$A,BD!$I:$I,1,BD!$L:$L,$C72)))","v":""},null,{"$f":"IF($C72=\"\",\"\",INDEX(BD!$R:$R,SUMIFS(BD!$A:$A,BD!$I:$I,1,BD!$L:$L,$C72)))","v":""}]
[null,{"$f":"MAX(B$46:B72)+1","v":26},{"$f":"IF(SUMIFS(PvT!$A:$A,PvT!$B:$B,$B73)=0,\"\",INDEX(PvT!$C:$C,SUMIFS(PvT!$A:$A,PvT!$B:$B,$B73)))","v":""},null,null,null,null,null,null,null,{"$f":"IF($C73=\"\",\"\",INDEX(BD!$P:$P,SUMIFS(BD!$A:$A,BD!$I:$I,1,BD!$L:$L,$C73)))","v":""},null,{"$f":"IF($C73=\"\",\"\",INDEX(BD!$R:$R,SUMIFS(BD!$A:$A,BD!$I:$I,1,BD!$L:$L,$C73)))","v":""}]
[null,{"$f":"MAX(B$46:B73)+1","v":27},{"$f":"IF(SUMIFS(PvT!$A:$A,PvT!$B:$B,$B74)=0,\"\",INDEX(PvT!$C:$C,SUMIFS(PvT!$A:$A,PvT!$B:$B,$B74)))","v":""},null,null,null,null,null,null,null,{"$f":"IF($C74=\"\",\"\",INDEX(BD!$P:$P,SUMIFS(BD!$A:$A,BD!$I:$I,1,BD!$L:$L,$C74)))","v":""},null,{"$f":"IF($C74=\"\",\"\",INDEX(BD!$R:$R,SUMIFS(BD!$A:$A,BD!$I:$I,1,BD!$L:$L,$C74)))","v":""}]
[null,{"$f":"MAX(B$46:B74)+1","v":28},{"$f":"IF(SUMIFS(PvT!$A:$A,PvT!$B:$B,$B75)=0,\"\",INDEX(PvT!$C:$C,SUMIFS(PvT!$A:$A,PvT!$B:$B,$B75)))","v":""},null,null,null,null,null,null,null,{"$f":"IF($C75=\"\",\"\",INDEX(BD!$P:$P,SUMIFS(BD!$A:$A,BD!$I:$I,1,BD!$L:$L,$C75)))","v":""},null,{"$f":"IF($C75=\"\",\"\",INDEX(BD!$R:$R,SUMIFS(BD!$A:$A,BD!$I:$I,1,BD!$L:$L,$C75)))","v":""}]
[null,{"$f":"MAX(B$46:B75)+1","v":29},{"$f":"IF(SUMIFS(PvT!$A:$A,PvT!$B:$B,$B76)=0,\"\",INDEX(PvT!$C:$C,SUMIFS(PvT!$A:$A,PvT!$B:$B,$B76)))","v":""},null,null,null,null,null,null,null,{"$f":"IF($C76=\"\",\"\",INDEX(BD!$P:$P,SUMIFS(BD!$A:$A,BD!$I:$I,1,BD!$L:$L,$C76)))","v":""},null,{"$f":"IF($C76=\"\",\"\",INDEX(BD!$R:$R,SUMIFS(BD!$A:$A,BD!$I:$I,1,BD!$L:$L,$C76)))","v":""}]
[null,{"$f":"MAX(B$46:B76)+1","v":30},{"$f":"IF(SUMIFS(PvT!$A:$A,PvT!$B:$B,$B77)=0,\"\",INDEX(PvT!$C:$C,SUMIFS(PvT!$A:$A,PvT!$B:$B,$B77)))","v":""},null,null,null,null,null,null,null,{"$f":"IF($C77=\"\",\"\",INDEX(BD!$P:$P,SUMIFS(BD!$A:$A,BD!$I:$I,1,BD!$L:$L,$C77)))","v":""},null,{"$f":"IF($C77=\"\",\"\",INDEX(BD!$R:$R,SUMIFS(BD!$A:$A,BD!$I:$I,1,BD!$L:$L,$C77)))","v":""}]
[null,{"$f":"MAX(B$46:B77)+1","v":31},{"$f":"IF(SUMIFS(PvT!$A:$A,PvT!$B:$B,$B78)=0,\"\",INDEX(PvT!$C:$C,SUMIFS(PvT!$A:$A,PvT!$B:$B,$B78)))","v":""},null,null,null,null,null,null,null,{"$f":"IF($C78=\"\",\"\",INDEX(BD!$P:$P,SUMIFS(BD!$A:$A,BD!$I:$I,1,BD!$L:$L,$C78)))","v":""},null,{"$f":"IF($C78=\"\",\"\",INDEX(BD!$R:$R,SUMIFS(BD!$A:$A,BD!$I:$I,1,BD!$L:$L,$C78)))","v":""}]
[null,{"$f":"MAX(B$46:B78)+1","v":32},{"$f":"IF(SUMIFS(PvT!$A:$A,PvT!$B:$B,$B79)=0,\"\",INDEX(PvT!$C:$C,SUMIFS(PvT!$A:$A,PvT!$B:$B,$B79)))","v":""},null,null,null,null,null,null,null,{"$f":"IF($C79=\"\",\"\",INDEX(BD!$P:$P,SUMIFS(BD!$A:$A,BD!$I:$I,1,BD!$L:$L,$C79)))","v":""},null,{"$f":"IF($C79=\"\",\"\",INDEX(BD!$R:$R,SUMIFS(BD!$A:$A,BD!$I:$I,1,BD!$L:$L,$C79)))","v":""}]
[null,{"$f":"MAX(B$46:B79)+1","v":33},{"$f":"IF(SUMIFS(PvT!$A:$A,PvT!$B:$B,$B80)=0,\"\",INDEX(PvT!$C:$C,SUMIFS(PvT!$A:$A,PvT!$B:$B,$B80)))","v":""},null,null,null,null,null,null,null,{"$f":"IF($C80=\"\",\"\",INDEX(BD!$P:$P,SUMIFS(BD!$A:$A,BD!$I:$I,1,BD!$L:$L,$C80)))","v":""},null,{"$f":"IF($C80=\"\",\"\",INDEX(BD!$R:$R,SUMIFS(BD!$A:$A,BD!$I:$I,1,BD!$L:$L,$C80)))","v":""}]
[null,{"$f":"MAX(B$46:B80)+1","v":34},{"$f":"IF(SUMIFS(PvT!$A:$A,PvT!$B:$B,$B81)=0,\"\",INDEX(PvT!$C:$C,SUMIFS(PvT!$A:$A,PvT!$B:$B,$B81)))","v":""},null,null,null,null,null,null,null,{"$f":"IF($C81=\"\",\"\",INDEX(BD!$P:$P,SUMIFS(BD!$A:$A,BD!$I:$I,1,BD!$L:$L,$C81)))","v":""},null,{"$f":"IF($C81=\"\",\"\",INDEX(BD!$R:$R,SUMIFS(BD!$A:$A,BD!$I:$I,1,BD!$L:$L,$C81)))","v":""}]
[null,{"$f":"MAX(B$46:B81)+1","v":35},{"$f":"IF(SUMIFS(PvT!$A:$A,PvT!$B:$B,$B82)=0,\"\",INDEX(PvT!$C:$C,SUMIFS(PvT!$A:$A,PvT!$B:$B,$B82)))","v":""},null,null,null,null,null,null,null,{"$f":"IF($C82=\"\",\"\",INDEX(BD!$P:$P,SUMIFS(BD!$A:$A,BD!$I:$I,1,BD!$L:$L,$C82)))","v":""},null,{"$f":"IF($C82=\"\",\"\",INDEX(BD!$R:$R,SUMIFS(BD!$A:$A,BD!$I:$I,1,BD!$L:$L,$C82)))","v":""}]
[null,{"$f":"MAX(B$46:B82)+1","v":36},{"$f":"IF(SUMIFS(PvT!$A:$A,PvT!$B:$B,$B83)=0,\"\",INDEX(PvT!$C:$C,SUMIFS(PvT!$A:$A,PvT!$B:$B,$B83)))","v":""},null,null,null,null,null,null,null,{"$f":"IF($C83=\"\",\"\",INDEX(BD!$P:$P,SUMIFS(BD!$A:$A,BD!$I:$I,1,BD!$L:$L,$C83)))","v":""},null,{"$f":"IF($C83=\"\",\"\",INDEX(BD!$R:$R,SUMIFS(BD!$A:$A,BD!$I:$I,1,BD!$L:$L,$C83)))","v":""}]
[null,{"$f":"MAX(B$46:B83)+1","v":37},{"$f":"IF(SUMIFS(PvT!$A:$A,PvT!$B:$B,$B84)=0,\"\",INDEX(PvT!$C:$C,SUMIFS(PvT!$A:$A,PvT!$B:$B,$B84)))","v":""},null,null,null,null,null,null,null,{"$f":"IF($C84=\"\",\"\",INDEX(BD!$P:$P,SUMIFS(BD!$A:$A,BD!$I:$I,1,BD!$L:$L,$C84)))","v":""},null,{"$f":"IF($C84=\"\",\"\",INDEX(BD!$R:$R,SUMIFS(BD!$A:$A,BD!$I:$I,1,BD!$L:$L,$C84)))","v":""}]
[null,{"$f":"MAX(B$46:B84)+1","v":38},{"$f":"IF(SUMIFS(PvT!$A:$A,PvT!$B:$B,$B85)=0,\"\",INDEX(PvT!$C:$C,SUMIFS(PvT!$A:$A,PvT!$B:$B,$B85)))","v":""},null,null,null,null,null,null,null,{"$f":"IF($C85=\"\",\"\",INDEX(BD!$P:$P,SUMIFS(BD!$A:$A,BD!$I:$I,1,BD!$L:$L,$C85)))","v":""},null,{"$f":"IF($C85=\"\",\"\",INDEX(BD!$R:$R,SUMIFS(BD!$A:$A,BD!$I:$I,1,BD!$L:$L,$C85)))","v":""}]
[null,{"$f":"MAX(B$46:B85)+1","v":39},{"$f":"IF(SUMIFS(PvT!$A:$A,PvT!$B:$B,$B86)=0,\"\",INDEX(PvT!$C:$C,SUMIFS(PvT!$A:$A,PvT!$B:$B,$B86)))","v":""},null,null,null,null,null,null,null,{"$f":"IF($C86=\"\",\"\",INDEX(BD!$P:$P,SUMIFS(BD!$A:$A,BD!$I:$I,1,BD!$L:$L,$C86)))","v":""},null,{"$f":"IF($C86=\"\",\"\",INDEX(BD!$R:$R,SUMIFS(BD!$A:$A,BD!$I:$I,1,BD!$L:$L,$C86)))","v":""}]
[null,{"$f":"MAX(B$46:B86)+1","v":40},{"$f":"IF(SUMIFS(PvT!$A:$A,PvT!$B:$B,$B87)=0,\"\",INDEX(PvT!$C:$C,SUMIFS(PvT!$A:$A,PvT!$B:$B,$B87)))","v":""},null,null,null,null,null,null,null,{"$f":"IF($C87=\"\",\"\",INDEX(BD!$P:$P,SUMIFS(BD!$A:$A,BD!$I:$I,1,BD!$L:$L,$C87)))","v":""},null,{"$f":"IF($C87=\"\",\"\",INDEX(BD!$R:$R,SUMIFS(BD!$A:$A,BD!$I:$I,1,BD!$L:$L,$C87)))","v":""}]
[null,{"$f":"MAX(B$46:B87)+1","v":41},{"$f":"IF(SUMIFS(PvT!$A:$A,PvT!$B:$B,$B88)=0,\"\",INDEX(PvT!$C:$C,SUMIFS(PvT!$A:$A,PvT!$B:$B,$B88)))","v":""},null,null,null,null,null,null,null,{"$f":"IF($C88=\"\",\"\",INDEX(BD!$P:$P,SUMIFS(BD!$A:$A,BD!$I:$I,1,BD!$L:$L,$C88)))","v":""},null,{"$f":"IF($C88=\"\",\"\",INDEX(BD!$R:$R,SUMIFS(BD!$A:$A,BD!$I:$I,1,BD!$L:$L,$C88)))","v":""}]
[null,{"$f":"MAX(B$46:B88)+1","v":42},{"$f":"IF(SUMIFS(PvT!$A:$A,PvT!$B:$B,$B89)=0,\"\",INDEX(PvT!$C:$C,SUMIFS(PvT!$A:$A,PvT!$B:$B,$B89)))","v":""},null,null,null,null,null,null,null,{"$f":"IF($C89=\"\",\"\",INDEX(BD!$P:$P,SUMIFS(BD!$A:$A,BD!$I:$I,1,BD!$L:$L,$C89)))","v":""},null,{"$f":"IF($C89=\"\",\"\",INDEX(BD!$R:$R,SUMIFS(BD!$A:$A,BD!$I:$I,1,BD!$L:$L,$C89)))","v":""}]
[null,{"$f":"MAX(B$46:B89)+1","v":43},{"$f":"IF(SUMIFS(PvT!$A:$A,PvT!$B:$B,$B90)=0,\"\",INDEX(PvT!$C:$C,SUMIFS(PvT!$A:$A,PvT!$B:$B,$B90)))","v":""},null,null,null,null,null,null,null,{"$f":"IF($C90=\"\",\"\",INDEX(BD!$P:$P,SUMIFS(BD!$A:$A,BD!$I:$I,1,BD!$L:$L,$C90)))","v":""},null,{"$f":"IF($C90=\"\",\"\",INDEX(BD!$R:$R,SUMIFS(BD!$A:$A,BD!$I:$I,1,BD!$L:$L,$C90)))","v":""}]
[null,{"$f":"MAX(B$46:B90)+1","v":44},{"$f":"IF(SUMIFS(PvT!$A:$A,PvT!$B:$B,$B91)=0,\"\",INDEX(PvT!$C:$C,SUMIFS(PvT!$A:$A,PvT!$B:$B,$B91)))","v":""},null,null,null,null,null,null,null,{"$f":"IF($C91=\"\",\"\",INDEX(BD!$P:$P,SUMIFS(BD!$A:$A,BD!$I:$I,1,BD!$L:$L,$C91)))","v":""},null,{"$f":"IF($C91=\"\",\"\",INDEX(BD!$R:$R,SUMIFS(BD!$A:$A,BD!$I:$I,1,BD!$L:$L,$C91)))","v":""}]
[null,{"$f":"MAX(B$46:B91)+1","v":45},{"$f":"IF(SUMIFS(PvT!$A:$A,PvT!$B:$B,$B92)=0,\"\",INDEX(PvT!$C:$C,SUMIFS(PvT!$A:$A,PvT!$B:$B,$B92)))","v":""},null,null,null,null,null,null,null,{"$f":"IF($C92=\"\",\"\",INDEX(BD!$P:$P,SUMIFS(BD!$A:$A,BD!$I:$I,1,BD!$L:$L,$C92)))","v":""},null,{"$f":"IF($C92=\"\",\"\",INDEX(BD!$R:$R,SUMIFS(BD!$A:$A,BD!$I:$I,1,BD!$L:$L,$C92)))","v":""}]
[null,{"$f":"MAX(B$46:B92)+1","v":46},{"$f":"IF(SUMIFS(PvT!$A:$A,PvT!$B:$B,$B93)=0,\"\",INDEX(PvT!$C:$C,SUMIFS(PvT!$A:$A,PvT!$B:$B,$B93)))","v":""},null,null,null,null,null,null,null,{"$f":"IF($C93=\"\",\"\",INDEX(BD!$P:$P,SUMIFS(BD!$A:$A,BD!$I:$I,1,BD!$L:$L,$C93)))","v":""},null,{"$f":"IF($C93=\"\",\"\",INDEX(BD!$R:$R,SUMIFS(BD!$A:$A,BD!$I:$I,1,BD!$L:$L,$C93)))","v":""}]
[null,{"$f":"MAX(B$46:B93)+1","v":47},{"$f":"IF(SUMIFS(PvT!$A:$A,PvT!$B:$B,$B94)=0,\"\",INDEX(PvT!$C:$C,SUMIFS(PvT!$A:$A,PvT!$B:$B,$B94)))","v":""},null,null,null,null,null,null,null,{"$f":"IF($C94=\"\",\"\",INDEX(BD!$P:$P,SUMIFS(BD!$A:$A,BD!$I:$I,1,BD!$L:$L,$C94)))","v":""},null,{"$f":"IF($C94=\"\",\"\",INDEX(BD!$R:$R,SUMIFS(BD!$A:$A,BD!$I:$I,1,BD!$L:$L,$C94)))","v":""}]
[null,{"$f":"MAX(B$46:B94)+1","v":48},{"$f":"IF(SUMIFS(PvT!$A:$A,PvT!$B:$B,$B95)=0,\"\",INDEX(PvT!$C:$C,SUMIFS(PvT!$A:$A,PvT!$B:$B,$B95)))","v":""},null,null,null,null,null,null,null,{"$f":"IF($C95=\"\",\"\",INDEX(BD!$P:$P,SUMIFS(BD!$A:$A,BD!$I:$I,1,BD!$L:$L,$C95)))","v":""},null,{"$f":"IF($C95=\"\",\"\",INDEX(BD!$R:$R,SUMIFS(BD!$A:$A,BD!$I:$I,1,BD!$L:$L,$C95)))","v":""}]
[null,{"$f":"MAX(B$46:B95)+1","v":49},{"$f":"IF(SUMIFS(PvT!$A:$A,PvT!$B:$B,$B96)=0,\"\",INDEX(PvT!$C:$C,SUMIFS(PvT!$A:$A,PvT!$B:$B,$B96)))","v":""},null,null,null,null,null,null,null,{"$f":"IF($C96=\"\",\"\",INDEX(BD!$P:$P,SUMIFS(BD!$A:$A,BD!$I:$I,1,BD!$L:$L,$C96)))","v":""},null,{"$f":"IF($C96=\"\",\"\",INDEX(BD!$R:$R,SUMIFS(BD!$A:$A,BD!$I:$I,1,BD!$L:$L,$C96)))","v":""}]
[null,{"$f":"MAX(B$46:B96)+1","v":50},{"$f":"IF(SUMIFS(PvT!$A:$A,PvT!$B:$B,$B97)=0,\"\",INDEX(PvT!$C:$C,SUMIFS(PvT!$A:$A,PvT!$B:$B,$B97)))","v":""},null,null,null,null,null,null,null,{"$f":"IF($C97=\"\",\"\",INDEX(BD!$P:$P,SUMIFS(BD!$A:$A,BD!$I:$I,1,BD!$L:$L,$C97)))","v":""},null,{"$f":"IF($C97=\"\",\"\",INDEX(BD!$R:$R,SUMIFS(BD!$A:$A,BD!$I:$I,1,BD!$L:$L,$C97)))","v":""}]
[null,{"$f":"MAX(B$46:B97)+1","v":51},{"$f":"IF(SUMIFS(PvT!$A:$A,PvT!$B:$B,$B98)=0,\"\",INDEX(PvT!$C:$C,SUMIFS(PvT!$A:$A,PvT!$B:$B,$B98)))","v":""},null,null,null,null,null,null,null,{"$f":"IF($C98=\"\",\"\",INDEX(BD!$P:$P,SUMIFS(BD!$A:$A,BD!$I:$I,1,BD!$L:$L,$C98)))","v":""},null,{"$f":"IF($C98=\"\",\"\",INDEX(BD!$R:$R,SUMIFS(BD!$A:$A,BD!$I:$I,1,BD!$L:$L,$C98)))","v":""}]
[null,{"$f":"MAX(B$46:B98)+1","v":52},{"$f":"IF(SUMIFS(PvT!$A:$A,PvT!$B:$B,$B99)=0,\"\",INDEX(PvT!$C:$C,SUMIFS(PvT!$A:$A,PvT!$B:$B,$B99)))","v":""},null,null,null,null,null,null,null,{"$f":"IF($C99=\"\",\"\",INDEX(BD!$P:$P,SUMIFS(BD!$A:$A,BD!$I:$I,1,BD!$L:$L,$C99)))","v":""},null,{"$f":"IF($C99=\"\",\"\",INDEX(BD!$R:$R,SUMIFS(BD!$A:$A,BD!$I:$I,1,BD!$L:$L,$C99)))","v":""}]
[null,{"$f":"MAX(B$46:B99)+1","v":53},{"$f":"IF(SUMIFS(PvT!$A:$A,PvT!$B:$B,$B100)=0,\"\",INDEX(PvT!$C:$C,SUMIFS(PvT!$A:$A,PvT!$B:$B,$B100)))","v":""},null,null,null,null,null,null,null,{"$f":"IF($C100=\"\",\"\",INDEX(BD!$P:$P,SUMIFS(BD!$A:$A,BD!$I:$I,1,BD!$L:$L,$C100)))","v":""},null,{"$f":"IF($C100=\"\",\"\",INDEX(BD!$R:$R,SUMIFS(BD!$A:$A,BD!$I:$I,1,BD!$L:$L,$C100)))","v":""}]

{"sheet":"BD","index":2,"n_rows":28,"n_cols":118,"rows_kept":28,"cut":false,"hidden":false,"merged":[]}
["№стр","B","C","D","E","F","G","H","Last","ID",1,"ID_Долг","сумма Долга",{"$f":"lists!$CB$8","v":"срок просрочки"},{"$f":"lists!$BQ$8","v":"статус Долга"},{"$f":"lists!$BT$8","v":"статус ответственного за Долг"},{"$f":"lists!$BY$8","v":"статус просроченного Долга"},{"$f":"lists!$CK$8","v":"статус действия"},"f-контроль-1","f-желтая зона-1","f-красная зона-1","f-контроль-2","f-желтая зона-2","f-красная зона-2","f-контроль-3","f-желтая зона-3","f-красная зона-3","f-контроль-4","f-желтая зона-4","f-красная зона-4","f-контроль-5","f-желтая зона-5","f-красная зона-5","контроль суммы","дата-время","руководитель","исполнитель","дата перевода Долга в ответств. Юр","дата перевода Долга в ответств. ТОП",{"$f":"\"дата статуса-1 (\"&lists!$CK$11&\")\"","v":"дата статуса-1 (коммуникация)"},{"$f":"\"дата статуса-2 (\"&lists!$CK$12&\")\"","v":"дата статуса-2 (график рассрочки)"},{"$f":"\"дата статуса-3 (\"&lists!$CK$13&\")\"","v":"дата статуса-3 (досудебная претензия)"},{"$f":"\"дата статуса-4 (\"&lists!$CK$14&\")\"","v":"дата статуса-4 (ознакомление Должника с иском)"},{"$f":"\"дата статуса-5 (\"&lists!$CK$15&\")\"","v":"дата статуса-5 (иск в Суд)"},{"$f":"lists!G8","v":"сокращ. название Заказчика"},"№ Договора","дата Договора","Документ","№ Документа","дата Документа","сумма отгрузки","соглас. дата-1","соглас. оплата-1","соглас. дата-2","соглас. оплата-2","соглас. дата-3","соглас. оплата-3","соглас. дата-4","соглас. оплата-4","соглас. дата-5","соглас. оплата-5","соглас. дата-6","соглас. оплата-6","соглас. дата-7","соглас. оплата-7","соглас. дата-8","соглас. оплата-8","соглас. дата-9","соглас. оплата-9","соглас. дата-10","соглас. оплата-10","соглас. дата-11","соглас. оплата-11","соглас. дата-12","соглас. оплата-12","фактич. дата-1","фактич. оплата-1","фактич. дата-2","фактич. оплата-2","фактич. дата-3","фактич. оплата-3","фактич. дата-4","фактич. оплата-4","фактич. дата-5","фактич. оплата-5","фактич. дата-6","фактич. оплата-6","фактич. дата-7","фактич. оплата-7","фактич. дата-8","фактич. оплата-8","фактич. дата-9","фактич. оплата-9","фактич. дата-10","фактич. оплата-10","фактич. дата-11","фактич. оплата-11","фактич. дата-12","фактич. оплата-12",{"$f":"lists!J8","v":"полн. наим. Заказчика"},{"$f":"lists!M8","v":"кратк. наим. Заказчика"},{"$f":"lists!P8","v":"ФИО ГД"},{"$f":"lists!S8","v":"тел."},{"$f":"lists!V8","v":"e-mail"},{"$f":"lists!Y8","v":"ИНН"},{"$f":"lists!AB8","v":"КПП"},{"$f":"lists!AE8","v":"ОГРН"},{"$f":"lists!AH8","v":"Адрес"},{"$f":"lists!AK8","v":"р/сч"},{"$f":"lists!AN8","v":"Банк"},{"$f":"lists!AQ8","v":"корр/сч"},{"$f":"lists!AT8","v":"БИК"},{"$f":"lists!AW8","v":"Атриб-15"},{"$f":"lists!AZ8","v":"Атриб-16"},{"$f":"lists!BC8","v":"Атриб-17"},{"$f":"lists!BF8","v":"Атриб-18"},{"$f":"lists!BI8","v":"Атриб-19"},{"$f":"lists!BL8","v":"Атриб-20"}]
[{"$f":"ROW()","v":2},null,null,null,null,null,null,null,{"$f":"IF(SUMIFS(INDIRECT(\"K$1:K\"&A2-1),INDIRECT(\"AS$1:AS\"&A2-1),AS2,INDIRECT(\"AT$1:AT\"&A2-1),AT2,INDIRECT(\"AV$1:AV\"&A2-1),AV2,INDIRECT(\"AW$1:AW\"&A2-1),AW2)=0,1,0)","v":1},{"$f":"IF(SUMIFS(K2:K2,I2:I2,1,AS2:AS2,screen!$E$6,AT2:AT2,screen!$E$8,AV2:AV2,screen!$E$12,AW2:AW2,screen!$E$14)=0,\"\",1)","v":""},{"$f":"1","v":1},{"$f":"AS2&\" / дог. \"&AT2&\" от \"&DAY(AU2)&\".\"&MONTH(AU2)&\".\"&YEAR(AU2)&\"г. / \"&AV2&\" \"&AW2&\" от \"&DAY(AX2)&\".\"&MONTH(AX2)&\".\"&YEAR(AX2)&\"г. / сумма отгр. \"&AY2","v":"0 / дог. 0 от 0.1.1900г. / 0 0 от 0.1.1900г. / сумма отгр. 0"},{"$f":"IF(IF(AY2=\"\",0,AY2)-SUMIFS(BX2:CU2,BX$1:CU$1,\"фактич. оплата\"&\"*\")>0,IF(AY2=\"\",0,AY2)-SUMIFS(BX2:CU2,BX$1:CU$1,\"фактич. оплата\"&\"*\"),0)","v":0},{"$f":"IF(IF(M2=0,0,IF(AY2=0,0,((BX2-AX2)*BY2+(BZ2-AX2)*CA2+(CB2-AX2)*CC2+(CD2-AX2)*CE2+(CF2-AX2)*CG2+(CH2-AX2)*CI2+(CJ2-AX2)*CK2+(CL2-AX2)*CM2+(CN2-AX2)*CO2+(CP2-AX2)*CQ2+(CR2-AX2)*CS2+(CT2-AX2)*CU2+($AI$2-AX2)*M2)/AY2)-IF(AY2=0,0,((AZ2-AX2)*BA2+(BB2-AX2)*BC2+(BD2-AX2)*BE2+(BF2-AX2)*BG2+(BH2-AX2)*BI2+(BJ2-AX2)*BK2+(BL2-AX2)*BM2+(BN2-AX2)*BO2+(BP2-AX2)*BQ2+(BR2-AX2)*BS2+(BT2-AX2)*BU2+(AX2-AX2)*BW2)/AY2))<=0,0,IF(M2=0,0,IF(AY2=0,0,((BX2-AX2)*BY2+(BZ2-AX2)*CA2+(CB2-AX2)*CC2+(CD2-AX2)*CE2+(CF2-AX2)*CG2+(CH2-AX2)*CI2+(CJ2-AX2)*CK2+(CL2-AX2)*CM2+(CN2-AX2)*CO2+(CP2-AX2)*CQ2+(CR2-AX2)*CS2+(CT2-AX2)*CU2+($AI$2-AX2)*M2)/AY2)-IF(AY2=0,0,((AZ2-AX2)*BA2+(BB2-AX2)*BC2+(BD2-AX2)*BE2+(BF2-AX2)*BG2+(BH2-AX2)*BI2+(BJ2-AX2)*BK2+(BL2-AX2)*BM2+(BN2-AX2)*BO2+(BP2-AX2)*BQ2+(BR2-AX2)*BS2+(BT2-AX2)*BU2+(AX2-AX2)*BW2)/AY2)))","v":0},{"$f":"IF(M2=0,lists!$BQ$11,IF(N2<1,lists!$BQ$12,IF(M2<=conditions!$J$10,lists!$BQ$13,lists!$BQ$14)))","v":"Долга нет"},{"$f":"IF(O2<>lists!$BQ$14,lists!$BT$11,IF(AND(AL2<>\"\",AL2<>0,AL2>IF(AM2=\"\",0,AM2)),lists!$BT$12,IF(AND(AM2<>\"\",AM2<>0,AM2>=IF(AL2=\"\",0,AL2)),lists!$BT$13,IF(IF(OR(AN2=\"\",AN2=0),1,0)*U2+IF(OR(AO2=\"\",AO2=0),1,0)*X2+IF(OR(AP2=\"\",AP2=0),1,0)*AA2+IF(OR(AQ2=\"\",AQ2=0),1,0)*AD2+IF(OR(AR2=\"\",AR2=0),1,0)*AG2>0,lists!$BT$14,lists!$BT$15))))","v":"Нет задачи"},{"$f":"IF(O2<>lists!$BQ$14,\"нет статуса\",IF(BD!N2<=lists!$CB$11,lists!$BY$11,IF(BD!N2<=lists!$CB$12,lists!$BY$12,IF(BD!N2<=lists!$CB$13,lists!$BY$13,IF(BD!N2<=lists!$CB$14,lists!$BY$14,lists!$BY$15)))))","v":"нет статуса"},{"$f":"IF(Q2=\"нет статуса\",\"нет действий\",IF(AND(Q2=lists!$BY$11,AI2-N2>=AN2),\"нет действий\",IF(AND(Q2=lists!$BY$11,AI2-N2<AN2),lists!$CK$11,IF(AND(AR2<>0,AR2<>\"\"),lists!$CK$15,IF(AND(AQ2<>0,AQ2<>\"\"),lists!$CK$14,IF(AND(AP2<>0,AP2<>\"\"),lists!$CK$13,IF(AND(AO2<>0,AO2<>\"\"),lists!$CK$12,IF(AND(AN2<>0,AN2<>\"\"),lists!$CK$11,\"нет действий\"))))))))","v":"нет действий"},{"$f":"IF(OR(AN2=\"\",AN2=0),0,IF(AN2<$AI$2-N2,1,0))","v":0},{"$f":"IF(OR(AN2=\"\",AN2=0),IF(AND(N2>lists!$CE$11,N2<=lists!$CH$11),N2-lists!$CE$11,0),IF(AND(AN2-($AI$2-N2)>lists!$CE$11,AN2-($AI$2-N2)<=lists!$CH$11),AN2-($AI$2-N2)-lists!$CE$11,0))","v":0},{"$f":"IF(OR(AN2=\"\",AN2=0),IF(N2>lists!$CH$11,N2-lists!$CH$11,0),IF(AN2-($AI$2-N2)>lists!$CH$11,AN2-($AI$2-N2)-lists!$CH$11,0))","v":0},{"$f":"IF(OR(AO2=\"\",AO2=0),0,IF(AO2<$AI$2-N2+lists!$CB$11,1,0))","v":0},{"$f":"IF(OR(AO2=\"\",AO2=0),IF(AND(N2-lists!$CB$11>lists!$CE$12,N2-lists!$CB$11<=lists!$CH$12),N2-lists!$CB$11-lists!$CE$12,0),IF(AND(AO2-($AI$2-N2)-lists!$CB$11>lists!$CE$12,AO2-($AI$2-N2)-lists!$CB$11<=lists!$CH$12),AO2-($AI$2-N2)-lists!$CB$11-lists!$CE$12,0))","v":0},{"$f":"IF(OR(AO2=\"\",AO2=0),IF(N2-lists!CB11>lists!$CH$12,N2-lists!CB11-lists!$CH$12,0),IF(AO2-($AI$2-N2)-lists!CB11>lists!$CH$12,AO2-($AI$2-N2)-lists!CB11-lists!$CH$12,0))","v":0},{"$f":"IF(OR(AP2=\"\",AP2=0),0,IF(AP2<$AI$2-N2+lists!$CB$11+lists!$CB$12,1,0))","v":0},{"$f":"IF(OR(AP2=\"\",AP2=0),IF(AND(N2-lists!$CB$11-lists!$CB$12>lists!$CE$13,N2-lists!$CB$11-lists!$CB$12<=lists!$CH$13),N2-lists!$CB$11-lists!$CB$12-lists!$CE$13,0),IF(AND(AP2-($AI$2-N2)-lists!$CB$11-lists!$CB$12>lists!$CE$13,AP2-($AI$2-N2)-lists!$CB$11-lists!$CB$12<=lists!$CH$13),AP2-($AI$2-N2)-lists!$CB$11-lists!$CB$12-lists!$CE$13,0))","v":0},{"$f":"IF(OR(AP2=\"\",AP2=0),IF(N2-lists!CB11-lists!CB12>lists!$CH$13,N2-lists!CB11-lists!CB12-lists!$CH$13,0),IF(AP2-($AI$2-N2)-lists!CB11-lists!CB12>lists!$CH$13,AP2-($AI$2-N2)-lists!CB11-lists!CB12-lists!$CH$13,0))","v":0},{"$f":"IF(OR(AQ2=\"\",AQ2=0),0,IF(AQ2<$AI$2-N2+lists!$CB$11+lists!$CB$12+lists!$CB$13,1,0))","v":0},{"$f":"IF(OR(AQ2=\"\",AQ2=0),IF(AND(N2-lists!$CB$11-lists!$CB$12-lists!$CB$13>lists!$CE$14,N2-lists!$CB$11-lists!$CB$12-lists!$CB$13<=lists!$CH$14),N2-lists!$CB$11-lists!$CB$12-lists!$CB$13-lists!$CE$14,0),IF(AND(AQ2-($AI$2-N2)-lists!$CB$11-lists!$CB$12-lists!$CB$13>lists!$CE$14,AQ2-($AI$2-N2)-lists!$CB$11-lists!$CB$12-lists!$CB$13<=lists!$CH$14),AQ2-($AI$2-N2)-lists!$CB$11-lists!$CB$12-lists!$CB$13-lists!$CE$14,0))","v":0},{"$f":"IF(OR(AQ2=\"\",AQ2=0),IF(N2-lists!CB11-lists!CB12-lists!CB13>lists!$CH$14,N2-lists!CB11-lists!CB12-lists!CB13-lists!$CH$14,0),IF(AQ2-($AI$2-N2)-lists!CB11-lists!CB12-lists!CB13>lists!$CH$14,AQ2-($AI$2-N2)-lists!CB11-lists!CB12-lists!CB13-lists!$CH$14,0))","v":0},{"$f":"IF(OR(AR2=\"\",AR2=0),0,IF(AR2<$AI$2-N2+lists!$CB$11+lists!$CB$12+lists!$CB$13+lists!$CB$14,1,0))","v":0},{"$f":"IF(OR(AR2=\"\",AR2=0),IF(AND(N2-lists!$CB$11-lists!$CB$12-lists!$CB$13-lists!$CB$14>lists!$CE$15,N2-lists!$CB$11-lists!$CB$12-lists!$CB$13-lists!$CB$14<=lists!$CH$15),N2-lists!$CB$11-lists!$CB$12-lists!$CB$13-lists!$CB$14-lists!$CE$15,0),IF(AND(AR2-($AI$2-N2)-lists!$CB$11-lists!$CB$12-lists!$CB$13-lists!$CB$14>lists!$CE$15,AR2-($AI$2-N2)-lists!$CB$11-lists!$CB$12-lists!$CB$13-lists!$CB$14<=lists!$CH$15),AR2-($AI$2-N2)-lists!$CB$11-lists!$CB$12-lists!$CB$13-lists!$CB$14-lists!$CE$15,0))","v":0},{"$f":"IF(OR(AR2=\"\",AR2=0),IF(N2-lists!CB11-lists!CB12-lists!CB13-lists!CB14>lists!$CH$15,N2-lists!CB11-lists!CB12-lists!CB13-lists!CB14-lists!$CH$15,0),IF(AR2-($AI$2-N2)-lists!CB11-lists!CB12-lists!CB13-lists!CB14>lists!$CH$15,AR2-($AI$2-N2)-lists!CB11-lists!CB12-lists!CB13-lists!CB14-lists!$CH$15,0))","v":0},{"$f":"SUMIFS(AZ2:BW2,AZ$1:BW$1,\"соглас. оплата\"&\"*\")-IF(AY2=\"\",0,AY2)","v":0},{"$f":"NOW()","v":"2021-06-01T12:50:43.510"},null,{"$f":"screen!$M$3","v":0},null,null,null,null,null,null,null,{"$f":"screen!$E$5","v":0},{"$f":"screen!$E$7","v":0},{"$f":"screen!$E$9","v":"00:00:00"},{"$f":"screen!$E$11","v":0},{"$f":"screen!$E$13","v":0},{"$f":"screen!$E$15","v":"00:00:00"},{"$f":"screen!$E$17","v":0},{"$f":"screen!$C$21","v":"00:00:00"},{"$f":"screen!$E$21","v":0},{"$f":"screen!$C$23","v":"00:00:00"},{"$f":"screen!$E$23","v":0},{"$f":"screen!$C$25","v":"00:00:00"},{"$f":"screen!$E$25","v":0},{"$f":"screen!$C$27","v":"00:00:00"},{"$f":"screen!$E$27","v":0},{"$f":"screen!$C$29","v":"00:00:00"},{"$f":"screen!$E$29","v":0},{"$f":"screen!$C$31","v":"00:00:00"},{"$f":"screen!$E$31","v":0},{"$f":"screen!$C$33","v":"00:00:00"},{"$f":"screen!$E$33","v":0},{"$f":"screen!$C$35","v":"00:00:00"},{"$f":"screen!$E$35","v":0},{"$f":"screen!$C$37","v":"00:00:00"},{"$f":"screen!$E$37","v":0},{"$f":"screen!$C$39","v":"00:00:00"},{"$f":"screen!$E$39","v":0},{"$f":"screen!$C$41","v":"00:00:00"},{"$f":"screen!$E$41","v":0},{"$f":"screen!$C$43","v":"00:00:00"},{"$f":"screen!$E$43","v":0},{"$f":"screen!$I$21","v":"00:00:00"},{"$f":"screen!$K$21","v":0},{"$f":"screen!$I$23","v":"00:00:00"},{"$f":"screen!$K$23","v":0},{"$f":"screen!$I$25","v":"00:00:00"},{"$f":"screen!$K$25","v":0},{"$f":"screen!$I$27","v":"00:00:00"},{"$f":"screen!$K$27","v":0},{"$f":"screen!$I$29","v":"00:00:00"},{"$f":"screen!$K$29","v":0},{"$f":"screen!$I$31","v":"00:00:00"},{"$f":"screen!$K$31","v":0},{"$f":"screen!$I$33","v":"00:00:00"},{"$f":"screen!$K$33","v":0},{"$f":"screen!$I$35","v":"00:00:00"},{"$f":"screen!$K$35","v":0},{"$f":"screen!$I$37","v":"00:00:00"},{"$f":"screen!$K$37","v":0},{"$f":"screen!$I$39","v":"00:00:00"},{"$f":"screen!$K$39","v":0},{"$f":"screen!$I$41","v":"00:00:00"},{"$f":"screen!$K$41","v":0},{"$f":"screen!$I$43","v":"00:00:00"},{"$f":"screen!$K$43","v":0},{"$f":"INDEX(lists!$1:$1048576,SUMIFS(lists!$A:$A,lists!$G:$G,$AS2),SUMIFS(lists!$1:$1,lists!$8:$8,CV$1))","v":0},{"$f":"INDEX(lists!$1:$1048576,SUMIFS(lists!$A:$A,lists!$G:$G,$AS2),SUMIFS(lists!$1:$1,lists!$8:$8,CW$1))","v":0},{"$f":"INDEX(lists!$1:$1048576,SUMIFS(lists!$A:$A,lists!$G:$G,$AS2),SUMIFS(lists!$1:$1,lists!$8:$8,CX$1))","v":0},{"$f":"INDEX(lists!$1:$1048576,SUMIFS(lists!$A:$A,lists!$G:$G,$AS2),SUMIFS(lists!$1:$1,lists!$8:$8,CY$1))","v":0},{"$f":"INDEX(lists!$1:$1048576,SUMIFS(lists!$A:$A,lists!$G:$G,$AS2),SUMIFS(lists!$1:$1,lists!$8:$8,CZ$1))","v":0},{"$f":"INDEX(lists!$1:$1048576,SUMIFS(lists!$A:$A,lists!$G:$G,$AS2),SUMIFS(lists!$1:$1,lists!$8:$8,DA$1))","v":0},{"$f":"INDEX(lists!$1:$1048576,SUMIFS(lists!$A:$A,lists!$G:$G,$AS2),SUMIFS(lists!$1:$1,lists!$8:$8,DB$1))","v":0},{"$f":"INDEX(lists!$1:$1048576,SUMIFS(lists!$A:$A,lists!$G:$G,$AS2),SUMIFS(lists!$1:$1,lists!$8:$8,DC$1))","v":0},{"$f":"INDEX(lists!$1:$1048576,SUMIFS(lists!$A:$A,lists!$G:$G,$AS2),SUMIFS(lists!$1:$1,lists!$8:$8,DD$1))","v":0},{"$f":"INDEX(lists!$1:$1048576,SUMIFS(lists!$A:$A,lists!$G:$G,$AS2),SUMIFS(lists!$1:$1,lists!$8:$8,DE$1))","v":0},{"$f":"INDEX(lists!$1:$1048576,SUMIFS(lists!$A:$A,lists!$G:$G,$AS2),SUMIFS(lists!$1:$1,lists!$8:$8,DF$1))","v":0},{"$f":"INDEX(lists!$1:$1048576,SUMIFS(lists!$A:$A,lists!$G:$G,$AS2),SUMIFS(lists!$1:$1,lists!$8:$8,DG$1))","v":0},{"$f":"INDEX(lists!$1:$1048576,SUMIFS(lists!$A:$A,lists!$G:$G,$AS2),SUMIFS(lists!$1:$1,lists!$8:$8,DH$1))","v":0},{"$f":"INDEX(lists!$1:$1048576,SUMIFS(lists!$A:$A,lists!$G:$G,$AS2),SUMIFS(lists!$1:$1,lists!$8:$8,DI$1))","v":0},{"$f":"INDEX(lists!$1:$1048576,SUMIFS(lists!$A:$A,lists!$G:$G,$AS2),SUMIFS(lists!$1:$1,lists!$8:$8,DJ$1))","v":0},{"$f":"INDEX(lists!$1:$1048576,SUMIFS(lists!$A:$A,lists!$G:$G,$AS2),SUMIFS(lists!$1:$1,lists!$8:$8,DK$1))","v":0},{"$f":"INDEX(lists!$1:$1048576,SUMIFS(lists!$A:$A,lists!$G:$G,$AS2),SUMIFS(lists!$1:$1,lists!$8:$8,DL$1))","v":0},{"$f":"INDEX(lists!$1:$1048576,SUMIFS(lists!$A:$A,lists!$G:$G,$AS2),SUMIFS(lists!$1:$1,lists!$8:$8,DM$1))","v":0},{"$f":"INDEX(lists!$1:$1048576,SUMIFS(lists!$A:$A,lists!$G:$G,$AS2),SUMIFS(lists!$1:$1,lists!$8:$8,DN$1))","v":0}]
[{"$f":"ROW()","v":3},null,null,null,null,null,null,null,{"$f":"IF(SUMIFS(INDIRECT(\"K$1:K\"&A3-1),INDIRECT(\"AS$1:AS\"&A3-1),AS3,INDIRECT(\"AT$1:AT\"&A3-1),AT3,INDIRECT(\"AV$1:AV\"&A3-1),AV3,INDIRECT(\"AW$1:AW\"&A3-1),AW3)=0,1,0)","v":1},{"$f":"IF(SUMIFS(K3:K3,I3:I3,1,AS3:AS3,screen!$E$6,AT3:AT3,screen!$E$8,AV3:AV3,screen!$E$12,AW3:AW3,screen!$E$14)=0,\"\",1)","v":1},{"$f":"1","v":1},{"$f":"AS3&\" / дог. \"&AT3&\" от \"&DAY(AU3)&\".\"&MONTH(AU3)&\".\"&YEAR(AU3)&\"г. / \"&AV3&\" \"&AW3&\" от \"&DAY(AX3)&\".\"&MONTH(AX3)&\".\"&YEAR(AX3)&\"г. / сумма отгр. \"&AY3","v":"зак-4 / дог. №12-3 от 1.10.2019г. / АКТ №12-3/акт от 12.10.2019г. / сумма отгр. 700000"},{"$f":"IF(IF(AY3=\"\",0,AY3)-SUMIFS(BX3:CU3,BX$1:CU$1,\"фактич. оплата\"&\"*\")>0,IF(AY3=\"\",0,AY3)-SUMIFS(BX3:CU3,BX$1:CU$1,\"фактич. оплата\"&\"*\"),0)","v":400000},{"$f":"IF(IF(M3=0,0,IF(AY3=0,0,((BX3-AX3)*BY3+(BZ3-AX3)*CA3+(CB3-AX3)*CC3+(CD3-AX3)*CE3+(CF3-AX3)*CG3+(CH3-AX3)*CI3+(CJ3-AX3)*CK3+(CL3-AX3)*CM3+(CN3-AX3)*CO3+(CP3-AX3)*CQ3+(CR3-AX3)*CS3+(CT3-AX3)*CU3+($AI$2-AX3)*M3)/AY3)-IF(AY3=0,0,((AZ3-AX3)*BA3+(BB3-AX3)*BC3+(BD3-AX3)*BE3+(BF3-AX3)*BG3+(BH3-AX3)*BI3+(BJ3-AX3)*BK3+(BL3-AX3)*BM3+(BN3-AX3)*BO3+(BP3-AX3)*BQ3+(BR3-AX3)*BS3+(BT3-AX3)*BU3+(AX3-AX3)*BW3)/AY3))<=0,0,IF(M3=0,0,IF(AY3=0,0,((BX3-AX3)*BY3+(BZ3-AX3)*CA3+(CB3-AX3)*CC3+(CD3-AX3)*CE3+(CF3-AX3)*CG3+(CH3-AX3)*CI3+(CJ3-AX3)*CK3+(CL3-AX3)*CM3+(CN3-AX3)*CO3+(CP3-AX3)*CQ3+(CR3-AX3)*CS3+(CT3-AX3)*CU3+($AI$2-AX3)*M3)/AY3)-IF(AY3=0,0,((AZ3-AX3)*BA3+(BB3-AX3)*BC3+(BD3-AX3)*BE3+(BF3-AX3)*BG3+(BH3-AX3)*BI3+(BJ3-AX3)*BK3+(BL3-AX3)*BM3+(BN3-AX3)*BO3+(BP3-AX3)*BQ3+(BR3-AX3)*BS3+(BT3-AX3)*BU3+(AX3-AX3)*BW3)/AY3)))","v":342.02012903439129},{"$f":"IF(M3=0,lists!$BQ$11,IF(N3<1,lists!$BQ$12,IF(M3<=conditions!$J$10,lists!$BQ$13,lists!$BQ$14)))","v":"Долг просроченный"},{"$f":"IF(O3<>lists!$BQ$14,lists!$BT$11,IF(AND(AL3<>\"\",AL3<>0,AL3>IF(AM3=\"\",0,AM3)),lists!$BT$12,IF(AND(AM3<>\"\",AM3<>0,AM3>=IF(AL3=\"\",0,AL3)),lists!$BT$13,IF(IF(OR(AN3=\"\",AN3=0),1,0)*U3+IF(OR(AO3=\"\",AO3=0),1,0)*X3+IF(OR(AP3=\"\",AP3=0),1,0)*AA3+IF(OR(AQ3=\"\",AQ3=0),1,0)*AD3+IF(OR(AR3=\"\",AR3=0),1,0)*AG3>0,lists!$BT$14,lists!$BT$15))))","v":"Долг брошенный"},{"$f":"IF(O3<>lists!$BQ$14,\"нет статуса\",IF(BD!N3<=lists!$CB$11,lists!$BY$11,IF(BD!N3<=lists!$CB$12,lists!$BY$12,IF(BD!N3<=lists!$CB$13,lists!$BY$13,IF(BD!N3<=lists!$CB$14,lists!$BY$14,lists!$BY$15)))))","v":"просрочка-100"},{"$f":"IF(Q3=\"нет статуса\",\"нет действий\",IF(AND(Q3=lists!$BY$11,AI3-N3>=AN3),\"нет действий\",IF(AND(Q3=lists!$BY$11,AI3-N3<AN3),lists!$CK$11,IF(AND(AR3<>0,AR3<>\"\"),lists!$CK$15,IF(AND(AQ3<>0,AQ3<>\"\"),lists!$CK$14,IF(AND(AP3<>0,AP3<>\"\"),lists!$CK$13,IF(AND(AO3<>0,AO3<>\"\"),lists!$CK$12,IF(AND(AN3<>0,AN3<>\"\"),lists!$CK$11,\"нет действий\"))))))))","v":"нет действий"},{"$f":"IF(OR(AN3=\"\",AN3=0),0,IF(AN3<$AI$2-N3,1,0))","v":0},{"$f":"IF(OR(AN3=\"\",AN3=0),IF(AND(N3>lists!$CE$11,N3<=lists!$CH$11),N3-lists!$CE$11,0),IF(AND(AN3-($AI$2-N3)>lists!$CE$11,AN3-($AI$2-N3)<=lists!$CH$11),AN3-($AI$2-N3)-lists!$CE$11,0))","v":0},{"$f":"IF(OR(AN3=\"\",AN3=0),IF(N3>lists!$CH$11,N3-lists!$CH$11,0),IF(AN3-($AI$2-N3)>lists!$CH$11,AN3-($AI$2-N3)-lists!$CH$11,0))","v":340.02012903439129},{"$f":"IF(OR(AO3=\"\",AO3=0),0,IF(AO3<$AI$2-N3+lists!$CB$11,1,0))","v":0},{"$f":"IF(OR(AO3=\"\",AO3=0),IF(AND(N3-lists!$CB$11>lists!$CE$12,N3-lists!$CB$11<=lists!$CH$12),N3-lists!$CB$11-lists!$CE$12,0),IF(AND(AO3-($AI$2-N3)-lists!$CB$11>lists!$CE$12,AO3-($AI$2-N3)-lists!$CB$11<=lists!$CH$12),AO3-($AI$2-N3)-lists!$CB$11-lists!$CE$12,0))","v":0},{"$f":"IF(OR(AO3=\"\",AO3=0),IF(N3-lists!CB12>lists!$CH$12,N3-lists!CB12-lists!$CH$12,0),IF(AO3-($AI$2-N3)-lists!CB12>lists!$CH$12,AO3-($AI$2-N3)-lists!CB12-lists!$CH$12,0))","v":328.02012903439129},{"$f":"IF(OR(AP3=\"\",AP3=0),0,IF(AP3<$AI$2-N3+lists!$CB$11+lists!$CB$12,1,0))","v":0},{"$f":"IF(OR(AP3=\"\",AP3=0),IF(AND(N3-lists!$CB$11-lists!$CB$12>lists!$CE$13,N3-lists!$CB$11-lists!$CB$12<=lists!$CH$13),N3-lists!$CB$11-lists!$CB$12-lists!$CE$13,0),IF(AND(AP3-($AI$2-N3)-lists!$CB$11-lists!$CB$12>lists!$CE$13,AP3-($AI$2-N3)-lists!$CB$11-lists!$CB$12<=lists!$CH$13),AP3-($AI$2-N3)-lists!$CB$11-lists!$CB$12-lists!$CE$13,0))","v":0},{"$f":"IF(OR(AP3=\"\",AP3=0),IF(N3-lists!CB12-lists!CB13>lists!$CH$13,N3-lists!CB12-lists!CB13-lists!$CH$13,0),IF(AP3-($AI$2-N3)-lists!CB12-lists!CB13>lists!$CH$13,AP3-($AI$2-N3)-lists!CB12-lists!CB13-lists!$CH$13,0))","v":286.02012903439129},{"$f":"IF(OR(AQ3=\"\",AQ3=0),0,IF(AQ3<$AI$2-N3+lists!$CB$11+lists!$CB$12+lists!$CB$13,1,0))","v":0},{"$f":"IF(OR(AQ3=\"\",AQ3=0),IF(AND(N3-lists!$CB$11-lists!$CB$12-lists!$CB$13>lists!$CE$14,N3-lists!$CB$11-lists!$CB$12-lists!$CB$13<=lists!$CH$14),N3-lists!$CB$11-lists!$CB$12-lists!$CB$13-lists!$CE$14,0),IF(AND(AQ3-($AI$2-N3)-lists!$CB$11-lists!$CB$12-lists!$CB$13>lists!$CE$14,AQ3-($AI$2-N3)-lists!$CB$11-lists!$CB$12-lists!$CB$13<=lists!$CH$14),AQ3-($AI$2-N3)-lists!$CB$11-lists!$CB$12-lists!$CB$13-lists!$CE$14,0))","v":0},{"$f":"IF(OR(AQ3=\"\",AQ3=0),IF(N3-lists!CB12-lists!CB13-lists!CB14>lists!$CH$14,N3-lists!CB12-lists!CB13-lists!CB14-lists!$CH$14,0),IF(AQ3-($AI$2-N3)-lists!CB12-lists!CB13-lists!CB14>lists!$CH$14,AQ3-($AI$2-N3)-lists!CB12-lists!CB13-lists!CB14-lists!$CH$14,0))","v":215.02012903439129},{"$f":"IF(OR(AR3=\"\",AR3=0),0,IF(AR3<$AI$2-N3+lists!$CB$11+lists!$CB$12+lists!$CB$13+lists!$CB$14,1,0))","v":0},{"$f":"IF(OR(AR3=\"\",AR3=0),IF(AND(N3-lists!$CB$11-lists!$CB$12-lists!$CB$13-lists!$CB$14>lists!$CE$15,N3-lists!$CB$11-lists!$CB$12-lists!$CB$13-lists!$CB$14<=lists!$CH$15),N3-lists!$CB$11-lists!$CB$12-lists!$CB$13-lists!$CB$14-lists!$CE$15,0),IF(AND(AR3-($AI$2-N3)-lists!$CB$11-lists!$CB$12-lists!$CB$13-lists!$CB$14>lists!$CE$15,AR3-($AI$2-N3)-lists!$CB$11-lists!$CB$12-lists!$CB$13-lists!$CB$14<=lists!$CH$15),AR3-($AI$2-N3)-lists!$CB$11-lists!$CB$12-lists!$CB$13-lists!$CB$14-lists!$CE$15,0))","v":0},{"$f":"IF(OR(AR3=\"\",AR3=0),IF(N3-lists!CB12-lists!CB13-lists!CB14-lists!CB15>lists!$CH$15,N3-lists!CB12-lists!CB13-lists!CB14-lists!CB15-lists!$CH$15,0),IF(AR3-($AI$2-N3)-lists!CB12-lists!CB13-lists!CB14-lists!CB15>lists!$CH$15,AR3-($AI$2-N3)-lists!CB12-lists!CB13-lists!CB14-lists!CB15-lists!$CH$15,0))","v":118.02012903439129},{"$f":"SUMIFS(AZ3:BW3,AZ$1:BW$1,\"соглас. оплата\"&\"*\")-IF(AY3=\"\",0,AY3)","v":0},"2019-10-17T12:49:57.090",null,0,"00:00:00","00:00:00","00:00:00","00:00:00","00:00:00","00:00:00","00:00:00","зак-4","№12-3","2019-10-01","АКТ","№12-3/акт","2019-10-12",700000,"2019-10-01",300000,"2019-10-15",400000,"00:00:00",0,"00:00:00",0,"00:00:00",0,"00:00:00",0,"00:00:00",0,"00:00:00",0,"00:00:00",0,"00:00:00",0,"00:00:00",0,"00:00:00",0,"2019-10-05",300000,"00:00:00",0,"00:00:00",0,"00:00:00",0,"00:00:00",0,"00:00:00",0,"00:00:00",0,"00:00:00",0,"00:00:00",0,"00:00:00",0,"00:00:00",0,"00:00:00",0,"ООО \"Заказчик-4\"","ООО \"Зак-4\"","Алексеев",4654654,4565465,34654654,65436435,46543654,23645,54443647,65437,5675,6756546,"ALL","ALL","ALL","ALL","ALL","ALL"]
[{"$f":"ROW()","v":4},null,null,null,null,null,null,null,{"$f":"IF(SUMIFS(INDIRECT(\"K$1:K\"&A4-1),INDIRECT(\"AS$1:AS\"&A4-1),AS4,INDIRECT(\"AT$1:AT\"&A4-1),AT4,INDIRECT(\"AV$1:AV\"&A4-1),AV4,INDIRECT(\"AW$1:AW\"&A4-1),AW4)=0,1,0)","v":1},{"$f":"IF(SUMIFS(K4:K4,I4:I4,1,AS4:AS4,screen!$E$6,AT4:AT4,screen!$E$8,AV4:AV4,screen!$E$12,AW4:AW4,screen!$E$14)=0,\"\",1)","v":1},{"$f":"1","v":1},{"$f":"AS4&\" / дог. \"&AT4&\" от \"&DAY(AU4)&\".\"&MONTH(AU4)&\".\"&YEAR(AU4)&\"г. / \"&AV4&\" \"&AW4&\" от \"&DAY(AX4)&\".\"&MONTH(AX4)&\".\"&YEAR(AX4)&\"г. / сумма отгр. \"&AY4","v":"зак-4 / дог. №8823 от 15.10.2019г. / АКТ №45 от 31.10.2019г. / сумма отгр. 1600000"},{"$f":"IF(IF(AY4=\"\",0,AY4)-SUMIFS(BX4:CU4,BX$1:CU$1,\"фактич. оплата\"&\"*\")>0,IF(AY4=\"\",0,AY4)-SUMIFS(BX4:CU4,BX$1:CU$1,\"фактич. оплата\"&\"*\"),0)","v":1000000},{"$f":"IF(IF(M4=0,0,IF(AY4=0,0,((BX4-AX4)*BY4+(BZ4-AX4)*CA4+(CB4-AX4)*CC4+(CD4-AX4)*CE4+(CF4-AX4)*CG4+(CH4-AX4)*CI4+(CJ4-AX4)*CK4+(CL4-AX4)*CM4+(CN4-AX4)*CO4+(CP4-AX4)*CQ4+(CR4-AX4)*CS4+(CT4-AX4)*CU4+($AI$2-AX4)*M4)/AY4)-IF(AY4=0,0,((AZ4-AX4)*BA4+(BB4-AX4)*BC4+(BD4-AX4)*BE4+(BF4-AX4)*BG4+(BH4-AX4)*BI4+(BJ4-AX4)*BK4+(BL4-AX4)*BM4+(BN4-AX4)*BO4+(BP4-AX4)*BQ4+(BR4-AX4)*BS4+(BT4-AX4)*BU4+(AX4-AX4)*BW4)/AY4))<=0,0,IF(M4=0,0,IF(AY4=0,0,((BX4-AX4)*BY4+(BZ4-AX4)*CA4+(CB4-AX4)*CC4+(CD4-AX4)*CE4+(CF4-AX4)*CG4+(CH4-AX4)*CI4+(CJ4-AX4)*CK4+(CL4-AX4)*CM4+(CN4-AX4)*CO4+(CP4-AX4)*CQ4+(CR4-AX4)*CS4+(CT4-AX4)*CU4+($AI$2-AX4)*M4)/AY4)-IF(AY4=0,0,((AZ4-AX4)*BA4+(BB4-AX4)*BC4+(BD4-AX4)*BE4+(BF4-AX4)*BG4+(BH4-AX4)*BI4+(BJ4-AX4)*BK4+(BL4-AX4)*BM4+(BN4-AX4)*BO4+(BP4-AX4)*BQ4+(BR4-AX4)*BS4+(BT4-AX4)*BU4+(AX4-AX4)*BW4)/AY4)))","v":357.52201613136555},{"$f":"IF(M4=0,lists!$BQ$11,IF(N4<1,lists!$BQ$12,IF(M4<=conditions!$J$10,lists!$BQ$13,lists!$BQ$14)))","v":"Долг просроченный"},{"$f":"IF(O4<>lists!$BQ$14,lists!$BT$11,IF(AND(AL4<>\"\",AL4<>0,AL4>IF(AM4=\"\",0,AM4)),lists!$BT$12,IF(AND(AM4<>\"\",AM4<>0,AM4>=IF(AL4=\"\",0,AL4)),lists!$BT$13,IF(IF(OR(AN4=\"\",AN4=0),1,0)*U4+IF(OR(AO4=\"\",AO4=0),1,0)*X4+IF(OR(AP4=\"\",AP4=0),1,0)*AA4+IF(OR(AQ4=\"\",AQ4=0),1,0)*AD4+IF(OR(AR4=\"\",AR4=0),1,0)*AG4>0,lists!$BT$14,lists!$BT$15))))","v":"Долг брошенный"},{"$f":"IF(O4<>lists!$BQ$14,\"нет статуса\",IF(BD!N4<=lists!$CB$11,lists!$BY$11,IF(BD!N4<=lists!$CB$12,lists!$BY$12,IF(BD!N4<=lists!$CB$13,lists!$BY$13,IF(BD!N4<=lists!$CB$14,lists!$BY$14,lists!$BY$15)))))","v":"просрочка-100"},{"$f":"IF(Q4=\"нет статуса\",\"нет действий\",IF(AND(Q4=lists!$BY$11,AI4-N4>=AN4),\"нет действий\",IF(AND(Q4=lists!$BY$11,AI4-N4<AN4),lists!$CK$11,IF(AND(AR4<>0,AR4<>\"\"),lists!$CK$15,IF(AND(AQ4<>0,AQ4<>\"\"),lists!$CK$14,IF(AND(AP4<>0,AP4<>\"\"),lists!$CK$13,IF(AND(AO4<>0,AO4<>\"\"),lists!$CK$12,IF(AND(AN4<>0,AN4<>\"\"),lists!$CK$11,\"нет действий\"))))))))","v":"нет действий"},{"$f":"IF(OR(AN4=\"\",AN4=0),0,IF(AN4<$AI$2-N4,1,0))","v":0},{"$f":"IF(OR(AN4=\"\",AN4=0),IF(AND(N4>lists!$CE$11,N4<=lists!$CH$11),N4-lists!$CE$11,0),IF(AND(AN4-($AI$2-N4)>lists!$CE$11,AN4-($AI$2-N4)<=lists!$CH$11),AN4-($AI$2-N4)-lists!$CE$11,0))","v":0},{"$f":"IF(OR(AN4=\"\",AN4=0),IF(N4>lists!$CH$11,N4-lists!$CH$11,0),IF(AN4-($AI$2-N4)>lists!$CH$11,AN4-($AI$2-N4)-lists!$CH$11,0))","v":355.52201613136555},{"$f":"IF(OR(AO4=\"\",AO4=0),0,IF(AO4<$AI$2-N4+lists!$CB$11,1,0))","v":0},{"$f":"IF(OR(AO4=\"\",AO4=0),IF(AND(N4-lists!$CB$11>lists!$CE$12,N4-lists!$CB$11<=lists!$CH$12),N4-lists!$CB$11-lists!$CE$12,0),IF(AND(AO4-($AI$2-N4)-lists!$CB$11>lists!$CE$12,AO4-($AI$2-N4)-lists!$CB$11<=lists!$CH$12),AO4-($AI$2-N4)-lists!$CB$11-lists!$CE$12,0))","v":0},{"$f":"IF(OR(AO4=\"\",AO4=0),IF(N4-lists!CB12>lists!$CH$12,N4-lists!CB12-lists!$CH$12,0),IF(AO4-($AI$2-N4)-lists!CB12>lists!$CH$12,AO4-($AI$2-N4)-lists!CB12-lists!$CH$12,0))","v":343.52201613136555},{"$f":"IF(OR(AP4=\"\",AP4=0),0,IF(AP4<$AI$2-N4+lists!$CB$11+lists!$CB$12,1,0))","v":0},{"$f":"IF(OR(AP4=\"\",AP4=0),IF(AND(N4-lists!$CB$11-lists!$CB$12>lists!$CE$13,N4-lists!$CB$11-lists!$CB$12<=lists!$CH$13),N4-lists!$CB$11-lists!$CB$12-lists!$CE$13,0),IF(AND(AP4-($AI$2-N4)-lists!$CB$11-lists!$CB$12>lists!$CE$13,AP4-($AI$2-N4)-lists!$CB$11-lists!$CB$12<=lists!$CH$13),AP4-($AI$2-N4)-lists!$CB$11-lists!$CB$12-lists!$CE$13,0))","v":0},{"$f":"IF(OR(AP4=\"\",AP4=0),IF(N4-lists!CB12-lists!CB13>lists!$CH$13,N4-lists!CB12-lists!CB13-lists!$CH$13,0),IF(AP4-($AI$2-N4)-lists!CB12-lists!CB13>lists!$CH$13,AP4-($AI$2-N4)-lists!CB12-lists!CB13-lists!$CH$13,0))","v":301.52201613136555},{"$f":"IF(OR(AQ4=\"\",AQ4=0),0,IF(AQ4<$AI$2-N4+lists!$CB$11+lists!$CB$12+lists!$CB$13,1,0))","v":0},{"$f":"IF(OR(AQ4=\"\",AQ4=0),IF(AND(N4-lists!$CB$11-lists!$CB$12-lists!$CB$13>lists!$CE$14,N4-lists!$CB$11-lists!$CB$12-lists!$CB$13<=lists!$CH$14),N4-lists!$CB$11-lists!$CB$12-lists!$CB$13-lists!$CE$14,0),IF(AND(AQ4-($AI$2-N4)-lists!$CB$11-lists!$CB$12-lists!$CB$13>lists!$CE$14,AQ4-($AI$2-N4)-lists!$CB$11-lists!$CB$12-lists!$CB$13<=lists!$CH$14),AQ4-($AI$2-N4)-lists!$CB$11-lists!$CB$12-lists!$CB$13-lists!$CE$14,0))","v":0},{"$f":"IF(OR(AQ4=\"\",AQ4=0),IF(N4-lists!CB12-lists!CB13-lists!CB14>lists!$CH$14,N4-lists!CB12-lists!CB13-lists!CB14-lists!$CH$14,0),IF(AQ4-($AI$2-N4)-lists!CB12-lists!CB13-lists!CB14>lists!$CH$14,AQ4-($AI$2-N4)-lists!CB12-lists!CB13-lists!CB14-lists!$CH$14,0))","v":230.52201613136555},{"$f":"IF(OR(AR4=\"\",AR4=0),0,IF(AR4<$AI$2-N4+lists!$CB$11+lists!$CB$12+lists!$CB$13+lists!$CB$14,1,0))","v":0},{"$f":"IF(OR(AR4=\"\",AR4=0),IF(AND(N4-lists!$CB$11-lists!$CB$12-lists!$CB$13-lists!$CB$14>lists!$CE$15,N4-lists!$CB$11-lists!$CB$12-lists!$CB$13-lists!$CB$14<=lists!$CH$15),N4-lists!$CB$11-lists!$CB$12-lists!$CB$13-lists!$CB$14-lists!$CE$15,0),IF(AND(AR4-($AI$2-N4)-lists!$CB$11-lists!$CB$12-lists!$CB$13-lists!$CB$14>lists!$CE$15,AR4-($AI$2-N4)-lists!$CB$11-lists!$CB$12-lists!$CB$13-lists!$CB$14<=lists!$CH$15),AR4-($AI$2-N4)-lists!$CB$11-lists!$CB$12-lists!$CB$13-lists!$CB$14-lists!$CE$15,0))","v":0},{"$f":"IF(OR(AR4=\"\",AR4=0),IF(N4-lists!CB12-lists!CB13-lists!CB14-lists!CB15>lists!$CH$15,N4-lists!CB12-lists!CB13-lists!CB14-lists!CB15-lists!$CH$15,0),IF(AR4-($AI$2-N4)-lists!CB12-lists!CB13-lists!CB14-lists!CB15>lists!$CH$15,AR4-($AI$2-N4)-lists!CB12-lists!CB13-lists!CB14-lists!CB15-lists!$CH$15,0))","v":133.52201613136555},{"$f":"SUMIFS(AZ4:BW4,AZ$1:BW$1,\"соглас. оплата\"&\"*\")-IF(AY4=\"\",0,AY4)","v":0},"2019-10-17T12:41:47.880",null,0,"00:00:00","00:00:00","00:00:00","00:00:00","00:00:00","00:00:00","00:00:00","зак-4","№8823","2019-10-15","АКТ","№45","2019-10-31",1600000,"2019-10-15",600000,"2019-10-31",500000,"2019-11-15",500000,"00:00:00",0,"00:00:00",0,"00:00:00",0,"00:00:00",0,"00:00:00",0,"00:00:00",0,"00:00:00",0,"00:00:00",0,"00:00:00",0,"2019-10-15",600000,"00:00:00",0,"00:00:00",0,"00:00:00",0,"00:00:00",0,"00:00:00",0,"00:00:00",0,"00:00:00",0,"00:00:00",0,"00:00:00",0,"00:00:00",0,"00:00:00",0,"ООО \"Заказчик-4\"","ООО \"Зак-4\"","Алексеев",4654654,4565465,34654654,65436435,46543654,23645,54443647,65437,5675,6756546,"ALL","ALL","ALL","ALL","ALL","ALL"]
[{"$f":"ROW()","v":5},null,null,null,null,null,null,null,{"$f":"IF(SUMIFS(INDIRECT(\"K$1:K\"&A5-1),INDIRECT(\"AS$1:AS\"&A5-1),AS5,INDIRECT(\"AT$1:AT\"&A5-1),AT5,INDIRECT(\"AV$1:AV\"&A5-1),AV5,INDIRECT(\"AW$1:AW\"&A5-1),AW5)=0,1,0)","v":1},{"$f":"IF(SUMIFS(K5:K5,I5:I5,1,AS5:AS5,screen!$E$6,AT5:AT5,screen!$E$8,AV5:AV5,screen!$E$12,AW5:AW5,screen!$E$14)=0,\"\",1)","v":1},{"$f":"1","v":1},{"$f":"AS5&\" / дог. \"&AT5&\" от \"&DAY(AU5)&\".\"&MONTH(AU5)&\".\"&YEAR(AU5)&\"г. / \"&AV5&\" \"&AW5&\" от \"&DAY(AX5)&\".\"&MONTH(AX5)&\".\"&YEAR(AX5)&\"г. / сумма отгр. \"&AY5","v":"Зак / дог. №1172 от 4.10.2019г. / ТН №1172/тн-2 от 23.10.2019г. / сумма отгр. 500000"},{"$f":"IF(IF(AY5=\"\",0,AY5)-SUMIFS(BX5:CU5,BX$1:CU$1,\"фактич. оплата\"&\"*\")>0,IF(AY5=\"\",0,AY5)-SUMIFS(BX5:CU5,BX$1:CU$1,\"фактич. оплата\"&\"*\"),0)","v":300000},{"$f":"IF(IF(M5=0,0,IF(AY5=0,0,((BX5-AX5)*BY5+(BZ5-AX5)*CA5+(CB5-AX5)*CC5+(CD5-AX5)*CE5+(CF5-AX5)*CG5+(CH5-AX5)*CI5+(CJ5-AX5)*CK5+(CL5-AX5)*CM5+(CN5-AX5)*CO5+(CP5-AX5)*CQ5+(CR5-AX5)*CS5+(CT5-AX5)*CU5+($AI$2-AX5)*M5)/AY5)-IF(AY5=0,0,((AZ5-AX5)*BA5+(BB5-AX5)*BC5+(BD5-AX5)*BE5+(BF5-AX5)*BG5+(BH5-AX5)*BI5+(BJ5-AX5)*BK5+(BL5-AX5)*BM5+(BN5-AX5)*BO5+(BP5-AX5)*BQ5+(BR5-AX5)*BS5+(BT5-AX5)*BU5+(AX5-AX5)*BW5)/AY5))<=0,0,IF(M5=0,0,IF(AY5=0,0,((BX5-AX5)*BY5+(BZ5-AX5)*CA5+(CB5-AX5)*CC5+(CD5-AX5)*CE5+(CF5-AX5)*CG5+(CH5-AX5)*CI5+(CJ5-AX5)*CK5+(CL5-AX5)*CM5+(CN5-AX5)*CO5+(CP5-AX5)*CQ5+(CR5-AX5)*CS5+(CT5-AX5)*CU5+($AI$2-AX5)*M5)/AY5)-IF(AY5=0,0,((AZ5-AX5)*BA5+(BB5-AX5)*BC5+(BD5-AX5)*BE5+(BF5-AX5)*BG5+(BH5-AX5)*BI5+(BJ5-AX5)*BK5+(BL5-AX5)*BM5+(BN5-AX5)*BO5+(BP5-AX5)*BQ5+(BR5-AX5)*BS5+(BT5-AX5)*BU5+(AX5-AX5)*BW5)/AY5)))","v":345.52113548611084},{"$f":"IF(M5=0,lists!$BQ$11,IF(N5<1,lists!$BQ$12,IF(M5<=conditions!$J$10,lists!$BQ$13,lists!$BQ$14)))","v":"Долг просроченный"},{"$f":"IF(O5<>lists!$BQ$14,lists!$BT$11,IF(AND(AL5<>\"\",AL5<>0,AL5>IF(AM5=\"\",0,AM5)),lists!$BT$12,IF(AND(AM5<>\"\",AM5<>0,AM5>=IF(AL5=\"\",0,AL5)),lists!$BT$13,IF(IF(OR(AN5=\"\",AN5=0),1,0)*U5+IF(OR(AO5=\"\",AO5=0),1,0)*X5+IF(OR(AP5=\"\",AP5=0),1,0)*AA5+IF(OR(AQ5=\"\",AQ5=0),1,0)*AD5+IF(OR(AR5=\"\",AR5=0),1,0)*AG5>0,lists!$BT$14,lists!$BT$15))))","v":"Долг брошенный"},{"$f":"IF(O5<>lists!$BQ$14,\"нет статуса\",IF(BD!N5<=lists!$CB$11,lists!$BY$11,IF(BD!N5<=lists!$CB$12,lists!$BY$12,IF(BD!N5<=lists!$CB$13,lists!$BY$13,IF(BD!N5<=lists!$CB$14,lists!$BY$14,lists!$BY$15)))))","v":"просрочка-100"},{"$f":"IF(Q5=\"нет статуса\",\"нет действий\",IF(AND(Q5=lists!$BY$11,AI5-N5>=AN5),\"нет действий\",IF(AND(Q5=lists!$BY$11,AI5-N5<AN5),lists!$CK$11,IF(AND(AR5<>0,AR5<>\"\"),lists!$CK$15,IF(AND(AQ5<>0,AQ5<>\"\"),lists!$CK$14,IF(AND(AP5<>0,AP5<>\"\"),lists!$CK$13,IF(AND(AO5<>0,AO5<>\"\"),lists!$CK$12,IF(AND(AN5<>0,AN5<>\"\"),lists!$CK$11,\"нет действий\"))))))))","v":"нет действий"},{"$f":"IF(OR(AN5=\"\",AN5=0),0,IF(AN5<$AI$2-N5,1,0))","v":0},{"$f":"IF(OR(AN5=\"\",AN5=0),IF(AND(N5>lists!$CE$11,N5<=lists!$CH$11),N5-lists!$CE$11,0),IF(AND(AN5-($AI$2-N5)>lists!$CE$11,AN5-($AI$2-N5)<=lists!$CH$11),AN5-($AI$2-N5)-lists!$CE$11,0))","v":0},{"$f":"IF(OR(AN5=\"\",AN5=0),IF(N5>lists!$CH$11,N5-lists!$CH$11,0),IF(AN5-($AI$2-N5)>lists!$CH$11,AN5-($AI$2-N5)-lists!$CH$11,0))","v":343.52113548611084},{"$f":"IF(OR(AO5=\"\",AO5=0),0,IF(AO5<$AI$2-N5+lists!$CB$11,1,0))","v":0},{"$f":"IF(OR(AO5=\"\",AO5=0),IF(AND(N5-lists!$CB$11>lists!$CE$12,N5-lists!$CB$11<=lists!$CH$12),N5-lists!$CB$11-lists!$CE$12,0),IF(AND(AO5-($AI$2-N5)-lists!$CB$11>lists!$CE$12,AO5-($AI$2-N5)-lists!$CB$11<=lists!$CH$12),AO5-($AI$2-N5)-lists!$CB$11-lists!$CE$12,0))","v":0},{"$f":"IF(OR(AO5=\"\",AO5=0),IF(N5-lists!CB12>lists!$CH$12,N5-lists!CB12-lists!$CH$12,0),IF(AO5-($AI$2-N5)-lists!CB12>lists!$CH$12,AO5-($AI$2-N5)-lists!CB12-lists!$CH$12,0))","v":331.52113548611084},{"$f":"IF(OR(AP5=\"\",AP5=0),0,IF(AP5<$AI$2-N5+lists!$CB$11+lists!$CB$12,1,0))","v":0},{"$f":"IF(OR(AP5=\"\",AP5=0),IF(AND(N5-lists!$CB$11-lists!$CB$12>lists!$CE$13,N5-lists!$CB$11-lists!$CB$12<=lists!$CH$13),N5-lists!$CB$11-lists!$CB$12-lists!$CE$13,0),IF(AND(AP5-($AI$2-N5)-lists!$CB$11-lists!$CB$12>lists!$CE$13,AP5-($AI$2-N5)-lists!$CB$11-lists!$CB$12<=lists!$CH$13),AP5-($AI$2-N5)-lists!$CB$11-lists!$CB$12-lists!$CE$13,0))","v":0},{"$f":"IF(OR(AP5=\"\",AP5=0),IF(N5-lists!CB12-lists!CB13>lists!$CH$13,N5-lists!CB12-lists!CB13-lists!$CH$13,0),IF(AP5-($AI$2-N5)-lists!CB12-lists!CB13>lists!$CH$13,AP5-($AI$2-N5)-lists!CB12-lists!CB13-lists!$CH$13,0))","v":289.52113548611084},{"$f":"IF(OR(AQ5=\"\",AQ5=0),0,IF(AQ5<$AI$2-N5+lists!$CB$11+lists!$CB$12+lists!$CB$13,1,0))","v":0},{"$f":"IF(OR(AQ5=\"\",AQ5=0),IF(AND(N5-lists!$CB$11-lists!$CB$12-lists!$CB$13>lists!$CE$14,N5-lists!$CB$11-lists!$CB$12-lists!$CB$13<=lists!$CH$14),N5-lists!$CB$11-lists!$CB$12-lists!$CB$13-lists!$CE$14,0),IF(AND(AQ5-($AI$2-N5)-lists!$CB$11-lists!$CB$12-lists!$CB$13>lists!$CE$14,AQ5-($AI$2-N5)-lists!$CB$11-lists!$CB$12-lists!$CB$13<=lists!$CH$14),AQ5-($AI$2-N5)-lists!$CB$11-lists!$CB$12-lists!$CB$13-lists!$CE$14,0))","v":0},{"$f":"IF(OR(AQ5=\"\",AQ5=0),IF(N5-lists!CB12-lists!CB13-lists!CB14>lists!$CH$14,N5-lists!CB12-lists!CB13-lists!CB14-lists!$CH$14,0),IF(AQ5-($AI$2-N5)-lists!CB12-lists!CB13-lists!CB14>lists!$CH$14,AQ5-($AI$2-N5)-lists!CB12-lists!CB13-lists!CB14-lists!$CH$14,0))","v":218.52113548611084},{"$f":"IF(OR(AR5=\"\",AR5=0),0,IF(AR5<$AI$2-N5+lists!$CB$11+lists!$CB$12+lists!$CB$13+lists!$CB$14,1,0))","v":0},{"$f":"IF(OR(AR5=\"\",AR5=0),IF(AND(N5-lists!$CB$11-lists!$CB$12-lists!$CB$13-lists!$CB$14>lists!$CE$15,N5-lists!$CB$11-lists!$CB$12-lists!$CB$13-lists!$CB$14<=lists!$CH$15),N5-lists!$CB$11-lists!$CB$12-lists!$CB$13-lists!$CB$14-lists!$CE$15,0),IF(AND(AR5-($AI$2-N5)-lists!$CB$11-lists!$CB$12-lists!$CB$13-lists!$CB$14>lists!$CE$15,AR5-($AI$2-N5)-lists!$CB$11-lists!$CB$12-lists!$CB$13-lists!$CB$14<=lists!$CH$15),AR5-($AI$2-N5)-lists!$CB$11-lists!$CB$12-lists!$CB$13-lists!$CB$14-lists!$CE$15,0))","v":0},{"$f":"IF(OR(AR5=\"\",AR5=0),IF(N5-lists!CB12-lists!CB13-lists!CB14-lists!CB15>lists!$CH$15,N5-lists!CB12-lists!CB13-lists!CB14-lists!CB15-lists!$CH$15,0),IF(AR5-($AI$2-N5)-lists!CB12-lists!CB13-lists!CB14-lists!CB15>lists!$CH$15,AR5-($AI$2-N5)-lists!CB12-lists!CB13-lists!CB14-lists!CB15-lists!$CH$15,0))","v":121.52113548611084},{"$f":"SUMIFS(AZ5:BW5,AZ$1:BW$1,\"соглас. оплата\"&\"*\")-IF(AY5=\"\",0,AY5)","v":0},"2019-10-17T12:40:09.260",null,0,"00:00:00","00:00:00","00:00:00","00:00:00","00:00:00","00:00:00","00:00:00","Зак","№1172","2019-10-04","ТН","№1172/тн-2","2019-10-23",500000,"2019-10-15",200000,"2019-11-05",300000,"00:00:00",0,"00:00:00",0,"00:00:00",0,"00:00:00",0,"00:00:00",0,"00:00:00",0,"00:00:00",0,"00:00:00",0,"00:00:00",0,"00:00:00",0,"2019-10-17",200000,"00:00:00",0,"00:00:00",0,"00:00:00",0,"00:00:00",0,"00:00:00",0,"00:00:00",0,"00:00:00",0,"00:00:00",0,"00:00:00",0,"00:00:00",0,"00:00:00",0,"ООО \"Заказчик\"","ООО \"Зак\"","Петров Иван Иванович",123456789,"mail@mail.ru",1111111111,111111111,111111111111,111111,11111111111111,1111111111111,11111111111111,11111111,"ALL","ALL","ALL","ALL","ALL","ALL"]
[{"$f":"ROW()","v":6},null,null,null,null,null,null,null,{"$f":"IF(SUMIFS(INDIRECT(\"K$1:K\"&A6-1),INDIRECT(\"AS$1:AS\"&A6-1),AS6,INDIRECT(\"AT$1:AT\"&A6-1),AT6,INDIRECT(\"AV$1:AV\"&A6-1),AV6,INDIRECT(\"AW$1:AW\"&A6-1),AW6)=0,1,0)","v":1},{"$f":"IF(SUMIFS(K6:K6,I6:I6,1,AS6:AS6,screen!$E$6,AT6:AT6,screen!$E$8,AV6:AV6,screen!$E$12,AW6:AW6,screen!$E$14)=0,\"\",1)","v":1},{"$f":"1","v":1},{"$f":"AS6&\" / дог. \"&AT6&\" от \"&DAY(AU6)&\".\"&MONTH(AU6)&\".\"&YEAR(AU6)&\"г. / \"&AV6&\" \"&AW6&\" от \"&DAY(AX6)&\".\"&MONTH(AX6)&\".\"&YEAR(AX6)&\"г. / сумма отгр. \"&AY6","v":"Зак / дог. №1172 от 4.10.2019г. / ТН №1172/тн от 10.10.2019г. / сумма отгр. 200000"},{"$f":"IF(IF(AY6=\"\",0,AY6)-SUMIFS(BX6:CU6,BX$1:CU$1,\"фактич. оплата\"&\"*\")>0,IF(AY6=\"\",0,AY6)-SUMIFS(BX6:CU6,BX$1:CU$1,\"фактич. оплата\"&\"*\"),0)","v":100000},{"$f":"IF(IF(M6=0,0,IF(AY6=0,0,((BX6-AX6)*BY6+(BZ6-AX6)*CA6+(CB6-AX6)*CC6+(CD6-AX6)*CE6+(CF6-AX6)*CG6+(CH6-AX6)*CI6+(CJ6-AX6)*CK6+(CL6-AX6)*CM6+(CN6-AX6)*CO6+(CP6-AX6)*CQ6+(CR6-AX6)*CS6+(CT6-AX6)*CU6+($AI$2-AX6)*M6)/AY6)-IF(AY6=0,0,((AZ6-AX6)*BA6+(BB6-AX6)*BC6+(BD6-AX6)*BE6+(BF6-AX6)*BG6+(BH6-AX6)*BI6+(BJ6-AX6)*BK6+(BL6-AX6)*BM6+(BN6-AX6)*BO6+(BP6-AX6)*BQ6+(BR6-AX6)*BS6+(BT6-AX6)*BU6+(AX6-AX6)*BW6)/AY6))<=0,0,IF(M6=0,0,IF(AY6=0,0,((BX6-AX6)*BY6+(BZ6-AX6)*CA6+(CB6-AX6)*CC6+(CD6-AX6)*CE6+(CF6-AX6)*CG6+(CH6-AX6)*CI6+(CJ6-AX6)*CK6+(CL6-AX6)*CM6+(CN6-AX6)*CO6+(CP6-AX6)*CQ6+(CR6-AX6)*CS6+(CT6-AX6)*CU6+($AI$2-AX6)*M6)/AY6)-IF(AY6=0,0,((AZ6-AX6)*BA6+(BB6-AX6)*BC6+(BD6-AX6)*BE6+(BF6-AX6)*BG6+(BH6-AX6)*BI6+(BJ6-AX6)*BK6+(BL6-AX6)*BM6+(BN6-AX6)*BO6+(BP6-AX6)*BQ6+(BR6-AX6)*BS6+(BT6-AX6)*BU6+(AX6-AX6)*BW6)/AY6)))","v":293.26761290509239},{"$f":"IF(M6=0,lists!$BQ$11,IF(N6<1,lists!$BQ$12,IF(M6<=conditions!$J$10,lists!$BQ$13,lists!$BQ$14)))","v":"Долг просроченный"},{"$f":"IF(O6<>lists!$BQ$14,lists!$BT$11,IF(AND(AL6<>\"\",AL6<>0,AL6>IF(AM6=\"\",0,AM6)),lists!$BT$12,IF(AND(AM6<>\"\",AM6<>0,AM6>=IF(AL6=\"\",0,AL6)),lists!$BT$13,IF(IF(OR(AN6=\"\",AN6=0),1,0)*U6+IF(OR(AO6=\"\",AO6=0),1,0)*X6+IF(OR(AP6=\"\",AP6=0),1,0)*AA6+IF(OR(AQ6=\"\",AQ6=0),1,0)*AD6+IF(OR(AR6=\"\",AR6=0),1,0)*AG6>0,lists!$BT$14,lists!$BT$15))))","v":"Долг брошенный"},{"$f":"IF(O6<>lists!$BQ$14,\"нет статуса\",IF(BD!N6<=lists!$CB$11,lists!$BY$11,IF(BD!N6<=lists!$CB$12,lists!$BY$12,IF(BD!N6<=lists!$CB$13,lists!$BY$13,IF(BD!N6<=lists!$CB$14,lists!$BY$14,lists!$BY$15)))))","v":"просрочка-100"},{"$f":"IF(Q6=\"нет статуса\",\"нет действий\",IF(AND(Q6=lists!$BY$11,AI6-N6>=AN6),\"нет действий\",IF(AND(Q6=lists!$BY$11,AI6-N6<AN6),lists!$CK$11,IF(AND(AR6<>0,AR6<>\"\"),lists!$CK$15,IF(AND(AQ6<>0,AQ6<>\"\"),lists!$CK$14,IF(AND(AP6<>0,AP6<>\"\"),lists!$CK$13,IF(AND(AO6<>0,AO6<>\"\"),lists!$CK$12,IF(AND(AN6<>0,AN6<>\"\"),lists!$CK$11,\"нет действий\"))))))))","v":"нет действий"},{"$f":"IF(OR(AN6=\"\",AN6=0),0,IF(AN6<$AI$2-N6,1,0))","v":0},{"$f":"IF(OR(AN6=\"\",AN6=0),IF(AND(N6>lists!$CE$11,N6<=lists!$CH$11),N6-lists!$CE$11,0),IF(AND(AN6-($AI$2-N6)>lists!$CE$11,AN6-($AI$2-N6)<=lists!$CH$11),AN6-($AI$2-N6)-lists!$CE$11,0))","v":0},{"$f":"IF(OR(AN6=\"\",AN6=0),IF(N6>lists!$CH$11,N6-lists!$CH$11,0),IF(AN6-($AI$2-N6)>lists!$CH$11,AN6-($AI$2-N6)-lists!$CH$11,0))","v":291.26761290509239},{"$f":"IF(OR(AO6=\"\",AO6=0),0,IF(AO6<$AI$2-N6+lists!$CB$11,1,0))","v":0},{"$f":"IF(OR(AO6=\"\",AO6=0),IF(AND(N6-lists!$CB$11>lists!$CE$12,N6-lists!$CB$11<=lists!$CH$12),N6-lists!$CB$11-lists!$CE$12,0),IF(AND(AO6-($AI$2-N6)-lists!$CB$11>lists!$CE$12,AO6-($AI$2-N6)-lists!$CB$11<=lists!$CH$12),AO6-($AI$2-N6)-lists!$CB$11-lists!$CE$12,0))","v":0},{"$f":"IF(OR(AO6=\"\",AO6=0),IF(N6-lists!CB12>lists!$CH$12,N6-lists!CB12-lists!$CH$12,0),IF(AO6-($AI$2-N6)-lists!CB12>lists!$CH$12,AO6-($AI$2-N6)-lists!CB12-lists!$CH$12,0))","v":279.26761290509239},{"$f":"IF(OR(AP6=\"\",AP6=0),0,IF(AP6<$AI$2-N6+lists!$CB$11+lists!$CB$12,1,0))","v":0},{"$f":"IF(OR(AP6=\"\",AP6=0),IF(AND(N6-lists!$CB$11-lists!$CB$12>lists!$CE$13,N6-lists!$CB$11-lists!$CB$12<=lists!$CH$13),N6-lists!$CB$11-lists!$CB$12-lists!$CE$13,0),IF(AND(AP6-($AI$2-N6)-lists!$CB$11-lists!$CB$12>lists!$CE$13,AP6-($AI$2-N6)-lists!$CB$11-lists!$CB$12<=lists!$CH$13),AP6-($AI$2-N6)-lists!$CB$11-lists!$CB$12-lists!$CE$13,0))","v":0},{"$f":"IF(OR(AP6=\"\",AP6=0),IF(N6-lists!CB12-lists!CB13>lists!$CH$13,N6-lists!CB12-lists!CB13-lists!$CH$13,0),IF(AP6-($AI$2-N6)-lists!CB12-lists!CB13>lists!$CH$13,AP6-($AI$2-N6)-lists!CB12-lists!CB13-lists!$CH$13,0))","v":237.26761290509239},{"$f":"IF(OR(AQ6=\"\",AQ6=0),0,IF(AQ6<$AI$2-N6+lists!$CB$11+lists!$CB$12+lists!$CB$13,1,0))","v":0},{"$f":"IF(OR(AQ6=\"\",AQ6=0),IF(AND(N6-lists!$CB$11-lists!$CB$12-lists!$CB$13>lists!$CE$14,N6-lists!$CB$11-lists!$CB$12-lists!$CB$13<=lists!$CH$14),N6-lists!$CB$11-lists!$CB$12-lists!$CB$13-lists!$CE$14,0),IF(AND(AQ6-($AI$2-N6)-lists!$CB$11-lists!$CB$12-lists!$CB$13>lists!$CE$14,AQ6-($AI$2-N6)-lists!$CB$11-lists!$CB$12-lists!$CB$13<=lists!$CH$14),AQ6-($AI$2-N6)-lists!$CB$11-lists!$CB$12-lists!$CB$13-lists!$CE$14,0))","v":0},{"$f":"IF(OR(AQ6=\"\",AQ6=0),IF(N6-lists!CB12-lists!CB13-lists!CB14>lists!$CH$14,N6-lists!CB12-lists!CB13-lists!CB14-lists!$CH$14,0),IF(AQ6-($AI$2-N6)-lists!CB12-lists!CB13-lists!CB14>lists!$CH$14,AQ6-($AI$2-N6)-lists!CB12-lists!CB13-lists!CB14-lists!$CH$14,0))","v":166.26761290509239},{"$f":"IF(OR(AR6=\"\",AR6=0),0,IF(AR6<$AI$2-N6+lists!$CB$11+lists!$CB$12+lists!$CB$13+lists!$CB$14,1,0))","v":0},{"$f":"IF(OR(AR6=\"\",AR6=0),IF(AND(N6-lists!$CB$11-lists!$CB$12-lists!$CB$13-lists!$CB$14>lists!$CE$15,N6-lists!$CB$11-lists!$CB$12-lists!$CB$13-lists!$CB$14<=lists!$CH$15),N6-lists!$CB$11-lists!$CB$12-lists!$CB$13-lists!$CB$14-lists!$CE$15,0),IF(AND(AR6-($AI$2-N6)-lists!$CB$11-lists!$CB$12-lists!$CB$13-lists!$CB$14>lists!$CE$15,AR6-($AI$2-N6)-lists!$CB$11-lists!$CB$12-lists!$CB$13-lists!$CB$14<=lists!$CH$15),AR6-($AI$2-N6)-lists!$CB$11-lists!$CB$12-lists!$CB$13-lists!$CB$14-lists!$CE$15,0))","v":0},{"$f":"IF(OR(AR6=\"\",AR6=0),IF(N6-lists!CB12-lists!CB13-lists!CB14-lists!CB15>lists!$CH$15,N6-lists!CB12-lists!CB13-lists!CB14-lists!CB15-lists!$CH$15,0),IF(AR6-($AI$2-N6)-lists!CB12-lists!CB13-lists!CB14-lists!CB15>lists!$CH$15,AR6-($AI$2-N6)-lists!CB12-lists!CB13-lists!CB14-lists!CB15-lists!$CH$15,0))","v":69.267612905092392},{"$f":"SUMIFS(AZ6:BW6,AZ$1:BW$1,\"соглас. оплата\"&\"*\")-IF(AY6=\"\",0,AY6)","v":0},"2019-10-17T12:38:18.500",null,0,"00:00:00","00:00:00","00:00:00","00:00:00","00:00:00","00:00:00","00:00:00","Зак","№1172","2019-10-04","ТН","№1172/тн","2019-10-10",200000,"2019-10-05",100000,"2019-10-25",100000,"00:00:00",0,"00:00:00",0,"00:00:00",0,"00:00:00",0,"00:00:00",0,"00:00:00",0,"00:00:00",0,"00:00:00",0,"00:00:00",0,"00:00:00",0,"2019-10-06",100000,"00:00:00",0,"00:00:00",0,"00:00:00",0,"00:00:00",0,"00:00:00",0,"00:00:00",0,"00:00:00",0,"00:00:00",0,"00:00:00",0,"00:00:00",0,"00:00:00",0,"ООО \"Заказчик\"","ООО \"Зак\"","Петров Иван Иванович",123456789,"mail@mail.ru",1111111111,111111111,111111111111,111111,11111111111111,1111111111111,11111111111111,11111111,"ALL","ALL","ALL","ALL","ALL","ALL"]
[{"$f":"ROW()","v":7},null,null,null,null,null,null,null,{"$f":"IF(SUMIFS(INDIRECT(\"K$1:K\"&A7-1),INDIRECT(\"AS$1:AS\"&A7-1),AS7,INDIRECT(\"AT$1:AT\"&A7-1),AT7,INDIRECT(\"AV$1:AV\"&A7-1),AV7,INDIRECT(\"AW$1:AW\"&A7-1),AW7)=0,1,0)","v":1},{"$f":"IF(SUMIFS(K7:K7,I7:I7,1,AS7:AS7,screen!$E$6,AT7:AT7,screen!$E$8,AV7:AV7,screen!$E$12,AW7:AW7,screen!$E$14)=0,\"\",1)","v":1},{"$f":"1","v":1},{"$f":"AS7&\" / дог. \"&AT7&\" от \"&DAY(AU7)&\".\"&MONTH(AU7)&\".\"&YEAR(AU7)&\"г. / \"&AV7&\" \"&AW7&\" от \"&DAY(AX7)&\".\"&MONTH(AX7)&\".\"&YEAR(AX7)&\"г. / сумма отгр. \"&AY7","v":"Зак-2 / дог. №555 от 1.10.2019г. / ТН №777 от 1.10.2019г. / сумма отгр. 1000000"},{"$f":"IF(IF(AY7=\"\",0,AY7)-SUMIFS(BX7:CU7,BX$1:CU$1,\"фактич. оплата\"&\"*\")>0,IF(AY7=\"\",0,AY7)-SUMIFS(BX7:CU7,BX$1:CU$1,\"фактич. оплата\"&\"*\"),0)","v":0},{"$f":"IF(IF(M7=0,0,IF(AY7=0,0,((BX7-AX7)*BY7+(BZ7-AX7)*CA7+(CB7-AX7)*CC7+(CD7-AX7)*CE7+(CF7-AX7)*CG7+(CH7-AX7)*CI7+(CJ7-AX7)*CK7+(CL7-AX7)*CM7+(CN7-AX7)*CO7+(CP7-AX7)*CQ7+(CR7-AX7)*CS7+(CT7-AX7)*CU7+($AI$2-AX7)*M7)/AY7)-IF(AY7=0,0,((AZ7-AX7)*BA7+(BB7-AX7)*BC7+(BD7-AX7)*BE7+(BF7-AX7)*BG7+(BH7-AX7)*BI7+(BJ7-AX7)*BK7+(BL7-AX7)*BM7+(BN7-AX7)*BO7+(BP7-AX7)*BQ7+(BR7-AX7)*BS7+(BT7-AX7)*BU7+(AX7-AX7)*BW7)/AY7))<=0,0,IF(M7=0,0,IF(AY7=0,0,((BX7-AX7)*BY7+(BZ7-AX7)*CA7+(CB7-AX7)*CC7+(CD7-AX7)*CE7+(CF7-AX7)*CG7+(CH7-AX7)*CI7+(CJ7-AX7)*CK7+(CL7-AX7)*CM7+(CN7-AX7)*CO7+(CP7-AX7)*CQ7+(CR7-AX7)*CS7+(CT7-AX7)*CU7+($AI$2-AX7)*M7)/AY7)-IF(AY7=0,0,((AZ7-AX7)*BA7+(BB7-AX7)*BC7+(BD7-AX7)*BE7+(BF7-AX7)*BG7+(BH7-AX7)*BI7+(BJ7-AX7)*BK7+(BL7-AX7)*BM7+(BN7-AX7)*BO7+(BP7-AX7)*BQ7+(BR7-AX7)*BS7+(BT7-AX7)*BU7+(AX7-AX7)*BW7)/AY7)))","v":0},{"$f":"IF(M7=0,lists!$BQ$11,IF(N7<1,lists!$BQ$12,IF(M7<=conditions!$J$10,lists!$BQ$13,lists!$BQ$14)))","v":"Долга нет"},{"$f":"IF(O7<>lists!$BQ$14,lists!$BT$11,IF(AND(AL7<>\"\",AL7<>0,AL7>IF(AM7=\"\",0,AM7)),lists!$BT$12,IF(AND(AM7<>\"\",AM7<>0,AM7>=IF(AL7=\"\",0,AL7)),lists!$BT$13,IF(IF(OR(AN7=\"\",AN7=0),1,0)*U7+IF(OR(AO7=\"\",AO7=0),1,0)*X7+IF(OR(AP7=\"\",AP7=0),1,0)*AA7+IF(OR(AQ7=\"\",AQ7=0),1,0)*AD7+IF(OR(AR7=\"\",AR7=0),1,0)*AG7>0,lists!$BT$14,lists!$BT$15))))","v":"Нет задачи"},{"$f":"IF(O7<>lists!$BQ$14,\"нет статуса\",IF(BD!N7<=lists!$CB$11,lists!$BY$11,IF(BD!N7<=lists!$CB$12,lists!$BY$12,IF(BD!N7<=lists!$CB$13,lists!$BY$13,IF(BD!N7<=lists!$CB$14,lists!$BY$14,lists!$BY$15)))))","v":"нет статуса"},{"$f":"IF(Q7=\"нет статуса\",\"нет действий\",IF(AND(Q7=lists!$BY$11,AI7-N7>=AN7),\"нет действий\",IF(AND(Q7=lists!$BY$11,AI7-N7<AN7),lists!$CK$11,IF(AND(AR7<>0,AR7<>\"\"),lists!$CK$15,IF(AND(AQ7<>0,AQ7<>\"\"),lists!$CK$14,IF(AND(AP7<>0,AP7<>\"\"),lists!$CK$13,IF(AND(AO7<>0,AO7<>\"\"),lists!$CK$12,IF(AND(AN7<>0,AN7<>\"\"),lists!$CK$11,\"нет действий\"))))))))","v":"нет действий"},{"$f":"IF(OR(AN7=\"\",AN7=0),0,IF(AN7<$AI$2-N7,1,0))","v":0},{"$f":"IF(OR(AN7=\"\",AN7=0),IF(AND(N7>lists!$CE$11,N7<=lists!$CH$11),N7-lists!$CE$11,0),IF(AND(AN7-($AI$2-N7)>lists!$CE$11,AN7-($AI$2-N7)<=lists!$CH$11),AN7-($AI$2-N7)-lists!$CE$11,0))","v":0},{"$f":"IF(OR(AN7=\"\",AN7=0),IF(N7>lists!$CH$11,N7-lists!$CH$11,0),IF(AN7-($AI$2-N7)>lists!$CH$11,AN7-($AI$2-N7)-lists!$CH$11,0))","v":0},{"$f":"IF(OR(AO7=\"\",AO7=0),0,IF(AO7<$AI$2-N7+lists!$CB$11,1,0))","v":0},{"$f":"IF(OR(AO7=\"\",AO7=0),IF(AND(N7-lists!$CB$11>lists!$CE$12,N7-lists!$CB$11<=lists!$CH$12),N7-lists!$CB$11-lists!$CE$12,0),IF(AND(AO7-($AI$2-N7)-lists!$CB$11>lists!$CE$12,AO7-($AI$2-N7)-lists!$CB$11<=lists!$CH$12),AO7-($AI$2-N7)-lists!$CB$11-lists!$CE$12,0))","v":0},{"$f":"IF(OR(AO7=\"\",AO7=0),IF(N7-lists!CB12>lists!$CH$12,N7-lists!CB12-lists!$CH$12,0),IF(AO7-($AI$2-N7)-lists!CB12>lists!$CH$12,AO7-($AI$2-N7)-lists!CB12-lists!$CH$12,0))","v":0},{"$f":"IF(OR(AP7=\"\",AP7=0),0,IF(AP7<$AI$2-N7+lists!$CB$11+lists!$CB$12,1,0))","v":0},{"$f":"IF(OR(AP7=\"\",AP7=0),IF(AND(N7-lists!$CB$11-lists!$CB$12>lists!$CE$13,N7-lists!$CB$11-lists!$CB$12<=lists!$CH$13),N7-lists!$CB$11-lists!$CB$12-lists!$CE$13,0),IF(AND(AP7-($AI$2-N7)-lists!$CB$11-lists!$CB$12>lists!$CE$13,AP7-($AI$2-N7)-lists!$CB$11-lists!$CB$12<=lists!$CH$13),AP7-($AI$2-N7)-lists!$CB$11-lists!$CB$12-lists!$CE$13,0))","v":0},{"$f":"IF(OR(AP7=\"\",AP7=0),IF(N7-lists!CB12-lists!CB13>lists!$CH$13,N7-lists!CB12-lists!CB13-lists!$CH$13,0),IF(AP7-($AI$2-N7)-lists!CB12-lists!CB13>lists!$CH$13,AP7-($AI$2-N7)-lists!CB12-lists!CB13-lists!$CH$13,0))","v":0},{"$f":"IF(OR(AQ7=\"\",AQ7=0),0,IF(AQ7<$AI$2-N7+lists!$CB$11+lists!$CB$12+lists!$CB$13,1,0))","v":0},{"$f":"IF(OR(AQ7=\"\",AQ7=0),IF(AND(N7-lists!$CB$11-lists!$CB$12-lists!$CB$13>lists!$CE$14,N7-lists!$CB$11-lists!$CB$12-lists!$CB$13<=lists!$CH$14),N7-lists!$CB$11-lists!$CB$12-lists!$CB$13-lists!$CE$14,0),IF(AND(AQ7-($AI$2-N7)-lists!$CB$11-lists!$CB$12-lists!$CB$13>lists!$CE$14,AQ7-($AI$2-N7)-lists!$CB$11-lists!$CB$12-lists!$CB$13<=lists!$CH$14),AQ7-($AI$2-N7)-lists!$CB$11-lists!$CB$12-lists!$CB$13-lists!$CE$14,0))","v":0},{"$f":"IF(OR(AQ7=\"\",AQ7=0),IF(N7-lists!CB12-lists!CB13-lists!CB14>lists!$CH$14,N7-lists!CB12-lists!CB13-lists!CB14-lists!$CH$14,0),IF(AQ7-($AI$2-N7)-lists!CB12-lists!CB13-lists!CB14>lists!$CH$14,AQ7-($AI$2-N7)-lists!CB12-lists!CB13-lists!CB14-lists!$CH$14,0))","v":0},{"$f":"IF(OR(AR7=\"\",AR7=0),0,IF(AR7<$AI$2-N7+lists!$CB$11+lists!$CB$12+lists!$CB$13+lists!$CB$14,1,0))","v":0},{"$f":"IF(OR(AR7=\"\",AR7=0),IF(AND(N7-lists!$CB$11-lists!$CB$12-lists!$CB$13-lists!$CB$14>lists!$CE$15,N7-lists!$CB$11-lists!$CB$12-lists!$CB$13-lists!$CB$14<=lists!$CH$15),N7-lists!$CB$11-lists!$CB$12-lists!$CB$13-lists!$CB$14-lists!$CE$15,0),IF(AND(AR7-($AI$2-N7)-lists!$CB$11-lists!$CB$12-lists!$CB$13-lists!$CB$14>lists!$CE$15,AR7-($AI$2-N7)-lists!$CB$11-lists!$CB$12-lists!$CB$13-lists!$CB$14<=lists!$CH$15),AR7-($AI$2-N7)-lists!$CB$11-lists!$CB$12-lists!$CB$13-lists!$CB$14-lists!$CE$15,0))","v":0},{"$f":"IF(OR(AR7=\"\",AR7=0),IF(N7-lists!CB12-lists!CB13-lists!CB14-lists!CB15>lists!$CH$15,N7-lists!CB12-lists!CB13-lists!CB14-lists!CB15-lists!$CH$15,0),IF(AR7-($AI$2-N7)-lists!CB12-lists!CB13-lists!CB14-lists!CB15>lists!$CH$15,AR7-($AI$2-N7)-lists!CB12-lists!CB13-lists!CB14-lists!CB15-lists!$CH$15,0))","v":0},{"$f":"SUMIFS(AZ7:BW7,AZ$1:BW$1,\"соглас. оплата\"&\"*\")-IF(AY7=\"\",0,AY7)","v":0},"2019-10-17T12:22:55.060",null,0,"00:00:00","00:00:00","00:00:00","00:00:00","00:00:00","00:00:00","00:00:00","Зак-2","№555","2019-10-01","ТН","№777","2019-10-01",1000000,"2019-10-01",250000,"2019-10-10",250000,"2019-10-15",500000,"00:00:00",0,"00:00:00",0,"00:00:00",0,"00:00:00",0,"00:00:00",0,"00:00:00",0,"00:00:00",0,"00:00:00",0,"00:00:00",0,"2019-10-10",10000,"2019-10-11",300000,"2019-10-17",700000,"00:00:00",0,"00:00:00",0,"00:00:00",0,"00:00:00",0,"00:00:00",0,"00:00:00",0,"00:00:00",0,"00:00:00",0,"00:00:00",0,"ООО \"Заказчик-2\"","ООО \"Зак-2\"","Сидоров",33545626,3756767,74568,267657,7787878,669696,"254н565464",756787878,34757,3246,"ALL","ALL","ALL","ALL","ALL","ALL"]
[{"$f":"ROW()","v":8},null,null,null,null,null,null,null,{"$f":"IF(SUMIFS(INDIRECT(\"K$1:K\"&A8-1),INDIRECT(\"AS$1:AS\"&A8-1),AS8,INDIRECT(\"AT$1:AT\"&A8-1),AT8,INDIRECT(\"AV$1:AV\"&A8-1),AV8,INDIRECT(\"AW$1:AW\"&A8-1),AW8)=0,1,0)","v":1},{"$f":"IF(SUMIFS(K8:K8,I8:I8,1,AS8:AS8,screen!$E$6,AT8:AT8,screen!$E$8,AV8:AV8,screen!$E$12,AW8:AW8,screen!$E$14)=0,\"\",1)","v":1},{"$f":"1","v":1},{"$f":"AS8&\" / дог. \"&AT8&\" от \"&DAY(AU8)&\".\"&MONTH(AU8)&\".\"&YEAR(AU8)&\"г. / \"&AV8&\" \"&AW8&\" от \"&DAY(AX8)&\".\"&MONTH(AX8)&\".\"&YEAR(AX8)&\"г. / сумма отгр. \"&AY8","v":"зак-4 / дог. №444 от 1.10.2019г. / Акт №444/1 от 10.10.2019г. / сумма отгр. 1000000"},{"$f":"IF(IF(AY8=\"\",0,AY8)-SUMIFS(BX8:CU8,BX$1:CU$1,\"фактич. оплата\"&\"*\")>0,IF(AY8=\"\",0,AY8)-SUMIFS(BX8:CU8,BX$1:CU$1,\"фактич. оплата\"&\"*\"),0)","v":0},{"$f":"IF(IF(M8=0,0,IF(AY8=0,0,((BX8-AX8)*BY8+(BZ8-AX8)*CA8+(CB8-AX8)*CC8+(CD8-AX8)*CE8+(CF8-AX8)*CG8+(CH8-AX8)*CI8+(CJ8-AX8)*CK8+(CL8-AX8)*CM8+(CN8-AX8)*CO8+(CP8-AX8)*CQ8+(CR8-AX8)*CS8+(CT8-AX8)*CU8+($AI$2-AX8)*M8)/AY8)-IF(AY8=0,0,((AZ8-AX8)*BA8+(BB8-AX8)*BC8+(BD8-AX8)*BE8+(BF8-AX8)*BG8+(BH8-AX8)*BI8+(BJ8-AX8)*BK8+(BL8-AX8)*BM8+(BN8-AX8)*BO8+(BP8-AX8)*BQ8+(BR8-AX8)*BS8+(BT8-AX8)*BU8+(AX8-AX8)*BW8)/AY8))<=0,0,IF(M8=0,0,IF(AY8=0,0,((BX8-AX8)*BY8+(BZ8-AX8)*CA8+(CB8-AX8)*CC8+(CD8-AX8)*CE8+(CF8-AX8)*CG8+(CH8-AX8)*CI8+(CJ8-AX8)*CK8+(CL8-AX8)*CM8+(CN8-AX8)*CO8+(CP8-AX8)*CQ8+(CR8-AX8)*CS8+(CT8-AX8)*CU8+($AI$2-AX8)*M8)/AY8)-IF(AY8=0,0,((AZ8-AX8)*BA8+(BB8-AX8)*BC8+(BD8-AX8)*BE8+(BF8-AX8)*BG8+(BH8-AX8)*BI8+(BJ8-AX8)*BK8+(BL8-AX8)*BM8+(BN8-AX8)*BO8+(BP8-AX8)*BQ8+(BR8-AX8)*BS8+(BT8-AX8)*BU8+(AX8-AX8)*BW8)/AY8)))","v":0},{"$f":"IF(M8=0,lists!$BQ$11,IF(N8<1,lists!$BQ$12,IF(M8<=conditions!$J$10,lists!$BQ$13,lists!$BQ$14)))","v":"Долга нет"},{"$f":"IF(O8<>lists!$BQ$14,lists!$BT$11,IF(AND(AL8<>\"\",AL8<>0,AL8>IF(AM8=\"\",0,AM8)),lists!$BT$12,IF(AND(AM8<>\"\",AM8<>0,AM8>=IF(AL8=\"\",0,AL8)),lists!$BT$13,IF(IF(OR(AN8=\"\",AN8=0),1,0)*U8+IF(OR(AO8=\"\",AO8=0),1,0)*X8+IF(OR(AP8=\"\",AP8=0),1,0)*AA8+IF(OR(AQ8=\"\",AQ8=0),1,0)*AD8+IF(OR(AR8=\"\",AR8=0),1,0)*AG8>0,lists!$BT$14,lists!$BT$15))))","v":"Нет задачи"},{"$f":"IF(O8<>lists!$BQ$14,\"нет статуса\",IF(BD!N8<=lists!$CB$11,lists!$BY$11,IF(BD!N8<=lists!$CB$12,lists!$BY$12,IF(BD!N8<=lists!$CB$13,lists!$BY$13,IF(BD!N8<=lists!$CB$14,lists!$BY$14,lists!$BY$15)))))","v":"нет статуса"},{"$f":"IF(Q8=\"нет статуса\",\"нет действий\",IF(AND(Q8=lists!$BY$11,AI8-N8>=AN8),\"нет действий\",IF(AND(Q8=lists!$BY$11,AI8-N8<AN8),lists!$CK$11,IF(AND(AR8<>0,AR8<>\"\"),lists!$CK$15,IF(AND(AQ8<>0,AQ8<>\"\"),lists!$CK$14,IF(AND(AP8<>0,AP8<>\"\"),lists!$CK$13,IF(AND(AO8<>0,AO8<>\"\"),lists!$CK$12,IF(AND(AN8<>0,AN8<>\"\"),lists!$CK$11,\"нет действий\"))))))))","v":"нет действий"},{"$f":"IF(OR(AN8=\"\",AN8=0),0,IF(AN8<$AI$2-N8,1,0))","v":1},{"$f":"IF(OR(AN8=\"\",AN8=0),IF(AND(N8>lists!$CE$11,N8<=lists!$CH$11),N8-lists!$CE$11,0),IF(AND(AN8-($AI$2-N8)>lists!$CE$11,AN8-($AI$2-N8)<=lists!$CH$11),AN8-($AI$2-N8)-lists!$CE$11,0))","v":0},{"$f":"IF(OR(AN8=\"\",AN8=0),IF(N8>lists!$CH$11,N8-lists!$CH$11,0),IF(AN8-($AI$2-N8)>lists!$CH$11,AN8-($AI$2-N8)-lists!$CH$11,0))","v":0},{"$f":"IF(OR(AO8=\"\",AO8=0),0,IF(AO8<$AI$2-N8+lists!$CB$11,1,0))","v":1},{"$f":"IF(OR(AO8=\"\",AO8=0),IF(AND(N8-lists!$CB$11>lists!$CE$12,N8-lists!$CB$11<=lists!$CH$12),N8-lists!$CB$11-lists!$CE$12,0),IF(AND(AO8-($AI$2-N8)-lists!$CB$11>lists!$CE$12,AO8-($AI$2-N8)-lists!$CB$11<=lists!$CH$12),AO8-($AI$2-N8)-lists!$CB$11-lists!$CE$12,0))","v":0},{"$f":"IF(OR(AO8=\"\",AO8=0),IF(N8-lists!CB12>lists!$CH$12,N8-lists!CB12-lists!$CH$12,0),IF(AO8-($AI$2-N8)-lists!CB12>lists!$CH$12,AO8-($AI$2-N8)-lists!CB12-lists!$CH$12,0))","v":0},{"$f":"IF(OR(AP8=\"\",AP8=0),0,IF(AP8<$AI$2-N8+lists!$CB$11+lists!$CB$12,1,0))","v":0},{"$f":"IF(OR(AP8=\"\",AP8=0),IF(AND(N8-lists!$CB$11-lists!$CB$12>lists!$CE$13,N8-lists!$CB$11-lists!$CB$12<=lists!$CH$13),N8-lists!$CB$11-lists!$CB$12-lists!$CE$13,0),IF(AND(AP8-($AI$2-N8)-lists!$CB$11-lists!$CB$12>lists!$CE$13,AP8-($AI$2-N8)-lists!$CB$11-lists!$CB$12<=lists!$CH$13),AP8-($AI$2-N8)-lists!$CB$11-lists!$CB$12-lists!$CE$13,0))","v":0},{"$f":"IF(OR(AP8=\"\",AP8=0),IF(N8-lists!CB12-lists!CB13>lists!$CH$13,N8-lists!CB12-lists!CB13-lists!$CH$13,0),IF(AP8-($AI$2-N8)-lists!CB12-lists!CB13>lists!$CH$13,AP8-($AI$2-N8)-lists!CB12-lists!CB13-lists!$CH$13,0))","v":0},{"$f":"IF(OR(AQ8=\"\",AQ8=0),0,IF(AQ8<$AI$2-N8+lists!$CB$11+lists!$CB$12+lists!$CB$13,1,0))","v":0},{"$f":"IF(OR(AQ8=\"\",AQ8=0),IF(AND(N8-lists!$CB$11-lists!$CB$12-lists!$CB$13>lists!$CE$14,N8-lists!$CB$11-lists!$CB$12-lists!$CB$13<=lists!$CH$14),N8-lists!$CB$11-lists!$CB$12-lists!$CB$13-lists!$CE$14,0),IF(AND(AQ8-($AI$2-N8)-lists!$CB$11-lists!$CB$12-lists!$CB$13>lists!$CE$14,AQ8-($AI$2-N8)-lists!$CB$11-lists!$CB$12-lists!$CB$13<=lists!$CH$14),AQ8-($AI$2-N8)-lists!$CB$11-lists!$CB$12-lists!$CB$13-lists!$CE$14,0))","v":0},{"$f":"IF(OR(AQ8=\"\",AQ8=0),IF(N8-lists!CB12-lists!CB13-lists!CB14>lists!$CH$14,N8-lists!CB12-lists!CB13-lists!CB14-lists!$CH$14,0),IF(AQ8-($AI$2-N8)-lists!CB12-lists!CB13-lists!CB14>lists!$CH$14,AQ8-($AI$2-N8)-lists!CB12-lists!CB13-lists!CB14-lists!$CH$14,0))","v":0},{"$f":"IF(OR(AR8=\"\",AR8=0),0,IF(AR8<$AI$2-N8+lists!$CB$11+lists!$CB$12+lists!$CB$13+lists!$CB$14,1,0))","v":0},{"$f":"IF(OR(AR8=\"\",AR8=0),IF(AND(N8-lists!$CB$11-lists!$CB$12-lists!$CB$13-lists!$CB$14>lists!$CE$15,N8-lists!$CB$11-lists!$CB$12-lists!$CB$13-lists!$CB$14<=lists!$CH$15),N8-lists!$CB$11-lists!$CB$12-lists!$CB$13-lists!$CB$14-lists!$CE$15,0),IF(AND(AR8-($AI$2-N8)-lists!$CB$11-lists!$CB$12-lists!$CB$13-lists!$CB$14>lists!$CE$15,AR8-($AI$2-N8)-lists!$CB$11-lists!$CB$12-lists!$CB$13-lists!$CB$14<=lists!$CH$15),AR8-($AI$2-N8)-lists!$CB$11-lists!$CB$12-lists!$CB$13-lists!$CB$14-lists!$CE$15,0))","v":0},{"$f":"IF(OR(AR8=\"\",AR8=0),IF(N8-lists!CB12-lists!CB13-lists!CB14-lists!CB15>lists!$CH$15,N8-lists!CB12-lists!CB13-lists!CB14-lists!CB15-lists!$CH$15,0),IF(AR8-($AI$2-N8)-lists!CB12-lists!CB13-lists!CB14-lists!CB15>lists!$CH$15,AR8-($AI$2-N8)-lists!CB12-lists!CB13-lists!CB14-lists!CB15-lists!$CH$15,0))","v":0},{"$f":"SUMIFS(AZ8:BW8,AZ$1:BW$1,\"соглас. оплата\"&\"*\")-IF(AY8=\"\",0,AY8)","v":0},"2019-10-17T12:19:54.490",null,0,"00:00:00","00:00:00","2019-10-17T12:18:22.030","2019-10-14T20:15:40.790","00:00:00","00:00:00","00:00:00","зак-4","№444","2019-10-01","Акт","№444/1","2019-10-10",1000000,"2019-10-03",300000,"2019-10-16",600000,"2019-10-13",100000,"00:00:00",0,"00:00:00",0,"00:00:00",0,"00:00:00",0,"00:00:00",0,"00:00:00",0,"00:00:00",0,"00:00:00",0,"00:00:00",0,"2019-10-04",300000,"2019-10-14",100000,"2019-10-17",600000,"00:00:00",0,"00:00:00",0,"00:00:00",0,"00:00:00",0,"00:00:00",0,"00:00:00",0,"00:00:00",0,"00:00:00",0,"00:00:00",0,0,0,0,0,0,0,0,0,0,0,0,0,0,0,0,0,0,0,0]
[{"$f":"ROW()","v":9},null,null,null,null,null,null,null,{"$f":"IF(SUMIFS(INDIRECT(\"K$1:K\"&A9-1),INDIRECT(\"AS$1:AS\"&A9-1),AS9,INDIRECT(\"AT$1:AT\"&A9-1),AT9,INDIRECT(\"AV$1:AV\"&A9-1),AV9,INDIRECT(\"AW$1:AW\"&A9-1),AW9)=0,1,0)","v":0},{"$f":"IF(SUMIFS(K9:K9,I9:I9,1,AS9:AS9,screen!$E$6,AT9:AT9,screen!$E$8,AV9:AV9,screen!$E$12,AW9:AW9,screen!$E$14)=0,\"\",1)","v":""},{"$f":"1","v":1},{"$f":"AS9&\" / дог. \"&AT9&\" от \"&DAY(AU9)&\".\"&MONTH(AU9)&\".\"&YEAR(AU9)&\"г. / \"&AV9&\" \"&AW9&\" от \"&DAY(AX9)&\".\"&MONTH(AX9)&\".\"&YEAR(AX9)&\"г. / сумма отгр. \"&AY9","v":"зак-4 / дог. №444 от 1.10.2019г. / Акт №444/1 от 10.10.2019г. / сумма отгр. 1000000"},{"$f":"IF(IF(AY9=\"\",0,AY9)-SUMIFS(BX9:CU9,BX$1:CU$1,\"фактич. оплата\"&\"*\")>0,IF(AY9=\"\",0,AY9)-SUMIFS(BX9:CU9,BX$1:CU$1,\"фактич. оплата\"&\"*\"),0)","v":600000},{"$f":"IF(IF(M9=0,0,IF(AY9=0,0,((BX9-AX9)*BY9+(BZ9-AX9)*CA9+(CB9-AX9)*CC9+(CD9-AX9)*CE9+(CF9-AX9)*CG9+(CH9-AX9)*CI9+(CJ9-AX9)*CK9+(CL9-AX9)*CM9+(CN9-AX9)*CO9+(CP9-AX9)*CQ9+(CR9-AX9)*CS9+(CT9-AX9)*CU9+($AI$2-AX9)*M9)/AY9)-IF(AY9=0,0,((AZ9-AX9)*BA9+(BB9-AX9)*BC9+(BD9-AX9)*BE9+(BF9-AX9)*BG9+(BH9-AX9)*BI9+(BJ9-AX9)*BK9+(BL9-AX9)*BM9+(BN9-AX9)*BO9+(BP9-AX9)*BQ9+(BR9-AX9)*BS9+(BT9-AX9)*BU9+(AX9-AX9)*BW9)/AY9))<=0,0,IF(M9=0,0,IF(AY9=0,0,((BX9-AX9)*BY9+(BZ9-AX9)*CA9+(CB9-AX9)*CC9+(CD9-AX9)*CE9+(CF9-AX9)*CG9+(CH9-AX9)*CI9+(CJ9-AX9)*CK9+(CL9-AX9)*CM9+(CN9-AX9)*CO9+(CP9-AX9)*CQ9+(CR9-AX9)*CS9+(CT9-AX9)*CU9+($AI$2-AX9)*M9)/AY9)-IF(AY9=0,0,((AZ9-AX9)*BA9+(BB9-AX9)*BC9+(BD9-AX9)*BE9+(BF9-AX9)*BG9+(BH9-AX9)*BI9+(BJ9-AX9)*BK9+(BL9-AX9)*BM9+(BN9-AX9)*BO9+(BP9-AX9)*BQ9+(BR9-AX9)*BS9+(BT9-AX9)*BU9+(AX9-AX9)*BW9)/AY9)))","v":357.12113548611086},{"$f":"IF(M9=0,lists!$BQ$11,IF(N9<1,lists!$BQ$12,IF(M9<=conditions!$J$10,lists!$BQ$13,lists!$BQ$14)))","v":"Долг просроченный"},{"$f":"IF(O9<>lists!$BQ$14,lists!$BT$11,IF(AND(AL9<>\"\",AL9<>0,AL9>IF(AM9=\"\",0,AM9)),lists!$BT$12,IF(AND(AM9<>\"\",AM9<>0,AM9>=IF(AL9=\"\",0,AL9)),lists!$BT$13,IF(IF(OR(AN9=\"\",AN9=0),1,0)*U9+IF(OR(AO9=\"\",AO9=0),1,0)*X9+IF(OR(AP9=\"\",AP9=0),1,0)*AA9+IF(OR(AQ9=\"\",AQ9=0),1,0)*AD9+IF(OR(AR9=\"\",AR9=0),1,0)*AG9>0,lists!$BT$14,lists!$BT$15))))","v":"Долг брошенный"},{"$f":"IF(O9<>lists!$BQ$14,\"нет статуса\",IF(BD!N9<=lists!$CB$11,lists!$BY$11,IF(BD!N9<=lists!$CB$12,lists!$BY$12,IF(BD!N9<=lists!$CB$13,lists!$BY$13,IF(BD!N9<=lists!$CB$14,lists!$BY$14,lists!$BY$15)))))","v":"просрочка-100"},{"$f":"IF(Q9=\"нет статуса\",\"нет действий\",IF(AND(Q9=lists!$BY$11,AI9-N9>=AN9),\"нет действий\",IF(AND(Q9=lists!$BY$11,AI9-N9<AN9),lists!$CK$11,IF(AND(AR9<>0,AR9<>\"\"),lists!$CK$15,IF(AND(AQ9<>0,AQ9<>\"\"),lists!$CK$14,IF(AND(AP9<>0,AP9<>\"\"),lists!$CK$13,IF(AND(AO9<>0,AO9<>\"\"),lists!$CK$12,IF(AND(AN9<>0,AN9<>\"\"),lists!$CK$11,\"нет действий\"))))))))","v":"график рассрочки"},{"$f":"IF(OR(AN9=\"\",AN9=0),0,IF(AN9<$AI$2-N9,1,0))","v":1},{"$f":"IF(OR(AN9=\"\",AN9=0),IF(AND(N9>lists!$CE$11,N9<=lists!$CH$11),N9-lists!$CE$11,0),IF(AND(AN9-($AI$2-N9)>lists!$CE$11,AN9-($AI$2-N9)<=lists!$CH$11),AN9-($AI$2-N9)-lists!$CE$11,0))","v":0},{"$f":"IF(OR(AN9=\"\",AN9=0),IF(N9>lists!$CH$11,N9-lists!$CH$11,0),IF(AN9-($AI$2-N9)>lists!$CH$11,AN9-($AI$2-N9)-lists!$CH$11,0))","v":0},{"$f":"IF(OR(AO9=\"\",AO9=0),0,IF(AO9<$AI$2-N9+lists!$CB$11,1,0))","v":1},{"$f":"IF(OR(AO9=\"\",AO9=0),IF(AND(N9-lists!$CB$11>lists!$CE$12,N9-lists!$CB$11<=lists!$CH$12),N9-lists!$CB$11-lists!$CE$12,0),IF(AND(AO9-($AI$2-N9)-lists!$CB$11>lists!$CE$12,AO9-($AI$2-N9)-lists!$CB$11<=lists!$CH$12),AO9-($AI$2-N9)-lists!$CB$11-lists!$CE$12,0))","v":0},{"$f":"IF(OR(AO9=\"\",AO9=0),IF(N9-lists!CB12>lists!$CH$12,N9-lists!CB12-lists!$CH$12,0),IF(AO9-($AI$2-N9)-lists!CB12>lists!$CH$12,AO9-($AI$2-N9)-lists!CB12-lists!$CH$12,0))","v":0},{"$f":"IF(OR(AP9=\"\",AP9=0),0,IF(AP9<$AI$2-N9+lists!$CB$11+lists!$CB$12,1,0))","v":0},{"$f":"IF(OR(AP9=\"\",AP9=0),IF(AND(N9-lists!$CB$11-lists!$CB$12>lists!$CE$13,N9-lists!$CB$11-lists!$CB$12<=lists!$CH$13),N9-lists!$CB$11-lists!$CB$12-lists!$CE$13,0),IF(AND(AP9-($AI$2-N9)-lists!$CB$11-lists!$CB$12>lists!$CE$13,AP9-($AI$2-N9)-lists!$CB$11-lists!$CB$12<=lists!$CH$13),AP9-($AI$2-N9)-lists!$CB$11-lists!$CB$12-lists!$CE$13,0))","v":0},{"$f":"IF(OR(AP9=\"\",AP9=0),IF(N9-lists!CB12-lists!CB13>lists!$CH$13,N9-lists!CB12-lists!CB13-lists!$CH$13,0),IF(AP9-($AI$2-N9)-lists!CB12-lists!CB13>lists!$CH$13,AP9-($AI$2-N9)-lists!CB12-lists!CB13-lists!$CH$13,0))","v":301.12113548611086},{"$f":"IF(OR(AQ9=\"\",AQ9=0),0,IF(AQ9<$AI$2-N9+lists!$CB$11+lists!$CB$12+lists!$CB$13,1,0))","v":0},{"$f":"IF(OR(AQ9=\"\",AQ9=0),IF(AND(N9-lists!$CB$11-lists!$CB$12-lists!$CB$13>lists!$CE$14,N9-lists!$CB$11-lists!$CB$12-lists!$CB$13<=lists!$CH$14),N9-lists!$CB$11-lists!$CB$12-lists!$CB$13-lists!$CE$14,0),IF(AND(AQ9-($AI$2-N9)-lists!$CB$11-lists!$CB$12-lists!$CB$13>lists!$CE$14,AQ9-($AI$2-N9)-lists!$CB$11-lists!$CB$12-lists!$CB$13<=lists!$CH$14),AQ9-($AI$2-N9)-lists!$CB$11-lists!$CB$12-lists!$CB$13-lists!$CE$14,0))","v":0},{"$f":"IF(OR(AQ9=\"\",AQ9=0),IF(N9-lists!CB12-lists!CB13-lists!CB14>lists!$CH$14,N9-lists!CB12-lists!CB13-lists!CB14-lists!$CH$14,0),IF(AQ9-($AI$2-N9)-lists!CB12-lists!CB13-lists!CB14>lists!$CH$14,AQ9-($AI$2-N9)-lists!CB12-lists!CB13-lists!CB14-lists!$CH$14,0))","v":230.12113548611086},{"$f":"IF(OR(AR9=\"\",AR9=0),0,IF(AR9<$AI$2-N9+lists!$CB$11+lists!$CB$12+lists!$CB$13+lists!$CB$14,1,0))","v":0},{"$f":"IF(OR(AR9=\"\",AR9=0),IF(AND(N9-lists!$CB$11-lists!$CB$12-lists!$CB$13-lists!$CB$14>lists!$CE$15,N9-lists!$CB$11-lists!$CB$12-lists!$CB$13-lists!$CB$14<=lists!$CH$15),N9-lists!$CB$11-lists!$CB$12-lists!$CB$13-lists!$CB$14-lists!$CE$15,0),IF(AND(AR9-($AI$2-N9)-lists!$CB$11-lists!$CB$12-lists!$CB$13-lists!$CB$14>lists!$CE$15,AR9-($AI$2-N9)-lists!$CB$11-lists!$CB$12-lists!$CB$13-lists!$CB$14<=lists!$CH$15),AR9-($AI$2-N9)-lists!$CB$11-lists!$CB$12-lists!$CB$13-lists!$CB$14-lists!$CE$15,0))","v":0},{"$f":"IF(OR(AR9=\"\",AR9=0),IF(N9-lists!CB12-lists!CB13-lists!CB14-lists!CB15>lists!$CH$15,N9-lists!CB12-lists!CB13-lists!CB14-lists!CB15-lists!$CH$15,0),IF(AR9-($AI$2-N9)-lists!CB12-lists!CB13-lists!CB14-lists!CB15>lists!$CH$15,AR9-($AI$2-N9)-lists!CB12-lists!CB13-lists!CB14-lists!CB15-lists!$CH$15,0))","v":133.12113548611086},{"$f":"SUMIFS(AZ9:BW9,AZ$1:BW$1,\"соглас. оплата\"&\"*\")-IF(AY9=\"\",0,AY9)","v":0},"2019-10-17T12:18:22.030",null,0,"00:00:00","00:00:00","2019-10-17T12:18:22.030","2019-10-14T20:15:40.790","00:00:00","00:00:00","00:00:00","зак-4","№444","2019-10-01","Акт","№444/1","2019-10-10",1000000,"2019-10-03",300000,"2019-10-16",600000,"2019-10-13",100000,"00:00:00",0,"00:00:00",0,"00:00:00",0,"00:00:00",0,"00:00:00",0,"00:00:00",0,"00:00:00",0,"00:00:00",0,"00:00:00",0,"2019-10-04",300000,"2019-10-14",100000,"00:00:00",0,"00:00:00",0,"00:00:00",0,"00:00:00",0,"00:00:00",0,"00:00:00",0,"00:00:00",0,"00:00:00",0,"00:00:00",0,"00:00:00",0,0,0,0,0,0,0,0,0,0,0,0,0,0,0,0,0,0,0,0]
[{"$f":"ROW()","v":10},null,null,null,null,null,null,null,{"$f":"IF(SUMIFS(INDIRECT(\"K$1:K\"&A10-1),INDIRECT(\"AS$1:AS\"&A10-1),AS10,INDIRECT(\"AT$1:AT\"&A10-1),AT10,INDIRECT(\"AV$1:AV\"&A10-1),AV10,INDIRECT(\"AW$1:AW\"&A10-1),AW10)=0,1,0)","v":0},{"$f":"IF(SUMIFS(K10:K10,I10:I10,1,AS10:AS10,screen!$E$6,AT10:AT10,screen!$E$8,AV10:AV10,screen!$E$12,AW10:AW10,screen!$E$14)=0,\"\",1)","v":""},{"$f":"1","v":1},{"$f":"AS10&\" / дог. \"&AT10&\" от \"&DAY(AU10)&\".\"&MONTH(AU10)&\".\"&YEAR(AU10)&\"г. / \"&AV10&\" \"&AW10&\" от \"&DAY(AX10)&\".\"&MONTH(AX10)&\".\"&YEAR(AX10)&\"г. / сумма отгр. \"&AY10","v":"зак-4 / дог. №444 от 1.10.2019г. / Акт №444/1 от 10.10.2019г. / сумма отгр. 1000000"},{"$f":"IF(IF(AY10=\"\",0,AY10)-SUMIFS(BX10:CU10,BX$1:CU$1,\"фактич. оплата\"&\"*\")>0,IF(AY10=\"\",0,AY10)-SUMIFS(BX10:CU10,BX$1:CU$1,\"фактич. оплата\"&\"*\"),0)","v":600000},{"$f":"IF(IF(M10=0,0,IF(AY10=0,0,((BX10-AX10)*BY10+(BZ10-AX10)*CA10+(CB10-AX10)*CC10+(CD10-AX10)*CE10+(CF10-AX10)*CG10+(CH10-AX10)*CI10+(CJ10-AX10)*CK10+(CL10-AX10)*CM10+(CN10-AX10)*CO10+(CP10-AX10)*CQ10+(CR10-AX10)*CS10+(CT10-AX10)*CU10+($AI$2-AX10)*M10)/AY10)-IF(AY10=0,0,((AZ10-AX10)*BA10+(BB10-AX10)*BC10+(BD10-AX10)*BE10+(BF10-AX10)*BG10+(BH10-AX10)*BI10+(BJ10-AX10)*BK10+(BL10-AX10)*BM10+(BN10-AX10)*BO10+(BP10-AX10)*BQ10+(BR10-AX10)*BS10+(BT10-AX10)*BU10+(AX10-AX10)*BW10)/AY10))<=0,0,IF(M10=0,0,IF(AY10=0,0,((BX10-AX10)*BY10+(BZ10-AX10)*CA10+(CB10-AX10)*CC10+(CD10-AX10)*CE10+(CF10-AX10)*CG10+(CH10-AX10)*CI10+(CJ10-AX10)*CK10+(CL10-AX10)*CM10+(CN10-AX10)*CO10+(CP10-AX10)*CQ10+(CR10-AX10)*CS10+(CT10-AX10)*CU10+($AI$2-AX10)*M10)/AY10)-IF(AY10=0,0,((AZ10-AX10)*BA10+(BB10-AX10)*BC10+(BD10-AX10)*BE10+(BF10-AX10)*BG10+(BH10-AX10)*BI10+(BJ10-AX10)*BK10+(BL10-AX10)*BM10+(BN10-AX10)*BO10+(BP10-AX10)*BQ10+(BR10-AX10)*BS10+(BT10-AX10)*BU10+(AX10-AX10)*BW10)/AY10)))","v":357.12113548611086},{"$f":"IF(M10=0,lists!$BQ$11,IF(N10<1,lists!$BQ$12,IF(M10<=conditions!$J$10,lists!$BQ$13,lists!$BQ$14)))","v":"Долг просроченный"},{"$f":"IF(O10<>lists!$BQ$14,lists!$BT$11,IF(AND(AL10<>\"\",AL10<>0,AL10>IF(AM10=\"\",0,AM10)),lists!$BT$12,IF(AND(AM10<>\"\",AM10<>0,AM10>=IF(AL10=\"\",0,AL10)),lists!$BT$13,IF(IF(OR(AN10=\"\",AN10=0),1,0)*U10+IF(OR(AO10=\"\",AO10=0),1,0)*X10+IF(OR(AP10=\"\",AP10=0),1,0)*AA10+IF(OR(AQ10=\"\",AQ10=0),1,0)*AD10+IF(OR(AR10=\"\",AR10=0),1,0)*AG10>0,lists!$BT$14,lists!$BT$15))))","v":"Долг брошенный"},{"$f":"IF(O10<>lists!$BQ$14,\"нет статуса\",IF(BD!N10<=lists!$CB$11,lists!$BY$11,IF(BD!N10<=lists!$CB$12,lists!$BY$12,IF(BD!N10<=lists!$CB$13,lists!$BY$13,IF(BD!N10<=lists!$CB$14,lists!$BY$14,lists!$BY$15)))))","v":"просрочка-100"},{"$f":"IF(Q10=\"нет статуса\",\"нет действий\",IF(AND(Q10=lists!$BY$11,AI10-N10>=AN10),\"нет действий\",IF(AND(Q10=lists!$BY$11,AI10-N10<AN10),lists!$CK$11,IF(AND(AR10<>0,AR10<>\"\"),lists!$CK$15,IF(AND(AQ10<>0,AQ10<>\"\"),lists!$CK$14,IF(AND(AP10<>0,AP10<>\"\"),lists!$CK$13,IF(AND(AO10<>0,AO10<>\"\"),lists!$CK$12,IF(AND(AN10<>0,AN10<>\"\"),lists!$CK$11,\"нет действий\"))))))))","v":"график рассрочки"},{"$f":"IF(OR(AN10=\"\",AN10=0),0,IF(AN10<$AI$2-N10,1,0))","v":1},{"$f":"IF(OR(AN10=\"\",AN10=0),IF(AND(N10>lists!$CE$11,N10<=lists!$CH$11),N10-lists!$CE$11,0),IF(AND(AN10-($AI$2-N10)>lists!$CE$11,AN10-($AI$2-N10)<=lists!$CH$11),AN10-($AI$2-N10)-lists!$CE$11,0))","v":0},{"$f":"IF(OR(AN10=\"\",AN10=0),IF(N10>lists!$CH$11,N10-lists!$CH$11,0),IF(AN10-($AI$2-N10)>lists!$CH$11,AN10-($AI$2-N10)-lists!$CH$11,0))","v":0},{"$f":"IF(OR(AO10=\"\",AO10=0),0,IF(AO10<$AI$2-N10+lists!$CB$11,1,0))","v":1},{"$f":"IF(OR(AO10=\"\",AO10=0),IF(AND(N10-lists!$CB$11>lists!$CE$12,N10-lists!$CB$11<=lists!$CH$12),N10-lists!$CB$11-lists!$CE$12,0),IF(AND(AO10-($AI$2-N10)-lists!$CB$11>lists!$CE$12,AO10-($AI$2-N10)-lists!$CB$11<=lists!$CH$12),AO10-($AI$2-N10)-lists!$CB$11-lists!$CE$12,0))","v":0},{"$f":"IF(OR(AO10=\"\",AO10=0),IF(N10-lists!CB12>lists!$CH$12,N10-lists!CB12-lists!$CH$12,0),IF(AO10-($AI$2-N10)-lists!CB12>lists!$CH$12,AO10-($AI$2-N10)-lists!CB12-lists!$CH$12,0))","v":0},{"$f":"IF(OR(AP10=\"\",AP10=0),0,IF(AP10<$AI$2-N10+lists!$CB$11+lists!$CB$12,1,0))","v":0},{"$f":"IF(OR(AP10=\"\",AP10=0),IF(AND(N10-lists!$CB$11-lists!$CB$12>lists!$CE$13,N10-lists!$CB$11-lists!$CB$12<=lists!$CH$13),N10-lists!$CB$11-lists!$CB$12-lists!$CE$13,0),IF(AND(AP10-($AI$2-N10)-lists!$CB$11-lists!$CB$12>lists!$CE$13,AP10-($AI$2-N10)-lists!$CB$11-lists!$CB$12<=lists!$CH$13),AP10-($AI$2-N10)-lists!$CB$11-lists!$CB$12-lists!$CE$13,0))","v":0},{"$f":"IF(OR(AP10=\"\",AP10=0),IF(N10-lists!CB12-lists!CB13>lists!$CH$13,N10-lists!CB12-lists!CB13-lists!$CH$13,0),IF(AP10-($AI$2-N10)-lists!CB12-lists!CB13>lists!$CH$13,AP10-($AI$2-N10)-lists!CB12-lists!CB13-lists!$CH$13,0))","v":301.12113548611086},{"$f":"IF(OR(AQ10=\"\",AQ10=0),0,IF(AQ10<$AI$2-N10+lists!$CB$11+lists!$CB$12+lists!$CB$13,1,0))","v":0},{"$f":"IF(OR(AQ10=\"\",AQ10=0),IF(AND(N10-lists!$CB$11-lists!$CB$12-lists!$CB$13>lists!$CE$14,N10-lists!$CB$11-lists!$CB$12-lists!$CB$13<=lists!$CH$14),N10-lists!$CB$11-lists!$CB$12-lists!$CB$13-lists!$CE$14,0),IF(AND(AQ10-($AI$2-N10)-lists!$CB$11-lists!$CB$12-lists!$CB$13>lists!$CE$14,AQ10-($AI$2-N10)-lists!$CB$11-lists!$CB$12-lists!$CB$13<=lists!$CH$14),AQ10-($AI$2-N10)-lists!$CB$11-lists!$CB$12-lists!$CB$13-lists!$CE$14,0))","v":0},{"$f":"IF(OR(AQ10=\"\",AQ10=0),IF(N10-lists!CB12-lists!CB13-lists!CB14>lists!$CH$14,N10-lists!CB12-lists!CB13-lists!CB14-lists!$CH$14,0),IF(AQ10-($AI$2-N10)-lists!CB12-lists!CB13-lists!CB14>lists!$CH$14,AQ10-($AI$2-N10)-lists!CB12-lists!CB13-lists!CB14-lists!$CH$14,0))","v":230.12113548611086},{"$f":"IF(OR(AR10=\"\",AR10=0),0,IF(AR10<$AI$2-N10+lists!$CB$11+lists!$CB$12+lists!$CB$13+lists!$CB$14,1,0))","v":0},{"$f":"IF(OR(AR10=\"\",AR10=0),IF(AND(N10-lists!$CB$11-lists!$CB$12-lists!$CB$13-lists!$CB$14>lists!$CE$15,N10-lists!$CB$11-lists!$CB$12-lists!$CB$13-lists!$CB$14<=lists!$CH$15),N10-lists!$CB$11-lists!$CB$12-lists!$CB$13-lists!$CB$14-lists!$CE$15,0),IF(AND(AR10-($AI$2-N10)-lists!$CB$11-lists!$CB$12-lists!$CB$13-lists!$CB$14>lists!$CE$15,AR10-($AI$2-N10)-lists!$CB$11-lists!$CB$12-lists!$CB$13-lists!$CB$14<=lists!$CH$15),AR10-($AI$2-N10)-lists!$CB$11-lists!$CB$12-lists!$CB$13-lists!$CB$14-lists!$CE$15,0))","v":0},{"$f":"IF(OR(AR10=\"\",AR10=0),IF(N10-lists!CB12-lists!CB13-lists!CB14-lists!CB15>lists!$CH$15,N10-lists!CB12-lists!CB13-lists!CB14-lists!CB15-lists!$CH$15,0),IF(AR10-($AI$2-N10)-lists!CB12-lists!CB13-lists!CB14-lists!CB15>lists!$CH$15,AR10-($AI$2-N10)-lists!CB12-lists!CB13-lists!CB14-lists!CB15-lists!$CH$15,0))","v":133.12113548611086},{"$f":"SUMIFS(AZ10:BW10,AZ$1:BW$1,\"соглас. оплата\"&\"*\")-IF(AY10=\"\",0,AY10)","v":0},"2019-10-14T20:20:05.980",null,0,"00:00:00","00:00:00","2019-10-14T20:10:35.790","2019-10-14T20:15:40.790","00:00:00","00:00:00","00:00:00","зак-4","№444","2019-10-01","Акт","№444/1","2019-10-10",1000000,"2019-10-03",300000,"2019-10-16",600000,"2019-10-13",100000,"00:00:00",0,"00:00:00",0,"00:00:00",0,"00:00:00",0,"00:00:00",0,"00:00:00",0,"00:00:00",0,"00:00:00",0,"00:00:00",0,"2019-10-04",300000,"2019-10-14",100000,"00:00:00",0,"00:00:00",0,"00:00:00",0,"00:00:00",0,"00:00:00",0,"00:00:00",0,"00:00:00",0,"00:00:00",0,"00:00:00",0,"00:00:00",0,0,0,0,0,0,0,0,0,0,0,0,0,0,0,0,0,0,0,0]
[{"$f":"ROW()","v":11},null,null,null,null,null,null,null,{"$f":"IF(SUMIFS(INDIRECT(\"K$1:K\"&A11-1),INDIRECT(\"AS$1:AS\"&A11-1),AS11,INDIRECT(\"AT$1:AT\"&A11-1),AT11,INDIRECT(\"AV$1:AV\"&A11-1),AV11,INDIRECT(\"AW$1:AW\"&A11-1),AW11)=0,1,0)","v":0},{"$f":"IF(SUMIFS(K11:K11,I11:I11,1,AS11:AS11,screen!$E$6,AT11:AT11,screen!$E$8,AV11:AV11,screen!$E$12,AW11:AW11,screen!$E$14)=0,\"\",1)","v":""},{"$f":"1","v":1},{"$f":"AS11&\" / дог. \"&AT11&\" от \"&DAY(AU11)&\".\"&MONTH(AU11)&\".\"&YEAR(AU11)&\"г. / \"&AV11&\" \"&AW11&\" от \"&DAY(AX11)&\".\"&MONTH(AX11)&\".\"&YEAR(AX11)&\"г. / сумма отгр. \"&AY11","v":"зак-4 / дог. №444 от 1.10.2019г. / Акт №444/1 от 10.10.2019г. / сумма отгр. 1000000"},{"$f":"IF(IF(AY11=\"\",0,AY11)-SUMIFS(BX11:CU11,BX$1:CU$1,\"фактич. оплата\"&\"*\")>0,IF(AY11=\"\",0,AY11)-SUMIFS(BX11:CU11,BX$1:CU$1,\"фактич. оплата\"&\"*\"),0)","v":700000},{"$f":"IF(IF(M11=0,0,IF(AY11=0,0,((BX11-AX11)*BY11+(BZ11-AX11)*CA11+(CB11-AX11)*CC11+(CD11-AX11)*CE11+(CF11-AX11)*CG11+(CH11-AX11)*CI11+(CJ11-AX11)*CK11+(CL11-AX11)*CM11+(CN11-AX11)*CO11+(CP11-AX11)*CQ11+(CR11-AX11)*CS11+(CT11-AX11)*CU11+($AI$2-AX11)*M11)/AY11)-IF(AY11=0,0,((AZ11-AX11)*BA11+(BB11-AX11)*BC11+(BD11-AX11)*BE11+(BF11-AX11)*BG11+(BH11-AX11)*BI11+(BJ11-AX11)*BK11+(BL11-AX11)*BM11+(BN11-AX11)*BO11+(BP11-AX11)*BQ11+(BR11-AX11)*BS11+(BT11-AX11)*BU11+(AX11-AX11)*BW11)/AY11))<=0,0,IF(M11=0,0,IF(AY11=0,0,((BX11-AX11)*BY11+(BZ11-AX11)*CA11+(CB11-AX11)*CC11+(CD11-AX11)*CE11+(CF11-AX11)*CG11+(CH11-AX11)*CI11+(CJ11-AX11)*CK11+(CL11-AX11)*CM11+(CN11-AX11)*CO11+(CP11-AX11)*CQ11+(CR11-AX11)*CS11+(CT11-AX11)*CU11+($AI$2-AX11)*M11)/AY11)-IF(AY11=0,0,((AZ11-AX11)*BA11+(BB11-AX11)*BC11+(BD11-AX11)*BE11+(BF11-AX11)*BG11+(BH11-AX11)*BI11+(BJ11-AX11)*BK11+(BL11-AX11)*BM11+(BN11-AX11)*BO11+(BP11-AX11)*BQ11+(BR11-AX11)*BS11+(BT11-AX11)*BU11+(AX11-AX11)*BW11)/AY11)))","v":418.57465806712935},{"$f":"IF(M11=0,lists!$BQ$11,IF(N11<1,lists!$BQ$12,IF(M11<=conditions!$J$10,lists!$BQ$13,lists!$BQ$14)))","v":"Долг просроченный"},{"$f":"IF(O11<>lists!$BQ$14,lists!$BT$11,IF(AND(AL11<>\"\",AL11<>0,AL11>IF(AM11=\"\",0,AM11)),lists!$BT$12,IF(AND(AM11<>\"\",AM11<>0,AM11>=IF(AL11=\"\",0,AL11)),lists!$BT$13,IF(IF(OR(AN11=\"\",AN11=0),1,0)*U11+IF(OR(AO11=\"\",AO11=0),1,0)*X11+IF(OR(AP11=\"\",AP11=0),1,0)*AA11+IF(OR(AQ11=\"\",AQ11=0),1,0)*AD11+IF(OR(AR11=\"\",AR11=0),1,0)*AG11>0,lists!$BT$14,lists!$BT$15))))","v":"Долг брошенный"},{"$f":"IF(O11<>lists!$BQ$14,\"нет статуса\",IF(BD!N11<=lists!$CB$11,lists!$BY$11,IF(BD!N11<=lists!$CB$12,lists!$BY$12,IF(BD!N11<=lists!$CB$13,lists!$BY$13,IF(BD!N11<=lists!$CB$14,lists!$BY$14,lists!$BY$15)))))","v":"просрочка-100"},{"$f":"IF(Q11=\"нет статуса\",\"нет действий\",IF(AND(Q11=lists!$BY$11,AI11-N11>=AN11),\"нет действий\",IF(AND(Q11=lists!$BY$11,AI11-N11<AN11),lists!$CK$11,IF(AND(AR11<>0,AR11<>\"\"),lists!$CK$15,IF(AND(AQ11<>0,AQ11<>\"\"),lists!$CK$14,IF(AND(AP11<>0,AP11<>\"\"),lists!$CK$13,IF(AND(AO11<>0,AO11<>\"\"),lists!$CK$12,IF(AND(AN11<>0,AN11<>\"\"),lists!$CK$11,\"нет действий\"))))))))","v":"график рассрочки"},{"$f":"IF(OR(AN11=\"\",AN11=0),0,IF(AN11<$AI$2-N11,1,0))","v":1},{"$f":"IF(OR(AN11=\"\",AN11=0),IF(AND(N11>lists!$CE$11,N11<=lists!$CH$11),N11-lists!$CE$11,0),IF(AND(AN11-($AI$2-N11)>lists!$CE$11,AN11-($AI$2-N11)<=lists!$CH$11),AN11-($AI$2-N11)-lists!$CE$11,0))","v":0},{"$f":"IF(OR(AN11=\"\",AN11=0),IF(N11>lists!$CH$11,N11-lists!$CH$11,0),IF(AN11-($AI$2-N11)>lists!$CH$11,AN11-($AI$2-N11)-lists!$CH$11,0))","v":0},{"$f":"IF(OR(AO11=\"\",AO11=0),0,IF(AO11<$AI$2-N11+lists!$CB$11,1,0))","v":1},{"$f":"IF(OR(AO11=\"\",AO11=0),IF(AND(N11-lists!$CB$11>lists!$CE$12,N11-lists!$CB$11<=lists!$CH$12),N11-lists!$CB$11-lists!$CE$12,0),IF(AND(AO11-($AI$2-N11)-lists!$CB$11>lists!$CE$12,AO11-($AI$2-N11)-lists!$CB$11<=lists!$CH$12),AO11-($AI$2-N11)-lists!$CB$11-lists!$CE$12,0))","v":0},{"$f":"IF(OR(AO11=\"\",AO11=0),IF(N11-lists!CB12>lists!$CH$12,N11-lists!CB12-lists!$CH$12,0),IF(AO11-($AI$2-N11)-lists!CB12>lists!$CH$12,AO11-($AI$2-N11)-lists!CB12-lists!$CH$12,0))","v":0},{"$f":"IF(OR(AP11=\"\",AP11=0),0,IF(AP11<$AI$2-N11+lists!$CB$11+lists!$CB$12,1,0))","v":0},{"$f":"IF(OR(AP11=\"\",AP11=0),IF(AND(N11-lists!$CB$11-lists!$CB$12>lists!$CE$13,N11-lists!$CB$11-lists!$CB$12<=lists!$CH$13),N11-lists!$CB$11-lists!$CB$12-lists!$CE$13,0),IF(AND(AP11-($AI$2-N11)-lists!$CB$11-lists!$CB$12>lists!$CE$13,AP11-($AI$2-N11)-lists!$CB$11-lists!$CB$12<=lists!$CH$13),AP11-($AI$2-N11)-lists!$CB$11-lists!$CB$12-lists!$CE$13,0))","v":0},{"$f":"IF(OR(AP11=\"\",AP11=0),IF(N11-lists!CB12-lists!CB13>lists!$CH$13,N11-lists!CB12-lists!CB13-lists!$CH$13,0),IF(AP11-($AI$2-N11)-lists!CB12-lists!CB13>lists!$CH$13,AP11-($AI$2-N11)-lists!CB12-lists!CB13-lists!$CH$13,0))","v":362.57465806712935},{"$f":"IF(OR(AQ11=\"\",AQ11=0),0,IF(AQ11<$AI$2-N11+lists!$CB$11+lists!$CB$12+lists!$CB$13,1,0))","v":0},{"$f":"IF(OR(AQ11=\"\",AQ11=0),IF(AND(N11-lists!$CB$11-lists!$CB$12-lists!$CB$13>lists!$CE$14,N11-lists!$CB$11-lists!$CB$12-lists!$CB$13<=lists!$CH$14),N11-lists!$CB$11-lists!$CB$12-lists!$CB$13-lists!$CE$14,0),IF(AND(AQ11-($AI$2-N11)-lists!$CB$11-lists!$CB$12-lists!$CB$13>lists!$CE$14,AQ11-($AI$2-N11)-lists!$CB$11-lists!$CB$12-lists!$CB$13<=lists!$CH$14),AQ11-($AI$2-N11)-lists!$CB$11-lists!$CB$12-lists!$CB$13-lists!$CE$14,0))","v":0},{"$f":"IF(OR(AQ11=\"\",AQ11=0),IF(N11-lists!CB12-lists!CB13-lists!CB14>lists!$CH$14,N11-lists!CB12-lists!CB13-lists!CB14-lists!$CH$14,0),IF(AQ11-($AI$2-N11)-lists!CB12-lists!CB13-lists!CB14>lists!$CH$14,AQ11-($AI$2-N11)-lists!CB12-lists!CB13-lists!CB14-lists!$CH$14,0))","v":291.57465806712935},{"$f":"IF(OR(AR11=\"\",AR11=0),0,IF(AR11<$AI$2-N11+lists!$CB$11+lists!$CB$12+lists!$CB$13+lists!$CB$14,1,0))","v":0},{"$f":"IF(OR(AR11=\"\",AR11=0),IF(AND(N11-lists!$CB$11-lists!$CB$12-lists!$CB$13-lists!$CB$14>lists!$CE$15,N11-lists!$CB$11-lists!$CB$12-lists!$CB$13-lists!$CB$14<=lists!$CH$15),N11-lists!$CB$11-lists!$CB$12-lists!$CB$13-lists!$CB$14-lists!$CE$15,0),IF(AND(AR11-($AI$2-N11)-lists!$CB$11-lists!$CB$12-lists!$CB$13-lists!$CB$14>lists!$CE$15,AR11-($AI$2-N11)-lists!$CB$11-lists!$CB$12-lists!$CB$13-lists!$CB$14<=lists!$CH$15),AR11-($AI$2-N11)-lists!$CB$11-lists!$CB$12-lists!$CB$13-lists!$CB$14-lists!$CE$15,0))","v":0},{"$f":"IF(OR(AR11=\"\",AR11=0),IF(N11-lists!CB12-lists!CB13-lists!CB14-lists!CB15>lists!$CH$15,N11-lists!CB12-lists!CB13-lists!CB14-lists!CB15-lists!$CH$15,0),IF(AR11-($AI$2-N11)-lists!CB12-lists!CB13-lists!CB14-lists!CB15>lists!$CH$15,AR11-($AI$2-N11)-lists!CB12-lists!CB13-lists!CB14-lists!CB15-lists!$CH$15,0))","v":194.57465806712935},{"$f":"SUMIFS(AZ11:BW11,AZ$1:BW$1,\"соглас. оплата\"&\"*\")-IF(AY11=\"\",0,AY11)","v":0},"2019-10-14T20:15:40.790",null,0,"00:00:00","00:00:00","2019-10-14T20:10:35.790","2019-10-14T20:15:40.790","00:00:00","00:00:00","00:00:00","зак-4","№444","2019-10-01","Акт","№444/1","2019-10-10",1000000,"2019-10-03",300000,"2019-10-13",700000,"00:00:00",0,"00:00:00",0,"00:00:00",0,"00:00:00",0,"00:00:00",0,"00:00:00",0,"00:00:00",0,"00:00:00",0,"00:00:00",0,"00:00:00",0,"2019-10-04",300000,"00:00:00",0,"00:00:00",0,"00:00:00",0,"00:00:00",0,"00:00:00",0,"00:00:00",0,"00:00:00",0,"00:00:00",0,"00:00:00",0,"00:00:00",0,"00:00:00",0,0,0,0,0,0,0,0,0,0,0,0,0,0,0,0,0,0,0,0]
[{"$f":"ROW()","v":12},null,null,null,null,null,null,null,{"$f":"IF(SUMIFS(INDIRECT(\"K$1:K\"&A12-1),INDIRECT(\"AS$1:AS\"&A12-1),AS12,INDIRECT(\"AT$1:AT\"&A12-1),AT12,INDIRECT(\"AV$1:AV\"&A12-1),AV12,INDIRECT(\"AW$1:AW\"&A12-1),AW12)=0,1,0)","v":0},{"$f":"IF(SUMIFS(K12:K12,I12:I12,1,AS12:AS12,screen!$E$6,AT12:AT12,screen!$E$8,AV12:AV12,screen!$E$12,AW12:AW12,screen!$E$14)=0,\"\",1)","v":""},{"$f":"1","v":1},{"$f":"AS12&\" / дог. \"&AT12&\" от \"&DAY(AU12)&\".\"&MONTH(AU12)&\".\"&YEAR(AU12)&\"г. / \"&AV12&\" \"&AW12&\" от \"&DAY(AX12)&\".\"&MONTH(AX12)&\".\"&YEAR(AX12)&\"г. / сумма отгр. \"&AY12","v":"зак-4 / дог. №444 от 1.10.2019г. / Акт №444/1 от 10.10.2019г. / сумма отгр. 1000000"},{"$f":"IF(IF(AY12=\"\",0,AY12)-SUMIFS(BX12:CU12,BX$1:CU$1,\"фактич. оплата\"&\"*\")>0,IF(AY12=\"\",0,AY12)-SUMIFS(BX12:CU12,BX$1:CU$1,\"фактич. оплата\"&\"*\"),0)","v":700000},{"$f":"IF(IF(M12=0,0,IF(AY12=0,0,((BX12-AX12)*BY12+(BZ12-AX12)*CA12+(CB12-AX12)*CC12+(CD12-AX12)*CE12+(CF12-AX12)*CG12+(CH12-AX12)*CI12+(CJ12-AX12)*CK12+(CL12-AX12)*CM12+(CN12-AX12)*CO12+(CP12-AX12)*CQ12+(CR12-AX12)*CS12+(CT12-AX12)*CU12+($AI$2-AX12)*M12)/AY12)-IF(AY12=0,0,((AZ12-AX12)*BA12+(BB12-AX12)*BC12+(BD12-AX12)*BE12+(BF12-AX12)*BG12+(BH12-AX12)*BI12+(BJ12-AX12)*BK12+(BL12-AX12)*BM12+(BN12-AX12)*BO12+(BP12-AX12)*BQ12+(BR12-AX12)*BS12+(BT12-AX12)*BU12+(AX12-AX12)*BW12)/AY12))<=0,0,IF(M12=0,0,IF(AY12=0,0,((BX12-AX12)*BY12+(BZ12-AX12)*CA12+(CB12-AX12)*CC12+(CD12-AX12)*CE12+(CF12-AX12)*CG12+(CH12-AX12)*CI12+(CJ12-AX12)*CK12+(CL12-AX12)*CM12+(CN12-AX12)*CO12+(CP12-AX12)*CQ12+(CR12-AX12)*CS12+(CT12-AX12)*CU12+($AI$2-AX12)*M12)/AY12)-IF(AY12=0,0,((AZ12-AX12)*BA12+(BB12-AX12)*BC12+(BD12-AX12)*BE12+(BF12-AX12)*BG12+(BH12-AX12)*BI12+(BJ12-AX12)*BK12+(BL12-AX12)*BM12+(BN12-AX12)*BO12+(BP12-AX12)*BQ12+(BR12-AX12)*BS12+(BT12-AX12)*BU12+(AX12-AX12)*BW12)/AY12)))","v":418.57465806712935},{"$f":"IF(M12=0,lists!$BQ$11,IF(N12<1,lists!$BQ$12,IF(M12<=conditions!$J$10,lists!$BQ$13,lists!$BQ$14)))","v":"Долг просроченный"},{"$f":"IF(O12<>lists!$BQ$14,lists!$BT$11,IF(AND(AL12<>\"\",AL12<>0,AL12>IF(AM12=\"\",0,AM12)),lists!$BT$12,IF(AND(AM12<>\"\",AM12<>0,AM12>=IF(AL12=\"\",0,AL12)),lists!$BT$13,IF(IF(OR(AN12=\"\",AN12=0),1,0)*U12+IF(OR(AO12=\"\",AO12=0),1,0)*X12+IF(OR(AP12=\"\",AP12=0),1,0)*AA12+IF(OR(AQ12=\"\",AQ12=0),1,0)*AD12+IF(OR(AR12=\"\",AR12=0),1,0)*AG12>0,lists!$BT$14,lists!$BT$15))))","v":"Долг брошенный"},{"$f":"IF(O12<>lists!$BQ$14,\"нет статуса\",IF(BD!N12<=lists!$CB$11,lists!$BY$11,IF(BD!N12<=lists!$CB$12,lists!$BY$12,IF(BD!N12<=lists!$CB$13,lists!$BY$13,IF(BD!N12<=lists!$CB$14,lists!$BY$14,lists!$BY$15)))))","v":"просрочка-100"},{"$f":"IF(Q12=\"нет статуса\",\"нет действий\",IF(AND(Q12=lists!$BY$11,AI12-N12>=AN12),\"нет действий\",IF(AND(Q12=lists!$BY$11,AI12-N12<AN12),lists!$CK$11,IF(AND(AR12<>0,AR12<>\"\"),lists!$CK$15,IF(AND(AQ12<>0,AQ12<>\"\"),lists!$CK$14,IF(AND(AP12<>0,AP12<>\"\"),lists!$CK$13,IF(AND(AO12<>0,AO12<>\"\"),lists!$CK$12,IF(AND(AN12<>0,AN12<>\"\"),lists!$CK$11,\"нет действий\"))))))))","v":"коммуникация"},{"$f":"IF(OR(AN12=\"\",AN12=0),0,IF(AN12<$AI$2-N12,1,0))","v":1},{"$f":"IF(OR(AN12=\"\",AN12=0),IF(AND(N12>lists!$CE$11,N12<=lists!$CH$11),N12-lists!$CE$11,0),IF(AND(AN12-($AI$2-N12)>lists!$CE$11,AN12-($AI$2-N12)<=lists!$CH$11),AN12-($AI$2-N12)-lists!$CE$11,0))","v":0},{"$f":"IF(OR(AN12=\"\",AN12=0),IF(N12>lists!$CH$11,N12-lists!$CH$11,0),IF(AN12-($AI$2-N12)>lists!$CH$11,AN12-($AI$2-N12)-lists!$CH$11,0))","v":0},{"$f":"IF(OR(AO12=\"\",AO12=0),0,IF(AO12<$AI$2-N12+lists!$CB$11,1,0))","v":0},{"$f":"IF(OR(AO12=\"\",AO12=0),IF(AND(N12-lists!$CB$11>lists!$CE$12,N12-lists!$CB$11<=lists!$CH$12),N12-lists!$CB$11-lists!$CE$12,0),IF(AND(AO12-($AI$2-N12)-lists!$CB$11>lists!$CE$12,AO12-($AI$2-N12)-lists!$CB$11<=lists!$CH$12),AO12-($AI$2-N12)-lists!$CB$11-lists!$CE$12,0))","v":0},{"$f":"IF(OR(AO12=\"\",AO12=0),IF(N12-lists!CB12>lists!$CH$12,N12-lists!CB12-lists!$CH$12,0),IF(AO12-($AI$2-N12)-lists!CB12>lists!$CH$12,AO12-($AI$2-N12)-lists!CB12-lists!$CH$12,0))","v":404.57465806712935},{"$f":"IF(OR(AP12=\"\",AP12=0),0,IF(AP12<$AI$2-N12+lists!$CB$11+lists!$CB$12,1,0))","v":0},{"$f":"IF(OR(AP12=\"\",AP12=0),IF(AND(N12-lists!$CB$11-lists!$CB$12>lists!$CE$13,N12-lists!$CB$11-lists!$CB$12<=lists!$CH$13),N12-lists!$CB$11-lists!$CB$12-lists!$CE$13,0),IF(AND(AP12-($AI$2-N12)-lists!$CB$11-lists!$CB$12>lists!$CE$13,AP12-($AI$2-N12)-lists!$CB$11-lists!$CB$12<=lists!$CH$13),AP12-($AI$2-N12)-lists!$CB$11-lists!$CB$12-lists!$CE$13,0))","v":0},{"$f":"IF(OR(AP12=\"\",AP12=0),IF(N12-lists!CB12-lists!CB13>lists!$CH$13,N12-lists!CB12-lists!CB13-lists!$CH$13,0),IF(AP12-($AI$2-N12)-lists!CB12-lists!CB13>lists!$CH$13,AP12-($AI$2-N12)-lists!CB12-lists!CB13-lists!$CH$13,0))","v":362.57465806712935},{"$f":"IF(OR(AQ12=\"\",AQ12=0),0,IF(AQ12<$AI$2-N12+lists!$CB$11+lists!$CB$12+lists!$CB$13,1,0))","v":0},{"$f":"IF(OR(AQ12=\"\",AQ12=0),IF(AND(N12-lists!$CB$11-lists!$CB$12-lists!$CB$13>lists!$CE$14,N12-lists!$CB$11-lists!$CB$12-lists!$CB$13<=lists!$CH$14),N12-lists!$CB$11-lists!$CB$12-lists!$CB$13-lists!$CE$14,0),IF(AND(AQ12-($AI$2-N12)-lists!$CB$11-lists!$CB$12-lists!$CB$13>lists!$CE$14,AQ12-($AI$2-N12)-lists!$CB$11-lists!$CB$12-lists!$CB$13<=lists!$CH$14),AQ12-($AI$2-N12)-lists!$CB$11-lists!$CB$12-lists!$CB$13-lists!$CE$14,0))","v":0},{"$f":"IF(OR(AQ12=\"\",AQ12=0),IF(N12-lists!CB12-lists!CB13-lists!CB14>lists!$CH$14,N12-lists!CB12-lists!CB13-lists!CB14-lists!$CH$14,0),IF(AQ12-($AI$2-N12)-lists!CB12-lists!CB13-lists!CB14>lists!$CH$14,AQ12-($AI$2-N12)-lists!CB12-lists!CB13-lists!CB14-lists!$CH$14,0))","v":291.57465806712935},{"$f":"IF(OR(AR12=\"\",AR12=0),0,IF(AR12<$AI$2-N12+lists!$CB$11+lists!$CB$12+lists!$CB$13+lists!$CB$14,1,0))","v":0},{"$f":"IF(OR(AR12=\"\",AR12=0),IF(AND(N12-lists!$CB$11-lists!$CB$12-lists!$CB$13-lists!$CB$14>lists!$CE$15,N12-lists!$CB$11-lists!$CB$12-lists!$CB$13-lists!$CB$14<=lists!$CH$15),N12-lists!$CB$11-lists!$CB$12-lists!$CB$13-lists!$CB$14-lists!$CE$15,0),IF(AND(AR12-($AI$2-N12)-lists!$CB$11-lists!$CB$12-lists!$CB$13-lists!$CB$14>lists!$CE$15,AR12-($AI$2-N12)-lists!$CB$11-lists!$CB$12-lists!$CB$13-lists!$CB$14<=lists!$CH$15),AR12-($AI$2-N12)-lists!$CB$11-lists!$CB$12-lists!$CB$13-lists!$CB$14-lists!$CE$15,0))","v":0},{"$f":"IF(OR(AR12=\"\",AR12=0),IF(N12-lists!CB12-lists!CB13-lists!CB14-lists!CB15>lists!$CH$15,N12-lists!CB12-lists!CB13-lists!CB14-lists!CB15-lists!$CH$15,0),IF(AR12-($AI$2-N12)-lists!CB12-lists!CB13-lists!CB14-lists!CB15>lists!$CH$15,AR12-($AI$2-N12)-lists!CB12-lists!CB13-lists!CB14-lists!CB15-lists!$CH$15,0))","v":194.57465806712935},{"$f":"SUMIFS(AZ12:BW12,AZ$1:BW$1,\"соглас. оплата\"&\"*\")-IF(AY12=\"\",0,AY12)","v":0},"2019-10-14T20:10:35.790",null,"Владимир","00:00:00","00:00:00","2019-10-14T20:10:35.790","00:00:00","00:00:00","00:00:00","00:00:00","зак-4","№444","2019-10-01","Акт","№444/1","2019-10-10",1000000,"2019-10-03",300000,"2019-10-13",700000,"00:00:00",0,"00:00:00",0,"00:00:00",0,"00:00:00",0,"00:00:00",0,"00:00:00",0,"00:00:00",0,"00:00:00",0,"00:00:00",0,"00:00:00",0,"2019-10-04",300000,"00:00:00",0,"00:00:00",0,"00:00:00",0,"00:00:00",0,"00:00:00",0,"00:00:00",0,"00:00:00",0,"00:00:00",0,"00:00:00",0,"00:00:00",0,"00:00:00",0,0,0,0,0,0,0,0,0,0,0,0,0,0,0,0,0,0,0,0]
[{"$f":"ROW()","v":13},null,null,null,null,null,null,null,{"$f":"IF(SUMIFS(INDIRECT(\"K$1:K\"&A13-1),INDIRECT(\"AS$1:AS\"&A13-1),AS13,INDIRECT(\"AT$1:AT\"&A13-1),AT13,INDIRECT(\"AV$1:AV\"&A13-1),AV13,INDIRECT(\"AW$1:AW\"&A13-1),AW13)=0,1,0)","v":0},{"$f":"IF(SUMIFS(K13:K13,I13:I13,1,AS13:AS13,screen!$E$6,AT13:AT13,screen!$E$8,AV13:AV13,screen!$E$12,AW13:AW13,screen!$E$14)=0,\"\",1)","v":""},{"$f":"1","v":1},{"$f":"AS13&\" / дог. \"&AT13&\" от \"&DAY(AU13)&\".\"&MONTH(AU13)&\".\"&YEAR(AU13)&\"г. / \"&AV13&\" \"&AW13&\" от \"&DAY(AX13)&\".\"&MONTH(AX13)&\".\"&YEAR(AX13)&\"г. / сумма отгр. \"&AY13","v":"Зак-2 / дог. №555 от 1.10.2019г. / ТН №777 от 1.10.2019г. / сумма отгр. 1000000"},{"$f":"IF(IF(AY13=\"\",0,AY13)-SUMIFS(BX13:CU13,BX$1:CU$1,\"фактич. оплата\"&\"*\")>0,IF(AY13=\"\",0,AY13)-SUMIFS(BX13:CU13,BX$1:CU$1,\"фактич. оплата\"&\"*\"),0)","v":690000},{"$f":"IF(IF(M13=0,0,IF(AY13=0,0,((BX13-AX13)*BY13+(BZ13-AX13)*CA13+(CB13-AX13)*CC13+(CD13-AX13)*CE13+(CF13-AX13)*CG13+(CH13-AX13)*CI13+(CJ13-AX13)*CK13+(CL13-AX13)*CM13+(CN13-AX13)*CO13+(CP13-AX13)*CQ13+(CR13-AX13)*CS13+(CT13-AX13)*CU13+($AI$2-AX13)*M13)/AY13)-IF(AY13=0,0,((AZ13-AX13)*BA13+(BB13-AX13)*BC13+(BD13-AX13)*BE13+(BF13-AX13)*BG13+(BH13-AX13)*BI13+(BJ13-AX13)*BK13+(BL13-AX13)*BM13+(BN13-AX13)*BO13+(BP13-AX13)*BQ13+(BR13-AX13)*BS13+(BT13-AX13)*BU13+(AX13-AX13)*BW13)/AY13))<=0,0,IF(M13=0,0,IF(AY13=0,0,((BX13-AX13)*BY13+(BZ13-AX13)*CA13+(CB13-AX13)*CC13+(CD13-AX13)*CE13+(CF13-AX13)*CG13+(CH13-AX13)*CI13+(CJ13-AX13)*CK13+(CL13-AX13)*CM13+(CN13-AX13)*CO13+(CP13-AX13)*CQ13+(CR13-AX13)*CS13+(CT13-AX13)*CU13+($AI$2-AX13)*M13)/AY13)-IF(AY13=0,0,((AZ13-AX13)*BA13+(BB13-AX13)*BC13+(BD13-AX13)*BE13+(BF13-AX13)*BG13+(BH13-AX13)*BI13+(BJ13-AX13)*BK13+(BL13-AX13)*BM13+(BN13-AX13)*BO13+(BP13-AX13)*BQ13+(BR13-AX13)*BS13+(BT13-AX13)*BU13+(AX13-AX13)*BW13)/AY13)))","v":414.41930580902749},{"$f":"IF(M13=0,lists!$BQ$11,IF(N13<1,lists!$BQ$12,IF(M13<=conditions!$J$10,lists!$BQ$13,lists!$BQ$14)))","v":"Долг просроченный"},{"$f":"IF(O13<>lists!$BQ$14,lists!$BT$11,IF(AND(AL13<>\"\",AL13<>0,AL13>IF(AM13=\"\",0,AM13)),lists!$BT$12,IF(AND(AM13<>\"\",AM13<>0,AM13>=IF(AL13=\"\",0,AL13)),lists!$BT$13,IF(IF(OR(AN13=\"\",AN13=0),1,0)*U13+IF(OR(AO13=\"\",AO13=0),1,0)*X13+IF(OR(AP13=\"\",AP13=0),1,0)*AA13+IF(OR(AQ13=\"\",AQ13=0),1,0)*AD13+IF(OR(AR13=\"\",AR13=0),1,0)*AG13>0,lists!$BT$14,lists!$BT$15))))","v":"Долг брошенный"},{"$f":"IF(O13<>lists!$BQ$14,\"нет статуса\",IF(BD!N13<=lists!$CB$11,lists!$BY$11,IF(BD!N13<=lists!$CB$12,lists!$BY$12,IF(BD!N13<=lists!$CB$13,lists!$BY$13,IF(BD!N13<=lists!$CB$14,lists!$BY$14,lists!$BY$15)))))","v":"просрочка-100"},{"$f":"IF(Q13=\"нет статуса\",\"нет действий\",IF(AND(Q13=lists!$BY$11,AI13-N13>=AN13),\"нет действий\",IF(AND(Q13=lists!$BY$11,AI13-N13<AN13),lists!$CK$11,IF(AND(AR13<>0,AR13<>\"\"),lists!$CK$15,IF(AND(AQ13<>0,AQ13<>\"\"),lists!$CK$14,IF(AND(AP13<>0,AP13<>\"\"),lists!$CK$13,IF(AND(AO13<>0,AO13<>\"\"),lists!$CK$12,IF(AND(AN13<>0,AN13<>\"\"),lists!$CK$11,\"нет действий\"))))))))","v":"нет действий"},{"$f":"IF(OR(AN13=\"\",AN13=0),0,IF(AN13<$AI$2-N13,1,0))","v":0},{"$f":"IF(OR(AN13=\"\",AN13=0),IF(AND(N13>lists!$CE$11,N13<=lists!$CH$11),N13-lists!$CE$11,0),IF(AND(AN13-($AI$2-N13)>lists!$CE$11,AN13-($AI$2-N13)<=lists!$CH$11),AN13-($AI$2-N13)-lists!$CE$11,0))","v":0},{"$f":"IF(OR(AN13=\"\",AN13=0),IF(N13>lists!$CH$11,N13-lists!$CH$11,0),IF(AN13-($AI$2-N13)>lists!$CH$11,AN13-($AI$2-N13)-lists!$CH$11,0))","v":412.41930580902749},{"$f":"IF(OR(AO13=\"\",AO13=0),0,IF(AO13<$AI$2-N13+lists!$CB$11,1,0))","v":0},{"$f":"IF(OR(AO13=\"\",AO13=0),IF(AND(N13-lists!$CB$11>lists!$CE$12,N13-lists!$CB$11<=lists!$CH$12),N13-lists!$CB$11-lists!$CE$12,0),IF(AND(AO13-($AI$2-N13)-lists!$CB$11>lists!$CE$12,AO13-($AI$2-N13)-lists!$CB$11<=lists!$CH$12),AO13-($AI$2-N13)-lists!$CB$11-lists!$CE$12,0))","v":0},{"$f":"IF(OR(AO13=\"\",AO13=0),IF(N13-lists!CB12>lists!$CH$12,N13-lists!CB12-lists!$CH$12,0),IF(AO13-($AI$2-N13)-lists!CB12>lists!$CH$12,AO13-($AI$2-N13)-lists!CB12-lists!$CH$12,0))","v":400.41930580902749},{"$f":"IF(OR(AP13=\"\",AP13=0),0,IF(AP13<$AI$2-N13+lists!$CB$11+lists!$CB$12,1,0))","v":0},{"$f":"IF(OR(AP13=\"\",AP13=0),IF(AND(N13-lists!$CB$11-lists!$CB$12>lists!$CE$13,N13-lists!$CB$11-lists!$CB$12<=lists!$CH$13),N13-lists!$CB$11-lists!$CB$12-lists!$CE$13,0),IF(AND(AP13-($AI$2-N13)-lists!$CB$11-lists!$CB$12>lists!$CE$13,AP13-($AI$2-N13)-lists!$CB$11-lists!$CB$12<=lists!$CH$13),AP13-($AI$2-N13)-lists!$CB$11-lists!$CB$12-lists!$CE$13,0))","v":0},{"$f":"IF(OR(AP13=\"\",AP13=0),IF(N13-lists!CB12-lists!CB13>lists!$CH$13,N13-lists!CB12-lists!CB13-lists!$CH$13,0),IF(AP13-($AI$2-N13)-lists!CB12-lists!CB13>lists!$CH$13,AP13-($AI$2-N13)-lists!CB12-lists!CB13-lists!$CH$13,0))","v":358.41930580902749},{"$f":"IF(OR(AQ13=\"\",AQ13=0),0,IF(AQ13<$AI$2-N13+lists!$CB$11+lists!$CB$12+lists!$CB$13,1,0))","v":0},{"$f":"IF(OR(AQ13=\"\",AQ13=0),IF(AND(N13-lists!$CB$11-lists!$CB$12-lists!$CB$13>lists!$CE$14,N13-lists!$CB$11-lists!$CB$12-lists!$CB$13<=lists!$CH$14),N13-lists!$CB$11-lists!$CB$12-lists!$CB$13-lists!$CE$14,0),IF(AND(AQ13-($AI$2-N13)-lists!$CB$11-lists!$CB$12-lists!$CB$13>lists!$CE$14,AQ13-($AI$2-N13)-lists!$CB$11-lists!$CB$12-lists!$CB$13<=lists!$CH$14),AQ13-($AI$2-N13)-lists!$CB$11-lists!$CB$12-lists!$CB$13-lists!$CE$14,0))","v":0},{"$f":"IF(OR(AQ13=\"\",AQ13=0),IF(N13-lists!CB12-lists!CB13-lists!CB14>lists!$CH$14,N13-lists!CB12-lists!CB13-lists!CB14-lists!$CH$14,0),IF(AQ13-($AI$2-N13)-lists!CB12-lists!CB13-lists!CB14>lists!$CH$14,AQ13-($AI$2-N13)-lists!CB12-lists!CB13-lists!CB14-lists!$CH$14,0))","v":287.41930580902749},{"$f":"IF(OR(AR13=\"\",AR13=0),0,IF(AR13<$AI$2-N13+lists!$CB$11+lists!$CB$12+lists!$CB$13+lists!$CB$14,1,0))","v":0},{"$f":"IF(OR(AR13=\"\",AR13=0),IF(AND(N13-lists!$CB$11-lists!$CB$12-lists!$CB$13-lists!$CB$14>lists!$CE$15,N13-lists!$CB$11-lists!$CB$12-lists!$CB$13-lists!$CB$14<=lists!$CH$15),N13-lists!$CB$11-lists!$CB$12-lists!$CB$13-lists!$CB$14-lists!$CE$15,0),IF(AND(AR13-($AI$2-N13)-lists!$CB$11-lists!$CB$12-lists!$CB$13-lists!$CB$14>lists!$CE$15,AR13-($AI$2-N13)-lists!$CB$11-lists!$CB$12-lists!$CB$13-lists!$CB$14<=lists!$CH$15),AR13-($AI$2-N13)-lists!$CB$11-lists!$CB$12-lists!$CB$13-lists!$CB$14-lists!$CE$15,0))","v":0},{"$f":"IF(OR(AR13=\"\",AR13=0),IF(N13-lists!CB12-lists!CB13-lists!CB14-lists!CB15>lists!$CH$15,N13-lists!CB12-lists!CB13-lists!CB14-lists!CB15-lists!$CH$15,0),IF(AR13-($AI$2-N13)-lists!CB12-lists!CB13-lists!CB14-lists!CB15>lists!$CH$15,AR13-($AI$2-N13)-lists!CB12-lists!CB13-lists!CB14-lists!CB15-lists!$CH$15,0))","v":190.41930580902749},{"$f":"SUMIFS(AZ13:BW13,AZ$1:BW$1,\"соглас. оплата\"&\"*\")-IF(AY13=\"\",0,AY13)","v":0},"2019-10-11T15:53:05.340",null,0,"00:00:00","00:00:00","00:00:00","00:00:00","00:00:00","00:00:00","00:00:00","Зак-2","№555","2019-10-01","ТН","№777","2019-10-01",1000000,"2019-10-01",250000,"2019-10-10",250000,"2019-10-15",500000,"00:00:00",0,"00:00:00",0,"00:00:00",0,"00:00:00",0,"00:00:00",0,"00:00:00",0,"00:00:00",0,"00:00:00",0,"00:00:00",0,"2019-10-10",10000,"2019-10-11",300000,"00:00:00",0,"00:00:00",0,"00:00:00",0,"00:00:00",0,"00:00:00",0,"00:00:00",0,"00:00:00",0,"00:00:00",0,"00:00:00",0,"00:00:00",0,"ООО \"Заказчик-2\"","ООО \"Зак-2\"","Сидоров",33545626,3756767,74568,267657,7787878,669696,"254н565464",756787878,34757,3246,"ALL","ALL","ALL","ALL","ALL","ALL"]
[{"$f":"ROW()","v":14},null,null,null,null,null,null,null,{"$f":"IF(SUMIFS(INDIRECT(\"K$1:K\"&A14-1),INDIRECT(\"AS$1:AS\"&A14-1),AS14,INDIRECT(\"AT$1:AT\"&A14-1),AT14,INDIRECT(\"AV$1:AV\"&A14-1),AV14,INDIRECT(\"AW$1:AW\"&A14-1),AW14)=0,1,0)","v":1},{"$f":"IF(SUMIFS(K14:K14,I14:I14,1,AS14:AS14,screen!$E$6,AT14:AT14,screen!$E$8,AV14:AV14,screen!$E$12,AW14:AW14,screen!$E$14)=0,\"\",1)","v":1},{"$f":"1","v":1},{"$f":"AS14&\" / дог. \"&AT14&\" от \"&DAY(AU14)&\".\"&MONTH(AU14)&\".\"&YEAR(AU14)&\"г. / \"&AV14&\" \"&AW14&\" от \"&DAY(AX14)&\".\"&MONTH(AX14)&\".\"&YEAR(AX14)&\"г. / сумма отгр. \"&AY14","v":"Зак / дог. №2 от 15.9.2019г. / ТН №5 от 2.10.2019г. / сумма отгр. 1000000"},{"$f":"IF(IF(AY14=\"\",0,AY14)-SUMIFS(BX14:CU14,BX$1:CU$1,\"фактич. оплата\"&\"*\")>0,IF(AY14=\"\",0,AY14)-SUMIFS(BX14:CU14,BX$1:CU$1,\"фактич. оплата\"&\"*\"),0)","v":0},{"$f":"IF(IF(M14=0,0,IF(AY14=0,0,((BX14-AX14)*BY14+(BZ14-AX14)*CA14+(CB14-AX14)*CC14+(CD14-AX14)*CE14+(CF14-AX14)*CG14+(CH14-AX14)*CI14+(CJ14-AX14)*CK14+(CL14-AX14)*CM14+(CN14-AX14)*CO14+(CP14-AX14)*CQ14+(CR14-AX14)*CS14+(CT14-AX14)*CU14+($AI$2-AX14)*M14)/AY14)-IF(AY14=0,0,((AZ14-AX14)*BA14+(BB14-AX14)*BC14+(BD14-AX14)*BE14+(BF14-AX14)*BG14+(BH14-AX14)*BI14+(BJ14-AX14)*BK14+(BL14-AX14)*BM14+(BN14-AX14)*BO14+(BP14-AX14)*BQ14+(BR14-AX14)*BS14+(BT14-AX14)*BU14+(AX14-AX14)*BW14)/AY14))<=0,0,IF(M14=0,0,IF(AY14=0,0,((BX14-AX14)*BY14+(BZ14-AX14)*CA14+(CB14-AX14)*CC14+(CD14-AX14)*CE14+(CF14-AX14)*CG14+(CH14-AX14)*CI14+(CJ14-AX14)*CK14+(CL14-AX14)*CM14+(CN14-AX14)*CO14+(CP14-AX14)*CQ14+(CR14-AX14)*CS14+(CT14-AX14)*CU14+($AI$2-AX14)*M14)/AY14)-IF(AY14=0,0,((AZ14-AX14)*BA14+(BB14-AX14)*BC14+(BD14-AX14)*BE14+(BF14-AX14)*BG14+(BH14-AX14)*BI14+(BJ14-AX14)*BK14+(BL14-AX14)*BM14+(BN14-AX14)*BO14+(BP14-AX14)*BQ14+(BR14-AX14)*BS14+(BT14-AX14)*BU14+(AX14-AX14)*BW14)/AY14)))","v":0},{"$f":"IF(M14=0,lists!$BQ$11,IF(N14<1,lists!$BQ$12,IF(M14<=conditions!$J$10,lists!$BQ$13,lists!$BQ$14)))","v":"Долга нет"},{"$f":"IF(O14<>lists!$BQ$14,lists!$BT$11,IF(AND(AL14<>\"\",AL14<>0,AL14>IF(AM14=\"\",0,AM14)),lists!$BT$12,IF(AND(AM14<>\"\",AM14<>0,AM14>=IF(AL14=\"\",0,AL14)),lists!$BT$13,IF(IF(OR(AN14=\"\",AN14=0),1,0)*U14+IF(OR(AO14=\"\",AO14=0),1,0)*X14+IF(OR(AP14=\"\",AP14=0),1,0)*AA14+IF(OR(AQ14=\"\",AQ14=0),1,0)*AD14+IF(OR(AR14=\"\",AR14=0),1,0)*AG14>0,lists!$BT$14,lists!$BT$15))))","v":"Нет задачи"},{"$f":"IF(O14<>lists!$BQ$14,\"нет статуса\",IF(BD!N14<=lists!$CB$11,lists!$BY$11,IF(BD!N14<=lists!$CB$12,lists!$BY$12,IF(BD!N14<=lists!$CB$13,lists!$BY$13,IF(BD!N14<=lists!$CB$14,lists!$BY$14,lists!$BY$15)))))","v":"нет статуса"},{"$f":"IF(Q14=\"нет статуса\",\"нет действий\",IF(AND(Q14=lists!$BY$11,AI14-N14>=AN14),\"нет действий\",IF(AND(Q14=lists!$BY$11,AI14-N14<AN14),lists!$CK$11,IF(AND(AR14<>0,AR14<>\"\"),lists!$CK$15,IF(AND(AQ14<>0,AQ14<>\"\"),lists!$CK$14,IF(AND(AP14<>0,AP14<>\"\"),lists!$CK$13,IF(AND(AO14<>0,AO14<>\"\"),lists!$CK$12,IF(AND(AN14<>0,AN14<>\"\"),lists!$CK$11,\"нет действий\"))))))))","v":"нет действий"},{"$f":"IF(OR(AN14=\"\",AN14=0),0,IF(AN14<$AI$2-N14,1,0))","v":1},{"$f":"IF(OR(AN14=\"\",AN14=0),IF(AND(N14>lists!$CE$11,N14<=lists!$CH$11),N14-lists!$CE$11,0),IF(AND(AN14-($AI$2-N14)>lists!$CE$11,AN14-($AI$2-N14)<=lists!$CH$11),AN14-($AI$2-N14)-lists!$CE$11,0))","v":0},{"$f":"IF(OR(AN14=\"\",AN14=0),IF(N14>lists!$CH$11,N14-lists!$CH$11,0),IF(AN14-($AI$2-N14)>lists!$CH$11,AN14-($AI$2-N14)-lists!$CH$11,0))","v":0},{"$f":"IF(OR(AO14=\"\",AO14=0),0,IF(AO14<$AI$2-N14+lists!$CB$11,1,0))","v":1},{"$f":"IF(OR(AO14=\"\",AO14=0),IF(AND(N14-lists!$CB$11>lists!$CE$12,N14-lists!$CB$11<=lists!$CH$12),N14-lists!$CB$11-lists!$CE$12,0),IF(AND(AO14-($AI$2-N14)-lists!$CB$11>lists!$CE$12,AO14-($AI$2-N14)-lists!$CB$11<=lists!$CH$12),AO14-($AI$2-N14)-lists!$CB$11-lists!$CE$12,0))","v":0},{"$f":"IF(OR(AO14=\"\",AO14=0),IF(N14-lists!CB12>lists!$CH$12,N14-lists!CB12-lists!$CH$12,0),IF(AO14-($AI$2-N14)-lists!CB12>lists!$CH$12,AO14-($AI$2-N14)-lists!CB12-lists!$CH$12,0))","v":0},{"$f":"IF(OR(AP14=\"\",AP14=0),0,IF(AP14<$AI$2-N14+lists!$CB$11+lists!$CB$12,1,0))","v":1},{"$f":"IF(OR(AP14=\"\",AP14=0),IF(AND(N14-lists!$CB$11-lists!$CB$12>lists!$CE$13,N14-lists!$CB$11-lists!$CB$12<=lists!$CH$13),N14-lists!$CB$11-lists!$CB$12-lists!$CE$13,0),IF(AND(AP14-($AI$2-N14)-lists!$CB$11-lists!$CB$12>lists!$CE$13,AP14-($AI$2-N14)-lists!$CB$11-lists!$CB$12<=lists!$CH$13),AP14-($AI$2-N14)-lists!$CB$11-lists!$CB$12-lists!$CE$13,0))","v":0},{"$f":"IF(OR(AP14=\"\",AP14=0),IF(N14-lists!CB12-lists!CB13>lists!$CH$13,N14-lists!CB12-lists!CB13-lists!$CH$13,0),IF(AP14-($AI$2-N14)-lists!CB12-lists!CB13>lists!$CH$13,AP14-($AI$2-N14)-lists!CB12-lists!CB13-lists!$CH$13,0))","v":0},{"$f":"IF(OR(AQ14=\"\",AQ14=0),0,IF(AQ14<$AI$2-N14+lists!$CB$11+lists!$CB$12+lists!$CB$13,1,0))","v":1},{"$f":"IF(OR(AQ14=\"\",AQ14=0),IF(AND(N14-lists!$CB$11-lists!$CB$12-lists!$CB$13>lists!$CE$14,N14-lists!$CB$11-lists!$CB$12-lists!$CB$13<=lists!$CH$14),N14-lists!$CB$11-lists!$CB$12-lists!$CB$13-lists!$CE$14,0),IF(AND(AQ14-($AI$2-N14)-lists!$CB$11-lists!$CB$12-lists!$CB$13>lists!$CE$14,AQ14-($AI$2-N14)-lists!$CB$11-lists!$CB$12-lists!$CB$13<=lists!$CH$14),AQ14-($AI$2-N14)-lists!$CB$11-lists!$CB$12-lists!$CB$13-lists!$CE$14,0))","v":0},{"$f":"IF(OR(AQ14=\"\",AQ14=0),IF(N14-lists!CB12-lists!CB13-lists!CB14>lists!$CH$14,N14-lists!CB12-lists!CB13-lists!CB14-lists!$CH$14,0),IF(AQ14-($AI$2-N14)-lists!CB12-lists!CB13-lists!CB14>lists!$CH$14,AQ14-($AI$2-N14)-lists!CB12-lists!CB13-lists!CB14-lists!$CH$14,0))","v":0},{"$f":"IF(OR(AR14=\"\",AR14=0),0,IF(AR14<$AI$2-N14+lists!$CB$11+lists!$CB$12+lists!$CB$13+lists!$CB$14,1,0))","v":0},{"$f":"IF(OR(AR14=\"\",AR14=0),IF(AND(N14-lists!$CB$11-lists!$CB$12-lists!$CB$13-lists!$CB$14>lists!$CE$15,N14-lists!$CB$11-lists!$CB$12-lists!$CB$13-lists!$CB$14<=lists!$CH$15),N14-lists!$CB$11-lists!$CB$12-lists!$CB$13-lists!$CB$14-lists!$CE$15,0),IF(AND(AR14-($AI$2-N14)-lists!$CB$11-lists!$CB$12-lists!$CB$13-lists!$CB$14>lists!$CE$15,AR14-($AI$2-N14)-lists!$CB$11-lists!$CB$12-lists!$CB$13-lists!$CB$14<=lists!$CH$15),AR14-($AI$2-N14)-lists!$CB$11-lists!$CB$12-lists!$CB$13-lists!$CB$14-lists!$CE$15,0))","v":0},{"$f":"IF(OR(AR14=\"\",AR14=0),IF(N14-lists!CB12-lists!CB13-lists!CB14-lists!CB15>lists!$CH$15,N14-lists!CB12-lists!CB13-lists!CB14-lists!CB15-lists!$CH$15,0),IF(AR14-($AI$2-N14)-lists!CB12-lists!CB13-lists!CB14-lists!CB15>lists!$CH$15,AR14-($AI$2-N14)-lists!CB12-lists!CB13-lists!CB14-lists!CB15-lists!$CH$15,0))","v":0},{"$f":"SUMIFS(AZ14:BW14,AZ$1:BW$1,\"соглас. оплата\"&\"*\")-IF(AY14=\"\",0,AY14)","v":0},"2019-10-11T12:07:00.510",null,0,"00:00:00","00:00:00","2019-10-08T04:51:52.380","2019-10-08T04:53:06","2019-10-08T04:56:11.130","2019-10-11T12:07:00.510","00:00:00","Зак","№2","2019-09-15","ТН","№5","2019-10-02",1000000,"2019-09-18",300000,"2019-10-01",500000,"2019-10-04",200000,"00:00:00",0,"00:00:00",0,"00:00:00",0,"00:00:00",0,"00:00:00",0,"00:00:00",0,"00:00:00",0,"00:00:00",0,"00:00:00",0,"2019-09-23",400000,"2019-10-03",100000,"2019-10-08",500000,"00:00:00",0,"00:00:00",0,"00:00:00",0,"00:00:00",0,"00:00:00",0,"00:00:00",0,"00:00:00",0,"00:00:00",0,"00:00:00",0,"ООО \"Заказчик\"","ООО \"Зак\"","Петров Иван Иванович",123456789,"mail@mail.ru",1111111111,111111111,111111111111,111111,11111111111111,1111111111111,11111111111111,11111111,"ALL","ALL","ALL","ALL","ALL","ALL"]
[{"$f":"ROW()","v":15},null,null,null,null,null,null,null,{"$f":"IF(SUMIFS(INDIRECT(\"K$1:K\"&A15-1),INDIRECT(\"AS$1:AS\"&A15-1),AS15,INDIRECT(\"AT$1:AT\"&A15-1),AT15,INDIRECT(\"AV$1:AV\"&A15-1),AV15,INDIRECT(\"AW$1:AW\"&A15-1),AW15)=0,1,0)","v":0},{"$f":"IF(SUMIFS(K15:K15,I15:I15,1,AS15:AS15,screen!$E$6,AT15:AT15,screen!$E$8,AV15:AV15,screen!$E$12,AW15:AW15,screen!$E$14)=0,\"\",1)","v":""},{"$f":"1","v":1},{"$f":"AS15&\" / дог. \"&AT15&\" от \"&DAY(AU15)&\".\"&MONTH(AU15)&\".\"&YEAR(AU15)&\"г. / \"&AV15&\" \"&AW15&\" от \"&DAY(AX15)&\".\"&MONTH(AX15)&\".\"&YEAR(AX15)&\"г. / сумма отгр. \"&AY15","v":"Зак-2 / дог. №555 от 1.10.2019г. / ТН №777 от 1.10.2019г. / сумма отгр. 1000000"},{"$f":"IF(IF(AY15=\"\",0,AY15)-SUMIFS(BX15:CU15,BX$1:CU$1,\"фактич. оплата\"&\"*\")>0,IF(AY15=\"\",0,AY15)-SUMIFS(BX15:CU15,BX$1:CU$1,\"фактич. оплата\"&\"*\"),0)","v":990000},{"$f":"IF(IF(M15=0,0,IF(AY15=0,0,((BX15-AX15)*BY15+(BZ15-AX15)*CA15+(CB15-AX15)*CC15+(CD15-AX15)*CE15+(CF15-AX15)*CG15+(CH15-AX15)*CI15+(CJ15-AX15)*CK15+(CL15-AX15)*CM15+(CN15-AX15)*CO15+(CP15-AX15)*CQ15+(CR15-AX15)*CS15+(CT15-AX15)*CU15+($AI$2-AX15)*M15)/AY15)-IF(AY15=0,0,((AZ15-AX15)*BA15+(BB15-AX15)*BC15+(BD15-AX15)*BE15+(BF15-AX15)*BG15+(BH15-AX15)*BI15+(BJ15-AX15)*BK15+(BL15-AX15)*BM15+(BN15-AX15)*BO15+(BP15-AX15)*BQ15+(BR15-AX15)*BS15+(BT15-AX15)*BU15+(AX15-AX15)*BW15)/AY15))<=0,0,IF(M15=0,0,IF(AY15=0,0,((BX15-AX15)*BY15+(BZ15-AX15)*CA15+(CB15-AX15)*CC15+(CD15-AX15)*CE15+(CF15-AX15)*CG15+(CH15-AX15)*CI15+(CJ15-AX15)*CK15+(CL15-AX15)*CM15+(CN15-AX15)*CO15+(CP15-AX15)*CQ15+(CR15-AX15)*CS15+(CT15-AX15)*CU15+($AI$2-AX15)*M15)/AY15)-IF(AY15=0,0,((AZ15-AX15)*BA15+(BB15-AX15)*BC15+(BD15-AX15)*BE15+(BF15-AX15)*BG15+(BH15-AX15)*BI15+(BJ15-AX15)*BK15+(BL15-AX15)*BM15+(BN15-AX15)*BO15+(BP15-AX15)*BQ15+(BR15-AX15)*BS15+(BT15-AX15)*BU15+(AX15-AX15)*BW15)/AY15)))","v":594.2798735520829},{"$f":"IF(M15=0,lists!$BQ$11,IF(N15<1,lists!$BQ$12,IF(M15<=conditions!$J$10,lists!$BQ$13,lists!$BQ$14)))","v":"Долг просроченный"},{"$f":"IF(O15<>lists!$BQ$14,lists!$BT$11,IF(AND(AL15<>\"\",AL15<>0,AL15>IF(AM15=\"\",0,AM15)),lists!$BT$12,IF(AND(AM15<>\"\",AM15<>0,AM15>=IF(AL15=\"\",0,AL15)),lists!$BT$13,IF(IF(OR(AN15=\"\",AN15=0),1,0)*U15+IF(OR(AO15=\"\",AO15=0),1,0)*X15+IF(OR(AP15=\"\",AP15=0),1,0)*AA15+IF(OR(AQ15=\"\",AQ15=0),1,0)*AD15+IF(OR(AR15=\"\",AR15=0),1,0)*AG15>0,lists!$BT$14,lists!$BT$15))))","v":"Долг брошенный"},{"$f":"IF(O15<>lists!$BQ$14,\"нет статуса\",IF(BD!N15<=lists!$CB$11,lists!$BY$11,IF(BD!N15<=lists!$CB$12,lists!$BY$12,IF(BD!N15<=lists!$CB$13,lists!$BY$13,IF(BD!N15<=lists!$CB$14,lists!$BY$14,lists!$BY$15)))))","v":"просрочка-100"},{"$f":"IF(Q15=\"нет статуса\",\"нет действий\",IF(AND(Q15=lists!$BY$11,AI15-N15>=AN15),\"нет действий\",IF(AND(Q15=lists!$BY$11,AI15-N15<AN15),lists!$CK$11,IF(AND(AR15<>0,AR15<>\"\"),lists!$CK$15,IF(AND(AQ15<>0,AQ15<>\"\"),lists!$CK$14,IF(AND(AP15<>0,AP15<>\"\"),lists!$CK$13,IF(AND(AO15<>0,AO15<>\"\"),lists!$CK$12,IF(AND(AN15<>0,AN15<>\"\"),lists!$CK$11,\"нет действий\"))))))))","v":"нет действий"},{"$f":"IF(OR(AN15=\"\",AN15=0),0,IF(AN15<$AI$2-N15,1,0))","v":0},{"$f":"IF(OR(AN15=\"\",AN15=0),IF(AND(N15>lists!$CE$11,N15<=lists!$CH$11),N15-lists!$CE$11,0),IF(AND(AN15-($AI$2-N15)>lists!$CE$11,AN15-($AI$2-N15)<=lists!$CH$11),AN15-($AI$2-N15)-lists!$CE$11,0))","v":0},{"$f":"IF(OR(AN15=\"\",AN15=0),IF(N15>lists!$CH$11,N15-lists!$CH$11,0),IF(AN15-($AI$2-N15)>lists!$CH$11,AN15-($AI$2-N15)-lists!$CH$11,0))","v":592.2798735520829},{"$f":"IF(OR(AO15=\"\",AO15=0),0,IF(AO15<$AI$2-N15+lists!$CB$11,1,0))","v":0},{"$f":"IF(OR(AO15=\"\",AO15=0),IF(AND(N15-lists!$CB$11>lists!$CE$12,N15-lists!$CB$11<=lists!$CH$12),N15-lists!$CB$11-lists!$CE$12,0),IF(AND(AO15-($AI$2-N15)-lists!$CB$11>lists!$CE$12,AO15-($AI$2-N15)-lists!$CB$11<=lists!$CH$12),AO15-($AI$2-N15)-lists!$CB$11-lists!$CE$12,0))","v":0},{"$f":"IF(OR(AO15=\"\",AO15=0),IF(N15-lists!CB12>lists!$CH$12,N15-lists!CB12-lists!$CH$12,0),IF(AO15-($AI$2-N15)-lists!CB12>lists!$CH$12,AO15-($AI$2-N15)-lists!CB12-lists!$CH$12,0))","v":580.2798735520829},{"$f":"IF(OR(AP15=\"\",AP15=0),0,IF(AP15<$AI$2-N15+lists!$CB$11+lists!$CB$12,1,0))","v":0},{"$f":"IF(OR(AP15=\"\",AP15=0),IF(AND(N15-lists!$CB$11-lists!$CB$12>lists!$CE$13,N15-lists!$CB$11-lists!$CB$12<=lists!$CH$13),N15-lists!$CB$11-lists!$CB$12-lists!$CE$13,0),IF(AND(AP15-($AI$2-N15)-lists!$CB$11-lists!$CB$12>lists!$CE$13,AP15-($AI$2-N15)-lists!$CB$11-lists!$CB$12<=lists!$CH$13),AP15-($AI$2-N15)-lists!$CB$11-lists!$CB$12-lists!$CE$13,0))","v":0},{"$f":"IF(OR(AP15=\"\",AP15=0),IF(N15-lists!CB12-lists!CB13>lists!$CH$13,N15-lists!CB12-lists!CB13-lists!$CH$13,0),IF(AP15-($AI$2-N15)-lists!CB12-lists!CB13>lists!$CH$13,AP15-($AI$2-N15)-lists!CB12-lists!CB13-lists!$CH$13,0))","v":538.2798735520829},{"$f":"IF(OR(AQ15=\"\",AQ15=0),0,IF(AQ15<$AI$2-N15+lists!$CB$11+lists!$CB$12+lists!$CB$13,1,0))","v":0},{"$f":"IF(OR(AQ15=\"\",AQ15=0),IF(AND(N15-lists!$CB$11-lists!$CB$12-lists!$CB$13>lists!$CE$14,N15-lists!$CB$11-lists!$CB$12-lists!$CB$13<=lists!$CH$14),N15-lists!$CB$11-lists!$CB$12-lists!$CB$13-lists!$CE$14,0),IF(AND(AQ15-($AI$2-N15)-lists!$CB$11-lists!$CB$12-lists!$CB$13>lists!$CE$14,AQ15-($AI$2-N15)-lists!$CB$11-lists!$CB$12-lists!$CB$13<=lists!$CH$14),AQ15-($AI$2-N15)-lists!$CB$11-lists!$CB$12-lists!$CB$13-lists!$CE$14,0))","v":0},{"$f":"IF(OR(AQ15=\"\",AQ15=0),IF(N15-lists!CB12-lists!CB13-lists!CB14>lists!$CH$14,N15-lists!CB12-lists!CB13-lists!CB14-lists!$CH$14,0),IF(AQ15-($AI$2-N15)-lists!CB12-lists!CB13-lists!CB14>lists!$CH$14,AQ15-($AI$2-N15)-lists!CB12-lists!CB13-lists!CB14-lists!$CH$14,0))","v":467.2798735520829},{"$f":"IF(OR(AR15=\"\",AR15=0),0,IF(AR15<$AI$2-N15+lists!$CB$11+lists!$CB$12+lists!$CB$13+lists!$CB$14,1,0))","v":0},{"$f":"IF(OR(AR15=\"\",AR15=0),IF(AND(N15-lists!$CB$11-lists!$CB$12-lists!$CB$13-lists!$CB$14>lists!$CE$15,N15-lists!$CB$11-lists!$CB$12-lists!$CB$13-lists!$CB$14<=lists!$CH$15),N15-lists!$CB$11-lists!$CB$12-lists!$CB$13-lists!$CB$14-lists!$CE$15,0),IF(AND(AR15-($AI$2-N15)-lists!$CB$11-lists!$CB$12-lists!$CB$13-lists!$CB$14>lists!$CE$15,AR15-($AI$2-N15)-lists!$CB$11-lists!$CB$12-lists!$CB$13-lists!$CB$14<=lists!$CH$15),AR15-($AI$2-N15)-lists!$CB$11-lists!$CB$12-lists!$CB$13-lists!$CB$14-lists!$CE$15,0))","v":0},{"$f":"IF(OR(AR15=\"\",AR15=0),IF(N15-lists!CB12-lists!CB13-lists!CB14-lists!CB15>lists!$CH$15,N15-lists!CB12-lists!CB13-lists!CB14-lists!CB15-lists!$CH$15,0),IF(AR15-($AI$2-N15)-lists!CB12-lists!CB13-lists!CB14-lists!CB15>lists!$CH$15,AR15-($AI$2-N15)-lists!CB12-lists!CB13-lists!CB14-lists!CB15-lists!$CH$15,0))","v":370.2798735520829},{"$f":"SUMIFS(AZ15:BW15,AZ$1:BW$1,\"соглас. оплата\"&\"*\")-IF(AY15=\"\",0,AY15)","v":0},"2019-10-11T12:00:14.930",null,"пользователь-1-коммуникац","00:00:00","00:00:00","00:00:00","00:00:00","00:00:00","00:00:00","00:00:00","Зак-2","№555","2019-10-01","ТН","№777","2019-10-01",1000000,"2019-10-01",250000,"2019-10-10",250000,"2019-10-15",500000,"00:00:00",0,"00:00:00",0,"00:00:00",0,"00:00:00",0,"00:00:00",0,"00:00:00",0,"00:00:00",0,"00:00:00",0,"00:00:00",0,"2019-10-10",10000,"00:00:00",0,"00:00:00",0,"00:00:00",0,"00:00:00",0,"00:00:00",0,"00:00:00",0,"00:00:00",0,"00:00:00",0,"00:00:00",0,"00:00:00",0,"00:00:00",0,"ООО \"Заказчик-2\"","ООО \"Зак-2\"","Сидоров",33545626,3756767,74568,267657,7787878,669696,"254н565464",756787878,34757,3246,"ALL","ALL","ALL","ALL","ALL","ALL"]
[{"$f":"ROW()","v":16},null,null,null,null,null,null,null,0,{"$f":"IF(SUMIFS(K16:K16,I16:I16,1,AS16:AS16,screen!$E$6,AT16:AT16,screen!$E$8,AV16:AV16,screen!$E$12,AW16:AW16,screen!$E$14)=0,\"\",1)","v":""},{"$f":"1","v":1},{"$f":"AS16&\" / дог. \"&AT16&\" от \"&DAY(AU16)&\".\"&MONTH(AU16)&\".\"&YEAR(AU16)&\"г. / \"&AV16&\" \"&AW16&\" от \"&DAY(AX16)&\".\"&MONTH(AX16)&\".\"&YEAR(AX16)&\"г. / сумма отгр. \"&AY16","v":"Зак / дог. №2 от 15.9.2019г. / ТН №5 от 2.10.2019г. / сумма отгр. 1000000"},{"$f":"IF(IF(AY16=\"\",0,AY16)-SUMIFS(BX16:CU16,BX$1:CU$1,\"фактич. оплата\"&\"*\")>0,IF(AY16=\"\",0,AY16)-SUMIFS(BX16:CU16,BX$1:CU$1,\"фактич. оплата\"&\"*\"),0)","v":0},{"$f":"IF(IF(M16=0,0,IF(AY16=0,0,((BX16-AX16)*BY16+(BZ16-AX16)*CA16+(CB16-AX16)*CC16+(CD16-AX16)*CE16+(CF16-AX16)*CG16+(CH16-AX16)*CI16+(CJ16-AX16)*CK16+(CL16-AX16)*CM16+(CN16-AX16)*CO16+(CP16-AX16)*CQ16+(CR16-AX16)*CS16+(CT16-AX16)*CU16+($AI$2-AX16)*M16)/AY16)-IF(AY16=0,0,((AZ16-AX16)*BA16+(BB16-AX16)*BC16+(BD16-AX16)*BE16+(BF16-AX16)*BG16+(BH16-AX16)*BI16+(BJ16-AX16)*BK16+(BL16-AX16)*BM16+(BN16-AX16)*BO16+(BP16-AX16)*BQ16+(BR16-AX16)*BS16+(BT16-AX16)*BU16+(AX16-AX16)*BW16)/AY16))<=0,0,IF(M16=0,0,IF(AY16=0,0,((BX16-AX16)*BY16+(BZ16-AX16)*CA16+(CB16-AX16)*CC16+(CD16-AX16)*CE16+(CF16-AX16)*CG16+(CH16-AX16)*CI16+(CJ16-AX16)*CK16+(CL16-AX16)*CM16+(CN16-AX16)*CO16+(CP16-AX16)*CQ16+(CR16-AX16)*CS16+(CT16-AX16)*CU16+($AI$2-AX16)*M16)/AY16)-IF(AY16=0,0,((AZ16-AX16)*BA16+(BB16-AX16)*BC16+(BD16-AX16)*BE16+(BF16-AX16)*BG16+(BH16-AX16)*BI16+(BJ16-AX16)*BK16+(BL16-AX16)*BM16+(BN16-AX16)*BO16+(BP16-AX16)*BQ16+(BR16-AX16)*BS16+(BT16-AX16)*BU16+(AX16-AX16)*BW16)/AY16)))","v":0},{"$f":"IF(M16=0,lists!$BQ$11,IF(N16<1,lists!$BQ$12,IF(M16<=conditions!$J$10,lists!$BQ$13,lists!$BQ$14)))","v":"Долга нет"},{"$f":"IF(O16<>lists!$BQ$14,lists!$BT$11,IF(AND(AL16<>\"\",AL16<>0,AL16>IF(AM16=\"\",0,AM16)),lists!$BT$12,IF(AND(AM16<>\"\",AM16<>0,AM16>=IF(AL16=\"\",0,AL16)),lists!$BT$13,IF(IF(OR(AN16=\"\",AN16=0),1,0)*U16+IF(OR(AO16=\"\",AO16=0),1,0)*X16+IF(OR(AP16=\"\",AP16=0),1,0)*AA16+IF(OR(AQ16=\"\",AQ16=0),1,0)*AD16+IF(OR(AR16=\"\",AR16=0),1,0)*AG16>0,lists!$BT$14,lists!$BT$15))))","v":"Нет задачи"},{"$f":"IF(O16<>lists!$BQ$14,\"нет статуса\",IF(BD!N16<=lists!$CB$11,lists!$BY$11,IF(BD!N16<=lists!$CB$12,lists!$BY$12,IF(BD!N16<=lists!$CB$13,lists!$BY$13,IF(BD!N16<=lists!$CB$14,lists!$BY$14,lists!$BY$15)))))","v":"нет статуса"},{"$f":"IF(Q16=\"нет статуса\",\"нет действий\",IF(AND(Q16=lists!$BY$11,AI16-N16>=AN16),\"нет действий\",IF(AND(Q16=lists!$BY$11,AI16-N16<AN16),lists!$CK$11,IF(AND(AR16<>0,AR16<>\"\"),lists!$CK$15,IF(AND(AQ16<>0,AQ16<>\"\"),lists!$CK$14,IF(AND(AP16<>0,AP16<>\"\"),lists!$CK$13,IF(AND(AO16<>0,AO16<>\"\"),lists!$CK$12,IF(AND(AN16<>0,AN16<>\"\"),lists!$CK$11,\"нет действий\"))))))))","v":"нет действий"},{"$f":"IF(OR(AN16=\"\",AN16=0),0,IF(AN16<$AI$2-N16,1,0))","v":1},{"$f":"IF(OR(AN16=\"\",AN16=0),IF(AND(N16>lists!$CE$11,N16<=lists!$CH$11),N16-lists!$CE$11,0),IF(AND(AN16-($AI$2-N16)>lists!$CE$11,AN16-($AI$2-N16)<=lists!$CH$11),AN16-($AI$2-N16)-lists!$CE$11,0))","v":0},{"$f":"IF(OR(AN16=\"\",AN16=0),IF(N16>lists!$CH$11,N16-lists!$CH$11,0),IF(AN16-($AI$2-N16)>lists!$CH$11,AN16-($AI$2-N16)-lists!$CH$11,0))","v":0},{"$f":"IF(OR(AO16=\"\",AO16=0),0,IF(AO16<$AI$2-N16+lists!$CB$11,1,0))","v":1},{"$f":"IF(OR(AO16=\"\",AO16=0),IF(AND(N16-lists!$CB$11>lists!$CE$12,N16-lists!$CB$11<=lists!$CH$12),N16-lists!$CB$11-lists!$CE$12,0),IF(AND(AO16-($AI$2-N16)-lists!$CB$11>lists!$CE$12,AO16-($AI$2-N16)-lists!$CB$11<=lists!$CH$12),AO16-($AI$2-N16)-lists!$CB$11-lists!$CE$12,0))","v":0},{"$f":"IF(OR(AO16=\"\",AO16=0),IF(N16-lists!CB12>lists!$CH$12,N16-lists!CB12-lists!$CH$12,0),IF(AO16-($AI$2-N16)-lists!CB12>lists!$CH$12,AO16-($AI$2-N16)-lists!CB12-lists!$CH$12,0))","v":0},{"$f":"IF(OR(AP16=\"\",AP16=0),0,IF(AP16<$AI$2-N16+lists!$CB$11+lists!$CB$12,1,0))","v":1},{"$f":"IF(OR(AP16=\"\",AP16=0),IF(AND(N16-lists!$CB$11-lists!$CB$12>lists!$CE$13,N16-lists!$CB$11-lists!$CB$12<=lists!$CH$13),N16-lists!$CB$11-lists!$CB$12-lists!$CE$13,0),IF(AND(AP16-($AI$2-N16)-lists!$CB$11-lists!$CB$12>lists!$CE$13,AP16-($AI$2-N16)-lists!$CB$11-lists!$CB$12<=lists!$CH$13),AP16-($AI$2-N16)-lists!$CB$11-lists!$CB$12-lists!$CE$13,0))","v":0},{"$f":"IF(OR(AP16=\"\",AP16=0),IF(N16-lists!CB12-lists!CB13>lists!$CH$13,N16-lists!CB12-lists!CB13-lists!$CH$13,0),IF(AP16-($AI$2-N16)-lists!CB12-lists!CB13>lists!$CH$13,AP16-($AI$2-N16)-lists!CB12-lists!CB13-lists!$CH$13,0))","v":0},{"$f":"IF(OR(AQ16=\"\",AQ16=0),0,IF(AQ16<$AI$2-N16+lists!$CB$11+lists!$CB$12+lists!$CB$13,1,0))","v":0},{"$f":"IF(OR(AQ16=\"\",AQ16=0),IF(AND(N16-lists!$CB$11-lists!$CB$12-lists!$CB$13>lists!$CE$14,N16-lists!$CB$11-lists!$CB$12-lists!$CB$13<=lists!$CH$14),N16-lists!$CB$11-lists!$CB$12-lists!$CB$13-lists!$CE$14,0),IF(AND(AQ16-($AI$2-N16)-lists!$CB$11-lists!$CB$12-lists!$CB$13>lists!$CE$14,AQ16-($AI$2-N16)-lists!$CB$11-lists!$CB$12-lists!$CB$13<=lists!$CH$14),AQ16-($AI$2-N16)-lists!$CB$11-lists!$CB$12-lists!$CB$13-lists!$CE$14,0))","v":0},{"$f":"IF(OR(AQ16=\"\",AQ16=0),IF(N16-lists!CB12-lists!CB13-lists!CB14>lists!$CH$14,N16-lists!CB12-lists!CB13-lists!CB14-lists!$CH$14,0),IF(AQ16-($AI$2-N16)-lists!CB12-lists!CB13-lists!CB14>lists!$CH$14,AQ16-($AI$2-N16)-lists!CB12-lists!CB13-lists!CB14-lists!$CH$14,0))","v":0},{"$f":"IF(OR(AR16=\"\",AR16=0),0,IF(AR16<$AI$2-N16+lists!$CB$11+lists!$CB$12+lists!$CB$13+lists!$CB$14,1,0))","v":0},{"$f":"IF(OR(AR16=\"\",AR16=0),IF(AND(N16-lists!$CB$11-lists!$CB$12-lists!$CB$13-lists!$CB$14>lists!$CE$15,N16-lists!$CB$11-lists!$CB$12-lists!$CB$13-lists!$CB$14<=lists!$CH$15),N16-lists!$CB$11-lists!$CB$12-lists!$CB$13-lists!$CB$14-lists!$CE$15,0),IF(AND(AR16-($AI$2-N16)-lists!$CB$11-lists!$CB$12-lists!$CB$13-lists!$CB$14>lists!$CE$15,AR16-($AI$2-N16)-lists!$CB$11-lists!$CB$12-lists!$CB$13-lists!$CB$14<=lists!$CH$15),AR16-($AI$2-N16)-lists!$CB$11-lists!$CB$12-lists!$CB$13-lists!$CB$14-lists!$CE$15,0))","v":0},{"$f":"IF(OR(AR16=\"\",AR16=0),IF(N16-lists!CB12-lists!CB13-lists!CB14-lists!CB15>lists!$CH$15,N16-lists!CB12-lists!CB13-lists!CB14-lists!CB15-lists!$CH$15,0),IF(AR16-($AI$2-N16)-lists!CB12-lists!CB13-lists!CB14-lists!CB15>lists!$CH$15,AR16-($AI$2-N16)-lists!CB12-lists!CB13-lists!CB14-lists!CB15-lists!$CH$15,0))","v":0},{"$f":"SUMIFS(AZ16:BW16,AZ$1:BW$1,\"соглас. оплата\"&\"*\")-IF(AY16=\"\",0,AY16)","v":0},"2019-10-08T04:56:11.130",null,0,"00:00:00","00:00:00","2019-10-08T04:51:52.380","2019-10-08T04:53:06","2019-10-08T04:56:11.130","00:00:00","00:00:00","Зак","№2","2019-09-15","ТН","№5","2019-10-02",1000000,"2019-09-18",300000,"2019-10-01",500000,"2019-10-04",200000,"00:00:00",0,"00:00:00",0,"00:00:00",0,"00:00:00",0,"00:00:00",0,"00:00:00",0,"00:00:00",0,"00:00:00",0,"00:00:00",0,"2019-09-23",400000,"2019-10-03",100000,"2019-10-08",500000,"00:00:00",0,"00:00:00",0,"00:00:00",0,"00:00:00",0,"00:00:00",0,"00:00:00",0,"00:00:00",0,"00:00:00",0,"00:00:00",0,"ООО \"Заказчик\"","ООО \"Зак\"","Петров Иван Иванович",123456789,"mail@mail.ru",1111111111,111111111,111111111111,111111,11111111111111,1111111111111,11111111111111,11111111,"ALL","ALL","ALL","ALL","ALL","ALL"]
[{"$f":"ROW()","v":17},null,null,null,null,null,null,null,0,{"$f":"IF(SUMIFS(K17:K17,I17:I17,1,AS17:AS17,screen!$E$6,AT17:AT17,screen!$E$8,AV17:AV17,screen!$E$12,AW17:AW17,screen!$E$14)=0,\"\",1)","v":""},{"$f":"1","v":1},{"$f":"AS17&\" / дог. \"&AT17&\" от \"&DAY(AU17)&\".\"&MONTH(AU17)&\".\"&YEAR(AU17)&\"г. / \"&AV17&\" \"&AW17&\" от \"&DAY(AX17)&\".\"&MONTH(AX17)&\".\"&YEAR(AX17)&\"г. / сумма отгр. \"&AY17","v":"0 / дог. 0 от 0.1.1900г. / 0 0 от 0.1.1900г. / сумма отгр. 0"},{"$f":"IF(IF(AY17=\"\",0,AY17)-SUMIFS(BX17:CU17,BX$1:CU$1,\"фактич. оплата\"&\"*\")>0,IF(AY17=\"\",0,AY17)-SUMIFS(BX17:CU17,BX$1:CU$1,\"фактич. оплата\"&\"*\"),0)","v":0},{"$f":"IF(IF(M17=0,0,IF(AY17=0,0,((BX17-AX17)*BY17+(BZ17-AX17)*CA17+(CB17-AX17)*CC17+(CD17-AX17)*CE17+(CF17-AX17)*CG17+(CH17-AX17)*CI17+(CJ17-AX17)*CK17+(CL17-AX17)*CM17+(CN17-AX17)*CO17+(CP17-AX17)*CQ17+(CR17-AX17)*CS17+(CT17-AX17)*CU17+($AI$2-AX17)*M17)/AY17)-IF(AY17=0,0,((AZ17-AX17)*BA17+(BB17-AX17)*BC17+(BD17-AX17)*BE17+(BF17-AX17)*BG17+(BH17-AX17)*BI17+(BJ17-AX17)*BK17+(BL17-AX17)*BM17+(BN17-AX17)*BO17+(BP17-AX17)*BQ17+(BR17-AX17)*BS17+(BT17-AX17)*BU17+(AX17-AX17)*BW17)/AY17))<=0,0,IF(M17=0,0,IF(AY17=0,0,((BX17-AX17)*BY17+(BZ17-AX17)*CA17+(CB17-AX17)*CC17+(CD17-AX17)*CE17+(CF17-AX17)*CG17+(CH17-AX17)*CI17+(CJ17-AX17)*CK17+(CL17-AX17)*CM17+(CN17-AX17)*CO17+(CP17-AX17)*CQ17+(CR17-AX17)*CS17+(CT17-AX17)*CU17+($AI$2-AX17)*M17)/AY17)-IF(AY17=0,0,((AZ17-AX17)*BA17+(BB17-AX17)*BC17+(BD17-AX17)*BE17+(BF17-AX17)*BG17+(BH17-AX17)*BI17+(BJ17-AX17)*BK17+(BL17-AX17)*BM17+(BN17-AX17)*BO17+(BP17-AX17)*BQ17+(BR17-AX17)*BS17+(BT17-AX17)*BU17+(AX17-AX17)*BW17)/AY17)))","v":0},{"$f":"IF(M17=0,lists!$BQ$11,IF(N17<1,lists!$BQ$12,IF(M17<=conditions!$J$10,lists!$BQ$13,lists!$BQ$14)))","v":"Долга нет"},{"$f":"IF(O17<>lists!$BQ$14,lists!$BT$11,IF(AND(AL17<>\"\",AL17<>0,AL17>IF(AM17=\"\",0,AM17)),lists!$BT$12,IF(AND(AM17<>\"\",AM17<>0,AM17>=IF(AL17=\"\",0,AL17)),lists!$BT$13,IF(IF(OR(AN17=\"\",AN17=0),1,0)*U17+IF(OR(AO17=\"\",AO17=0),1,0)*X17+IF(OR(AP17=\"\",AP17=0),1,0)*AA17+IF(OR(AQ17=\"\",AQ17=0),1,0)*AD17+IF(OR(AR17=\"\",AR17=0),1,0)*AG17>0,lists!$BT$14,lists!$BT$15))))","v":"Нет задачи"},{"$f":"IF(O17<>lists!$BQ$14,\"нет статуса\",IF(BD!N17<=lists!$CB$11,lists!$BY$11,IF(BD!N17<=lists!$CB$12,lists!$BY$12,IF(BD!N17<=lists!$CB$13,lists!$BY$13,IF(BD!N17<=lists!$CB$14,lists!$BY$14,lists!$BY$15)))))","v":"нет статуса"},{"$f":"IF(Q17=\"нет статуса\",\"нет действий\",IF(AND(Q17=lists!$BY$11,AI17-N17>=AN17),\"нет действий\",IF(AND(Q17=lists!$BY$11,AI17-N17<AN17),lists!$CK$11,IF(AND(AR17<>0,AR17<>\"\"),lists!$CK$15,IF(AND(AQ17<>0,AQ17<>\"\"),lists!$CK$14,IF(AND(AP17<>0,AP17<>\"\"),lists!$CK$13,IF(AND(AO17<>0,AO17<>\"\"),lists!$CK$12,IF(AND(AN17<>0,AN17<>\"\"),lists!$CK$11,\"нет действий\"))))))))","v":"нет действий"},{"$f":"IF(OR(AN17=\"\",AN17=0),0,IF(AN17<$AI$2-N17,1,0))","v":0},{"$f":"IF(OR(AN17=\"\",AN17=0),IF(AND(N17>lists!$CE$11,N17<=lists!$CH$11),N17-lists!$CE$11,0),IF(AND(AN17-($AI$2-N17)>lists!$CE$11,AN17-($AI$2-N17)<=lists!$CH$11),AN17-($AI$2-N17)-lists!$CE$11,0))","v":0},{"$f":"IF(OR(AN17=\"\",AN17=0),IF(N17>lists!$CH$11,N17-lists!$CH$11,0),IF(AN17-($AI$2-N17)>lists!$CH$11,AN17-($AI$2-N17)-lists!$CH$11,0))","v":0},{"$f":"IF(OR(AO17=\"\",AO17=0),0,IF(AO17<$AI$2-N17+lists!$CB$11,1,0))","v":0},{"$f":"IF(OR(AO17=\"\",AO17=0),IF(AND(N17-lists!$CB$11>lists!$CE$12,N17-lists!$CB$11<=lists!$CH$12),N17-lists!$CB$11-lists!$CE$12,0),IF(AND(AO17-($AI$2-N17)-lists!$CB$11>lists!$CE$12,AO17-($AI$2-N17)-lists!$CB$11<=lists!$CH$12),AO17-($AI$2-N17)-lists!$CB$11-lists!$CE$12,0))","v":0},{"$f":"IF(OR(AO17=\"\",AO17=0),IF(N17-lists!CB12>lists!$CH$12,N17-lists!CB12-lists!$CH$12,0),IF(AO17-($AI$2-N17)-lists!CB12>lists!$CH$12,AO17-($AI$2-N17)-lists!CB12-lists!$CH$12,0))","v":0},{"$f":"IF(OR(AP17=\"\",AP17=0),0,IF(AP17<$AI$2-N17+lists!$CB$11+lists!$CB$12,1,0))","v":0},{"$f":"IF(OR(AP17=\"\",AP17=0),IF(AND(N17-lists!$CB$11-lists!$CB$12>lists!$CE$13,N17-lists!$CB$11-lists!$CB$12<=lists!$CH$13),N17-lists!$CB$11-lists!$CB$12-lists!$CE$13,0),IF(AND(AP17-($AI$2-N17)-lists!$CB$11-lists!$CB$12>lists!$CE$13,AP17-($AI$2-N17)-lists!$CB$11-lists!$CB$12<=lists!$CH$13),AP17-($AI$2-N17)-lists!$CB$11-lists!$CB$12-lists!$CE$13,0))","v":0},{"$f":"IF(OR(AP17=\"\",AP17=0),IF(N17-lists!CB12-lists!CB13>lists!$CH$13,N17-lists!CB12-lists!CB13-lists!$CH$13,0),IF(AP17-($AI$2-N17)-lists!CB12-lists!CB13>lists!$CH$13,AP17-($AI$2-N17)-lists!CB12-lists!CB13-lists!$CH$13,0))","v":0},{"$f":"IF(OR(AQ17=\"\",AQ17=0),0,IF(AQ17<$AI$2-N17+lists!$CB$11+lists!$CB$12+lists!$CB$13,1,0))","v":0},{"$f":"IF(OR(AQ17=\"\",AQ17=0),IF(AND(N17-lists!$CB$11-lists!$CB$12-lists!$CB$13>lists!$CE$14,N17-lists!$CB$11-lists!$CB$12-lists!$CB$13<=lists!$CH$14),N17-lists!$CB$11-lists!$CB$12-lists!$CB$13-lists!$CE$14,0),IF(AND(AQ17-($AI$2-N17)-lists!$CB$11-lists!$CB$12-lists!$CB$13>lists!$CE$14,AQ17-($AI$2-N17)-lists!$CB$11-lists!$CB$12-lists!$CB$13<=lists!$CH$14),AQ17-($AI$2-N17)-lists!$CB$11-lists!$CB$12-lists!$CB$13-lists!$CE$14,0))","v":0},{"$f":"IF(OR(AQ17=\"\",AQ17=0),IF(N17-lists!CB12-lists!CB13-lists!CB14>lists!$CH$14,N17-lists!CB12-lists!CB13-lists!CB14-lists!$CH$14,0),IF(AQ17-($AI$2-N17)-lists!CB12-lists!CB13-lists!CB14>lists!$CH$14,AQ17-($AI$2-N17)-lists!CB12-lists!CB13-lists!CB14-lists!$CH$14,0))","v":0},{"$f":"IF(OR(AR17=\"\",AR17=0),0,IF(AR17<$AI$2-N17+lists!$CB$11+lists!$CB$12+lists!$CB$13+lists!$CB$14,1,0))","v":0},{"$f":"IF(OR(AR17=\"\",AR17=0),IF(AND(N17-lists!$CB$11-lists!$CB$12-lists!$CB$13-lists!$CB$14>lists!$CE$15,N17-lists!$CB$11-lists!$CB$12-lists!$CB$13-lists!$CB$14<=lists!$CH$15),N17-lists!$CB$11-lists!$CB$12-lists!$CB$13-lists!$CB$14-lists!$CE$15,0),IF(AND(AR17-($AI$2-N17)-lists!$CB$11-lists!$CB$12-lists!$CB$13-lists!$CB$14>lists!$CE$15,AR17-($AI$2-N17)-lists!$CB$11-lists!$CB$12-lists!$CB$13-lists!$CB$14<=lists!$CH$15),AR17-($AI$2-N17)-lists!$CB$11-lists!$CB$12-lists!$CB$13-lists!$CB$14-lists!$CE$15,0))","v":0},{"$f":"IF(OR(AR17=\"\",AR17=0),IF(N17-lists!CB12-lists!CB13-lists!CB14-lists!CB15>lists!$CH$15,N17-lists!CB12-lists!CB13-lists!CB14-lists!CB15-lists!$CH$15,0),IF(AR17-($AI$2-N17)-lists!CB12-lists!CB13-lists!CB14-lists!CB15>lists!$CH$15,AR17-($AI$2-N17)-lists!CB12-lists!CB13-lists!CB14-lists!CB15-lists!$CH$15,0))","v":0},{"$f":"SUMIFS(AZ17:BW17,AZ$1:BW$1,\"соглас. оплата\"&\"*\")-IF(AY17=\"\",0,AY17)","v":0},"2019-10-08T04:55:54.270",null,0,"00:00:00","00:00:00","00:00:00","00:00:00","00:00:00","00:00:00","00:00:00",0,0,"00:00:00",0,0,"00:00:00",0,"00:00:00",0,"00:00:00",0,"00:00:00",0,"00:00:00",0,"00:00:00",0,"00:00:00",0,"00:00:00",0,"00:00:00",0,"00:00:00",0,"00:00:00",0,"00:00:00",0,"00:00:00",0,"00:00:00",0,"00:00:00",0,"00:00:00",0,"00:00:00",0,"00:00:00",0,"00:00:00",0,"00:00:00",0,"00:00:00",0,"00:00:00",0,"00:00:00",0,"00:00:00",0,"00:00:00",0,0,0,0,0,0,0,0,0,0,0,0,0,0,0,0,0,0,0,0]
[{"$f":"ROW()","v":18},null,null,null,null,null,null,null,0,{"$f":"IF(SUMIFS(K18:K18,I18:I18,1,AS18:AS18,screen!$E$6,AT18:AT18,screen!$E$8,AV18:AV18,screen!$E$12,AW18:AW18,screen!$E$14)=0,\"\",1)","v":""},{"$f":"1","v":1},{"$f":"AS18&\" / дог. \"&AT18&\" от \"&DAY(AU18)&\".\"&MONTH(AU18)&\".\"&YEAR(AU18)&\"г. / \"&AV18&\" \"&AW18&\" от \"&DAY(AX18)&\".\"&MONTH(AX18)&\".\"&YEAR(AX18)&\"г. / сумма отгр. \"&AY18","v":"Зак / дог. №2 от 15.9.2019г. / ТН №5 от 2.10.2019г. / сумма отгр. 1000000"},{"$f":"IF(IF(AY18=\"\",0,AY18)-SUMIFS(BX18:CU18,BX$1:CU$1,\"фактич. оплата\"&\"*\")>0,IF(AY18=\"\",0,AY18)-SUMIFS(BX18:CU18,BX$1:CU$1,\"фактич. оплата\"&\"*\"),0)","v":0},{"$f":"IF(IF(M18=0,0,IF(AY18=0,0,((BX18-AX18)*BY18+(BZ18-AX18)*CA18+(CB18-AX18)*CC18+(CD18-AX18)*CE18+(CF18-AX18)*CG18+(CH18-AX18)*CI18+(CJ18-AX18)*CK18+(CL18-AX18)*CM18+(CN18-AX18)*CO18+(CP18-AX18)*CQ18+(CR18-AX18)*CS18+(CT18-AX18)*CU18+($AI$2-AX18)*M18)/AY18)-IF(AY18=0,0,((AZ18-AX18)*BA18+(BB18-AX18)*BC18+(BD18-AX18)*BE18+(BF18-AX18)*BG18+(BH18-AX18)*BI18+(BJ18-AX18)*BK18+(BL18-AX18)*BM18+(BN18-AX18)*BO18+(BP18-AX18)*BQ18+(BR18-AX18)*BS18+(BT18-AX18)*BU18+(AX18-AX18)*BW18)/AY18))<=0,0,IF(M18=0,0,IF(AY18=0,0,((BX18-AX18)*BY18+(BZ18-AX18)*CA18+(CB18-AX18)*CC18+(CD18-AX18)*CE18+(CF18-AX18)*CG18+(CH18-AX18)*CI18+(CJ18-AX18)*CK18+(CL18-AX18)*CM18+(CN18-AX18)*CO18+(CP18-AX18)*CQ18+(CR18-AX18)*CS18+(CT18-AX18)*CU18+($AI$2-AX18)*M18)/AY18)-IF(AY18=0,0,((AZ18-AX18)*BA18+(BB18-AX18)*BC18+(BD18-AX18)*BE18+(BF18-AX18)*BG18+(BH18-AX18)*BI18+(BJ18-AX18)*BK18+(BL18-AX18)*BM18+(BN18-AX18)*BO18+(BP18-AX18)*BQ18+(BR18-AX18)*BS18+(BT18-AX18)*BU18+(AX18-AX18)*BW18)/AY18)))","v":0},{"$f":"IF(M18=0,lists!$BQ$11,IF(N18<1,lists!$BQ$12,IF(M18<=conditions!$J$10,lists!$BQ$13,lists!$BQ$14)))","v":"Долга нет"},{"$f":"IF(O18<>lists!$BQ$14,lists!$BT$11,IF(AND(AL18<>\"\",AL18<>0,AL18>IF(AM18=\"\",0,AM18)),lists!$BT$12,IF(AND(AM18<>\"\",AM18<>0,AM18>=IF(AL18=\"\",0,AL18)),lists!$BT$13,IF(IF(OR(AN18=\"\",AN18=0),1,0)*U18+IF(OR(AO18=\"\",AO18=0),1,0)*X18+IF(OR(AP18=\"\",AP18=0),1,0)*AA18+IF(OR(AQ18=\"\",AQ18=0),1,0)*AD18+IF(OR(AR18=\"\",AR18=0),1,0)*AG18>0,lists!$BT$14,lists!$BT$15))))","v":"Нет задачи"},{"$f":"IF(O18<>lists!$BQ$14,\"нет статуса\",IF(BD!N18<=lists!$CB$11,lists!$BY$11,IF(BD!N18<=lists!$CB$12,lists!$BY$12,IF(BD!N18<=lists!$CB$13,lists!$BY$13,IF(BD!N18<=lists!$CB$14,lists!$BY$14,lists!$BY$15)))))","v":"нет статуса"},{"$f":"IF(Q18=\"нет статуса\",\"нет действий\",IF(AND(Q18=lists!$BY$11,AI18-N18>=AN18),\"нет действий\",IF(AND(Q18=lists!$BY$11,AI18-N18<AN18),lists!$CK$11,IF(AND(AR18<>0,AR18<>\"\"),lists!$CK$15,IF(AND(AQ18<>0,AQ18<>\"\"),lists!$CK$14,IF(AND(AP18<>0,AP18<>\"\"),lists!$CK$13,IF(AND(AO18<>0,AO18<>\"\"),lists!$CK$12,IF(AND(AN18<>0,AN18<>\"\"),lists!$CK$11,\"нет действий\"))))))))","v":"нет действий"},{"$f":"IF(OR(AN18=\"\",AN18=0),0,IF(AN18<$AI$2-N18,1,0))","v":1},{"$f":"IF(OR(AN18=\"\",AN18=0),IF(AND(N18>lists!$CE$11,N18<=lists!$CH$11),N18-lists!$CE$11,0),IF(AND(AN18-($AI$2-N18)>lists!$CE$11,AN18-($AI$2-N18)<=lists!$CH$11),AN18-($AI$2-N18)-lists!$CE$11,0))","v":0},{"$f":"IF(OR(AN18=\"\",AN18=0),IF(N18>lists!$CH$11,N18-lists!$CH$11,0),IF(AN18-($AI$2-N18)>lists!$CH$11,AN18-($AI$2-N18)-lists!$CH$11,0))","v":0},{"$f":"IF(OR(AO18=\"\",AO18=0),0,IF(AO18<$AI$2-N18+lists!$CB$11,1,0))","v":1},{"$f":"IF(OR(AO18=\"\",AO18=0),IF(AND(N18-lists!$CB$11>lists!$CE$12,N18-lists!$CB$11<=lists!$CH$12),N18-lists!$CB$11-lists!$CE$12,0),IF(AND(AO18-($AI$2-N18)-lists!$CB$11>lists!$CE$12,AO18-($AI$2-N18)-lists!$CB$11<=lists!$CH$12),AO18-($AI$2-N18)-lists!$CB$11-lists!$CE$12,0))","v":0},{"$f":"IF(OR(AO18=\"\",AO18=0),IF(N18-lists!CB12>lists!$CH$12,N18-lists!CB12-lists!$CH$12,0),IF(AO18-($AI$2-N18)-lists!CB12>lists!$CH$12,AO18-($AI$2-N18)-lists!CB12-lists!$CH$12,0))","v":0},{"$f":"IF(OR(AP18=\"\",AP18=0),0,IF(AP18<$AI$2-N18+lists!$CB$11+lists!$CB$12,1,0))","v":0},{"$f":"IF(OR(AP18=\"\",AP18=0),IF(AND(N18-lists!$CB$11-lists!$CB$12>lists!$CE$13,N18-lists!$CB$11-lists!$CB$12<=lists!$CH$13),N18-lists!$CB$11-lists!$CB$12-lists!$CE$13,0),IF(AND(AP18-($AI$2-N18)-lists!$CB$11-lists!$CB$12>lists!$CE$13,AP18-($AI$2-N18)-lists!$CB$11-lists!$CB$12<=lists!$CH$13),AP18-($AI$2-N18)-lists!$CB$11-lists!$CB$12-lists!$CE$13,0))","v":0},{"$f":"IF(OR(AP18=\"\",AP18=0),IF(N18-lists!CB12-lists!CB13>lists!$CH$13,N18-lists!CB12-lists!CB13-lists!$CH$13,0),IF(AP18-($AI$2-N18)-lists!CB12-lists!CB13>lists!$CH$13,AP18-($AI$2-N18)-lists!CB12-lists!CB13-lists!$CH$13,0))","v":0},{"$f":"IF(OR(AQ18=\"\",AQ18=0),0,IF(AQ18<$AI$2-N18+lists!$CB$11+lists!$CB$12+lists!$CB$13,1,0))","v":0},{"$f":"IF(OR(AQ18=\"\",AQ18=0),IF(AND(N18-lists!$CB$11-lists!$CB$12-lists!$CB$13>lists!$CE$14,N18-lists!$CB$11-lists!$CB$12-lists!$CB$13<=lists!$CH$14),N18-lists!$CB$11-lists!$CB$12-lists!$CB$13-lists!$CE$14,0),IF(AND(AQ18-($AI$2-N18)-lists!$CB$11-lists!$CB$12-lists!$CB$13>lists!$CE$14,AQ18-($AI$2-N18)-lists!$CB$11-lists!$CB$12-lists!$CB$13<=lists!$CH$14),AQ18-($AI$2-N18)-lists!$CB$11-lists!$CB$12-lists!$CB$13-lists!$CE$14,0))","v":0},{"$f":"IF(OR(AQ18=\"\",AQ18=0),IF(N18-lists!CB12-lists!CB13-lists!CB14>lists!$CH$14,N18-lists!CB12-lists!CB13-lists!CB14-lists!$CH$14,0),IF(AQ18-($AI$2-N18)-lists!CB12-lists!CB13-lists!CB14>lists!$CH$14,AQ18-($AI$2-N18)-lists!CB12-lists!CB13-lists!CB14-lists!$CH$14,0))","v":0},{"$f":"IF(OR(AR18=\"\",AR18=0),0,IF(AR18<$AI$2-N18+lists!$CB$11+lists!$CB$12+lists!$CB$13+lists!$CB$14,1,0))","v":0},{"$f":"IF(OR(AR18=\"\",AR18=0),IF(AND(N18-lists!$CB$11-lists!$CB$12-lists!$CB$13-lists!$CB$14>lists!$CE$15,N18-lists!$CB$11-lists!$CB$12-lists!$CB$13-lists!$CB$14<=lists!$CH$15),N18-lists!$CB$11-lists!$CB$12-lists!$CB$13-lists!$CB$14-lists!$CE$15,0),IF(AND(AR18-($AI$2-N18)-lists!$CB$11-lists!$CB$12-lists!$CB$13-lists!$CB$14>lists!$CE$15,AR18-($AI$2-N18)-lists!$CB$11-lists!$CB$12-lists!$CB$13-lists!$CB$14<=lists!$CH$15),AR18-($AI$2-N18)-lists!$CB$11-lists!$CB$12-lists!$CB$13-lists!$CB$14-lists!$CE$15,0))","v":0},{"$f":"IF(OR(AR18=\"\",AR18=0),IF(N18-lists!CB12-lists!CB13-lists!CB14-lists!CB15>lists!$CH$15,N18-lists!CB12-lists!CB13-lists!CB14-lists!CB15-lists!$CH$15,0),IF(AR18-($AI$2-N18)-lists!CB12-lists!CB13-lists!CB14-lists!CB15>lists!$CH$15,AR18-($AI$2-N18)-lists!CB12-lists!CB13-lists!CB14-lists!CB15-lists!$CH$15,0))","v":0},{"$f":"SUMIFS(AZ18:BW18,AZ$1:BW$1,\"соглас. оплата\"&\"*\")-IF(AY18=\"\",0,AY18)","v":0},"2019-10-08T04:53:06",null,0,"00:00:00","00:00:00","2019-10-08T04:51:52.380","2019-10-08T04:53:06","00:00:00","00:00:00","00:00:00","Зак","№2","2019-09-15","ТН","№5","2019-10-02",1000000,"2019-09-18",300000,"2019-10-01",500000,"2019-10-04",200000,"00:00:00",0,"00:00:00",0,"00:00:00",0,"00:00:00",0,"00:00:00",0,"00:00:00",0,"00:00:00",0,"00:00:00",0,"00:00:00",0,"2019-09-23",400000,"2019-10-03",100000,"2019-10-08",500000,"00:00:00",0,"00:00:00",0,"00:00:00",0,"00:00:00",0,"00:00:00",0,"00:00:00",0,"00:00:00",0,"00:00:00",0,"00:00:00",0,"ООО \"Заказчик\"","ООО \"Зак\"","Петров Иван Иванович",123456789,"mail@mail.ru",1111111111,111111111,111111111111,111111,11111111111111,1111111111111,11111111111111,11111111,"ALL","ALL","ALL","ALL","ALL","ALL"]
[{"$f":"ROW()","v":19},null,null,null,null,null,null,null,0,{"$f":"IF(SUMIFS(K19:K19,I19:I19,1,AS19:AS19,screen!$E$6,AT19:AT19,screen!$E$8,AV19:AV19,screen!$E$12,AW19:AW19,screen!$E$14)=0,\"\",1)","v":""},{"$f":"1","v":1},{"$f":"AS19&\" / дог. \"&AT19&\" от \"&DAY(AU19)&\".\"&MONTH(AU19)&\".\"&YEAR(AU19)&\"г. / \"&AV19&\" \"&AW19&\" от \"&DAY(AX19)&\".\"&MONTH(AX19)&\".\"&YEAR(AX19)&\"г. / сумма отгр. \"&AY19","v":"Зак / дог. №2 от 15.9.2019г. / ТН №5 от 2.10.2019г. / сумма отгр. 1000000"},{"$f":"IF(IF(AY19=\"\",0,AY19)-SUMIFS(BX19:CU19,BX$1:CU$1,\"фактич. оплата\"&\"*\")>0,IF(AY19=\"\",0,AY19)-SUMIFS(BX19:CU19,BX$1:CU$1,\"фактич. оплата\"&\"*\"),0)","v":0},{"$f":"IF(IF(M19=0,0,IF(AY19=0,0,((BX19-AX19)*BY19+(BZ19-AX19)*CA19+(CB19-AX19)*CC19+(CD19-AX19)*CE19+(CF19-AX19)*CG19+(CH19-AX19)*CI19+(CJ19-AX19)*CK19+(CL19-AX19)*CM19+(CN19-AX19)*CO19+(CP19-AX19)*CQ19+(CR19-AX19)*CS19+(CT19-AX19)*CU19+($AI$2-AX19)*M19)/AY19)-IF(AY19=0,0,((AZ19-AX19)*BA19+(BB19-AX19)*BC19+(BD19-AX19)*BE19+(BF19-AX19)*BG19+(BH19-AX19)*BI19+(BJ19-AX19)*BK19+(BL19-AX19)*BM19+(BN19-AX19)*BO19+(BP19-AX19)*BQ19+(BR19-AX19)*BS19+(BT19-AX19)*BU19+(AX19-AX19)*BW19)/AY19))<=0,0,IF(M19=0,0,IF(AY19=0,0,((BX19-AX19)*BY19+(BZ19-AX19)*CA19+(CB19-AX19)*CC19+(CD19-AX19)*CE19+(CF19-AX19)*CG19+(CH19-AX19)*CI19+(CJ19-AX19)*CK19+(CL19-AX19)*CM19+(CN19-AX19)*CO19+(CP19-AX19)*CQ19+(CR19-AX19)*CS19+(CT19-AX19)*CU19+($AI$2-AX19)*M19)/AY19)-IF(AY19=0,0,((AZ19-AX19)*BA19+(BB19-AX19)*BC19+(BD19-AX19)*BE19+(BF19-AX19)*BG19+(BH19-AX19)*BI19+(BJ19-AX19)*BK19+(BL19-AX19)*BM19+(BN19-AX19)*BO19+(BP19-AX19)*BQ19+(BR19-AX19)*BS19+(BT19-AX19)*BU19+(AX19-AX19)*BW19)/AY19)))","v":0},{"$f":"IF(M19=0,lists!$BQ$11,IF(N19<1,lists!$BQ$12,IF(M19<=conditions!$J$10,lists!$BQ$13,lists!$BQ$14)))","v":"Долга нет"},{"$f":"IF(O19<>lists!$BQ$14,lists!$BT$11,IF(AND(AL19<>\"\",AL19<>0,AL19>IF(AM19=\"\",0,AM19)),lists!$BT$12,IF(AND(AM19<>\"\",AM19<>0,AM19>=IF(AL19=\"\",0,AL19)),lists!$BT$13,IF(IF(OR(AN19=\"\",AN19=0),1,0)*U19+IF(OR(AO19=\"\",AO19=0),1,0)*X19+IF(OR(AP19=\"\",AP19=0),1,0)*AA19+IF(OR(AQ19=\"\",AQ19=0),1,0)*AD19+IF(OR(AR19=\"\",AR19=0),1,0)*AG19>0,lists!$BT$14,lists!$BT$15))))","v":"Нет задачи"},{"$f":"IF(O19<>lists!$BQ$14,\"нет статуса\",IF(BD!N19<=lists!$CB$11,lists!$BY$11,IF(BD!N19<=lists!$CB$12,lists!$BY$12,IF(BD!N19<=lists!$CB$13,lists!$BY$13,IF(BD!N19<=lists!$CB$14,lists!$BY$14,lists!$BY$15)))))","v":"нет статуса"},{"$f":"IF(Q19=\"нет статуса\",\"нет действий\",IF(AND(Q19=lists!$BY$11,AI19-N19>=AN19),\"нет действий\",IF(AND(Q19=lists!$BY$11,AI19-N19<AN19),lists!$CK$11,IF(AND(AR19<>0,AR19<>\"\"),lists!$CK$15,IF(AND(AQ19<>0,AQ19<>\"\"),lists!$CK$14,IF(AND(AP19<>0,AP19<>\"\"),lists!$CK$13,IF(AND(AO19<>0,AO19<>\"\"),lists!$CK$12,IF(AND(AN19<>0,AN19<>\"\"),lists!$CK$11,\"нет действий\"))))))))","v":"нет действий"},{"$f":"IF(OR(AN19=\"\",AN19=0),0,IF(AN19<$AI$2-N19,1,0))","v":1},{"$f":"IF(OR(AN19=\"\",AN19=0),IF(AND(N19>lists!$CE$11,N19<=lists!$CH$11),N19-lists!$CE$11,0),IF(AND(AN19-($AI$2-N19)>lists!$CE$11,AN19-($AI$2-N19)<=lists!$CH$11),AN19-($AI$2-N19)-lists!$CE$11,0))","v":0},{"$f":"IF(OR(AN19=\"\",AN19=0),IF(N19>lists!$CH$11,N19-lists!$CH$11,0),IF(AN19-($AI$2-N19)>lists!$CH$11,AN19-($AI$2-N19)-lists!$CH$11,0))","v":0},{"$f":"IF(OR(AO19=\"\",AO19=0),0,IF(AO19<$AI$2-N19+lists!$CB$11,1,0))","v":0},{"$f":"IF(OR(AO19=\"\",AO19=0),IF(AND(N19-lists!$CB$11>lists!$CE$12,N19-lists!$CB$11<=lists!$CH$12),N19-lists!$CB$11-lists!$CE$12,0),IF(AND(AO19-($AI$2-N19)-lists!$CB$11>lists!$CE$12,AO19-($AI$2-N19)-lists!$CB$11<=lists!$CH$12),AO19-($AI$2-N19)-lists!$CB$11-lists!$CE$12,0))","v":0},{"$f":"IF(OR(AO19=\"\",AO19=0),IF(N19-lists!CB12>lists!$CH$12,N19-lists!CB12-lists!$CH$12,0),IF(AO19-($AI$2-N19)-lists!CB12>lists!$CH$12,AO19-($AI$2-N19)-lists!CB12-lists!$CH$12,0))","v":0},{"$f":"IF(OR(AP19=\"\",AP19=0),0,IF(AP19<$AI$2-N19+lists!$CB$11+lists!$CB$12,1,0))","v":0},{"$f":"IF(OR(AP19=\"\",AP19=0),IF(AND(N19-lists!$CB$11-lists!$CB$12>lists!$CE$13,N19-lists!$CB$11-lists!$CB$12<=lists!$CH$13),N19-lists!$CB$11-lists!$CB$12-lists!$CE$13,0),IF(AND(AP19-($AI$2-N19)-lists!$CB$11-lists!$CB$12>lists!$CE$13,AP19-($AI$2-N19)-lists!$CB$11-lists!$CB$12<=lists!$CH$13),AP19-($AI$2-N19)-lists!$CB$11-lists!$CB$12-lists!$CE$13,0))","v":0},{"$f":"IF(OR(AP19=\"\",AP19=0),IF(N19-lists!CB12-lists!CB13>lists!$CH$13,N19-lists!CB12-lists!CB13-lists!$CH$13,0),IF(AP19-($AI$2-N19)-lists!CB12-lists!CB13>lists!$CH$13,AP19-($AI$2-N19)-lists!CB12-lists!CB13-lists!$CH$13,0))","v":0},{"$f":"IF(OR(AQ19=\"\",AQ19=0),0,IF(AQ19<$AI$2-N19+lists!$CB$11+lists!$CB$12+lists!$CB$13,1,0))","v":0},{"$f":"IF(OR(AQ19=\"\",AQ19=0),IF(AND(N19-lists!$CB$11-lists!$CB$12-lists!$CB$13>lists!$CE$14,N19-lists!$CB$11-lists!$CB$12-lists!$CB$13<=lists!$CH$14),N19-lists!$CB$11-lists!$CB$12-lists!$CB$13-lists!$CE$14,0),IF(AND(AQ19-($AI$2-N19)-lists!$CB$11-lists!$CB$12-lists!$CB$13>lists!$CE$14,AQ19-($AI$2-N19)-lists!$CB$11-lists!$CB$12-lists!$CB$13<=lists!$CH$14),AQ19-($AI$2-N19)-lists!$CB$11-lists!$CB$12-lists!$CB$13-lists!$CE$14,0))","v":0},{"$f":"IF(OR(AQ19=\"\",AQ19=0),IF(N19-lists!CB12-lists!CB13-lists!CB14>lists!$CH$14,N19-lists!CB12-lists!CB13-lists!CB14-lists!$CH$14,0),IF(AQ19-($AI$2-N19)-lists!CB12-lists!CB13-lists!CB14>lists!$CH$14,AQ19-($AI$2-N19)-lists!CB12-lists!CB13-lists!CB14-lists!$CH$14,0))","v":0},{"$f":"IF(OR(AR19=\"\",AR19=0),0,IF(AR19<$AI$2-N19+lists!$CB$11+lists!$CB$12+lists!$CB$13+lists!$CB$14,1,0))","v":0},{"$f":"IF(OR(AR19=\"\",AR19=0),IF(AND(N19-lists!$CB$11-lists!$CB$12-lists!$CB$13-lists!$CB$14>lists!$CE$15,N19-lists!$CB$11-lists!$CB$12-lists!$CB$13-lists!$CB$14<=lists!$CH$15),N19-lists!$CB$11-lists!$CB$12-lists!$CB$13-lists!$CB$14-lists!$CE$15,0),IF(AND(AR19-($AI$2-N19)-lists!$CB$11-lists!$CB$12-lists!$CB$13-lists!$CB$14>lists!$CE$15,AR19-($AI$2-N19)-lists!$CB$11-lists!$CB$12-lists!$CB$13-lists!$CB$14<=lists!$CH$15),AR19-($AI$2-N19)-lists!$CB$11-lists!$CB$12-lists!$CB$13-lists!$CB$14-lists!$CE$15,0))","v":0},{"$f":"IF(OR(AR19=\"\",AR19=0),IF(N19-lists!CB12-lists!CB13-lists!CB14-lists!CB15>lists!$CH$15,N19-lists!CB12-lists!CB13-lists!CB14-lists!CB15-lists!$CH$15,0),IF(AR19-($AI$2-N19)-lists!CB12-lists!CB13-lists!CB14-lists!CB15>lists!$CH$15,AR19-($AI$2-N19)-lists!CB12-lists!CB13-lists!CB14-lists!CB15-lists!$CH$15,0))","v":0},{"$f":"SUMIFS(AZ19:BW19,AZ$1:BW$1,\"соглас. оплата\"&\"*\")-IF(AY19=\"\",0,AY19)","v":0},"2019-10-08T04:51:52.380",null,0,"00:00:00","00:00:00","2019-10-08T04:51:52.380","00:00:00","00:00:00","00:00:00","00:00:00","Зак","№2","2019-09-15","ТН","№5","2019-10-02",1000000,"2019-09-18",300000,"2019-10-01",500000,"2019-10-04",200000,"00:00:00",0,"00:00:00",0,"00:00:00",0,"00:00:00",0,"00:00:00",0,"00:00:00",0,"00:00:00",0,"00:00:00",0,"00:00:00",0,"2019-09-23",400000,"2019-10-03",100000,"2019-10-08",500000,"00:00:00",0,"00:00:00",0,"00:00:00",0,"00:00:00",0,"00:00:00",0,"00:00:00",0,"00:00:00",0,"00:00:00",0,"00:00:00",0,"ООО \"Заказчик\"","ООО \"Зак\"","Петров Иван Иванович",123456789,"mail@mail.ru",1111111111,111111111,111111111111,111111,11111111111111,1111111111111,11111111111111,11111111,"ALL","ALL","ALL","ALL","ALL","ALL"]
[{"$f":"ROW()","v":20},null,null,null,null,null,null,null,1,{"$f":"IF(SUMIFS(K20:K20,I20:I20,1,AS20:AS20,screen!$E$6,AT20:AT20,screen!$E$8,AV20:AV20,screen!$E$12,AW20:AW20,screen!$E$14)=0,\"\",1)","v":1},{"$f":"1","v":1},"Зак-2 / дог. №76-в от 23.9.2019г. / АКТ №786 от 1.10.2019г. / сумма отгр. 3000000",1200000,242.44742365740726,{"$f":"IF(M20=0,lists!$BQ$11,IF(N20<1,lists!$BQ$12,IF(M20<=conditions!$J$10,lists!$BQ$13,lists!$BQ$14)))","v":"Долг просроченный"},{"$f":"IF(O20<>lists!$BQ$14,lists!$BT$11,IF(AND(AL20<>\"\",AL20<>0,AL20>IF(AM20=\"\",0,AM20)),lists!$BT$12,IF(AND(AM20<>\"\",AM20<>0,AM20>=IF(AL20=\"\",0,AL20)),lists!$BT$13,IF(IF(OR(AN20=\"\",AN20=0),1,0)*U20+IF(OR(AO20=\"\",AO20=0),1,0)*X20+IF(OR(AP20=\"\",AP20=0),1,0)*AA20+IF(OR(AQ20=\"\",AQ20=0),1,0)*AD20+IF(OR(AR20=\"\",AR20=0),1,0)*AG20>0,lists!$BT$14,lists!$BT$15))))","v":"Долг брошенный"},{"$f":"IF(O20<>lists!$BQ$14,\"нет статуса\",IF(BD!N20<=lists!$CB$11,lists!$BY$11,IF(BD!N20<=lists!$CB$12,lists!$BY$12,IF(BD!N20<=lists!$CB$13,lists!$BY$13,IF(BD!N20<=lists!$CB$14,lists!$BY$14,lists!$BY$15)))))","v":"просрочка-100"},{"$f":"IF(Q20=\"нет статуса\",\"нет действий\",IF(AND(Q20=lists!$BY$11,AI20-N20>=AN20),\"нет действий\",IF(AND(Q20=lists!$BY$11,AI20-N20<AN20),lists!$CK$11,IF(AND(AR20<>0,AR20<>\"\"),lists!$CK$15,IF(AND(AQ20<>0,AQ20<>\"\"),lists!$CK$14,IF(AND(AP20<>0,AP20<>\"\"),lists!$CK$13,IF(AND(AO20<>0,AO20<>\"\"),lists!$CK$12,IF(AND(AN20<>0,AN20<>\"\"),lists!$CK$11,\"нет действий\"))))))))","v":"досудебная претензия"},1,{"$f":"IF(OR(AN20=\"\",AN20=0),IF(AND(N20>lists!$CE$11,N20<=lists!$CH$11),N20-lists!$CE$11,0),IF(AND(AN20-($AI$2-N20)>lists!$CE$11,AN20-($AI$2-N20)<=lists!$CH$11),AN20-($AI$2-N20)-lists!$CE$11,0))","v":0},{"$f":"IF(OR(AN20=\"\",AN20=0),IF(N20>lists!$CH$11,N20-lists!$CH$11,0),IF(AN20-($AI$2-N20)>lists!$CH$11,AN20-($AI$2-N20)-lists!$CH$11,0))","v":0},{"$f":"IF(OR(AO20=\"\",AO20=0),0,IF(AO20<$AI$2-N20+lists!$CB$11,1,0))","v":1},{"$f":"IF(OR(AO20=\"\",AO20=0),IF(AND(N20-lists!$CB$11>lists!$CE$12,N20-lists!$CB$11<=lists!$CH$12),N20-lists!$CB$11-lists!$CE$12,0),IF(AND(AO20-($AI$2-N20)-lists!$CB$11>lists!$CE$12,AO20-($AI$2-N20)-lists!$CB$11<=lists!$CH$12),AO20-($AI$2-N20)-lists!$CB$11-lists!$CE$12,0))","v":0},{"$f":"IF(OR(AO20=\"\",AO20=0),IF(N20-lists!CB12>lists!$CH$12,N20-lists!CB12-lists!$CH$12,0),IF(AO20-($AI$2-N20)-lists!CB12>lists!$CH$12,AO20-($AI$2-N20)-lists!CB12-lists!$CH$12,0))","v":0},{"$f":"IF(OR(AP20=\"\",AP20=0),0,IF(AP20<$AI$2-N20+lists!$CB$11+lists!$CB$12,1,0))","v":1},{"$f":"IF(OR(AP20=\"\",AP20=0),IF(AND(N20-lists!$CB$11-lists!$CB$12>lists!$CE$13,N20-lists!$CB$11-lists!$CB$12<=lists!$CH$13),N20-lists!$CB$11-lists!$CB$12-lists!$CE$13,0),IF(AND(AP20-($AI$2-N20)-lists!$CB$11-lists!$CB$12>lists!$CE$13,AP20-($AI$2-N20)-lists!$CB$11-lists!$CB$12<=lists!$CH$13),AP20-($AI$2-N20)-lists!$CB$11-lists!$CB$12-lists!$CE$13,0))","v":0},{"$f":"IF(OR(AP20=\"\",AP20=0),IF(N20-lists!CB12-lists!CB13>lists!$CH$13,N20-lists!CB12-lists!CB13-lists!$CH$13,0),IF(AP20-($AI$2-N20)-lists!CB12-lists!CB13>lists!$CH$13,AP20-($AI$2-N20)-lists!CB12-lists!CB13-lists!$CH$13,0))","v":0},{"$f":"IF(OR(AQ20=\"\",AQ20=0),0,IF(AQ20<$AI$2-N20+lists!$CB$11+lists!$CB$12+lists!$CB$13,1,0))","v":0},{"$f":"IF(OR(AQ20=\"\",AQ20=0),IF(AND(N20-lists!$CB$11-lists!$CB$12-lists!$CB$13>lists!$CE$14,N20-lists!$CB$11-lists!$CB$12-lists!$CB$13<=lists!$CH$14),N20-lists!$CB$11-lists!$CB$12-lists!$CB$13-lists!$CE$14,0),IF(AND(AQ20-($AI$2-N20)-lists!$CB$11-lists!$CB$12-lists!$CB$13>lists!$CE$14,AQ20-($AI$2-N20)-lists!$CB$11-lists!$CB$12-lists!$CB$13<=lists!$CH$14),AQ20-($AI$2-N20)-lists!$CB$11-lists!$CB$12-lists!$CB$13-lists!$CE$14,0))","v":0},{"$f":"IF(OR(AQ20=\"\",AQ20=0),IF(N20-lists!CB12-lists!CB13-lists!CB14>lists!$CH$14,N20-lists!CB12-lists!CB13-lists!CB14-lists!$CH$14,0),IF(AQ20-($AI$2-N20)-lists!CB12-lists!CB13-lists!CB14>lists!$CH$14,AQ20-($AI$2-N20)-lists!CB12-lists!CB13-lists!CB14-lists!$CH$14,0))","v":115.44742365740726},{"$f":"IF(OR(AR20=\"\",AR20=0),0,IF(AR20<$AI$2-N20+lists!$CB$11+lists!$CB$12+lists!$CB$13+lists!$CB$14,1,0))","v":0},{"$f":"IF(OR(AR20=\"\",AR20=0),IF(AND(N20-lists!$CB$11-lists!$CB$12-lists!$CB$13-lists!$CB$14>lists!$CE$15,N20-lists!$CB$11-lists!$CB$12-lists!$CB$13-lists!$CB$14<=lists!$CH$15),N20-lists!$CB$11-lists!$CB$12-lists!$CB$13-lists!$CB$14-lists!$CE$15,0),IF(AND(AR20-($AI$2-N20)-lists!$CB$11-lists!$CB$12-lists!$CB$13-lists!$CB$14>lists!$CE$15,AR20-($AI$2-N20)-lists!$CB$11-lists!$CB$12-lists!$CB$13-lists!$CB$14<=lists!$CH$15),AR20-($AI$2-N20)-lists!$CB$11-lists!$CB$12-lists!$CB$13-lists!$CB$14-lists!$CE$15,0))","v":0},{"$f":"IF(OR(AR20=\"\",AR20=0),IF(N20-lists!CB12-lists!CB13-lists!CB14-lists!CB15>lists!$CH$15,N20-lists!CB12-lists!CB13-lists!CB14-lists!CB15-lists!$CH$15,0),IF(AR20-($AI$2-N20)-lists!CB12-lists!CB13-lists!CB14-lists!CB15>lists!$CH$15,AR20-($AI$2-N20)-lists!CB12-lists!CB13-lists!CB14-lists!CB15-lists!$CH$15,0))","v":18.447423657407256},0,"2019-10-08T04:38:20.290",null,0,"00:00:00","00:00:00","2019-10-08T04:09:50.660","2019-10-08T04:33:07.640","2019-10-08T04:38:20.290","00:00:00","00:00:00","Зак-2","№76-в","2019-09-23","АКТ","№786","2019-10-01",3000000,"2019-10-01",1000000,"2019-10-04",1600000,"2019-10-12",400000,"00:00:00",0,"00:00:00",0,"00:00:00",0,"00:00:00",0,"00:00:00",0,"00:00:00",0,"00:00:00",0,"00:00:00",0,"00:00:00",0,"2019-10-02",700000,"2019-10-05",1100000,"00:00:00",0,"00:00:00",0,"00:00:00",0,"00:00:00",0,"00:00:00",0,"00:00:00",0,"00:00:00",0,"00:00:00",0,"00:00:00",0,"00:00:00",0,"ООО \"Заказчик-2\"","ООО \"Зак-2\"","Сидоров",33545626,3756767,74568,267657,7787878,669696,"254н565464",756787878,34757,3246,"ALL","ALL","ALL","ALL","ALL","ALL"]
[{"$f":"ROW()","v":21},null,null,null,null,null,null,null,0,{"$f":"IF(SUMIFS(K21:K21,I21:I21,1,AS21:AS21,screen!$E$6,AT21:AT21,screen!$E$8,AV21:AV21,screen!$E$12,AW21:AW21,screen!$E$14)=0,\"\",1)","v":""},{"$f":"1","v":1},"Зак-2 / дог. №76-в от 23.9.2019г. / АКТ №786 от 1.10.2019г. / сумма отгр. 3000000",1200000,242.44742365740726,{"$f":"IF(M21=0,lists!$BQ$11,IF(N21<1,lists!$BQ$12,IF(M21<=conditions!$J$10,lists!$BQ$13,lists!$BQ$14)))","v":"Долг просроченный"},{"$f":"IF(O21<>lists!$BQ$14,lists!$BT$11,IF(AND(AL21<>\"\",AL21<>0,AL21>IF(AM21=\"\",0,AM21)),lists!$BT$12,IF(AND(AM21<>\"\",AM21<>0,AM21>=IF(AL21=\"\",0,AL21)),lists!$BT$13,IF(IF(OR(AN21=\"\",AN21=0),1,0)*U21+IF(OR(AO21=\"\",AO21=0),1,0)*X21+IF(OR(AP21=\"\",AP21=0),1,0)*AA21+IF(OR(AQ21=\"\",AQ21=0),1,0)*AD21+IF(OR(AR21=\"\",AR21=0),1,0)*AG21>0,lists!$BT$14,lists!$BT$15))))","v":"Долг брошенный"},{"$f":"IF(O21<>lists!$BQ$14,\"нет статуса\",IF(BD!N21<=lists!$CB$11,lists!$BY$11,IF(BD!N21<=lists!$CB$12,lists!$BY$12,IF(BD!N21<=lists!$CB$13,lists!$BY$13,IF(BD!N21<=lists!$CB$14,lists!$BY$14,lists!$BY$15)))))","v":"просрочка-100"},{"$f":"IF(Q21=\"нет статуса\",\"нет действий\",IF(AND(Q21=lists!$BY$11,AI21-N21>=AN21),\"нет действий\",IF(AND(Q21=lists!$BY$11,AI21-N21<AN21),lists!$CK$11,IF(AND(AR21<>0,AR21<>\"\"),lists!$CK$15,IF(AND(AQ21<>0,AQ21<>\"\"),lists!$CK$14,IF(AND(AP21<>0,AP21<>\"\"),lists!$CK$13,IF(AND(AO21<>0,AO21<>\"\"),lists!$CK$12,IF(AND(AN21<>0,AN21<>\"\"),lists!$CK$11,\"нет действий\"))))))))","v":"график рассрочки"},1,{"$f":"IF(OR(AN21=\"\",AN21=0),IF(AND(N21>lists!$CE$11,N21<=lists!$CH$11),N21-lists!$CE$11,0),IF(AND(AN21-($AI$2-N21)>lists!$CE$11,AN21-($AI$2-N21)<=lists!$CH$11),AN21-($AI$2-N21)-lists!$CE$11,0))","v":0},{"$f":"IF(OR(AN21=\"\",AN21=0),IF(N21>lists!$CH$11,N21-lists!$CH$11,0),IF(AN21-($AI$2-N21)>lists!$CH$11,AN21-($AI$2-N21)-lists!$CH$11,0))","v":0},{"$f":"IF(OR(AO21=\"\",AO21=0),0,IF(AO21<$AI$2-N21+lists!$CB$11,1,0))","v":1},{"$f":"IF(OR(AO21=\"\",AO21=0),IF(AND(N21-lists!$CB$11>lists!$CE$12,N21-lists!$CB$11<=lists!$CH$12),N21-lists!$CB$11-lists!$CE$12,0),IF(AND(AO21-($AI$2-N21)-lists!$CB$11>lists!$CE$12,AO21-($AI$2-N21)-lists!$CB$11<=lists!$CH$12),AO21-($AI$2-N21)-lists!$CB$11-lists!$CE$12,0))","v":0},{"$f":"IF(OR(AO21=\"\",AO21=0),IF(N21-lists!CB12>lists!$CH$12,N21-lists!CB12-lists!$CH$12,0),IF(AO21-($AI$2-N21)-lists!CB12>lists!$CH$12,AO21-($AI$2-N21)-lists!CB12-lists!$CH$12,0))","v":0},{"$f":"IF(OR(AP21=\"\",AP21=0),0,IF(AP21<$AI$2-N21+lists!$CB$11+lists!$CB$12,1,0))","v":0},{"$f":"IF(OR(AP21=\"\",AP21=0),IF(AND(N21-lists!$CB$11-lists!$CB$12>lists!$CE$13,N21-lists!$CB$11-lists!$CB$12<=lists!$CH$13),N21-lists!$CB$11-lists!$CB$12-lists!$CE$13,0),IF(AND(AP21-($AI$2-N21)-lists!$CB$11-lists!$CB$12>lists!$CE$13,AP21-($AI$2-N21)-lists!$CB$11-lists!$CB$12<=lists!$CH$13),AP21-($AI$2-N21)-lists!$CB$11-lists!$CB$12-lists!$CE$13,0))","v":0},{"$f":"IF(OR(AP21=\"\",AP21=0),IF(N21-lists!CB12-lists!CB13>lists!$CH$13,N21-lists!CB12-lists!CB13-lists!$CH$13,0),IF(AP21-($AI$2-N21)-lists!CB12-lists!CB13>lists!$CH$13,AP21-($AI$2-N21)-lists!CB12-lists!CB13-lists!$CH$13,0))","v":186.44742365740726},{"$f":"IF(OR(AQ21=\"\",AQ21=0),0,IF(AQ21<$AI$2-N21+lists!$CB$11+lists!$CB$12+lists!$CB$13,1,0))","v":0},{"$f":"IF(OR(AQ21=\"\",AQ21=0),IF(AND(N21-lists!$CB$11-lists!$CB$12-lists!$CB$13>lists!$CE$14,N21-lists!$CB$11-lists!$CB$12-lists!$CB$13<=lists!$CH$14),N21-lists!$CB$11-lists!$CB$12-lists!$CB$13-lists!$CE$14,0),IF(AND(AQ21-($AI$2-N21)-lists!$CB$11-lists!$CB$12-lists!$CB$13>lists!$CE$14,AQ21-($AI$2-N21)-lists!$CB$11-lists!$CB$12-lists!$CB$13<=lists!$CH$14),AQ21-($AI$2-N21)-lists!$CB$11-lists!$CB$12-lists!$CB$13-lists!$CE$14,0))","v":0},{"$f":"IF(OR(AQ21=\"\",AQ21=0),IF(N21-lists!CB12-lists!CB13-lists!CB14>lists!$CH$14,N21-lists!CB12-lists!CB13-lists!CB14-lists!$CH$14,0),IF(AQ21-($AI$2-N21)-lists!CB12-lists!CB13-lists!CB14>lists!$CH$14,AQ21-($AI$2-N21)-lists!CB12-lists!CB13-lists!CB14-lists!$CH$14,0))","v":115.44742365740726},{"$f":"IF(OR(AR21=\"\",AR21=0),0,IF(AR21<$AI$2-N21+lists!$CB$11+lists!$CB$12+lists!$CB$13+lists!$CB$14,1,0))","v":0},{"$f":"IF(OR(AR21=\"\",AR21=0),IF(AND(N21-lists!$CB$11-lists!$CB$12-lists!$CB$13-lists!$CB$14>lists!$CE$15,N21-lists!$CB$11-lists!$CB$12-lists!$CB$13-lists!$CB$14<=lists!$CH$15),N21-lists!$CB$11-lists!$CB$12-lists!$CB$13-lists!$CB$14-lists!$CE$15,0),IF(AND(AR21-($AI$2-N21)-lists!$CB$11-lists!$CB$12-lists!$CB$13-lists!$CB$14>lists!$CE$15,AR21-($AI$2-N21)-lists!$CB$11-lists!$CB$12-lists!$CB$13-lists!$CB$14<=lists!$CH$15),AR21-($AI$2-N21)-lists!$CB$11-lists!$CB$12-lists!$CB$13-lists!$CB$14-lists!$CE$15,0))","v":0},{"$f":"IF(OR(AR21=\"\",AR21=0),IF(N21-lists!CB12-lists!CB13-lists!CB14-lists!CB15>lists!$CH$15,N21-lists!CB12-lists!CB13-lists!CB14-lists!CB15-lists!$CH$15,0),IF(AR21-($AI$2-N21)-lists!CB12-lists!CB13-lists!CB14-lists!CB15>lists!$CH$15,AR21-($AI$2-N21)-lists!CB12-lists!CB13-lists!CB14-lists!CB15-lists!$CH$15,0))","v":18.447423657407256},0,"2019-10-08T04:33:07.640",null,0,"00:00:00","00:00:00","2019-10-08T04:09:50.660","2019-10-08T04:33:07.640","00:00:00","00:00:00","00:00:00","Зак-2","№76-в","2019-09-23","АКТ","№786","2019-10-01",3000000,"2019-10-01",1000000,"2019-10-04",1600000,"2019-10-12",400000,"00:00:00",0,"00:00:00",0,"00:00:00",0,"00:00:00",0,"00:00:00",0,"00:00:00",0,"00:00:00",0,"00:00:00",0,"00:00:00",0,"2019-10-02",700000,"2019-10-05",1100000,"00:00:00",0,"00:00:00",0,"00:00:00",0,"00:00:00",0,"00:00:00",0,"00:00:00",0,"00:00:00",0,"00:00:00",0,"00:00:00",0,"00:00:00",0,"ООО \"Заказчик-2\"","ООО \"Зак-2\"","Сидоров",33545626,3756767,74568,267657,7787878,669696,"254н565464",756787878,34757,3246,"ALL","ALL","ALL","ALL","ALL","ALL"]
[{"$f":"ROW()","v":22},null,null,null,null,null,null,null,0,{"$f":"IF(SUMIFS(K22:K22,I22:I22,1,AS22:AS22,screen!$E$6,AT22:AT22,screen!$E$8,AV22:AV22,screen!$E$12,AW22:AW22,screen!$E$14)=0,\"\",1)","v":""},{"$f":"1","v":1},"Зак-2 / дог. №76-в от 23.9.2019г. / АКТ №786 от 1.10.2019г. / сумма отгр. 3000000",1200000,242.44742365740726,{"$f":"IF(M22=0,lists!$BQ$11,IF(N22<1,lists!$BQ$12,IF(M22<=conditions!$J$10,lists!$BQ$13,lists!$BQ$14)))","v":"Долг просроченный"},{"$f":"IF(O22<>lists!$BQ$14,lists!$BT$11,IF(AND(AL22<>\"\",AL22<>0,AL22>IF(AM22=\"\",0,AM22)),lists!$BT$12,IF(AND(AM22<>\"\",AM22<>0,AM22>=IF(AL22=\"\",0,AL22)),lists!$BT$13,IF(IF(OR(AN22=\"\",AN22=0),1,0)*U22+IF(OR(AO22=\"\",AO22=0),1,0)*X22+IF(OR(AP22=\"\",AP22=0),1,0)*AA22+IF(OR(AQ22=\"\",AQ22=0),1,0)*AD22+IF(OR(AR22=\"\",AR22=0),1,0)*AG22>0,lists!$BT$14,lists!$BT$15))))","v":"Долг брошенный"},{"$f":"IF(O22<>lists!$BQ$14,\"нет статуса\",IF(BD!N22<=lists!$CB$11,lists!$BY$11,IF(BD!N22<=lists!$CB$12,lists!$BY$12,IF(BD!N22<=lists!$CB$13,lists!$BY$13,IF(BD!N22<=lists!$CB$14,lists!$BY$14,lists!$BY$15)))))","v":"просрочка-100"},{"$f":"IF(Q22=\"нет статуса\",\"нет действий\",IF(AND(Q22=lists!$BY$11,AI22-N22>=AN22),\"нет действий\",IF(AND(Q22=lists!$BY$11,AI22-N22<AN22),lists!$CK$11,IF(AND(AR22<>0,AR22<>\"\"),lists!$CK$15,IF(AND(AQ22<>0,AQ22<>\"\"),lists!$CK$14,IF(AND(AP22<>0,AP22<>\"\"),lists!$CK$13,IF(AND(AO22<>0,AO22<>\"\"),lists!$CK$12,IF(AND(AN22<>0,AN22<>\"\"),lists!$CK$11,\"нет действий\"))))))))","v":"коммуникация"},1,{"$f":"IF(OR(AN22=\"\",AN22=0),IF(AND(N22>lists!$CE$11,N22<=lists!$CH$11),N22-lists!$CE$11,0),IF(AND(AN22-($AI$2-N22)>lists!$CE$11,AN22-($AI$2-N22)<=lists!$CH$11),AN22-($AI$2-N22)-lists!$CE$11,0))","v":0},{"$f":"IF(OR(AN22=\"\",AN22=0),IF(N22>lists!$CH$11,N22-lists!$CH$11,0),IF(AN22-($AI$2-N22)>lists!$CH$11,AN22-($AI$2-N22)-lists!$CH$11,0))","v":0},{"$f":"IF(OR(AO22=\"\",AO22=0),0,IF(AO22<$AI$2-N22+lists!$CB$11,1,0))","v":0},{"$f":"IF(OR(AO22=\"\",AO22=0),IF(AND(N22-lists!$CB$11>lists!$CE$12,N22-lists!$CB$11<=lists!$CH$12),N22-lists!$CB$11-lists!$CE$12,0),IF(AND(AO22-($AI$2-N22)-lists!$CB$11>lists!$CE$12,AO22-($AI$2-N22)-lists!$CB$11<=lists!$CH$12),AO22-($AI$2-N22)-lists!$CB$11-lists!$CE$12,0))","v":0},{"$f":"IF(OR(AO22=\"\",AO22=0),IF(N22-lists!CB12>lists!$CH$12,N22-lists!CB12-lists!$CH$12,0),IF(AO22-($AI$2-N22)-lists!CB12>lists!$CH$12,AO22-($AI$2-N22)-lists!CB12-lists!$CH$12,0))","v":228.44742365740726},{"$f":"IF(OR(AP22=\"\",AP22=0),0,IF(AP22<$AI$2-N22+lists!$CB$11+lists!$CB$12,1,0))","v":0},{"$f":"IF(OR(AP22=\"\",AP22=0),IF(AND(N22-lists!$CB$11-lists!$CB$12>lists!$CE$13,N22-lists!$CB$11-lists!$CB$12<=lists!$CH$13),N22-lists!$CB$11-lists!$CB$12-lists!$CE$13,0),IF(AND(AP22-($AI$2-N22)-lists!$CB$11-lists!$CB$12>lists!$CE$13,AP22-($AI$2-N22)-lists!$CB$11-lists!$CB$12<=lists!$CH$13),AP22-($AI$2-N22)-lists!$CB$11-lists!$CB$12-lists!$CE$13,0))","v":0},{"$f":"IF(OR(AP22=\"\",AP22=0),IF(N22-lists!CB12-lists!CB13>lists!$CH$13,N22-lists!CB12-lists!CB13-lists!$CH$13,0),IF(AP22-($AI$2-N22)-lists!CB12-lists!CB13>lists!$CH$13,AP22-($AI$2-N22)-lists!CB12-lists!CB13-lists!$CH$13,0))","v":186.44742365740726},{"$f":"IF(OR(AQ22=\"\",AQ22=0),0,IF(AQ22<$AI$2-N22+lists!$CB$11+lists!$CB$12+lists!$CB$13,1,0))","v":0},{"$f":"IF(OR(AQ22=\"\",AQ22=0),IF(AND(N22-lists!$CB$11-lists!$CB$12-lists!$CB$13>lists!$CE$14,N22-lists!$CB$11-lists!$CB$12-lists!$CB$13<=lists!$CH$14),N22-lists!$CB$11-lists!$CB$12-lists!$CB$13-lists!$CE$14,0),IF(AND(AQ22-($AI$2-N22)-lists!$CB$11-lists!$CB$12-lists!$CB$13>lists!$CE$14,AQ22-($AI$2-N22)-lists!$CB$11-lists!$CB$12-lists!$CB$13<=lists!$CH$14),AQ22-($AI$2-N22)-lists!$CB$11-lists!$CB$12-lists!$CB$13-lists!$CE$14,0))","v":0},{"$f":"IF(OR(AQ22=\"\",AQ22=0),IF(N22-lists!CB12-lists!CB13-lists!CB14>lists!$CH$14,N22-lists!CB12-lists!CB13-lists!CB14-lists!$CH$14,0),IF(AQ22-($AI$2-N22)-lists!CB12-lists!CB13-lists!CB14>lists!$CH$14,AQ22-($AI$2-N22)-lists!CB12-lists!CB13-lists!CB14-lists!$CH$14,0))","v":115.44742365740726},{"$f":"IF(OR(AR22=\"\",AR22=0),0,IF(AR22<$AI$2-N22+lists!$CB$11+lists!$CB$12+lists!$CB$13+lists!$CB$14,1,0))","v":0},{"$f":"IF(OR(AR22=\"\",AR22=0),IF(AND(N22-lists!$CB$11-lists!$CB$12-lists!$CB$13-lists!$CB$14>lists!$CE$15,N22-lists!$CB$11-lists!$CB$12-lists!$CB$13-lists!$CB$14<=lists!$CH$15),N22-lists!$CB$11-lists!$CB$12-lists!$CB$13-lists!$CB$14-lists!$CE$15,0),IF(AND(AR22-($AI$2-N22)-lists!$CB$11-lists!$CB$12-lists!$CB$13-lists!$CB$14>lists!$CE$15,AR22-($AI$2-N22)-lists!$CB$11-lists!$CB$12-lists!$CB$13-lists!$CB$14<=lists!$CH$15),AR22-($AI$2-N22)-lists!$CB$11-lists!$CB$12-lists!$CB$13-lists!$CB$14-lists!$CE$15,0))","v":0},{"$f":"IF(OR(AR22=\"\",AR22=0),IF(N22-lists!CB12-lists!CB13-lists!CB14-lists!CB15>lists!$CH$15,N22-lists!CB12-lists!CB13-lists!CB14-lists!CB15-lists!$CH$15,0),IF(AR22-($AI$2-N22)-lists!CB12-lists!CB13-lists!CB14-lists!CB15>lists!$CH$15,AR22-($AI$2-N22)-lists!CB12-lists!CB13-lists!CB14-lists!CB15-lists!$CH$15,0))","v":18.447423657407256},0,"2019-10-08T04:09:50.660",null,0,"00:00:00","00:00:00","2019-10-08T04:09:50.660","00:00:00","00:00:00","00:00:00","00:00:00","Зак-2","№76-в","2019-09-23","АКТ","№786","2019-10-01",3000000,"2019-10-01",1000000,"2019-10-04",1600000,"2019-10-12",400000,"00:00:00",0,"00:00:00",0,"00:00:00",0,"00:00:00",0,"00:00:00",0,"00:00:00",0,"00:00:00",0,"00:00:00",0,"00:00:00",0,"2019-10-02",700000,"2019-10-05",1100000,"00:00:00",0,"00:00:00",0,"00:00:00",0,"00:00:00",0,"00:00:00",0,"00:00:00",0,"00:00:00",0,"00:00:00",0,"00:00:00",0,"00:00:00",0,"ООО \"Заказчик-2\"","ООО \"Зак-2\"","Сидоров",33545626,3756767,74568,267657,7787878,669696,"254н565464",756787878,34757,3246,"ALL","ALL","ALL","ALL","ALL","ALL"]
[{"$f":"ROW()","v":23},null,null,null,null,null,null,null,0,{"$f":"IF(SUMIFS(K23:K23,I23:I23,1,AS23:AS23,screen!$E$6,AT23:AT23,screen!$E$8,AV23:AV23,screen!$E$12,AW23:AW23,screen!$E$14)=0,\"\",1)","v":""},{"$f":"1","v":1},"Зак-2 / дог. №76-в от 23.9.2019г. / АКТ №786 от 1.10.2019г. / сумма отгр. 3000000",1200000,242.44742365740726,{"$f":"IF(M23=0,lists!$BQ$11,IF(N23<1,lists!$BQ$12,IF(M23<=conditions!$J$10,lists!$BQ$13,lists!$BQ$14)))","v":"Долг просроченный"},{"$f":"IF(O23<>lists!$BQ$14,lists!$BT$11,IF(AND(AL23<>\"\",AL23<>0,AL23>IF(AM23=\"\",0,AM23)),lists!$BT$12,IF(AND(AM23<>\"\",AM23<>0,AM23>=IF(AL23=\"\",0,AL23)),lists!$BT$13,IF(IF(OR(AN23=\"\",AN23=0),1,0)*U23+IF(OR(AO23=\"\",AO23=0),1,0)*X23+IF(OR(AP23=\"\",AP23=0),1,0)*AA23+IF(OR(AQ23=\"\",AQ23=0),1,0)*AD23+IF(OR(AR23=\"\",AR23=0),1,0)*AG23>0,lists!$BT$14,lists!$BT$15))))","v":"Долг брошенный"},{"$f":"IF(O23<>lists!$BQ$14,\"нет статуса\",IF(BD!N23<=lists!$CB$11,lists!$BY$11,IF(BD!N23<=lists!$CB$12,lists!$BY$12,IF(BD!N23<=lists!$CB$13,lists!$BY$13,IF(BD!N23<=lists!$CB$14,lists!$BY$14,lists!$BY$15)))))","v":"просрочка-100"},{"$f":"IF(Q23=\"нет статуса\",\"нет действий\",IF(AND(Q23=lists!$BY$11,AI23-N23>=AN23),\"нет действий\",IF(AND(Q23=lists!$BY$11,AI23-N23<AN23),lists!$CK$11,IF(AND(AR23<>0,AR23<>\"\"),lists!$CK$15,IF(AND(AQ23<>0,AQ23<>\"\"),lists!$CK$14,IF(AND(AP23<>0,AP23<>\"\"),lists!$CK$13,IF(AND(AO23<>0,AO23<>\"\"),lists!$CK$12,IF(AND(AN23<>0,AN23<>\"\"),lists!$CK$11,\"нет действий\"))))))))","v":"коммуникация"},1,{"$f":"IF(OR(AN23=\"\",AN23=0),IF(AND(N23>lists!$CE$11,N23<=lists!$CH$11),N23-lists!$CE$11,0),IF(AND(AN23-($AI$2-N23)>lists!$CE$11,AN23-($AI$2-N23)<=lists!$CH$11),AN23-($AI$2-N23)-lists!$CE$11,0))","v":0},{"$f":"IF(OR(AN23=\"\",AN23=0),IF(N23>lists!$CH$11,N23-lists!$CH$11,0),IF(AN23-($AI$2-N23)>lists!$CH$11,AN23-($AI$2-N23)-lists!$CH$11,0))","v":0},{"$f":"IF(OR(AO23=\"\",AO23=0),0,IF(AO23<$AI$2-N23+lists!$CB$11,1,0))","v":0},{"$f":"IF(OR(AO23=\"\",AO23=0),IF(AND(N23-lists!$CB$11>lists!$CE$12,N23-lists!$CB$11<=lists!$CH$12),N23-lists!$CB$11-lists!$CE$12,0),IF(AND(AO23-($AI$2-N23)-lists!$CB$11>lists!$CE$12,AO23-($AI$2-N23)-lists!$CB$11<=lists!$CH$12),AO23-($AI$2-N23)-lists!$CB$11-lists!$CE$12,0))","v":0},{"$f":"IF(OR(AO23=\"\",AO23=0),IF(N23-lists!CB12>lists!$CH$12,N23-lists!CB12-lists!$CH$12,0),IF(AO23-($AI$2-N23)-lists!CB12>lists!$CH$12,AO23-($AI$2-N23)-lists!CB12-lists!$CH$12,0))","v":228.44742365740726},{"$f":"IF(OR(AP23=\"\",AP23=0),0,IF(AP23<$AI$2-N23+lists!$CB$11+lists!$CB$12,1,0))","v":0},{"$f":"IF(OR(AP23=\"\",AP23=0),IF(AND(N23-lists!$CB$11-lists!$CB$12>lists!$CE$13,N23-lists!$CB$11-lists!$CB$12<=lists!$CH$13),N23-lists!$CB$11-lists!$CB$12-lists!$CE$13,0),IF(AND(AP23-($AI$2-N23)-lists!$CB$11-lists!$CB$12>lists!$CE$13,AP23-($AI$2-N23)-lists!$CB$11-lists!$CB$12<=lists!$CH$13),AP23-($AI$2-N23)-lists!$CB$11-lists!$CB$12-lists!$CE$13,0))","v":0},{"$f":"IF(OR(AP23=\"\",AP23=0),IF(N23-lists!CB12-lists!CB13>lists!$CH$13,N23-lists!CB12-lists!CB13-lists!$CH$13,0),IF(AP23-($AI$2-N23)-lists!CB12-lists!CB13>lists!$CH$13,AP23-($AI$2-N23)-lists!CB12-lists!CB13-lists!$CH$13,0))","v":186.44742365740726},{"$f":"IF(OR(AQ23=\"\",AQ23=0),0,IF(AQ23<$AI$2-N23+lists!$CB$11+lists!$CB$12+lists!$CB$13,1,0))","v":0},{"$f":"IF(OR(AQ23=\"\",AQ23=0),IF(AND(N23-lists!$CB$11-lists!$CB$12-lists!$CB$13>lists!$CE$14,N23-lists!$CB$11-lists!$CB$12-lists!$CB$13<=lists!$CH$14),N23-lists!$CB$11-lists!$CB$12-lists!$CB$13-lists!$CE$14,0),IF(AND(AQ23-($AI$2-N23)-lists!$CB$11-lists!$CB$12-lists!$CB$13>lists!$CE$14,AQ23-($AI$2-N23)-lists!$CB$11-lists!$CB$12-lists!$CB$13<=lists!$CH$14),AQ23-($AI$2-N23)-lists!$CB$11-lists!$CB$12-lists!$CB$13-lists!$CE$14,0))","v":0},{"$f":"IF(OR(AQ23=\"\",AQ23=0),IF(N23-lists!CB12-lists!CB13-lists!CB14>lists!$CH$14,N23-lists!CB12-lists!CB13-lists!CB14-lists!$CH$14,0),IF(AQ23-($AI$2-N23)-lists!CB12-lists!CB13-lists!CB14>lists!$CH$14,AQ23-($AI$2-N23)-lists!CB12-lists!CB13-lists!CB14-lists!$CH$14,0))","v":115.44742365740726},{"$f":"IF(OR(AR23=\"\",AR23=0),0,IF(AR23<$AI$2-N23+lists!$CB$11+lists!$CB$12+lists!$CB$13+lists!$CB$14,1,0))","v":0},{"$f":"IF(OR(AR23=\"\",AR23=0),IF(AND(N23-lists!$CB$11-lists!$CB$12-lists!$CB$13-lists!$CB$14>lists!$CE$15,N23-lists!$CB$11-lists!$CB$12-lists!$CB$13-lists!$CB$14<=lists!$CH$15),N23-lists!$CB$11-lists!$CB$12-lists!$CB$13-lists!$CB$14-lists!$CE$15,0),IF(AND(AR23-($AI$2-N23)-lists!$CB$11-lists!$CB$12-lists!$CB$13-lists!$CB$14>lists!$CE$15,AR23-($AI$2-N23)-lists!$CB$11-lists!$CB$12-lists!$CB$13-lists!$CB$14<=lists!$CH$15),AR23-($AI$2-N23)-lists!$CB$11-lists!$CB$12-lists!$CB$13-lists!$CB$14-lists!$CE$15,0))","v":0},{"$f":"IF(OR(AR23=\"\",AR23=0),IF(N23-lists!CB12-lists!CB13-lists!CB14-lists!CB15>lists!$CH$15,N23-lists!CB12-lists!CB13-lists!CB14-lists!CB15-lists!$CH$15,0),IF(AR23-($AI$2-N23)-lists!CB12-lists!CB13-lists!CB14-lists!CB15>lists!$CH$15,AR23-($AI$2-N23)-lists!CB12-lists!CB13-lists!CB14-lists!CB15-lists!$CH$15,0))","v":18.447423657407256},0,"2019-10-08T04:07:12.140",null,0,"00:00:00","00:00:00","2019-10-08T04:07:12.140","00:00:00","00:00:00","00:00:00","00:00:00","Зак-2","№76-в","2019-09-23","АКТ","№786","2019-10-01",3000000,"2019-10-01",1000000,"2019-10-04",1600000,"2019-10-12",400000,"00:00:00",0,"00:00:00",0,"00:00:00",0,"00:00:00",0,"00:00:00",0,"00:00:00",0,"00:00:00",0,"00:00:00",0,"00:00:00",0,"2019-10-02",700000,"2019-10-05",1100000,"00:00:00",0,"00:00:00",0,"00:00:00",0,"00:00:00",0,"00:00:00",0,"00:00:00",0,"00:00:00",0,"00:00:00",0,"00:00:00",0,"00:00:00",0,"ООО \"Заказчик-2\"","ООО \"Зак-2\"","Сидоров",33545626,3756767,74568,267657,7787878,669696,"254н565464",756787878,34757,3246,"ALL","ALL","ALL","ALL","ALL","ALL"]
[{"$f":"ROW()","v":24},null,null,null,null,null,null,null,{"$f":"IF(SUMIFS(INDIRECT(\"K$1:K\"&A24-1),INDIRECT(\"AS$1:AS\"&A24-1),AS24,INDIRECT(\"AT$1:AT\"&A24-1),AT24,INDIRECT(\"AV$1:AV\"&A24-1),AV24,INDIRECT(\"AW$1:AW\"&A24-1),AW24)=0,1,0)","v":0},{"$f":"IF(SUMIFS(K24:K24,I24:I24,1,AS24:AS24,screen!$E$6,AT24:AT24,screen!$E$8,AV24:AV24,screen!$E$12,AW24:AW24,screen!$E$14)=0,\"\",1)","v":""},{"$f":"1","v":1},"Зак / дог. №2 от 15.9.2019г. / ТН №5 от 2.10.2019г. / сумма отгр. 1000000",0,0,{"$f":"IF(M24=0,lists!$BQ$11,IF(N24<1,lists!$BQ$12,IF(M24<=conditions!$J$10,lists!$BQ$13,lists!$BQ$14)))","v":"Долга нет"},{"$f":"IF(O24<>lists!$BQ$14,lists!$BT$11,IF(AND(AL24<>\"\",AL24<>0,AL24>IF(AM24=\"\",0,AM24)),lists!$BT$12,IF(AND(AM24<>\"\",AM24<>0,AM24>=IF(AL24=\"\",0,AL24)),lists!$BT$13,IF(IF(OR(AN24=\"\",AN24=0),1,0)*U24+IF(OR(AO24=\"\",AO24=0),1,0)*X24+IF(OR(AP24=\"\",AP24=0),1,0)*AA24+IF(OR(AQ24=\"\",AQ24=0),1,0)*AD24+IF(OR(AR24=\"\",AR24=0),1,0)*AG24>0,lists!$BT$14,lists!$BT$15))))","v":"Нет задачи"},{"$f":"IF(O24<>lists!$BQ$14,\"нет статуса\",IF(BD!N24<=lists!$CB$11,lists!$BY$11,IF(BD!N24<=lists!$CB$12,lists!$BY$12,IF(BD!N24<=lists!$CB$13,lists!$BY$13,IF(BD!N24<=lists!$CB$14,lists!$BY$14,lists!$BY$15)))))","v":"нет статуса"},{"$f":"IF(Q24=\"нет статуса\",\"нет действий\",IF(AND(Q24=lists!$BY$11,AI24-N24>=AN24),\"нет действий\",IF(AND(Q24=lists!$BY$11,AI24-N24<AN24),lists!$CK$11,IF(AND(AR24<>0,AR24<>\"\"),lists!$CK$15,IF(AND(AQ24<>0,AQ24<>\"\"),lists!$CK$14,IF(AND(AP24<>0,AP24<>\"\"),lists!$CK$13,IF(AND(AO24<>0,AO24<>\"\"),lists!$CK$12,IF(AND(AN24<>0,AN24<>\"\"),lists!$CK$11,\"нет действий\"))))))))","v":"нет действий"},0,{"$f":"IF(OR(AN24=\"\",AN24=0),IF(AND(N24>lists!$CE$11,N24<=lists!$CH$11),N24-lists!$CE$11,0),IF(AND(AN24-($AI$2-N24)>lists!$CE$11,AN24-($AI$2-N24)<=lists!$CH$11),AN24-($AI$2-N24)-lists!$CE$11,0))","v":0},{"$f":"IF(OR(AN24=\"\",AN24=0),IF(N24>lists!$CH$11,N24-lists!$CH$11,0),IF(AN24-($AI$2-N24)>lists!$CH$11,AN24-($AI$2-N24)-lists!$CH$11,0))","v":0},{"$f":"IF(OR(AO24=\"\",AO24=0),0,IF(AO24<$AI$2-N24+lists!$CB$11,1,0))","v":0},{"$f":"IF(OR(AO24=\"\",AO24=0),IF(AND(N24-lists!$CB$11>lists!$CE$12,N24-lists!$CB$11<=lists!$CH$12),N24-lists!$CB$11-lists!$CE$12,0),IF(AND(AO24-($AI$2-N24)-lists!$CB$11>lists!$CE$12,AO24-($AI$2-N24)-lists!$CB$11<=lists!$CH$12),AO24-($AI$2-N24)-lists!$CB$11-lists!$CE$12,0))","v":0},{"$f":"IF(OR(AO24=\"\",AO24=0),IF(N24-lists!CB12>lists!$CH$12,N24-lists!CB12-lists!$CH$12,0),IF(AO24-($AI$2-N24)-lists!CB12>lists!$CH$12,AO24-($AI$2-N24)-lists!CB12-lists!$CH$12,0))","v":0},{"$f":"IF(OR(AP24=\"\",AP24=0),0,IF(AP24<$AI$2-N24+lists!$CB$11+lists!$CB$12,1,0))","v":0},{"$f":"IF(OR(AP24=\"\",AP24=0),IF(AND(N24-lists!$CB$11-lists!$CB$12>lists!$CE$13,N24-lists!$CB$11-lists!$CB$12<=lists!$CH$13),N24-lists!$CB$11-lists!$CB$12-lists!$CE$13,0),IF(AND(AP24-($AI$2-N24)-lists!$CB$11-lists!$CB$12>lists!$CE$13,AP24-($AI$2-N24)-lists!$CB$11-lists!$CB$12<=lists!$CH$13),AP24-($AI$2-N24)-lists!$CB$11-lists!$CB$12-lists!$CE$13,0))","v":0},{"$f":"IF(OR(AP24=\"\",AP24=0),IF(N24-lists!CB12-lists!CB13>lists!$CH$13,N24-lists!CB12-lists!CB13-lists!$CH$13,0),IF(AP24-($AI$2-N24)-lists!CB12-lists!CB13>lists!$CH$13,AP24-($AI$2-N24)-lists!CB12-lists!CB13-lists!$CH$13,0))","v":0},{"$f":"IF(OR(AQ24=\"\",AQ24=0),0,IF(AQ24<$AI$2-N24+lists!$CB$11+lists!$CB$12+lists!$CB$13,1,0))","v":0},{"$f":"IF(OR(AQ24=\"\",AQ24=0),IF(AND(N24-lists!$CB$11-lists!$CB$12-lists!$CB$13>lists!$CE$14,N24-lists!$CB$11-lists!$CB$12-lists!$CB$13<=lists!$CH$14),N24-lists!$CB$11-lists!$CB$12-lists!$CB$13-lists!$CE$14,0),IF(AND(AQ24-($AI$2-N24)-lists!$CB$11-lists!$CB$12-lists!$CB$13>lists!$CE$14,AQ24-($AI$2-N24)-lists!$CB$11-lists!$CB$12-lists!$CB$13<=lists!$CH$14),AQ24-($AI$2-N24)-lists!$CB$11-lists!$CB$12-lists!$CB$13-lists!$CE$14,0))","v":0},{"$f":"IF(OR(AQ24=\"\",AQ24=0),IF(N24-lists!CB12-lists!CB13-lists!CB14>lists!$CH$14,N24-lists!CB12-lists!CB13-lists!CB14-lists!$CH$14,0),IF(AQ24-($AI$2-N24)-lists!CB12-lists!CB13-lists!CB14>lists!$CH$14,AQ24-($AI$2-N24)-lists!CB12-lists!CB13-lists!CB14-lists!$CH$14,0))","v":0},{"$f":"IF(OR(AR24=\"\",AR24=0),0,IF(AR24<$AI$2-N24+lists!$CB$11+lists!$CB$12+lists!$CB$13+lists!$CB$14,1,0))","v":0},{"$f":"IF(OR(AR24=\"\",AR24=0),IF(AND(N24-lists!$CB$11-lists!$CB$12-lists!$CB$13-lists!$CB$14>lists!$CE$15,N24-lists!$CB$11-lists!$CB$12-lists!$CB$13-lists!$CB$14<=lists!$CH$15),N24-lists!$CB$11-lists!$CB$12-lists!$CB$13-lists!$CB$14-lists!$CE$15,0),IF(AND(AR24-($AI$2-N24)-lists!$CB$11-lists!$CB$12-lists!$CB$13-lists!$CB$14>lists!$CE$15,AR24-($AI$2-N24)-lists!$CB$11-lists!$CB$12-lists!$CB$13-lists!$CB$14<=lists!$CH$15),AR24-($AI$2-N24)-lists!$CB$11-lists!$CB$12-lists!$CB$13-lists!$CB$14-lists!$CE$15,0))","v":0},{"$f":"IF(OR(AR24=\"\",AR24=0),IF(N24-lists!CB12-lists!CB13-lists!CB14-lists!CB15>lists!$CH$15,N24-lists!CB12-lists!CB13-lists!CB14-lists!CB15-lists!$CH$15,0),IF(AR24-($AI$2-N24)-lists!CB12-lists!CB13-lists!CB14-lists!CB15>lists!$CH$15,AR24-($AI$2-N24)-lists!CB12-lists!CB13-lists!CB14-lists!CB15-lists!$CH$15,0))","v":0},0,"2019-10-08T03:56:36.610",null,0,"00:00:00","00:00:00","00:00:00","00:00:00","00:00:00","00:00:00","00:00:00","Зак","№2","2019-09-15","ТН","№5","2019-10-02",1000000,"2019-09-18",300000,"2019-10-01",500000,"2019-10-04",200000,"00:00:00",0,"00:00:00",0,"00:00:00",0,"00:00:00",0,"00:00:00",0,"00:00:00",0,"00:00:00",0,"00:00:00",0,"00:00:00",0,"2019-09-23",400000,"2019-10-03",100000,"2019-10-08",500000,"00:00:00",0,"00:00:00",0,"00:00:00",0,"00:00:00",0,"00:00:00",0,"00:00:00",0,"00:00:00",0,"00:00:00",0,"00:00:00",0,"ООО \"Заказчик\"","ООО \"Зак\"","Петров Иван Иванович",123456789,"mail@mail.ru",1111111111,111111111,111111111111,111111,11111111111111,1111111111111,11111111111111,11111111,"ALL","ALL","ALL","ALL","ALL","ALL"]
[{"$f":"ROW()","v":25},null,null,null,null,null,null,null,0,{"$f":"IF(SUMIFS(K25:K25,I25:I25,1,AS25:AS25,screen!$E$6,AT25:AT25,screen!$E$8,AV25:AV25,screen!$E$12,AW25:AW25,screen!$E$14)=0,\"\",1)","v":""},{"$f":"1","v":1},"0 / дог. 0 от 0.1.1900г. / 0 0 от 0.1.1900г. / сумма отгр. 0",0,0,{"$f":"IF(M25=0,lists!$BQ$11,IF(N25<1,lists!$BQ$12,IF(M25<=conditions!$J$10,lists!$BQ$13,lists!$BQ$14)))","v":"Долга нет"},{"$f":"IF(O25<>lists!$BQ$14,lists!$BT$11,IF(AND(AL25<>\"\",AL25<>0,AL25>IF(AM25=\"\",0,AM25)),lists!$BT$12,IF(AND(AM25<>\"\",AM25<>0,AM25>=IF(AL25=\"\",0,AL25)),lists!$BT$13,IF(IF(OR(AN25=\"\",AN25=0),1,0)*U25+IF(OR(AO25=\"\",AO25=0),1,0)*X25+IF(OR(AP25=\"\",AP25=0),1,0)*AA25+IF(OR(AQ25=\"\",AQ25=0),1,0)*AD25+IF(OR(AR25=\"\",AR25=0),1,0)*AG25>0,lists!$BT$14,lists!$BT$15))))","v":"Нет задачи"},{"$f":"IF(O25<>lists!$BQ$14,\"нет статуса\",IF(BD!N25<=lists!$CB$11,lists!$BY$11,IF(BD!N25<=lists!$CB$12,lists!$BY$12,IF(BD!N25<=lists!$CB$13,lists!$BY$13,IF(BD!N25<=lists!$CB$14,lists!$BY$14,lists!$BY$15)))))","v":"нет статуса"},{"$f":"IF(Q25=\"нет статуса\",\"нет действий\",IF(AND(Q25=lists!$BY$11,AI25-N25>=AN25),\"нет действий\",IF(AND(Q25=lists!$BY$11,AI25-N25<AN25),lists!$CK$11,IF(AND(AR25<>0,AR25<>\"\"),lists!$CK$15,IF(AND(AQ25<>0,AQ25<>\"\"),lists!$CK$14,IF(AND(AP25<>0,AP25<>\"\"),lists!$CK$13,IF(AND(AO25<>0,AO25<>\"\"),lists!$CK$12,IF(AND(AN25<>0,AN25<>\"\"),lists!$CK$11,\"нет действий\"))))))))","v":"нет действий"},0,{"$f":"IF(OR(AN25=\"\",AN25=0),IF(AND(N25>lists!$CE$11,N25<=lists!$CH$11),N25-lists!$CE$11,0),IF(AND(AN25-($AI$2-N25)>lists!$CE$11,AN25-($AI$2-N25)<=lists!$CH$11),AN25-($AI$2-N25)-lists!$CE$11,0))","v":0},{"$f":"IF(OR(AN25=\"\",AN25=0),IF(N25>lists!$CH$11,N25-lists!$CH$11,0),IF(AN25-($AI$2-N25)>lists!$CH$11,AN25-($AI$2-N25)-lists!$CH$11,0))","v":0},{"$f":"IF(OR(AO25=\"\",AO25=0),0,IF(AO25<$AI$2-N25+lists!$CB$11,1,0))","v":0},{"$f":"IF(OR(AO25=\"\",AO25=0),IF(AND(N25-lists!$CB$11>lists!$CE$12,N25-lists!$CB$11<=lists!$CH$12),N25-lists!$CB$11-lists!$CE$12,0),IF(AND(AO25-($AI$2-N25)-lists!$CB$11>lists!$CE$12,AO25-($AI$2-N25)-lists!$CB$11<=lists!$CH$12),AO25-($AI$2-N25)-lists!$CB$11-lists!$CE$12,0))","v":0},{"$f":"IF(OR(AO25=\"\",AO25=0),IF(N25-lists!CB12>lists!$CH$12,N25-lists!CB12-lists!$CH$12,0),IF(AO25-($AI$2-N25)-lists!CB12>lists!$CH$12,AO25-($AI$2-N25)-lists!CB12-lists!$CH$12,0))","v":0},{"$f":"IF(OR(AP25=\"\",AP25=0),0,IF(AP25<$AI$2-N25+lists!$CB$11+lists!$CB$12,1,0))","v":0},{"$f":"IF(OR(AP25=\"\",AP25=0),IF(AND(N25-lists!$CB$11-lists!$CB$12>lists!$CE$13,N25-lists!$CB$11-lists!$CB$12<=lists!$CH$13),N25-lists!$CB$11-lists!$CB$12-lists!$CE$13,0),IF(AND(AP25-($AI$2-N25)-lists!$CB$11-lists!$CB$12>lists!$CE$13,AP25-($AI$2-N25)-lists!$CB$11-lists!$CB$12<=lists!$CH$13),AP25-($AI$2-N25)-lists!$CB$11-lists!$CB$12-lists!$CE$13,0))","v":0},{"$f":"IF(OR(AP25=\"\",AP25=0),IF(N25-lists!CB12-lists!CB13>lists!$CH$13,N25-lists!CB12-lists!CB13-lists!$CH$13,0),IF(AP25-($AI$2-N25)-lists!CB12-lists!CB13>lists!$CH$13,AP25-($AI$2-N25)-lists!CB12-lists!CB13-lists!$CH$13,0))","v":0},{"$f":"IF(OR(AQ25=\"\",AQ25=0),0,IF(AQ25<$AI$2-N25+lists!$CB$11+lists!$CB$12+lists!$CB$13,1,0))","v":0},{"$f":"IF(OR(AQ25=\"\",AQ25=0),IF(AND(N25-lists!$CB$11-lists!$CB$12-lists!$CB$13>lists!$CE$14,N25-lists!$CB$11-lists!$CB$12-lists!$CB$13<=lists!$CH$14),N25-lists!$CB$11-lists!$CB$12-lists!$CB$13-lists!$CE$14,0),IF(AND(AQ25-($AI$2-N25)-lists!$CB$11-lists!$CB$12-lists!$CB$13>lists!$CE$14,AQ25-($AI$2-N25)-lists!$CB$11-lists!$CB$12-lists!$CB$13<=lists!$CH$14),AQ25-($AI$2-N25)-lists!$CB$11-lists!$CB$12-lists!$CB$13-lists!$CE$14,0))","v":0},{"$f":"IF(OR(AQ25=\"\",AQ25=0),IF(N25-lists!CB12-lists!CB13-lists!CB14>lists!$CH$14,N25-lists!CB12-lists!CB13-lists!CB14-lists!$CH$14,0),IF(AQ25-($AI$2-N25)-lists!CB12-lists!CB13-lists!CB14>lists!$CH$14,AQ25-($AI$2-N25)-lists!CB12-lists!CB13-lists!CB14-lists!$CH$14,0))","v":0},{"$f":"IF(OR(AR25=\"\",AR25=0),0,IF(AR25<$AI$2-N25+lists!$CB$11+lists!$CB$12+lists!$CB$13+lists!$CB$14,1,0))","v":0},{"$f":"IF(OR(AR25=\"\",AR25=0),IF(AND(N25-lists!$CB$11-lists!$CB$12-lists!$CB$13-lists!$CB$14>lists!$CE$15,N25-lists!$CB$11-lists!$CB$12-lists!$CB$13-lists!$CB$14<=lists!$CH$15),N25-lists!$CB$11-lists!$CB$12-lists!$CB$13-lists!$CB$14-lists!$CE$15,0),IF(AND(AR25-($AI$2-N25)-lists!$CB$11-lists!$CB$12-lists!$CB$13-lists!$CB$14>lists!$CE$15,AR25-($AI$2-N25)-lists!$CB$11-lists!$CB$12-lists!$CB$13-lists!$CB$14<=lists!$CH$15),AR25-($AI$2-N25)-lists!$CB$11-lists!$CB$12-lists!$CB$13-lists!$CB$14-lists!$CE$15,0))","v":0},{"$f":"IF(OR(AR25=\"\",AR25=0),IF(N25-lists!CB12-lists!CB13-lists!CB14-lists!CB15>lists!$CH$15,N25-lists!CB12-lists!CB13-lists!CB14-lists!CB15-lists!$CH$15,0),IF(AR25-($AI$2-N25)-lists!CB12-lists!CB13-lists!CB14-lists!CB15>lists!$CH$15,AR25-($AI$2-N25)-lists!CB12-lists!CB13-lists!CB14-lists!CB15-lists!$CH$15,0))","v":0},0,"2019-10-08T02:42:34.480",null,0,"00:00:00","00:00:00","00:00:00","00:00:00","00:00:00","00:00:00","00:00:00",0,0,"00:00:00",0,0,"00:00:00",0,"00:00:00",0,"00:00:00",0,"00:00:00",0,"00:00:00",0,"00:00:00",0,"00:00:00",0,"00:00:00",0,"00:00:00",0,"00:00:00",0,"00:00:00",0,"00:00:00",0,"00:00:00",0,"00:00:00",0,"00:00:00",0,"00:00:00",0,"00:00:00",0,"00:00:00",0,"00:00:00",0,"00:00:00",0,"00:00:00",0,"00:00:00",0,"00:00:00",0,"00:00:00",0,"00:00:00",0,0,0,0,0,0,0,0,0,0,0,0,0,0,0,0,0,0,0,0]
[{"$f":"ROW()","v":26},null,null,null,null,null,null,null,0,{"$f":"IF(SUMIFS(K26:K26,I26:I26,1,AS26:AS26,screen!$E$6,AT26:AT26,screen!$E$8,AV26:AV26,screen!$E$12,AW26:AW26,screen!$E$14)=0,\"\",1)","v":""},{"$f":"1","v":1},"Зак-2 / дог. №76-в от 23.9.2019г. / АКТ №786 от 1.10.2019г. / сумма отгр. 3000000",1200000,242.44742365740726,{"$f":"IF(M26=0,lists!$BQ$11,IF(N26<1,lists!$BQ$12,IF(M26<=conditions!$J$10,lists!$BQ$13,lists!$BQ$14)))","v":"Долг просроченный"},{"$f":"IF(O26<>lists!$BQ$14,lists!$BT$11,IF(AND(AL26<>\"\",AL26<>0,AL26>IF(AM26=\"\",0,AM26)),lists!$BT$12,IF(AND(AM26<>\"\",AM26<>0,AM26>=IF(AL26=\"\",0,AL26)),lists!$BT$13,IF(IF(OR(AN26=\"\",AN26=0),1,0)*U26+IF(OR(AO26=\"\",AO26=0),1,0)*X26+IF(OR(AP26=\"\",AP26=0),1,0)*AA26+IF(OR(AQ26=\"\",AQ26=0),1,0)*AD26+IF(OR(AR26=\"\",AR26=0),1,0)*AG26>0,lists!$BT$14,lists!$BT$15))))","v":"Долг брошенный"},{"$f":"IF(O26<>lists!$BQ$14,\"нет статуса\",IF(BD!N26<=lists!$CB$11,lists!$BY$11,IF(BD!N26<=lists!$CB$12,lists!$BY$12,IF(BD!N26<=lists!$CB$13,lists!$BY$13,IF(BD!N26<=lists!$CB$14,lists!$BY$14,lists!$BY$15)))))","v":"просрочка-100"},{"$f":"IF(Q26=\"нет статуса\",\"нет действий\",IF(AND(Q26=lists!$BY$11,AI26-N26>=AN26),\"нет действий\",IF(AND(Q26=lists!$BY$11,AI26-N26<AN26),lists!$CK$11,IF(AND(AR26<>0,AR26<>\"\"),lists!$CK$15,IF(AND(AQ26<>0,AQ26<>\"\"),lists!$CK$14,IF(AND(AP26<>0,AP26<>\"\"),lists!$CK$13,IF(AND(AO26<>0,AO26<>\"\"),lists!$CK$12,IF(AND(AN26<>0,AN26<>\"\"),lists!$CK$11,\"нет действий\"))))))))","v":"коммуникация"},1,{"$f":"IF(OR(AN26=\"\",AN26=0),IF(AND(N26>lists!$CE$11,N26<=lists!$CH$11),N26-lists!$CE$11,0),IF(AND(AN26-($AI$2-N26)>lists!$CE$11,AN26-($AI$2-N26)<=lists!$CH$11),AN26-($AI$2-N26)-lists!$CE$11,0))","v":0},{"$f":"IF(OR(AN26=\"\",AN26=0),IF(N26>lists!$CH$11,N26-lists!$CH$11,0),IF(AN26-($AI$2-N26)>lists!$CH$11,AN26-($AI$2-N26)-lists!$CH$11,0))","v":0},{"$f":"IF(OR(AO26=\"\",AO26=0),0,IF(AO26<$AI$2-N26+lists!$CB$11,1,0))","v":0},{"$f":"IF(OR(AO26=\"\",AO26=0),IF(AND(N26-lists!$CB$11>lists!$CE$12,N26-lists!$CB$11<=lists!$CH$12),N26-lists!$CB$11-lists!$CE$12,0),IF(AND(AO26-($AI$2-N26)-lists!$CB$11>lists!$CE$12,AO26-($AI$2-N26)-lists!$CB$11<=lists!$CH$12),AO26-($AI$2-N26)-lists!$CB$11-lists!$CE$12,0))","v":0},{"$f":"IF(OR(AO26=\"\",AO26=0),IF(N26-lists!CB12>lists!$CH$12,N26-lists!CB12-lists!$CH$12,0),IF(AO26-($AI$2-N26)-lists!CB12>lists!$CH$12,AO26-($AI$2-N26)-lists!CB12-lists!$CH$12,0))","v":228.44742365740726},{"$f":"IF(OR(AP26=\"\",AP26=0),0,IF(AP26<$AI$2-N26+lists!$CB$11+lists!$CB$12,1,0))","v":0},{"$f":"IF(OR(AP26=\"\",AP26=0),IF(AND(N26-lists!$CB$11-lists!$CB$12>lists!$CE$13,N26-lists!$CB$11-lists!$CB$12<=lists!$CH$13),N26-lists!$CB$11-lists!$CB$12-lists!$CE$13,0),IF(AND(AP26-($AI$2-N26)-lists!$CB$11-lists!$CB$12>lists!$CE$13,AP26-($AI$2-N26)-lists!$CB$11-lists!$CB$12<=lists!$CH$13),AP26-($AI$2-N26)-lists!$CB$11-lists!$CB$12-lists!$CE$13,0))","v":0},{"$f":"IF(OR(AP26=\"\",AP26=0),IF(N26-lists!CB12-lists!CB13>lists!$CH$13,N26-lists!CB12-lists!CB13-lists!$CH$13,0),IF(AP26-($AI$2-N26)-lists!CB12-lists!CB13>lists!$CH$13,AP26-($AI$2-N26)-lists!CB12-lists!CB13-lists!$CH$13,0))","v":186.44742365740726},{"$f":"IF(OR(AQ26=\"\",AQ26=0),0,IF(AQ26<$AI$2-N26+lists!$CB$11+lists!$CB$12+lists!$CB$13,1,0))","v":0},{"$f":"IF(OR(AQ26=\"\",AQ26=0),IF(AND(N26-lists!$CB$11-lists!$CB$12-lists!$CB$13>lists!$CE$14,N26-lists!$CB$11-lists!$CB$12-lists!$CB$13<=lists!$CH$14),N26-lists!$CB$11-lists!$CB$12-lists!$CB$13-lists!$CE$14,0),IF(AND(AQ26-($AI$2-N26)-lists!$CB$11-lists!$CB$12-lists!$CB$13>lists!$CE$14,AQ26-($AI$2-N26)-lists!$CB$11-lists!$CB$12-lists!$CB$13<=lists!$CH$14),AQ26-($AI$2-N26)-lists!$CB$11-lists!$CB$12-lists!$CB$13-lists!$CE$14,0))","v":0},{"$f":"IF(OR(AQ26=\"\",AQ26=0),IF(N26-lists!CB12-lists!CB13-lists!CB14>lists!$CH$14,N26-lists!CB12-lists!CB13-lists!CB14-lists!$CH$14,0),IF(AQ26-($AI$2-N26)-lists!CB12-lists!CB13-lists!CB14>lists!$CH$14,AQ26-($AI$2-N26)-lists!CB12-lists!CB13-lists!CB14-lists!$CH$14,0))","v":115.44742365740726},{"$f":"IF(OR(AR26=\"\",AR26=0),0,IF(AR26<$AI$2-N26+lists!$CB$11+lists!$CB$12+lists!$CB$13+lists!$CB$14,1,0))","v":0},{"$f":"IF(OR(AR26=\"\",AR26=0),IF(AND(N26-lists!$CB$11-lists!$CB$12-lists!$CB$13-lists!$CB$14>lists!$CE$15,N26-lists!$CB$11-lists!$CB$12-lists!$CB$13-lists!$CB$14<=lists!$CH$15),N26-lists!$CB$11-lists!$CB$12-lists!$CB$13-lists!$CB$14-lists!$CE$15,0),IF(AND(AR26-($AI$2-N26)-lists!$CB$11-lists!$CB$12-lists!$CB$13-lists!$CB$14>lists!$CE$15,AR26-($AI$2-N26)-lists!$CB$11-lists!$CB$12-lists!$CB$13-lists!$CB$14<=lists!$CH$15),AR26-($AI$2-N26)-lists!$CB$11-lists!$CB$12-lists!$CB$13-lists!$CB$14-lists!$CE$15,0))","v":0},{"$f":"IF(OR(AR26=\"\",AR26=0),IF(N26-lists!CB12-lists!CB13-lists!CB14-lists!CB15>lists!$CH$15,N26-lists!CB12-lists!CB13-lists!CB14-lists!CB15-lists!$CH$15,0),IF(AR26-($AI$2-N26)-lists!CB12-lists!CB13-lists!CB14-lists!CB15>lists!$CH$15,AR26-($AI$2-N26)-lists!CB12-lists!CB13-lists!CB14-lists!CB15-lists!$CH$15,0))","v":18.447423657407256},0,"2019-10-08T02:40:25.640",null,0,"00:00:00","00:00:00","2019-10-08T02:40:25.640","00:00:00","00:00:00","00:00:00","00:00:00","Зак-2","№76-в","2019-09-23","АКТ","№786","2019-10-01",3000000,"2019-10-01",1000000,"2019-10-04",1600000,"2019-10-12",400000,"00:00:00",0,"00:00:00",0,"00:00:00",0,"00:00:00",0,"00:00:00",0,"00:00:00",0,"00:00:00",0,"00:00:00",0,"00:00:00",0,"2019-10-02",700000,"2019-10-05",1100000,"00:00:00",0,"00:00:00",0,"00:00:00",0,"00:00:00",0,"00:00:00",0,"00:00:00",0,"00:00:00",0,"00:00:00",0,"00:00:00",0,"00:00:00",0,"ООО \"Заказчик-2\"","ООО \"Зак-2\"","Сидоров",33545626,3756767,74568,267657,7787878,669696,"254н565464",756787878,34757,3246,"ALL","ALL","ALL","ALL","ALL","ALL"]
[{"$f":"ROW()","v":27},null,null,null,null,null,null,null,0,{"$f":"IF(SUMIFS(K27:K27,I27:I27,1,AS27:AS27,screen!$E$6,AT27:AT27,screen!$E$8,AV27:AV27,screen!$E$12,AW27:AW27,screen!$E$14)=0,\"\",1)","v":""},{"$f":"1","v":1},"Зак / дог. №2 от 15.9.2019г. / ТН №5 от 2.10.2019г. / сумма отгр. 1000000",500000,305.0676129050924,{"$f":"IF(M27=0,lists!$BQ$11,IF(N27<1,lists!$BQ$12,IF(M27<=conditions!$J$10,lists!$BQ$13,lists!$BQ$14)))","v":"Долг просроченный"},{"$f":"IF(O27<>lists!$BQ$14,lists!$BT$11,IF(AND(AL27<>\"\",AL27<>0,AL27>IF(AM27=\"\",0,AM27)),lists!$BT$12,IF(AND(AM27<>\"\",AM27<>0,AM27>=IF(AL27=\"\",0,AL27)),lists!$BT$13,IF(IF(OR(AN27=\"\",AN27=0),1,0)*U27+IF(OR(AO27=\"\",AO27=0),1,0)*X27+IF(OR(AP27=\"\",AP27=0),1,0)*AA27+IF(OR(AQ27=\"\",AQ27=0),1,0)*AD27+IF(OR(AR27=\"\",AR27=0),1,0)*AG27>0,lists!$BT$14,lists!$BT$15))))","v":"Долг брошенный"},{"$f":"IF(O27<>lists!$BQ$14,\"нет статуса\",IF(BD!N27<=lists!$CB$11,lists!$BY$11,IF(BD!N27<=lists!$CB$12,lists!$BY$12,IF(BD!N27<=lists!$CB$13,lists!$BY$13,IF(BD!N27<=lists!$CB$14,lists!$BY$14,lists!$BY$15)))))","v":"просрочка-100"},{"$f":"IF(Q27=\"нет статуса\",\"нет действий\",IF(AND(Q27=lists!$BY$11,AI27-N27>=AN27),\"нет действий\",IF(AND(Q27=lists!$BY$11,AI27-N27<AN27),lists!$CK$11,IF(AND(AR27<>0,AR27<>\"\"),lists!$CK$15,IF(AND(AQ27<>0,AQ27<>\"\"),lists!$CK$14,IF(AND(AP27<>0,AP27<>\"\"),lists!$CK$13,IF(AND(AO27<>0,AO27<>\"\"),lists!$CK$12,IF(AND(AN27<>0,AN27<>\"\"),lists!$CK$11,\"нет действий\"))))))))","v":"нет действий"},0,{"$f":"IF(OR(AN27=\"\",AN27=0),IF(AND(N27>lists!$CE$11,N27<=lists!$CH$11),N27-lists!$CE$11,0),IF(AND(AN27-($AI$2-N27)>lists!$CE$11,AN27-($AI$2-N27)<=lists!$CH$11),AN27-($AI$2-N27)-lists!$CE$11,0))","v":0},{"$f":"IF(OR(AN27=\"\",AN27=0),IF(N27>lists!$CH$11,N27-lists!$CH$11,0),IF(AN27-($AI$2-N27)>lists!$CH$11,AN27-($AI$2-N27)-lists!$CH$11,0))","v":303.0676129050924},{"$f":"IF(OR(AO27=\"\",AO27=0),0,IF(AO27<$AI$2-N27+lists!$CB$11,1,0))","v":0},{"$f":"IF(OR(AO27=\"\",AO27=0),IF(AND(N27-lists!$CB$11>lists!$CE$12,N27-lists!$CB$11<=lists!$CH$12),N27-lists!$CB$11-lists!$CE$12,0),IF(AND(AO27-($AI$2-N27)-lists!$CB$11>lists!$CE$12,AO27-($AI$2-N27)-lists!$CB$11<=lists!$CH$12),AO27-($AI$2-N27)-lists!$CB$11-lists!$CE$12,0))","v":0},{"$f":"IF(OR(AO27=\"\",AO27=0),IF(N27-lists!CB12>lists!$CH$12,N27-lists!CB12-lists!$CH$12,0),IF(AO27-($AI$2-N27)-lists!CB12>lists!$CH$12,AO27-($AI$2-N27)-lists!CB12-lists!$CH$12,0))","v":291.0676129050924},{"$f":"IF(OR(AP27=\"\",AP27=0),0,IF(AP27<$AI$2-N27+lists!$CB$11+lists!$CB$12,1,0))","v":0},{"$f":"IF(OR(AP27=\"\",AP27=0),IF(AND(N27-lists!$CB$11-lists!$CB$12>lists!$CE$13,N27-lists!$CB$11-lists!$CB$12<=lists!$CH$13),N27-lists!$CB$11-lists!$CB$12-lists!$CE$13,0),IF(AND(AP27-($AI$2-N27)-lists!$CB$11-lists!$CB$12>lists!$CE$13,AP27-($AI$2-N27)-lists!$CB$11-lists!$CB$12<=lists!$CH$13),AP27-($AI$2-N27)-lists!$CB$11-lists!$CB$12-lists!$CE$13,0))","v":0},{"$f":"IF(OR(AP27=\"\",AP27=0),IF(N27-lists!CB12-lists!CB13>lists!$CH$13,N27-lists!CB12-lists!CB13-lists!$CH$13,0),IF(AP27-($AI$2-N27)-lists!CB12-lists!CB13>lists!$CH$13,AP27-($AI$2-N27)-lists!CB12-lists!CB13-lists!$CH$13,0))","v":249.0676129050924},{"$f":"IF(OR(AQ27=\"\",AQ27=0),0,IF(AQ27<$AI$2-N27+lists!$CB$11+lists!$CB$12+lists!$CB$13,1,0))","v":0},{"$f":"IF(OR(AQ27=\"\",AQ27=0),IF(AND(N27-lists!$CB$11-lists!$CB$12-lists!$CB$13>lists!$CE$14,N27-lists!$CB$11-lists!$CB$12-lists!$CB$13<=lists!$CH$14),N27-lists!$CB$11-lists!$CB$12-lists!$CB$13-lists!$CE$14,0),IF(AND(AQ27-($AI$2-N27)-lists!$CB$11-lists!$CB$12-lists!$CB$13>lists!$CE$14,AQ27-($AI$2-N27)-lists!$CB$11-lists!$CB$12-lists!$CB$13<=lists!$CH$14),AQ27-($AI$2-N27)-lists!$CB$11-lists!$CB$12-lists!$CB$13-lists!$CE$14,0))","v":0},{"$f":"IF(OR(AQ27=\"\",AQ27=0),IF(N27-lists!CB12-lists!CB13-lists!CB14>lists!$CH$14,N27-lists!CB12-lists!CB13-lists!CB14-lists!$CH$14,0),IF(AQ27-($AI$2-N27)-lists!CB12-lists!CB13-lists!CB14>lists!$CH$14,AQ27-($AI$2-N27)-lists!CB12-lists!CB13-lists!CB14-lists!$CH$14,0))","v":178.0676129050924},{"$f":"IF(OR(AR27=\"\",AR27=0),0,IF(AR27<$AI$2-N27+lists!$CB$11+lists!$CB$12+lists!$CB$13+lists!$CB$14,1,0))","v":0},{"$f":"IF(OR(AR27=\"\",AR27=0),IF(AND(N27-lists!$CB$11-lists!$CB$12-lists!$CB$13-lists!$CB$14>lists!$CE$15,N27-lists!$CB$11-lists!$CB$12-lists!$CB$13-lists!$CB$14<=lists!$CH$15),N27-lists!$CB$11-lists!$CB$12-lists!$CB$13-lists!$CB$14-lists!$CE$15,0),IF(AND(AR27-($AI$2-N27)-lists!$CB$11-lists!$CB$12-lists!$CB$13-lists!$CB$14>lists!$CE$15,AR27-($AI$2-N27)-lists!$CB$11-lists!$CB$12-lists!$CB$13-lists!$CB$14<=lists!$CH$15),AR27-($AI$2-N27)-lists!$CB$11-lists!$CB$12-lists!$CB$13-lists!$CB$14-lists!$CE$15,0))","v":0},{"$f":"IF(OR(AR27=\"\",AR27=0),IF(N27-lists!CB12-lists!CB13-lists!CB14-lists!CB15>lists!$CH$15,N27-lists!CB12-lists!CB13-lists!CB14-lists!CB15-lists!$CH$15,0),IF(AR27-($AI$2-N27)-lists!CB12-lists!CB13-lists!CB14-lists!CB15>lists!$CH$15,AR27-($AI$2-N27)-lists!CB12-lists!CB13-lists!CB14-lists!CB15-lists!$CH$15,0))","v":81.067612905092403},0,"2019-10-08T02:29:25.460",null,"пользователь-1-коммуникац","00:00:00","00:00:00","00:00:00","00:00:00","00:00:00","00:00:00","00:00:00","Зак","№2","2019-09-15","ТН","№5","2019-10-02",1000000,"2019-09-18",300000,"2019-10-01",500000,"2019-10-04",200000,"00:00:00",0,"00:00:00",0,"00:00:00",0,"00:00:00",0,"00:00:00",0,"00:00:00",0,"00:00:00",0,"00:00:00",0,"00:00:00",0,"2019-09-23",400000,"2019-10-03",100000,"00:00:00",0,"00:00:00",0,"00:00:00",0,"00:00:00",0,"00:00:00",0,"00:00:00",0,"00:00:00",0,"00:00:00",0,"00:00:00",0,"00:00:00",0,"ООО \"Заказчик\"","ООО \"Зак\"","Петров Иван Иванович",123456789,"mail@mail.ru",1111111111,111111111,111111111111,111111,11111111111111,1111111111111,11111111111111,11111111,"ALL","ALL","ALL","ALL","ALL","ALL"]
[{"$f":"ROW()","v":28},null,null,null,null,null,null,null,0,{"$f":"IF(SUMIFS(K28:K28,I28:I28,1,AS28:AS28,screen!$E$6,AT28:AT28,screen!$E$8,AV28:AV28,screen!$E$12,AW28:AW28,screen!$E$14)=0,\"\",1)","v":""},{"$f":"1","v":1},"0 / дог. 0 от 0.1.1900г. / 0 0 от 0.1.1900г. / сумма отгр. 0",0,0,{"$f":"IF(M28=0,lists!$BQ$11,IF(N28<1,lists!$BQ$12,IF(M28<=conditions!$J$10,lists!$BQ$13,lists!$BQ$14)))","v":"Долга нет"},{"$f":"IF(O28<>lists!$BQ$14,lists!$BT$11,IF(AND(AL28<>\"\",AL28<>0,AL28>IF(AM28=\"\",0,AM28)),lists!$BT$12,IF(AND(AM28<>\"\",AM28<>0,AM28>=IF(AL28=\"\",0,AL28)),lists!$BT$13,IF(IF(OR(AN28=\"\",AN28=0),1,0)*U28+IF(OR(AO28=\"\",AO28=0),1,0)*X28+IF(OR(AP28=\"\",AP28=0),1,0)*AA28+IF(OR(AQ28=\"\",AQ28=0),1,0)*AD28+IF(OR(AR28=\"\",AR28=0),1,0)*AG28>0,lists!$BT$14,lists!$BT$15))))","v":"Нет задачи"},{"$f":"IF(O28<>lists!$BQ$14,\"нет статуса\",IF(BD!N28<=lists!$CB$11,lists!$BY$11,IF(BD!N28<=lists!$CB$12,lists!$BY$12,IF(BD!N28<=lists!$CB$13,lists!$BY$13,IF(BD!N28<=lists!$CB$14,lists!$BY$14,lists!$BY$15)))))","v":"нет статуса"},{"$f":"IF(Q28=\"нет статуса\",\"нет действий\",IF(AND(Q28=lists!$BY$11,AI28-N28>=AN28),\"нет действий\",IF(AND(Q28=lists!$BY$11,AI28-N28<AN28),lists!$CK$11,IF(AND(AR28<>0,AR28<>\"\"),lists!$CK$15,IF(AND(AQ28<>0,AQ28<>\"\"),lists!$CK$14,IF(AND(AP28<>0,AP28<>\"\"),lists!$CK$13,IF(AND(AO28<>0,AO28<>\"\"),lists!$CK$12,IF(AND(AN28<>0,AN28<>\"\"),lists!$CK$11,\"нет действий\"))))))))","v":"нет действий"},0,{"$f":"IF(OR(AN28=\"\",AN28=0),IF(AND(N28>lists!$CE$11,N28<=lists!$CH$11),N28-lists!$CE$11,0),IF(AND(AN28-($AI$2-N28)>lists!$CE$11,AN28-($AI$2-N28)<=lists!$CH$11),AN28-($AI$2-N28)-lists!$CE$11,0))","v":0},{"$f":"IF(OR(AN28=\"\",AN28=0),IF(N28>lists!$CH$11,N28-lists!$CH$11,0),IF(AN28-($AI$2-N28)>lists!$CH$11,AN28-($AI$2-N28)-lists!$CH$11,0))","v":0},{"$f":"IF(OR(AO28=\"\",AO28=0),0,IF(AO28<$AI$2-N28+lists!$CB$11,1,0))","v":0},{"$f":"IF(OR(AO28=\"\",AO28=0),IF(AND(N28-lists!$CB$11>lists!$CE$12,N28-lists!$CB$11<=lists!$CH$12),N28-lists!$CB$11-lists!$CE$12,0),IF(AND(AO28-($AI$2-N28)-lists!$CB$11>lists!$CE$12,AO28-($AI$2-N28)-lists!$CB$11<=lists!$CH$12),AO28-($AI$2-N28)-lists!$CB$11-lists!$CE$12,0))","v":0},{"$f":"IF(OR(AO28=\"\",AO28=0),IF(N28-lists!CB12>lists!$CH$12,N28-lists!CB12-lists!$CH$12,0),IF(AO28-($AI$2-N28)-lists!CB12>lists!$CH$12,AO28-($AI$2-N28)-lists!CB12-lists!$CH$12,0))","v":0},{"$f":"IF(OR(AP28=\"\",AP28=0),0,IF(AP28<$AI$2-N28+lists!$CB$11+lists!$CB$12,1,0))","v":0},{"$f":"IF(OR(AP28=\"\",AP28=0),IF(AND(N28-lists!$CB$11-lists!$CB$12>lists!$CE$13,N28-lists!$CB$11-lists!$CB$12<=lists!$CH$13),N28-lists!$CB$11-lists!$CB$12-lists!$CE$13,0),IF(AND(AP28-($AI$2-N28)-lists!$CB$11-lists!$CB$12>lists!$CE$13,AP28-($AI$2-N28)-lists!$CB$11-lists!$CB$12<=lists!$CH$13),AP28-($AI$2-N28)-lists!$CB$11-lists!$CB$12-lists!$CE$13,0))","v":0},{"$f":"IF(OR(AP28=\"\",AP28=0),IF(N28-lists!CB12-lists!CB13>lists!$CH$13,N28-lists!CB12-lists!CB13-lists!$CH$13,0),IF(AP28-($AI$2-N28)-lists!CB12-lists!CB13>lists!$CH$13,AP28-($AI$2-N28)-lists!CB12-lists!CB13-lists!$CH$13,0))","v":0},{"$f":"IF(OR(AQ28=\"\",AQ28=0),0,IF(AQ28<$AI$2-N28+lists!$CB$11+lists!$CB$12+lists!$CB$13,1,0))","v":0},{"$f":"IF(OR(AQ28=\"\",AQ28=0),IF(AND(N28-lists!$CB$11-lists!$CB$12-lists!$CB$13>lists!$CE$14,N28-lists!$CB$11-lists!$CB$12-lists!$CB$13<=lists!$CH$14),N28-lists!$CB$11-lists!$CB$12-lists!$CB$13-lists!$CE$14,0),IF(AND(AQ28-($AI$2-N28)-lists!$CB$11-lists!$CB$12-lists!$CB$13>lists!$CE$14,AQ28-($AI$2-N28)-lists!$CB$11-lists!$CB$12-lists!$CB$13<=lists!$CH$14),AQ28-($AI$2-N28)-lists!$CB$11-lists!$CB$12-lists!$CB$13-lists!$CE$14,0))","v":0},{"$f":"IF(OR(AQ28=\"\",AQ28=0),IF(N28-lists!CB12-lists!CB13-lists!CB14>lists!$CH$14,N28-lists!CB12-lists!CB13-lists!CB14-lists!$CH$14,0),IF(AQ28-($AI$2-N28)-lists!CB12-lists!CB13-lists!CB14>lists!$CH$14,AQ28-($AI$2-N28)-lists!CB12-lists!CB13-lists!CB14-lists!$CH$14,0))","v":0},{"$f":"IF(OR(AR28=\"\",AR28=0),0,IF(AR28<$AI$2-N28+lists!$CB$11+lists!$CB$12+lists!$CB$13+lists!$CB$14,1,0))","v":0},{"$f":"IF(OR(AR28=\"\",AR28=0),IF(AND(N28-lists!$CB$11-lists!$CB$12-lists!$CB$13-lists!$CB$14>lists!$CE$15,N28-lists!$CB$11-lists!$CB$12-lists!$CB$13-lists!$CB$14<=lists!$CH$15),N28-lists!$CB$11-lists!$CB$12-lists!$CB$13-lists!$CB$14-lists!$CE$15,0),IF(AND(AR28-($AI$2-N28)-lists!$CB$11-lists!$CB$12-lists!$CB$13-lists!$CB$14>lists!$CE$15,AR28-($AI$2-N28)-lists!$CB$11-lists!$CB$12-lists!$CB$13-lists!$CB$14<=lists!$CH$15),AR28-($AI$2-N28)-lists!$CB$11-lists!$CB$12-lists!$CB$13-lists!$CB$14-lists!$CE$15,0))","v":0},{"$f":"IF(OR(AR28=\"\",AR28=0),IF(N28-lists!CB12-lists!CB13-lists!CB14-lists!CB15>lists!$CH$15,N28-lists!CB12-lists!CB13-lists!CB14-lists!CB15-lists!$CH$15,0),IF(AR28-($AI$2-N28)-lists!CB12-lists!CB13-lists!CB14-lists!CB15>lists!$CH$15,AR28-($AI$2-N28)-lists!CB12-lists!CB13-lists!CB14-lists!CB15-lists!$CH$15,0))","v":0},0,{"$f":"NOW()","v":"2021-06-01T12:50:43.510"},null,{"$f":"screen!$M$3","v":0},null,null,null,null,null,null,null,{"$f":"screen!$E$5","v":0},{"$f":"screen!$E$7","v":0},{"$f":"screen!$E$9","v":"00:00:00"},{"$f":"screen!$E$11","v":0},{"$f":"screen!$E$13","v":0},{"$f":"screen!$E$15","v":"00:00:00"},{"$f":"screen!$E$17","v":0},{"$f":"screen!$C$21","v":"00:00:00"},{"$f":"screen!$E$21","v":0},{"$f":"screen!$C$23","v":"00:00:00"},{"$f":"screen!$E$23","v":0},{"$f":"screen!$C$25","v":"00:00:00"},{"$f":"screen!$E$25","v":0},{"$f":"screen!$C$27","v":"00:00:00"},{"$f":"screen!$E$27","v":0},{"$f":"screen!$C$29","v":"00:00:00"},{"$f":"screen!$E$29","v":0},{"$f":"screen!$C$31","v":"00:00:00"},{"$f":"screen!$E$31","v":0},{"$f":"screen!$C$33","v":"00:00:00"},{"$f":"screen!$E$33","v":0},{"$f":"screen!$C$35","v":"00:00:00"},{"$f":"screen!$E$35","v":0},{"$f":"screen!$C$37","v":"00:00:00"},{"$f":"screen!$E$37","v":0},{"$f":"screen!$C$39","v":"00:00:00"},{"$f":"screen!$E$39","v":0},{"$f":"screen!$C$41","v":"00:00:00"},{"$f":"screen!$E$41","v":0},{"$f":"screen!$C$43","v":"00:00:00"},{"$f":"screen!$E$43","v":0},{"$f":"screen!$I$21","v":"00:00:00"},{"$f":"screen!$K$21","v":0},{"$f":"screen!$I$23","v":"00:00:00"},{"$f":"screen!$K$23","v":0},{"$f":"screen!$I$25","v":"00:00:00"},{"$f":"screen!$K$25","v":0},{"$f":"screen!$I$27","v":"00:00:00"},{"$f":"screen!$K$27","v":0},{"$f":"screen!$I$29","v":"00:00:00"},{"$f":"screen!$K$29","v":0},{"$f":"screen!$I$31","v":"00:00:00"},{"$f":"screen!$K$31","v":0},{"$f":"screen!$I$33","v":"00:00:00"},{"$f":"screen!$K$33","v":0},{"$f":"screen!$I$35","v":"00:00:00"},{"$f":"screen!$K$35","v":0},{"$f":"screen!$I$37","v":"00:00:00"},{"$f":"screen!$K$37","v":0},{"$f":"screen!$I$39","v":"00:00:00"},{"$f":"screen!$K$39","v":0},{"$f":"screen!$I$41","v":"00:00:00"},{"$f":"screen!$K$41","v":0},{"$f":"screen!$I$43","v":"00:00:00"},{"$f":"screen!$K$43","v":0},{"$f":"INDEX(lists!$1:$1048576,SUMIFS(lists!$A:$A,lists!$G:$G,$AS28),SUMIFS(lists!$1:$1,lists!$8:$8,CV$1))","v":0},{"$f":"INDEX(lists!$1:$1048576,SUMIFS(lists!$A:$A,lists!$G:$G,$AS28),SUMIFS(lists!$1:$1,lists!$8:$8,CW$1))","v":0},{"$f":"INDEX(lists!$1:$1048576,SUMIFS(lists!$A:$A,lists!$G:$G,$AS28),SUMIFS(lists!$1:$1,lists!$8:$8,CX$1))","v":0},{"$f":"INDEX(lists!$1:$1048576,SUMIFS(lists!$A:$A,lists!$G:$G,$AS28),SUMIFS(lists!$1:$1,lists!$8:$8,CY$1))","v":0},{"$f":"INDEX(lists!$1:$1048576,SUMIFS(lists!$A:$A,lists!$G:$G,$AS28),SUMIFS(lists!$1:$1,lists!$8:$8,CZ$1))","v":0},{"$f":"INDEX(lists!$1:$1048576,SUMIFS(lists!$A:$A,lists!$G:$G,$AS28),SUMIFS(lists!$1:$1,lists!$8:$8,DA$1))","v":0},{"$f":"INDEX(lists!$1:$1048576,SUMIFS(lists!$A:$A,lists!$G:$G,$AS28),SUMIFS(lists!$1:$1,lists!$8:$8,DB$1))","v":0},{"$f":"INDEX(lists!$1:$1048576,SUMIFS(lists!$A:$A,lists!$G:$G,$AS28),SUMIFS(lists!$1:$1,lists!$8:$8,DC$1))","v":0},{"$f":"INDEX(lists!$1:$1048576,SUMIFS(lists!$A:$A,lists!$G:$G,$AS28),SUMIFS(lists!$1:$1,lists!$8:$8,DD$1))","v":0},{"$f":"INDEX(lists!$1:$1048576,SUMIFS(lists!$A:$A,lists!$G:$G,$AS28),SUMIFS(lists!$1:$1,lists!$8:$8,DE$1))","v":0},{"$f":"INDEX(lists!$1:$1048576,SUMIFS(lists!$A:$A,lists!$G:$G,$AS28),SUMIFS(lists!$1:$1,lists!$8:$8,DF$1))","v":0},{"$f":"INDEX(lists!$1:$1048576,SUMIFS(lists!$A:$A,lists!$G:$G,$AS28),SUMIFS(lists!$1:$1,lists!$8:$8,DG$1))","v":0},{"$f":"INDEX(lists!$1:$1048576,SUMIFS(lists!$A:$A,lists!$G:$G,$AS28),SUMIFS(lists!$1:$1,lists!$8:$8,DH$1))","v":0},{"$f":"INDEX(lists!$1:$1048576,SUMIFS(lists!$A:$A,lists!$G:$G,$AS28),SUMIFS(lists!$1:$1,lists!$8:$8,DI$1))","v":0},{"$f":"INDEX(lists!$1:$1048576,SUMIFS(lists!$A:$A,lists!$G:$G,$AS28),SUMIFS(lists!$1:$1,lists!$8:$8,DJ$1))","v":0},{"$f":"INDEX(lists!$1:$1048576,SUMIFS(lists!$A:$A,lists!$G:$G,$AS28),SUMIFS(lists!$1:$1,lists!$8:$8,DK$1))","v":0},{"$f":"INDEX(lists!$1:$1048576,SUMIFS(lists!$A:$A,lists!$G:$G,$AS28),SUMIFS(lists!$1:$1,lists!$8:$8,DL$1))","v":0},{"$f":"INDEX(lists!$1:$1048576,SUMIFS(lists!$A:$A,lists!$G:$G,$AS28),SUMIFS(lists!$1:$1,lists!$8:$8,DM$1))","v":0},{"$f":"INDEX(lists!$1:$1048576,SUMIFS(lists!$A:$A,lists!$G:$G,$AS28),SUMIFS(lists!$1:$1,lists!$8:$8,DN$1))","v":0}]

{"sheet":"lists","index":3,"n_rows":999,"n_cols":134,"rows_kept":999,"cut":false,"hidden":false,"merged":[]}
[{"$f":"ROW()","v":1},{"$f":"COLUMN()","v":2},{"$f":"COLUMN()","v":3},{"$f":"COLUMN()","v":4},{"$f":"COLUMN()","v":5},{"$f":"COLUMN()","v":6},{"$f":"COLUMN()","v":7},{"$f":"COLUMN()","v":8},{"$f":"COLUMN()","v":9},{"$f":"COLUMN()","v":10},{"$f":"COLUMN()","v":11},{"$f":"COLUMN()","v":12},{"$f":"COLUMN()","v":13},{"$f":"COLUMN()","v":14},{"$f":"COLUMN()","v":15},{"$f":"COLUMN()","v":16},{"$f":"COLUMN()","v":17},{"$f":"COLUMN()","v":18},{"$f":"COLUMN()","v":19},{"$f":"COLUMN()","v":20},{"$f":"COLUMN()","v":21},{"$f":"COLUMN()","v":22},{"$f":"COLUMN()","v":23},{"$f":"COLUMN()","v":24},{"$f":"COLUMN()","v":25},{"$f":"COLUMN()","v":26},{"$f":"COLUMN()","v":27},{"$f":"COLUMN()","v":28},{"$f":"COLUMN()","v":29},{"$f":"COLUMN()","v":30},{"$f":"COLUMN()","v":31},{"$f":"COLUMN()","v":32},{"$f":"COLUMN()","v":33},{"$f":"COLUMN()","v":34},{"$f":"COLUMN()","v":35},{"$f":"COLUMN()","v":36},{"$f":"COLUMN()","v":37},{"$f":"COLUMN()","v":38},{"$f":"COLUMN()","v":39},{"$f":"COLUMN()","v":40},{"$f":"COLUMN()","v":41},{"$f":"COLUMN()","v":42},{"$f":"COLUMN()","v":43},{"$f":"COLUMN()","v":44},{"$f":"COLUMN()","v":45},{"$f":"COLUMN()","v":46},{"$f":"COLUMN()","v":47},{"$f":"COLUMN()","v":48},{"$f":"COLUMN()","v":49},{"$f":"COLUMN()","v":50},{"$f":"COLUMN()","v":51},{"$f":"COLUMN()","v":52},{"$f":"COLUMN()","v":53},{"$f":"COLUMN()","v":54},{"$f":"COLUMN()","v":55},{"$f":"COLUMN()","v":56},{"$f":"COLUMN()","v":57},{"$f":"COLUMN()","v":58},{"$f":"COLUMN()","v":59},{"$f":"COLUMN()","v":60},{"$f":"COLUMN()","v":61},{"$f":"COLUMN()","v":62},{"$f":"COLUMN()","v":63},{"$f":"COLUMN()","v":64},{"$f":"COLUMN()","v":65},{"$f":"COLUMN()","v":66},{"$f":"COLUMN()","v":67},{"$f":"COLUMN()","v":68},{"$f":"COLUMN()","v":69},{"$f":"COLUMN()","v":70},{"$f":"COLUMN()","v":71},{"$f":"COLUMN()","v":72},{"$f":"COLUMN()","v":73},{"$f":"COLUMN()","v":74},{"$f":"COLUMN()","v":75},{"$f":"COLUMN()","v":76},{"$f":"COLUMN()","v":77},{"$f":"COLUMN()","v":78},{"$f":"COLUMN()","v":79},{"$f":"COLUMN()","v":80},{"$f":"COLUMN()","v":81},{"$f":"COLUMN()","v":82},{"$f":"COLUMN()","v":83},{"$f":"COLUMN()","v":84},{"$f":"COLUMN()","v":85},{"$f":"COLUMN()","v":86},{"$f":"COLUMN()","v":87},{"$f":"COLUMN()","v":88},{"$f":"COLUMN()","v":89},{"$f":"COLUMN()","v":90},{"$f":"COLUMN()","v":91},{"$f":"COLUMN()","v":92},{"$f":"COLUMN()","v":93},{"$f":"COLUMN()","v":94},{"$f":"COLUMN()","v":95},{"$f":"COLUMN()","v":96},{"$f":"COLUMN()","v":97},{"$f":"COLUMN()","v":98},{"$f":"COLUMN()","v":99},{"$f":"COLUMN()","v":100},{"$f":"COLUMN()","v":101},{"$f":"COLUMN()","v":102},{"$f":"COLUMN()","v":103},{"$f":"COLUMN()","v":104},{"$f":"COLUMN()","v":105},{"$f":"COLUMN()","v":106},{"$f":"COLUMN()","v":107},{"$f":"COLUMN()","v":108},{"$f":"COLUMN()","v":109},{"$f":"COLUMN()","v":110},{"$f":"COLUMN()","v":111},{"$f":"COLUMN()","v":112},{"$f":"COLUMN()","v":113},{"$f":"COLUMN()","v":114},{"$f":"COLUMN()","v":115},{"$f":"COLUMN()","v":116},{"$f":"COLUMN()","v":117},{"$f":"COLUMN()","v":118},{"$f":"COLUMN()","v":119},{"$f":"COLUMN()","v":120},{"$f":"COLUMN()","v":121},{"$f":"COLUMN()","v":122},{"$f":"COLUMN()","v":123},{"$f":"COLUMN()","v":124},{"$f":"COLUMN()","v":125},{"$f":"COLUMN()","v":126},{"$f":"COLUMN()","v":127},{"$f":"COLUMN()","v":128},{"$f":"COLUMN()","v":129},{"$f":"COLUMN()","v":130},{"$f":"COLUMN()","v":131},{"$f":"COLUMN()","v":132},{"$f":"COLUMN()","v":133},{"$f":"COLUMN()","v":134}]
[{"$f":"ROW()","v":2},null,{"$f":"SUM($D$2:$LLC$2)","v":0},null,null,null,null,{"$f":"SUM(H$3:H$10004)","v":0},null,null,{"$f":"SUM(K$3:K$10004)","v":0},null,null,{"$f":"SUM(N$3:N$10004)","v":0},null,null,{"$f":"SUM(Q$3:Q$10004)","v":0},null,null,{"$f":"SUM(T$3:T$10004)","v":0},null,null,{"$f":"SUM(W$3:W$10004)","v":0},null,null,{"$f":"SUM(Z$3:Z$10004)","v":0},null,null,{"$f":"SUM(AC$3:AC$10004)","v":0},null,null,{"$f":"SUM(AF$3:AF$10004)","v":0},null,null,{"$f":"SUM(AI$3:AI$10004)","v":0},null,null,{"$f":"SUM(AL$3:AL$10004)","v":0},null,null,{"$f":"SUM(AO$3:AO$10004)","v":0},null,null,{"$f":"SUM(AR$3:AR$10004)","v":0},null,null,{"$f":"SUM(AU$3:AU$10004)","v":0},null,null,{"$f":"SUM(AX$3:AX$10004)","v":0},null,null,{"$f":"SUM(BA$3:BA$10004)","v":0},null,null,{"$f":"SUM(BD$3:BD$10004)","v":0},null,null,{"$f":"SUM(BG$3:BG$10004)","v":0},null,null,{"$f":"SUM(BJ$3:BJ$10004)","v":0},null,null,{"$f":"SUM(BM$3:BM$10004)","v":0},null,null,null,null,{"$f":"SUM(BR$3:BR$10000)","v":0},null,null,{"$f":"SUM(BU$3:BU$10000)","v":0},null,null,null,null,{"$f":"SUM(BZ$3:BZ$10000)","v":0},null,null,{"$f":"SUM(CC$3:CC$10000)","v":0},null,null,{"$f":"SUM(CF$3:CF$10000)","v":0},null,null,{"$f":"SUM(CI$3:CI$10000)","v":0},null,null,{"$f":"SUM(CL$3:CL$10000)","v":0},null,null,null,null,{"$f":"SUM(CQ$3:CQ$10000)","v":0},null,null,{"$f":"SUM(CT$3:CT$10000)","v":0},null,null,null,{"$f":"SUM(CX$3:CX$10000)","v":0}]
[{"$f":"ROW()","v":3},null,null,null,null,{"$f":"IF(OR(G3=0,G3=\"\"),\"*\",\"\")","v":"*"},null,{"$f":"IF(OR(G3=\"\",G3=0),0,IF(COUNTIF(G:G,G3)=1,0,1))","v":0},{"$f":"IF(OR(J3=0,J3=\"\"),\"*\",\"\")","v":"*"},null,{"$f":"IF(AND($G3<>\"\",$G3<>0,OR(J3=\"\",J3=0)),1,0)","v":0},{"$f":"IF(OR(M3=0,M3=\"\"),\"*\",\"\")","v":"*"},null,{"$f":"IF(AND($G3<>\"\",$G3<>0,OR(M3=\"\",M3=0)),1,0)","v":0},{"$f":"IF(OR(P3=0,P3=\"\"),\"*\",\"\")","v":"*"},null,{"$f":"IF(AND($G3<>\"\",$G3<>0,OR(P3=\"\",P3=0)),1,0)","v":0},{"$f":"IF(OR(S3=0,S3=\"\"),\"*\",\"\")","v":"*"},null,{"$f":"IF(AND($G3<>\"\",$G3<>0,OR(S3=\"\",S3=0)),1,0)","v":0},{"$f":"IF(OR(V3=0,V3=\"\"),\"*\",\"\")","v":"*"},null,{"$f":"IF(AND($G3<>\"\",$G3<>0,OR(V3=\"\",V3=0)),1,0)","v":0},{"$f":"IF(OR(Y3=0,Y3=\"\"),\"*\",\"\")","v":"*"},null,{"$f":"IF(AND($G3<>\"\",$G3<>0,OR(Y3=\"\",Y3=0)),1,0)","v":0},{"$f":"IF(OR(AB3=0,AB3=\"\"),\"*\",\"\")","v":"*"},null,{"$f":"IF(AND($G3<>\"\",$G3<>0,OR(AB3=\"\",AB3=0)),1,0)","v":0},{"$f":"IF(OR(AE3=0,AE3=\"\"),\"*\",\"\")","v":"*"},null,{"$f":"IF(AND($G3<>\"\",$G3<>0,OR(AE3=\"\",AE3=0)),1,0)","v":0},{"$f":"IF(OR(AH3=0,AH3=\"\"),\"*\",\"\")","v":"*"},null,{"$f":"IF(AND($G3<>\"\",$G3<>0,OR(AH3=\"\",AH3=0)),1,0)","v":0},{"$f":"IF(OR(AK3=0,AK3=\"\"),\"*\",\"\")","v":"*"},null,{"$f":"IF(AND($G3<>\"\",$G3<>0,OR(AK3=\"\",AK3=0)),1,0)","v":0},{"$f":"IF(OR(AN3=0,AN3=\"\"),\"*\",\"\")","v":"*"},null,{"$f":"IF(AND($G3<>\"\",$G3<>0,OR(AN3=\"\",AN3=0)),1,0)","v":0},{"$f":"IF(OR(AQ3=0,AQ3=\"\"),\"*\",\"\")","v":"*"},null,{"$f":"IF(AND($G3<>\"\",$G3<>0,OR(AQ3=\"\",AQ3=0)),1,0)","v":0},{"$f":"IF(OR(AT3=0,AT3=\"\"),\"*\",\"\")","v":"*"},null,{"$f":"IF(AND($G3<>\"\",$G3<>0,OR(AT3=\"\",AT3=0)),1,0)","v":0},{"$f":"IF(OR(AW3=0,AW3=\"\"),\"*\",\"\")","v":"*"},null,{"$f":"IF(AND($G3<>\"\",$G3<>0,OR(AW3=\"\",AW3=0)),1,0)","v":0},{"$f":"IF(OR(AZ3=0,AZ3=\"\"),\"*\",\"\")","v":"*"},null,{"$f":"IF(AND($G3<>\"\",$G3<>0,OR(AZ3=\"\",AZ3=0)),1,0)","v":0},{"$f":"IF(OR(BC3=0,BC3=\"\"),\"*\",\"\")","v":"*"},null,{"$f":"IF(AND($G3<>\"\",$G3<>0,OR(BC3=\"\",BC3=0)),1,0)","v":0},{"$f":"IF(OR(BF3=0,BF3=\"\"),\"*\",\"\")","v":"*"},null,{"$f":"IF(AND($G3<>\"\",$G3<>0,OR(BF3=\"\",BF3=0)),1,0)","v":0},{"$f":"IF(OR(BI3=0,BI3=\"\"),\"*\",\"\")","v":"*"},null,{"$f":"IF(AND($G3<>\"\",$G3<>0,OR(BI3=\"\",BI3=0)),1,0)","v":0},{"$f":"IF(OR(BL3=0,BL3=\"\"),\"*\",\"\")","v":"*"},null,{"$f":"IF(AND($G3<>\"\",$G3<>0,OR(BL3=\"\",BL3=0)),1,0)","v":0},null,null,null,null,{"$f":"IF(OR(BQ3=\"\",BQ3=0),0,IF(COUNTIF(BQ:BQ,BQ3)=1,0,1))","v":0},null,null,{"$f":"IF(OR(BT3=\"\",BT3=0),0,IF(COUNTIF(BT:BT,BT3)=1,0,1))","v":0},null,null,null,null,{"$f":"IF(OR(BY3=\"\",BY3=0),0,IF(COUNTIF(BY:BY,BY3)=1,0,1))","v":0},null,null,{"$f":"IF(AND($BY3<>\"\",$BY3<>0,OR(CB3=\"\",CB3=0)),1,0)","v":0},null,null,{"$f":"IF(AND($BY3<>\"\",$BY3<>0,OR(CE3=\"\",CE3=0)),1,0)","v":0},null,null,{"$f":"IF(AND($BY3<>\"\",$BY3<>0,OR(CH3=\"\",CH3=0)),1,0)","v":0},null,null,{"$f":"IF(AND($BY3<>\"\",$BY3<>0,OR(CK3=\"\",CK3=0)),1,0)","v":0},null,null,null,null,{"$f":"IF(OR(CP3=\"\",CP3=0),0,IF(COUNTIF(CP:CP,CP3)=1,0,1))","v":0},null,null,{"$f":"IF(OR(CS3=\"\",CS3=0),0,IF(COUNTIF(CS:CS,CS3)=1,0,1))","v":0},null,null,null,{"$f":"IF(OR(CW3=\"\",CW3=0),0,IF(COUNTIF(CW:CW,CW3)=1,0,1))","v":0}]
[{"$f":"ROW()","v":4}]
[{"$f":"ROW()","v":5},"Списки"]
[{"$f":"ROW()","v":6}]
[{"$f":"ROW()","v":7}]
[{"$f":"ROW()","v":8},null,null,null,null,"*","сокращ. название Заказчика",null,"*","полн. наим. Заказчика",null,"*","кратк. наим. Заказчика",null,"*","ФИО ГД",null,"*","тел.",null,"*","e-mail",null,"*","ИНН",null,"*","КПП",null,"*","ОГРН",null,"*","Адрес",null,"*","р/сч",null,"*","Банк",null,"*","корр/сч",null,"*","БИК",null,"*","Атриб-15",null,"*","Атриб-16",null,"*","Атриб-17",null,"*","Атриб-18",null,"*","Атриб-19",null,"*","Атриб-20",null,null,null,"*","статус Долга",null,"*","статус ответственного за Долг",null,null,"№ст","*","статус просроченного Долга",null,"*","срок просрочки",null,"*","зеленая зона",null,"*","желтая зона",null,"*","статус действия",null,null,null,"*","исполнитель",null,"*","ТОП",null,null,"*","ответ \"да\""]
[{"$f":"ROW()","v":9}]
[{"$f":"ROW()","v":10}]
[{"$f":"ROW()","v":11},null,null,null,null,{"$f":"IF(OR(G11=0,G11=\"\"),\"*\",\"\")","v":""},"зак-4",{"$f":"IF(OR(G11=\"\",G11=0),0,IF(COUNTIF(G:G,G11)=1,0,1))","v":0},{"$f":"IF(OR(J11=0,J11=\"\"),\"*\",\"\")","v":""},"ООО \"Заказчик-4\"",{"$f":"IF(AND($G11<>\"\",$G11<>0,OR(J11=\"\",J11=0)),1,0)","v":0},{"$f":"IF(OR(M11=0,M11=\"\"),\"*\",\"\")","v":""},"ООО \"Зак-4\"",{"$f":"IF(AND($G11<>\"\",$G11<>0,OR(M11=\"\",M11=0)),1,0)","v":0},{"$f":"IF(OR(P11=0,P11=\"\"),\"*\",\"\")","v":""},"Алексеев",{"$f":"IF(AND($G11<>\"\",$G11<>0,OR(P11=\"\",P11=0)),1,0)","v":0},{"$f":"IF(OR(S11=0,S11=\"\"),\"*\",\"\")","v":""},4654654,{"$f":"IF(AND($G11<>\"\",$G11<>0,OR(S11=\"\",S11=0)),1,0)","v":0},{"$f":"IF(OR(V11=0,V11=\"\"),\"*\",\"\")","v":""},4565465,{"$f":"IF(AND($G11<>\"\",$G11<>0,OR(V11=\"\",V11=0)),1,0)","v":0},{"$f":"IF(OR(Y11=0,Y11=\"\"),\"*\",\"\")","v":""},34654654,{"$f":"IF(AND($G11<>\"\",$G11<>0,OR(Y11=\"\",Y11=0)),1,0)","v":0},{"$f":"IF(OR(AB11=0,AB11=\"\"),\"*\",\"\")","v":""},65436435,{"$f":"IF(AND($G11<>\"\",$G11<>0,OR(AB11=\"\",AB11=0)),1,0)","v":0},{"$f":"IF(OR(AE11=0,AE11=\"\"),\"*\",\"\")","v":""},46543654,{"$f":"IF(AND($G11<>\"\",$G11<>0,OR(AE11=\"\",AE11=0)),1,0)","v":0},{"$f":"IF(OR(AH11=0,AH11=\"\"),\"*\",\"\")","v":""},23645,{"$f":"IF(AND($G11<>\"\",$G11<>0,OR(AH11=\"\",AH11=0)),1,0)","v":0},{"$f":"IF(OR(AK11=0,AK11=\"\"),\"*\",\"\")","v":""},54443647,{"$f":"IF(AND($G11<>\"\",$G11<>0,OR(AK11=\"\",AK11=0)),1,0)","v":0},{"$f":"IF(OR(AN11=0,AN11=\"\"),\"*\",\"\")","v":""},65437,{"$f":"IF(AND($G11<>\"\",$G11<>0,OR(AN11=\"\",AN11=0)),1,0)","v":0},{"$f":"IF(OR(AQ11=0,AQ11=\"\"),\"*\",\"\")","v":""},5675,{"$f":"IF(AND($G11<>\"\",$G11<>0,OR(AQ11=\"\",AQ11=0)),1,0)","v":0},{"$f":"IF(OR(AT11=0,AT11=\"\"),\"*\",\"\")","v":""},6756546,{"$f":"IF(AND($G11<>\"\",$G11<>0,OR(AT11=\"\",AT11=0)),1,0)","v":0},{"$f":"IF(OR(AW11=0,AW11=\"\"),\"*\",\"\")","v":""},"ALL",{"$f":"IF(AND($G11<>\"\",$G11<>0,OR(AW11=\"\",AW11=0)),1,0)","v":0},{"$f":"IF(OR(AZ11=0,AZ11=\"\"),\"*\",\"\")","v":""},"ALL",{"$f":"IF(AND($G11<>\"\",$G11<>0,OR(AZ11=\"\",AZ11=0)),1,0)","v":0},{"$f":"IF(OR(BC11=0,BC11=\"\"),\"*\",\"\")","v":""},"ALL",{"$f":"IF(AND($G11<>\"\",$G11<>0,OR(BC11=\"\",BC11=0)),1,0)","v":0},{"$f":"IF(OR(BF11=0,BF11=\"\"),\"*\",\"\")","v":""},"ALL",{"$f":"IF(AND($G11<>\"\",$G11<>0,OR(BF11=\"\",BF11=0)),1,0)","v":0},{"$f":"IF(OR(BI11=0,BI11=\"\"),\"*\",\"\")","v":""},"ALL",{"$f":"IF(AND($G11<>\"\",$G11<>0,OR(BI11=\"\",BI11=0)),1,0)","v":0},{"$f":"IF(OR(BL11=0,BL11=\"\"),\"*\",\"\")","v":""},"ALL",{"$f":"IF(AND($G11<>\"\",$G11<>0,OR(BL11=\"\",BL11=0)),1,0)","v":0},null,null,"*","Долга нет",{"$f":"IF(OR(BQ11=\"\",BQ11=0),0,IF(COUNTIF(BQ:BQ,BQ11)=1,0,1))","v":0},"*","Нет задачи",{"$f":"IF(OR(BT11=\"\",BT11=0),0,IF(COUNTIF(BT:BT,BT11)=1,0,1))","v":0},null,{"$f":"IF(OR(BY11=\"\",BY11=0),\"\",1)","v":1},"*",{"$f":"\"просрочка-\"&CB11","v":"просрочка-4"},{"$f":"IF(OR(BY11=\"\",BY11=0),0,IF(COUNTIF(BY:BY,BY11)=1,0,1))","v":0},{"$f":"IF(OR(CB11=0,CB11=\"\"),\"*\",\"\")","v":""},4,{"$f":"IF(AND($BY11<>\"\",$BY11<>0,OR(CB11=\"\",CB11=0)),1,0)","v":0},{"$f":"IF(OR(CE11=0,CE11=\"\"),\"*\",\"\")","v":""},1,{"$f":"IF(AND($BY11<>\"\",$BY11<>0,OR(CE11=\"\",CE11=0)),1,0)","v":0},{"$f":"IF(OR(CH11=0,CH11=\"\"),\"*\",\"\")","v":""},2,{"$f":"IF(AND($BY11<>\"\",$BY11<>0,OR(CH11=\"\",CH11=0)),1,0)","v":0},{"$f":"IF(OR(CK11=0,CK11=\"\"),\"*\",\"\")","v":""},"коммуникация",{"$f":"IF(AND($BY11<>\"\",$BY11<>0,OR(CK11=\"\",CK11=0)),1,0)","v":0},null,null,"*","Владимир",{"$f":"IF(OR(CP11=\"\",CP11=0),0,IF(COUNTIF(CP:CP,CP11)=1,0,1))","v":0},"*","руководитель-ТОП-1",{"$f":"IF(OR(CS11=\"\",CS11=0),0,IF(COUNTIF(CS:CS,CS11)=1,0,1))","v":0},null,"*","да",{"$f":"IF(OR(CW11=\"\",CW11=0),0,IF(COUNTIF(CW:CW,CW11)=1,0,1))","v":0}]
[{"$f":"ROW()","v":12},null,null,null,null,{"$f":"IF(OR(G12=0,G12=\"\"),\"*\",\"\")","v":""},"зак-3",{"$f":"IF(OR(G12=\"\",G12=0),0,IF(COUNTIF(G:G,G12)=1,0,1))","v":0},{"$f":"IF(OR(J12=0,J12=\"\"),\"*\",\"\")","v":""},"ООО \"Заказчик-3\"",{"$f":"IF(AND($G12<>\"\",$G12<>0,OR(J12=\"\",J12=0)),1,0)","v":0},{"$f":"IF(OR(M12=0,M12=\"\"),\"*\",\"\")","v":""},"ООО \"Зак-3\"",{"$f":"IF(AND($G12<>\"\",$G12<>0,OR(M12=\"\",M12=0)),1,0)","v":0},{"$f":"IF(OR(P12=0,P12=\"\"),\"*\",\"\")","v":""},"Иванов",{"$f":"IF(AND($G12<>\"\",$G12<>0,OR(P12=\"\",P12=0)),1,0)","v":0},{"$f":"IF(OR(S12=0,S12=\"\"),\"*\",\"\")","v":""},124245,{"$f":"IF(AND($G12<>\"\",$G12<>0,OR(S12=\"\",S12=0)),1,0)","v":0},{"$f":"IF(OR(V12=0,V12=\"\"),\"*\",\"\")","v":""},37556,{"$f":"IF(AND($G12<>\"\",$G12<>0,OR(V12=\"\",V12=0)),1,0)","v":0},{"$f":"IF(OR(Y12=0,Y12=\"\"),\"*\",\"\")","v":""},264565757,{"$f":"IF(AND($G12<>\"\",$G12<>0,OR(Y12=\"\",Y12=0)),1,0)","v":0},{"$f":"IF(OR(AB12=0,AB12=\"\"),\"*\",\"\")","v":""},456757,{"$f":"IF(AND($G12<>\"\",$G12<>0,OR(AB12=\"\",AB12=0)),1,0)","v":0},{"$f":"IF(OR(AE12=0,AE12=\"\"),\"*\",\"\")","v":""},643765765,{"$f":"IF(AND($G12<>\"\",$G12<>0,OR(AE12=\"\",AE12=0)),1,0)","v":0},{"$f":"IF(OR(AH12=0,AH12=\"\"),\"*\",\"\")","v":""},"парнур6565",{"$f":"IF(AND($G12<>\"\",$G12<>0,OR(AH12=\"\",AH12=0)),1,0)","v":0},{"$f":"IF(OR(AK12=0,AK12=\"\"),\"*\",\"\")","v":""},64536657567,{"$f":"IF(AND($G12<>\"\",$G12<>0,OR(AK12=\"\",AK12=0)),1,0)","v":0},{"$f":"IF(OR(AN12=0,AN12=\"\"),\"*\",\"\")","v":""},"5н4657575",{"$f":"IF(AND($G12<>\"\",$G12<>0,OR(AN12=\"\",AN12=0)),1,0)","v":0},{"$f":"IF(OR(AQ12=0,AQ12=\"\"),\"*\",\"\")","v":""},3465765756,{"$f":"IF(AND($G12<>\"\",$G12<>0,OR(AQ12=\"\",AQ12=0)),1,0)","v":0},{"$f":"IF(OR(AT12=0,AT12=\"\"),\"*\",\"\")","v":""},6543673,{"$f":"IF(AND($G12<>\"\",$G12<>0,OR(AT12=\"\",AT12=0)),1,0)","v":0},{"$f":"IF(OR(AW12=0,AW12=\"\"),\"*\",\"\")","v":""},"ALL",{"$f":"IF(AND($G12<>\"\",$G12<>0,OR(AW12=\"\",AW12=0)),1,0)","v":0},{"$f":"IF(OR(AZ12=0,AZ12=\"\"),\"*\",\"\")","v":""},"ALL",{"$f":"IF(AND($G12<>\"\",$G12<>0,OR(AZ12=\"\",AZ12=0)),1,0)","v":0},{"$f":"IF(OR(BC12=0,BC12=\"\"),\"*\",\"\")","v":""},"ALL",{"$f":"IF(AND($G12<>\"\",$G12<>0,OR(BC12=\"\",BC12=0)),1,0)","v":0},{"$f":"IF(OR(BF12=0,BF12=\"\"),\"*\",\"\")","v":""},"ALL",{"$f":"IF(AND($G12<>\"\",$G12<>0,OR(BF12=\"\",BF12=0)),1,0)","v":0},{"$f":"IF(OR(BI12=0,BI12=\"\"),\"*\",\"\")","v":""},"ALL",{"$f":"IF(AND($G12<>\"\",$G12<>0,OR(BI12=\"\",BI12=0)),1,0)","v":0},{"$f":"IF(OR(BL12=0,BL12=\"\"),\"*\",\"\")","v":""},"ALL",{"$f":"IF(AND($G12<>\"\",$G12<>0,OR(BL12=\"\",BL12=0)),1,0)","v":0},null,null,"*","Долг непросроченный",{"$f":"IF(OR(BQ12=\"\",BQ12=0),0,IF(COUNTIF(BQ:BQ,BQ12)=1,0,1))","v":0},"*","Долг в ответственности Юр",{"$f":"IF(OR(BT12=\"\",BT12=0),0,IF(COUNTIF(BT:BT,BT12)=1,0,1))","v":0},null,{"$f":"IF(OR(BY12=\"\",BY12=0),\"\",BW11+1)","v":2},"*",{"$f":"\"просрочка-\"&CB12","v":"просрочка-10"},{"$f":"IF(OR(BY12=\"\",BY12=0),0,IF(COUNTIF(BY:BY,BY12)=1,0,1))","v":0},{"$f":"IF(OR(CB12=0,CB12=\"\"),\"*\",\"\")","v":""},10,{"$f":"IF(AND($BY12<>\"\",$BY12<>0,OR(CB12=\"\",CB12=0)),1,0)","v":0},{"$f":"IF(OR(CE12=0,CE12=\"\"),\"*\",\"\")","v":""},3,{"$f":"IF(AND($BY12<>\"\",$BY12<>0,OR(CE12=\"\",CE12=0)),1,0)","v":0},{"$f":"IF(OR(CH12=0,CH12=\"\"),\"*\",\"\")","v":""},4,{"$f":"IF(AND($BY12<>\"\",$BY12<>0,OR(CH12=\"\",CH12=0)),1,0)","v":0},{"$f":"IF(OR(CK12=0,CK12=\"\"),\"*\",\"\")","v":""},"график рассрочки",{"$f":"IF(AND($BY12<>\"\",$BY12<>0,OR(CK12=\"\",CK12=0)),1,0)","v":0},null,null,"*","пользователь-2-график рассрочки",{"$f":"IF(OR(CP12=\"\",CP12=0),0,IF(COUNTIF(CP:CP,CP12)=1,0,1))","v":0},"*","руководитель-ТОП-2",{"$f":"IF(OR(CS12=\"\",CS12=0),0,IF(COUNTIF(CS:CS,CS12)=1,0,1))","v":0}]
[{"$f":"ROW()","v":13},null,null,null,null,{"$f":"IF(OR(G13=0,G13=\"\"),\"*\",\"\")","v":""},"Зак-2",{"$f":"IF(OR(G13=\"\",G13=0),0,IF(COUNTIF(G:G,G13)=1,0,1))","v":0},{"$f":"IF(OR(J13=0,J13=\"\"),\"*\",\"\")","v":""},"ООО \"Заказчик-2\"",{"$f":"IF(AND($G13<>\"\",$G13<>0,OR(J13=\"\",J13=0)),1,0)","v":0},{"$f":"IF(OR(M13=0,M13=\"\"),\"*\",\"\")","v":""},"ООО \"Зак-2\"",{"$f":"IF(AND($G13<>\"\",$G13<>0,OR(M13=\"\",M13=0)),1,0)","v":0},{"$f":"IF(OR(P13=0,P13=\"\"),\"*\",\"\")","v":""},"Сидоров",{"$f":"IF(AND($G13<>\"\",$G13<>0,OR(P13=\"\",P13=0)),1,0)","v":0},{"$f":"IF(OR(S13=0,S13=\"\"),\"*\",\"\")","v":""},33545626,{"$f":"IF(AND($G13<>\"\",$G13<>0,OR(S13=\"\",S13=0)),1,0)","v":0},{"$f":"IF(OR(V13=0,V13=\"\"),\"*\",\"\")","v":""},3756767,{"$f":"IF(AND($G13<>\"\",$G13<>0,OR(V13=\"\",V13=0)),1,0)","v":0},{"$f":"IF(OR(Y13=0,Y13=\"\"),\"*\",\"\")","v":""},74568,{"$f":"IF(AND($G13<>\"\",$G13<>0,OR(Y13=\"\",Y13=0)),1,0)","v":0},{"$f":"IF(OR(AB13=0,AB13=\"\"),\"*\",\"\")","v":""},267657,{"$f":"IF(AND($G13<>\"\",$G13<>0,OR(AB13=\"\",AB13=0)),1,0)","v":0},{"$f":"IF(OR(AE13=0,AE13=\"\"),\"*\",\"\")","v":""},7787878,{"$f":"IF(AND($G13<>\"\",$G13<>0,OR(AE13=\"\",AE13=0)),1,0)","v":0},{"$f":"IF(OR(AH13=0,AH13=\"\"),\"*\",\"\")","v":""},669696,{"$f":"IF(AND($G13<>\"\",$G13<>0,OR(AH13=\"\",AH13=0)),1,0)","v":0},{"$f":"IF(OR(AK13=0,AK13=\"\"),\"*\",\"\")","v":""},"254н565464",{"$f":"IF(AND($G13<>\"\",$G13<>0,OR(AK13=\"\",AK13=0)),1,0)","v":0},{"$f":"IF(OR(AN13=0,AN13=\"\"),\"*\",\"\")","v":""},756787878,{"$f":"IF(AND($G13<>\"\",$G13<>0,OR(AN13=\"\",AN13=0)),1,0)","v":0},{"$f":"IF(OR(AQ13=0,AQ13=\"\"),\"*\",\"\")","v":""},34757,{"$f":"IF(AND($G13<>\"\",$G13<>0,OR(AQ13=\"\",AQ13=0)),1,0)","v":0},{"$f":"IF(OR(AT13=0,AT13=\"\"),\"*\",\"\")","v":""},3246,{"$f":"IF(AND($G13<>\"\",$G13<>0,OR(AT13=\"\",AT13=0)),1,0)","v":0},{"$f":"IF(OR(AW13=0,AW13=\"\"),\"*\",\"\")","v":""},"ALL",{"$f":"IF(AND($G13<>\"\",$G13<>0,OR(AW13=\"\",AW13=0)),1,0)","v":0},{"$f":"IF(OR(AZ13=0,AZ13=\"\"),\"*\",\"\")","v":""},"ALL",{"$f":"IF(AND($G13<>\"\",$G13<>0,OR(AZ13=\"\",AZ13=0)),1,0)","v":0},{"$f":"IF(OR(BC13=0,BC13=\"\"),\"*\",\"\")","v":""},"ALL",{"$f":"IF(AND($G13<>\"\",$G13<>0,OR(BC13=\"\",BC13=0)),1,0)","v":0},{"$f":"IF(OR(BF13=0,BF13=\"\"),\"*\",\"\")","v":""},"ALL",{"$f":"IF(AND($G13<>\"\",$G13<>0,OR(BF13=\"\",BF13=0)),1,0)","v":0},{"$f":"IF(OR(BI13=0,BI13=\"\"),\"*\",\"\")","v":""},"ALL",{"$f":"IF(AND($G13<>\"\",$G13<>0,OR(BI13=\"\",BI13=0)),1,0)","v":0},{"$f":"IF(OR(BL13=0,BL13=\"\"),\"*\",\"\")","v":""},"ALL",{"$f":"IF(AND($G13<>\"\",$G13<>0,OR(BL13=\"\",BL13=0)),1,0)","v":0},null,null,"*","Долг несущественный",{"$f":"IF(OR(BQ13=\"\",BQ13=0),0,IF(COUNTIF(BQ:BQ,BQ13)=1,0,1))","v":0},"*","Долг в ответственности ТОП",{"$f":"IF(OR(BT13=\"\",BT13=0),0,IF(COUNTIF(BT:BT,BT13)=1,0,1))","v":0},null,{"$f":"IF(OR(BY13=\"\",BY13=0),\"\",BW12+1)","v":3},"*","просрочка-40",0,"",40,0,"",3,0,"",6,0,"","досудебная претензия",0,null,null,"*","пользователь-3-досудебная претензия",0,"*","руководитель-ТОП-3",0]
[{"$f":"ROW()","v":14},null,null,null,null,{"$f":"IF(OR(G14=0,G14=\"\"),\"*\",\"\")","v":""},"Зак",{"$f":"IF(OR(G14=\"\",G14=0),0,IF(COUNTIF(G:G,G14)=1,0,1))","v":0},{"$f":"IF(OR(J14=0,J14=\"\"),\"*\",\"\")","v":""},"ООО \"Заказчик\"",{"$f":"IF(AND($G14<>\"\",$G14<>0,OR(J14=\"\",J14=0)),1,0)","v":0},{"$f":"IF(OR(M14=0,M14=\"\"),\"*\",\"\")","v":""},"ООО \"Зак\"",{"$f":"IF(AND($G14<>\"\",$G14<>0,OR(M14=\"\",M14=0)),1,0)","v":0},{"$f":"IF(OR(P14=0,P14=\"\"),\"*\",\"\")","v":""},"Петров Иван Иванович",{"$f":"IF(AND($G14<>\"\",$G14<>0,OR(P14=\"\",P14=0)),1,0)","v":0},{"$f":"IF(OR(S14=0,S14=\"\"),\"*\",\"\")","v":""},123456789,{"$f":"IF(AND($G14<>\"\",$G14<>0,OR(S14=\"\",S14=0)),1,0)","v":0},{"$f":"IF(OR(V14=0,V14=\"\"),\"*\",\"\")","v":""},"mail@mail.ru",{"$f":"IF(AND($G14<>\"\",$G14<>0,OR(V14=\"\",V14=0)),1,0)","v":0},{"$f":"IF(OR(Y14=0,Y14=\"\"),\"*\",\"\")","v":""},1111111111,{"$f":"IF(AND($G14<>\"\",$G14<>0,OR(Y14=\"\",Y14=0)),1,0)","v":0},{"$f":"IF(OR(AB14=0,AB14=\"\"),\"*\",\"\")","v":""},111111111,{"$f":"IF(AND($G14<>\"\",$G14<>0,OR(AB14=\"\",AB14=0)),1,0)","v":0},{"$f":"IF(OR(AE14=0,AE14=\"\"),\"*\",\"\")","v":""},111111111111,{"$f":"IF(AND($G14<>\"\",$G14<>0,OR(AE14=\"\",AE14=0)),1,0)","v":0},{"$f":"IF(OR(AH14=0,AH14=\"\"),\"*\",\"\")","v":""},111111,{"$f":"IF(AND($G14<>\"\",$G14<>0,OR(AH14=\"\",AH14=0)),1,0)","v":0},{"$f":"IF(OR(AK14=0,AK14=\"\"),\"*\",\"\")","v":""},11111111111111,{"$f":"IF(AND($G14<>\"\",$G14<>0,OR(AK14=\"\",AK14=0)),1,0)","v":0},{"$f":"IF(OR(AN14=0,AN14=\"\"),\"*\",\"\")","v":""},1111111111111,{"$f":"IF(AND($G14<>\"\",$G14<>0,OR(AN14=\"\",AN14=0)),1,0)","v":0},{"$f":"IF(OR(AQ14=0,AQ14=\"\"),\"*\",\"\")","v":""},11111111111111,{"$f":"IF(AND($G14<>\"\",$G14<>0,OR(AQ14=\"\",AQ14=0)),1,0)","v":0},{"$f":"IF(OR(AT14=0,AT14=\"\"),\"*\",\"\")","v":""},11111111,{"$f":"IF(AND($G14<>\"\",$G14<>0,OR(AT14=\"\",AT14=0)),1,0)","v":0},{"$f":"IF(OR(AW14=0,AW14=\"\"),\"*\",\"\")","v":""},"ALL",{"$f":"IF(AND($G14<>\"\",$G14<>0,OR(AW14=\"\",AW14=0)),1,0)","v":0},{"$f":"IF(OR(AZ14=0,AZ14=\"\"),\"*\",\"\")","v":""},"ALL",{"$f":"IF(AND($G14<>\"\",$G14<>0,OR(AZ14=\"\",AZ14=0)),1,0)","v":0},{"$f":"IF(OR(BC14=0,BC14=\"\"),\"*\",\"\")","v":""},"ALL",{"$f":"IF(AND($G14<>\"\",$G14<>0,OR(BC14=\"\",BC14=0)),1,0)","v":0},{"$f":"IF(OR(BF14=0,BF14=\"\"),\"*\",\"\")","v":""},"ALL",{"$f":"IF(AND($G14<>\"\",$G14<>0,OR(BF14=\"\",BF14=0)),1,0)","v":0},{"$f":"IF(OR(BI14=0,BI14=\"\"),\"*\",\"\")","v":""},"ALL",{"$f":"IF(AND($G14<>\"\",$G14<>0,OR(BI14=\"\",BI14=0)),1,0)","v":0},{"$f":"IF(OR(BL14=0,BL14=\"\"),\"*\",\"\")","v":""},"ALL",{"$f":"IF(AND($G14<>\"\",$G14<>0,OR(BL14=\"\",BL14=0)),1,0)","v":0},null,null,"*","Долг просроченный",0,"*","Долг брошенный",{"$f":"IF(OR(BT14=\"\",BT14=0),0,IF(COUNTIF(BT:BT,BT14)=1,0,1))","v":0},null,4,"*","просрочка-70",0,"",70,0,"",5,0,"",7,0,"","ознакомление Должника с иском",0,null,null,"*","пользователь-4-ознакомление с иском",0,"*","руководитель-ТОП-4",0]
[{"$f":"ROW()","v":15},null,null,null,null,{"$f":"IF(OR(G15=0,G15=\"\"),\"*\",\"\")","v":""},"ALL",{"$f":"IF(OR(G15=\"\",G15=0),0,IF(COUNTIF(G:G,G15)=1,0,1))","v":0},{"$f":"IF(OR(J15=0,J15=\"\"),\"*\",\"\")","v":""},"ALL",{"$f":"IF(AND($G15<>\"\",$G15<>0,OR(J15=\"\",J15=0)),1,0)","v":0},{"$f":"IF(OR(M15=0,M15=\"\"),\"*\",\"\")","v":""},"ALL",{"$f":"IF(AND($G15<>\"\",$G15<>0,OR(M15=\"\",M15=0)),1,0)","v":0},{"$f":"IF(OR(P15=0,P15=\"\"),\"*\",\"\")","v":""},"ALL",{"$f":"IF(AND($G15<>\"\",$G15<>0,OR(P15=\"\",P15=0)),1,0)","v":0},{"$f":"IF(OR(S15=0,S15=\"\"),\"*\",\"\")","v":""},"ALL",{"$f":"IF(AND($G15<>\"\",$G15<>0,OR(S15=\"\",S15=0)),1,0)","v":0},{"$f":"IF(OR(V15=0,V15=\"\"),\"*\",\"\")","v":""},"ALL",{"$f":"IF(AND($G15<>\"\",$G15<>0,OR(V15=\"\",V15=0)),1,0)","v":0},{"$f":"IF(OR(Y15=0,Y15=\"\"),\"*\",\"\")","v":""},"ALL",{"$f":"IF(AND($G15<>\"\",$G15<>0,OR(Y15=\"\",Y15=0)),1,0)","v":0},{"$f":"IF(OR(AB15=0,AB15=\"\"),\"*\",\"\")","v":""},"ALL",{"$f":"IF(AND($G15<>\"\",$G15<>0,OR(AB15=\"\",AB15=0)),1,0)","v":0},{"$f":"IF(OR(AE15=0,AE15=\"\"),\"*\",\"\")","v":""},"ALL",{"$f":"IF(AND($G15<>\"\",$G15<>0,OR(AE15=\"\",AE15=0)),1,0)","v":0},{"$f":"IF(OR(AH15=0,AH15=\"\"),\"*\",\"\")","v":""},"ALL",{"$f":"IF(AND($G15<>\"\",$G15<>0,OR(AH15=\"\",AH15=0)),1,0)","v":0},{"$f":"IF(OR(AK15=0,AK15=\"\"),\"*\",\"\")","v":""},"ALL",{"$f":"IF(AND($G15<>\"\",$G15<>0,OR(AK15=\"\",AK15=0)),1,0)","v":0},{"$f":"IF(OR(AN15=0,AN15=\"\"),\"*\",\"\")","v":""},"ALL",{"$f":"IF(AND($G15<>\"\",$G15<>0,OR(AN15=\"\",AN15=0)),1,0)","v":0},{"$f":"IF(OR(AQ15=0,AQ15=\"\"),\"*\",\"\")","v":""},"ALL",{"$f":"IF(AND($G15<>\"\",$G15<>0,OR(AQ15=\"\",AQ15=0)),1,0)","v":0},{"$f":"IF(OR(AT15=0,AT15=\"\"),\"*\",\"\")","v":""},"ALL",{"$f":"IF(AND($G15<>\"\",$G15<>0,OR(AT15=\"\",AT15=0)),1,0)","v":0},{"$f":"IF(OR(AW15=0,AW15=\"\"),\"*\",\"\")","v":""},"ALL",{"$f":"IF(AND($G15<>\"\",$G15<>0,OR(AW15=\"\",AW15=0)),1,0)","v":0},{"$f":"IF(OR(AZ15=0,AZ15=\"\"),\"*\",\"\")","v":""},"ALL",{"$f":"IF(AND($G15<>\"\",$G15<>0,OR(AZ15=\"\",AZ15=0)),1,0)","v":0},{"$f":"IF(OR(BC15=0,BC15=\"\"),\"*\",\"\")","v":""},"ALL",{"$f":"IF(AND($G15<>\"\",$G15<>0,OR(BC15=\"\",BC15=0)),1,0)","v":0},{"$f":"IF(OR(BF15=0,BF15=\"\"),\"*\",\"\")","v":""},"ALL",{"$f":"IF(AND($G15<>\"\",$G15<>0,OR(BF15=\"\",BF15=0)),1,0)","v":0},{"$f":"IF(OR(BI15=0,BI15=\"\"),\"*\",\"\")","v":""},"ALL",{"$f":"IF(AND($G15<>\"\",$G15<>0,OR(BI15=\"\",BI15=0)),1,0)","v":0},{"$f":"IF(OR(BL15=0,BL15=\"\"),\"*\",\"\")","v":""},"ALL",{"$f":"IF(AND($G15<>\"\",$G15<>0,OR(BL15=\"\",BL15=0)),1,0)","v":0},null,null,null,null,null,"*","Долг в исполнении",{"$f":"IF(OR(BT15=\"\",BT15=0),0,IF(COUNTIF(BT:BT,BT15)=1,0,1))","v":0},null,5,"*","просрочка-100",0,"",100,0,"",3,0,"",4,0,"","иск в Суд",0,null,null,"*","пользователь-5-иск в Суд",0,"*","руководитель-ТОП-5",0]
[{"$f":"ROW()","v":16},null,null,null,null,null,null,null,null,null,null,null,null,null,null,null,null,null,null,null,null,null,null,null,null,null,null,null,null,null,null,null,null,null,null,null,null,null,null,null,null,null,null,null,null,null,null,null,null,null,null,null,null,null,null,null,null,null,null,null,null,null,null,null,null,null,null,null,null,null,null,null,null,null,"",null,null,null,null,null,null,null,null,null,null,null,null,null,null,null,null,{"$f":"IF(OR(CP16=\"\",CP16=0),\"\",CN15+1)","v":""},null,null,null,null,null,null,{"$f":"IF(OR(CW16=\"\",CW16=0),\"\",CU15+1)","v":""}]
[{"$f":"ROW()","v":17},null,null,null,null,null,null,null,null,null,null,null,null,null,null,null,null,null,null,null,null,null,null,null,null,null,null,null,null,null,null,null,null,null,null,null,null,null,null,null,null,null,null,null,null,null,null,null,null,null,null,null,null,null,null,null,null,null,null,null,null,null,null,null,null,null,null,null,null,null,null,null,null,null,"",null,null,null,null,null,null,null,null,null,null,null,null,null,null,null,null,"",null,null,null,null,null,null,""]
[{"$f":"ROW()","v":18},null,null,null,null,null,null,null,null,null,null,null,null,null,null,null,null,null,null,null,null,null,null,null,null,null,null,null,null,null,null,null,null,null,null,null,null,null,null,null,null,null,null,null,null,null,null,null,null,null,null,null,null,null,null,null,null,null,null,null,null,null,null,null,null,null,null,null,null,null,null,null,null,null,"",null,null,null,null,null,null,null,null,null,null,null,null,null,null,null,null,"",null,null,null,null,null,null,""]
[{"$f":"ROW()","v":19},null,null,null,null,null,null,null,null,null,null,null,null,null,null,null,null,null,null,null,null,null,null,null,null,null,null,null,null,null,null,null,null,null,null,null,null,null,null,null,null,null,null,null,null,null,null,null,null,null,null,null,null,null,null,null,null,null,null,null,null,null,null,null,null,null,null,null,null,null,null,null,null,null,"",null,null,null,null,null,null,null,null,null,null,null,null,null,null,null,null,"",null,null,null,null,null,null,""]
[{"$f":"ROW()","v":20},null,null,null,null,null,null,null,null,null,null,null,null,null,null,null,null,null,null,null,null,null,null,null,null,null,null,null,null,null,null,null,null,null,null,null,null,null,null,null,null,null,null,null,null,null,null,null,null,null,null,null,null,null,null,null,null,null,null,null,null,null,null,null,null,null,null,null,null,null,null,null,null,null,"",null,null,null,null,null,null,null,null,null,null,null,null,null,null,null,null,"",null,null,null,null,null,null,""]
[{"$f":"ROW()","v":21},null,null,null,null,null,null,null,null,null,null,null,null,null,null,null,null,null,null,null,null,null,null,null,null,null,null,null,null,null,null,null,null,null,null,null,null,null,null,null,null,null,null,null,null,null,null,null,null,null,null,null,null,null,null,null,null,null,null,null,null,null,null,null,null,null,null,null,null,null,null,null,null,null,"",null,null,null,null,null,null,null,null,null,null,null,null,null,null,null,null,"",null,null,null,null,null,null,""]
[{"$f":"ROW()","v":22},null,null,null,null,null,null,null,null,null,null,null,null,null,null,null,null,null,null,null,null,null,null,null,null,null,null,null,null,null,null,null,null,null,null,null,null,null,null,null,null,null,null,null,null,null,null,null,null,null,null,null,null,null,null,null,null,null,null,null,null,null,null,null,null,null,null,null,null,null,null,null,null,null,"",null,null,null,null,null,null,null,null,null,null,null,null,null,null,null,null,"",null,null,null,null,null,null,""]
[{"$f":"ROW()","v":23},null,null,null,null,null,null,null,null,null,null,null,null,null,null,null,null,null,null,null,null,null,null,null,null,null,null,null,null,null,null,null,null,null,null,null,null,null,null,null,null,null,null,null,null,null,null,null,null,null,null,null,null,null,null,null,null,null,null,null,null,null,null,null,null,null,null,null,null,null,null,null,null,null,"",null,null,null,null,null,null,null,null,null,null,null,null,null,null,null,null,"",null,null,null,null,null,null,""]
[{"$f":"ROW()","v":24},null,null,null,null,null,null,null,null,null,null,null,null,null,null,null,null,null,null,null,null,null,null,null,null,null,null,null,null,null,null,null,null,null,null,null,null,null,null,null,null,null,null,null,null,null,null,null,null,null,null,null,null,null,null,null,null,null,null,null,null,null,null,null,null,null,null,null,null,null,null,null,null,null,"",null,null,null,null,null,null,null,null,null,null,null,null,null,null,null,null,"",null,null,null,null,null,null,""]
[{"$f":"ROW()","v":25},null,null,null,null,null,null,null,null,null,null,null,null,null,null,null,null,null,null,null,null,null,null,null,null,null,null,null,null,null,null,null,null,null,null,null,null,null,null,null,null,null,null,null,null,null,null,null,null,null,null,null,null,null,null,null,null,null,null,null,null,null,null,null,null,null,null,null,null,null,null,null,null,null,"",null,null,null,null,null,null,null,null,null,null,null,null,null,null,null,null,"",null,null,null,null,null,null,""]
[{"$f":"ROW()","v":26},null,null,null,null,null,null,null,null,null,null,null,null,null,null,null,null,null,null,null,null,null,null,null,null,null,null,null,null,null,null,null,null,null,null,null,null,null,null,null,null,null,null,null,null,null,null,null,null,null,null,null,null,null,null,null,null,null,null,null,null,null,null,null,null,null,null,null,null,null,null,null,null,null,"",null,null,null,null,null,null,null,null,null,null,null,null,null,null,null,null,"",null,null,null,null,null,null,""]
[{"$f":"ROW()","v":27}]
[{"$f":"ROW()","v":28}]
[{"$f":"ROW()","v":29}]
[{"$f":"ROW()","v":30}]
[{"$f":"ROW()","v":31}]
[{"$f":"ROW()","v":32}]
[{"$f":"ROW()","v":33}]
[{"$f":"ROW()","v":34}]
[{"$f":"ROW()","v":35}]
[{"$f":"ROW()","v":36}]
[{"$f":"ROW()","v":37}]
[{"$f":"ROW()","v":38}]
[{"$f":"ROW()","v":39}]
[{"$f":"ROW()","v":40}]
[{"$f":"ROW()","v":41}]
[{"$f":"ROW()","v":42}]
[{"$f":"ROW()","v":43}]
[{"$f":"ROW()","v":44}]
[{"$f":"ROW()","v":45}]
[{"$f":"ROW()","v":46}]
[{"$f":"ROW()","v":47}]
[{"$f":"ROW()","v":48}]
[{"$f":"ROW()","v":49}]
[{"$f":"ROW()","v":50}]
[{"$f":"ROW()","v":51}]
[{"$f":"ROW()","v":52}]
[{"$f":"ROW()","v":53}]
[{"$f":"ROW()","v":54}]
[{"$f":"ROW()","v":55}]
[{"$f":"ROW()","v":56}]
[{"$f":"ROW()","v":57}]
[{"$f":"ROW()","v":58}]
[{"$f":"ROW()","v":59}]
[{"$f":"ROW()","v":60}]
[{"$f":"ROW()","v":61}]
[{"$f":"ROW()","v":62}]
[{"$f":"ROW()","v":63}]
[{"$f":"ROW()","v":64}]
[{"$f":"ROW()","v":65}]
[{"$f":"ROW()","v":66}]
[{"$f":"ROW()","v":67}]
[{"$f":"ROW()","v":68}]
[{"$f":"ROW()","v":69}]
[{"$f":"ROW()","v":70}]
[{"$f":"ROW()","v":71}]
[{"$f":"ROW()","v":72}]
[{"$f":"ROW()","v":73}]
[{"$f":"ROW()","v":74}]
[{"$f":"ROW()","v":75}]
[{"$f":"ROW()","v":76}]
[{"$f":"ROW()","v":77}]
[{"$f":"ROW()","v":78}]
[{"$f":"ROW()","v":79}]
[{"$f":"ROW()","v":80}]
[{"$f":"ROW()","v":81}]
[{"$f":"ROW()","v":82}]
[{"$f":"ROW()","v":83}]
[{"$f":"ROW()","v":84}]
[{"$f":"ROW()","v":85}]
[{"$f":"ROW()","v":86}]
[{"$f":"ROW()","v":87}]
[{"$f":"ROW()","v":88}]
[{"$f":"ROW()","v":89}]
[{"$f":"ROW()","v":90}]
[{"$f":"ROW()","v":91}]
[{"$f":"ROW()","v":92}]
[{"$f":"ROW()","v":93}]
[{"$f":"ROW()","v":94}]
[{"$f":"ROW()","v":95}]
[{"$f":"ROW()","v":96}]
[{"$f":"ROW()","v":97}]
[{"$f":"ROW()","v":98}]
[{"$f":"ROW()","v":99}]
[{"$f":"ROW()","v":100}]
[{"$f":"ROW()","v":101}]
[{"$f":"ROW()","v":102}]
[{"$f":"ROW()","v":103}]
[{"$f":"ROW()","v":104}]
[{"$f":"ROW()","v":105}]
[{"$f":"ROW()","v":106}]
[{"$f":"ROW()","v":107}]
[{"$f":"ROW()","v":108}]
[{"$f":"ROW()","v":109}]
[{"$f":"ROW()","v":110}]
[{"$f":"ROW()","v":111}]
[{"$f":"ROW()","v":112}]
[{"$f":"ROW()","v":113}]
[{"$f":"ROW()","v":114}]
[{"$f":"ROW()","v":115}]
[{"$f":"ROW()","v":116}]
[{"$f":"ROW()","v":117}]
[{"$f":"ROW()","v":118}]
[{"$f":"ROW()","v":119}]
[{"$f":"ROW()","v":120}]
[{"$f":"ROW()","v":121}]
[{"$f":"ROW()","v":122}]
[{"$f":"ROW()","v":123}]
[{"$f":"ROW()","v":124}]
[{"$f":"ROW()","v":125}]
[{"$f":"ROW()","v":126}]
[{"$f":"ROW()","v":127}]
[{"$f":"ROW()","v":128}]
[{"$f":"ROW()","v":129}]
[{"$f":"ROW()","v":130}]
[{"$f":"ROW()","v":131}]
[{"$f":"ROW()","v":132}]
[{"$f":"ROW()","v":133}]
[{"$f":"ROW()","v":134}]
[{"$f":"ROW()","v":135}]
[{"$f":"ROW()","v":136}]
[{"$f":"ROW()","v":137}]
[{"$f":"ROW()","v":138}]
[{"$f":"ROW()","v":139}]
[{"$f":"ROW()","v":140}]
[{"$f":"ROW()","v":141}]
[{"$f":"ROW()","v":142}]
[{"$f":"ROW()","v":143}]
[{"$f":"ROW()","v":144}]
[{"$f":"ROW()","v":145}]
[{"$f":"ROW()","v":146}]
[{"$f":"ROW()","v":147}]
[{"$f":"ROW()","v":148}]
[{"$f":"ROW()","v":149}]
[{"$f":"ROW()","v":150}]
[{"$f":"ROW()","v":151}]
[{"$f":"ROW()","v":152}]
[{"$f":"ROW()","v":153}]
[{"$f":"ROW()","v":154}]
[{"$f":"ROW()","v":155}]
[{"$f":"ROW()","v":156}]
[{"$f":"ROW()","v":157}]
[{"$f":"ROW()","v":158}]
[{"$f":"ROW()","v":159}]
[{"$f":"ROW()","v":160}]
[{"$f":"ROW()","v":161}]
[{"$f":"ROW()","v":162}]
[{"$f":"ROW()","v":163}]
[{"$f":"ROW()","v":164}]
[{"$f":"ROW()","v":165}]
[{"$f":"ROW()","v":166}]
[{"$f":"ROW()","v":167}]
[{"$f":"ROW()","v":168}]
[{"$f":"ROW()","v":169}]
[{"$f":"ROW()","v":170}]
[{"$f":"ROW()","v":171}]
[{"$f":"ROW()","v":172}]
[{"$f":"ROW()","v":173}]
[{"$f":"ROW()","v":174}]
[{"$f":"ROW()","v":175}]
[{"$f":"ROW()","v":176}]
[{"$f":"ROW()","v":177}]
[{"$f":"ROW()","v":178}]
[{"$f":"ROW()","v":179}]
[{"$f":"ROW()","v":180}]
[{"$f":"ROW()","v":181}]
[{"$f":"ROW()","v":182}]
[{"$f":"ROW()","v":183}]
[{"$f":"ROW()","v":184}]
[{"$f":"ROW()","v":185}]
[{"$f":"ROW()","v":186}]
[{"$f":"ROW()","v":187}]
[{"$f":"ROW()","v":188}]
[{"$f":"ROW()","v":189}]
[{"$f":"ROW()","v":190}]
[{"$f":"ROW()","v":191}]
[{"$f":"ROW()","v":192}]
[{"$f":"ROW()","v":193}]
[{"$f":"ROW()","v":194}]
[{"$f":"ROW()","v":195}]
[{"$f":"ROW()","v":196}]
[{"$f":"ROW()","v":197}]
[{"$f":"ROW()","v":198}]
[{"$f":"ROW()","v":199}]
[{"$f":"ROW()","v":200}]
[{"$f":"ROW()","v":201}]
[{"$f":"ROW()","v":202}]
[{"$f":"ROW()","v":203}]
[{"$f":"ROW()","v":204}]
[{"$f":"ROW()","v":205}]
[{"$f":"ROW()","v":206}]
[{"$f":"ROW()","v":207}]
[{"$f":"ROW()","v":208}]
[{"$f":"ROW()","v":209}]
[{"$f":"ROW()","v":210}]
[{"$f":"ROW()","v":211}]
[{"$f":"ROW()","v":212}]
[{"$f":"ROW()","v":213}]
[{"$f":"ROW()","v":214}]
[{"$f":"ROW()","v":215}]
[{"$f":"ROW()","v":216}]
[{"$f":"ROW()","v":217}]
[{"$f":"ROW()","v":218}]
[{"$f":"ROW()","v":219}]
[{"$f":"ROW()","v":220}]
[{"$f":"ROW()","v":221}]
[{"$f":"ROW()","v":222}]
[{"$f":"ROW()","v":223}]
[{"$f":"ROW()","v":224}]
[{"$f":"ROW()","v":225}]
[{"$f":"ROW()","v":226}]
[{"$f":"ROW()","v":227}]
[{"$f":"ROW()","v":228}]
[{"$f":"ROW()","v":229}]
[{"$f":"ROW()","v":230}]
[{"$f":"ROW()","v":231}]
[{"$f":"ROW()","v":232}]
[{"$f":"ROW()","v":233}]
[{"$f":"ROW()","v":234}]
[{"$f":"ROW()","v":235}]
[{"$f":"ROW()","v":236}]
[{"$f":"ROW()","v":237}]
[{"$f":"ROW()","v":238}]
[{"$f":"ROW()","v":239}]
[{"$f":"ROW()","v":240}]
[{"$f":"ROW()","v":241}]
[{"$f":"ROW()","v":242}]
[{"$f":"ROW()","v":243}]
[{"$f":"ROW()","v":244}]
[{"$f":"ROW()","v":245}]
[{"$f":"ROW()","v":246}]
[{"$f":"ROW()","v":247}]
[{"$f":"ROW()","v":248}]
[{"$f":"ROW()","v":249}]
[{"$f":"ROW()","v":250}]
[{"$f":"ROW()","v":251}]
[{"$f":"ROW()","v":252}]
[{"$f":"ROW()","v":253}]
[{"$f":"ROW()","v":254}]
[{"$f":"ROW()","v":255}]
[{"$f":"ROW()","v":256}]
[{"$f":"ROW()","v":257}]
[{"$f":"ROW()","v":258}]
[{"$f":"ROW()","v":259}]
[{"$f":"ROW()","v":260}]
[{"$f":"ROW()","v":261}]
[{"$f":"ROW()","v":262}]
[{"$f":"ROW()","v":263}]
[{"$f":"ROW()","v":264}]
[{"$f":"ROW()","v":265}]
[{"$f":"ROW()","v":266}]
[{"$f":"ROW()","v":267}]
[{"$f":"ROW()","v":268}]
[{"$f":"ROW()","v":269}]
[{"$f":"ROW()","v":270}]
[{"$f":"ROW()","v":271}]
[{"$f":"ROW()","v":272}]
[{"$f":"ROW()","v":273}]
[{"$f":"ROW()","v":274}]
[{"$f":"ROW()","v":275}]
[{"$f":"ROW()","v":276}]
[{"$f":"ROW()","v":277}]
[{"$f":"ROW()","v":278}]
[{"$f":"ROW()","v":279}]
[{"$f":"ROW()","v":280}]
[{"$f":"ROW()","v":281}]
[{"$f":"ROW()","v":282}]
[{"$f":"ROW()","v":283}]
[{"$f":"ROW()","v":284}]
[{"$f":"ROW()","v":285}]
[{"$f":"ROW()","v":286}]
[{"$f":"ROW()","v":287}]
[{"$f":"ROW()","v":288}]
[{"$f":"ROW()","v":289}]
[{"$f":"ROW()","v":290}]
[{"$f":"ROW()","v":291}]
[{"$f":"ROW()","v":292}]
[{"$f":"ROW()","v":293}]
[{"$f":"ROW()","v":294}]
[{"$f":"ROW()","v":295}]
[{"$f":"ROW()","v":296}]
[{"$f":"ROW()","v":297}]
[{"$f":"ROW()","v":298}]
[{"$f":"ROW()","v":299}]
[{"$f":"ROW()","v":300}]
[{"$f":"ROW()","v":301}]
[{"$f":"ROW()","v":302}]
[{"$f":"ROW()","v":303}]
[{"$f":"ROW()","v":304}]
[{"$f":"ROW()","v":305}]
[{"$f":"ROW()","v":306}]
[{"$f":"ROW()","v":307}]
[{"$f":"ROW()","v":308}]
[{"$f":"ROW()","v":309}]
[{"$f":"ROW()","v":310}]
[{"$f":"ROW()","v":311}]
[{"$f":"ROW()","v":312}]
[{"$f":"ROW()","v":313}]
[{"$f":"ROW()","v":314}]
[{"$f":"ROW()","v":315}]
[{"$f":"ROW()","v":316}]
[{"$f":"ROW()","v":317}]
[{"$f":"ROW()","v":318}]
[{"$f":"ROW()","v":319}]
[{"$f":"ROW()","v":320}]
[{"$f":"ROW()","v":321}]
[{"$f":"ROW()","v":322}]
[{"$f":"ROW()","v":323}]
[{"$f":"ROW()","v":324}]
[{"$f":"ROW()","v":325}]
[{"$f":"ROW()","v":326}]
[{"$f":"ROW()","v":327}]
[{"$f":"ROW()","v":328}]
[{"$f":"ROW()","v":329}]
[{"$f":"ROW()","v":330}]
[{"$f":"ROW()","v":331}]
[{"$f":"ROW()","v":332}]
[{"$f":"ROW()","v":333}]
[{"$f":"ROW()","v":334}]
[{"$f":"ROW()","v":335}]
[{"$f":"ROW()","v":336}]
[{"$f":"ROW()","v":337}]
[{"$f":"ROW()","v":338}]
[{"$f":"ROW()","v":339}]
[{"$f":"ROW()","v":340}]
[{"$f":"ROW()","v":341}]
[{"$f":"ROW()","v":342}]
[{"$f":"ROW()","v":343}]
[{"$f":"ROW()","v":344}]
[{"$f":"ROW()","v":345}]
[{"$f":"ROW()","v":346}]
[{"$f":"ROW()","v":347}]
[{"$f":"ROW()","v":348}]
[{"$f":"ROW()","v":349}]
[{"$f":"ROW()","v":350}]
[{"$f":"ROW()","v":351}]
[{"$f":"ROW()","v":352}]
[{"$f":"ROW()","v":353}]
[{"$f":"ROW()","v":354}]
[{"$f":"ROW()","v":355}]
[{"$f":"ROW()","v":356}]
[{"$f":"ROW()","v":357}]
[{"$f":"ROW()","v":358}]
[{"$f":"ROW()","v":359}]
[{"$f":"ROW()","v":360}]
[{"$f":"ROW()","v":361}]
[{"$f":"ROW()","v":362}]
[{"$f":"ROW()","v":363}]
[{"$f":"ROW()","v":364}]
[{"$f":"ROW()","v":365}]
[{"$f":"ROW()","v":366}]
[{"$f":"ROW()","v":367}]
[{"$f":"ROW()","v":368}]
[{"$f":"ROW()","v":369}]
[{"$f":"ROW()","v":370}]
[{"$f":"ROW()","v":371}]
[{"$f":"ROW()","v":372}]
[{"$f":"ROW()","v":373}]
[{"$f":"ROW()","v":374}]
[{"$f":"ROW()","v":375}]
[{"$f":"ROW()","v":376}]
[{"$f":"ROW()","v":377}]
[{"$f":"ROW()","v":378}]
[{"$f":"ROW()","v":379}]
[{"$f":"ROW()","v":380}]
[{"$f":"ROW()","v":381}]
[{"$f":"ROW()","v":382}]
[{"$f":"ROW()","v":383}]
[{"$f":"ROW()","v":384}]
[{"$f":"ROW()","v":385}]
[{"$f":"ROW()","v":386}]
[{"$f":"ROW()","v":387}]
[{"$f":"ROW()","v":388}]
[{"$f":"ROW()","v":389}]
[{"$f":"ROW()","v":390}]
[{"$f":"ROW()","v":391}]
[{"$f":"ROW()","v":392}]
[{"$f":"ROW()","v":393}]
[{"$f":"ROW()","v":394}]
[{"$f":"ROW()","v":395}]
[{"$f":"ROW()","v":396}]
[{"$f":"ROW()","v":397}]
[{"$f":"ROW()","v":398}]
[{"$f":"ROW()","v":399}]
[{"$f":"ROW()","v":400}]
[{"$f":"ROW()","v":401}]
[{"$f":"ROW()","v":402}]
[{"$f":"ROW()","v":403}]
[{"$f":"ROW()","v":404}]
[{"$f":"ROW()","v":405}]
[{"$f":"ROW()","v":406}]
[{"$f":"ROW()","v":407}]
[{"$f":"ROW()","v":408}]
[{"$f":"ROW()","v":409}]
[{"$f":"ROW()","v":410}]
[{"$f":"ROW()","v":411}]
[{"$f":"ROW()","v":412}]
[{"$f":"ROW()","v":413}]
[{"$f":"ROW()","v":414}]
[{"$f":"ROW()","v":415}]
[{"$f":"ROW()","v":416}]
[{"$f":"ROW()","v":417}]
[{"$f":"ROW()","v":418}]
[{"$f":"ROW()","v":419}]
[{"$f":"ROW()","v":420}]
[{"$f":"ROW()","v":421}]
[{"$f":"ROW()","v":422}]
[{"$f":"ROW()","v":423}]
[{"$f":"ROW()","v":424}]
[{"$f":"ROW()","v":425}]
[{"$f":"ROW()","v":426}]
[{"$f":"ROW()","v":427}]
[{"$f":"ROW()","v":428}]
[{"$f":"ROW()","v":429}]
[{"$f":"ROW()","v":430}]
[{"$f":"ROW()","v":431}]
[{"$f":"ROW()","v":432}]
[{"$f":"ROW()","v":433}]
[{"$f":"ROW()","v":434}]
[{"$f":"ROW()","v":435}]
[{"$f":"ROW()","v":436}]
[{"$f":"ROW()","v":437}]
[{"$f":"ROW()","v":438}]
[{"$f":"ROW()","v":439}]
[{"$f":"ROW()","v":440}]
[{"$f":"ROW()","v":441}]
[{"$f":"ROW()","v":442}]
[{"$f":"ROW()","v":443}]
[{"$f":"ROW()","v":444}]
[{"$f":"ROW()","v":445}]
[{"$f":"ROW()","v":446}]
[{"$f":"ROW()","v":447}]
[{"$f":"ROW()","v":448}]
[{"$f":"ROW()","v":449}]
[{"$f":"ROW()","v":450}]
[{"$f":"ROW()","v":451}]
[{"$f":"ROW()","v":452}]
[{"$f":"ROW()","v":453}]
[{"$f":"ROW()","v":454}]
[{"$f":"ROW()","v":455}]
[{"$f":"ROW()","v":456}]
[{"$f":"ROW()","v":457}]
[{"$f":"ROW()","v":458}]
[{"$f":"ROW()","v":459}]
[{"$f":"ROW()","v":460}]
[{"$f":"ROW()","v":461}]
[{"$f":"ROW()","v":462}]
[{"$f":"ROW()","v":463}]
[{"$f":"ROW()","v":464}]
[{"$f":"ROW()","v":465}]
[{"$f":"ROW()","v":466}]
[{"$f":"ROW()","v":467}]
[{"$f":"ROW()","v":468}]
[{"$f":"ROW()","v":469}]
[{"$f":"ROW()","v":470}]
[{"$f":"ROW()","v":471}]
[{"$f":"ROW()","v":472}]
[{"$f":"ROW()","v":473}]
[{"$f":"ROW()","v":474}]
[{"$f":"ROW()","v":475}]
[{"$f":"ROW()","v":476}]
[{"$f":"ROW()","v":477}]
[{"$f":"ROW()","v":478}]
[{"$f":"ROW()","v":479}]
[{"$f":"ROW()","v":480}]
[{"$f":"ROW()","v":481}]
[{"$f":"ROW()","v":482}]
[{"$f":"ROW()","v":483}]
[{"$f":"ROW()","v":484}]
[{"$f":"ROW()","v":485}]
[{"$f":"ROW()","v":486}]
[{"$f":"ROW()","v":487}]
[{"$f":"ROW()","v":488}]
[{"$f":"ROW()","v":489}]
[{"$f":"ROW()","v":490}]
[{"$f":"ROW()","v":491}]
[{"$f":"ROW()","v":492}]
[{"$f":"ROW()","v":493}]
[{"$f":"ROW()","v":494}]
[{"$f":"ROW()","v":495}]
[{"$f":"ROW()","v":496}]
[{"$f":"ROW()","v":497}]
[{"$f":"ROW()","v":498}]
[{"$f":"ROW()","v":499}]
[{"$f":"ROW()","v":500}]
[{"$f":"ROW()","v":501}]
[{"$f":"ROW()","v":502}]
[{"$f":"ROW()","v":503}]
[{"$f":"ROW()","v":504}]
[{"$f":"ROW()","v":505}]
[{"$f":"ROW()","v":506}]
[{"$f":"ROW()","v":507}]
[{"$f":"ROW()","v":508}]
[{"$f":"ROW()","v":509}]
[{"$f":"ROW()","v":510}]
[{"$f":"ROW()","v":511}]
[{"$f":"ROW()","v":512}]
[{"$f":"ROW()","v":513}]
[{"$f":"ROW()","v":514}]
[{"$f":"ROW()","v":515}]
[{"$f":"ROW()","v":516}]
[{"$f":"ROW()","v":517}]
[{"$f":"ROW()","v":518}]
[{"$f":"ROW()","v":519}]
[{"$f":"ROW()","v":520}]
[{"$f":"ROW()","v":521}]
[{"$f":"ROW()","v":522}]
[{"$f":"ROW()","v":523}]
[{"$f":"ROW()","v":524}]
[{"$f":"ROW()","v":525}]
[{"$f":"ROW()","v":526}]
[{"$f":"ROW()","v":527}]
[{"$f":"ROW()","v":528}]
[{"$f":"ROW()","v":529}]
[{"$f":"ROW()","v":530}]
[{"$f":"ROW()","v":531}]
[{"$f":"ROW()","v":532}]
[{"$f":"ROW()","v":533}]
[{"$f":"ROW()","v":534}]
[{"$f":"ROW()","v":535}]
[{"$f":"ROW()","v":536}]
[{"$f":"ROW()","v":537}]
[{"$f":"ROW()","v":538}]
[{"$f":"ROW()","v":539}]
[{"$f":"ROW()","v":540}]
[{"$f":"ROW()","v":541}]
[{"$f":"ROW()","v":542}]
[{"$f":"ROW()","v":543}]
[{"$f":"ROW()","v":544}]
[{"$f":"ROW()","v":545}]
[{"$f":"ROW()","v":546}]
[{"$f":"ROW()","v":547}]
[{"$f":"ROW()","v":548}]
[{"$f":"ROW()","v":549}]
[{"$f":"ROW()","v":550}]
[{"$f":"ROW()","v":551}]
[{"$f":"ROW()","v":552}]
[{"$f":"ROW()","v":553}]
[{"$f":"ROW()","v":554}]
[{"$f":"ROW()","v":555}]
[{"$f":"ROW()","v":556}]
[{"$f":"ROW()","v":557}]
[{"$f":"ROW()","v":558}]
[{"$f":"ROW()","v":559}]
[{"$f":"ROW()","v":560}]
[{"$f":"ROW()","v":561}]
[{"$f":"ROW()","v":562}]
[{"$f":"ROW()","v":563}]
[{"$f":"ROW()","v":564}]
[{"$f":"ROW()","v":565}]
[{"$f":"ROW()","v":566}]
[{"$f":"ROW()","v":567}]
[{"$f":"ROW()","v":568}]
[{"$f":"ROW()","v":569}]
[{"$f":"ROW()","v":570}]
[{"$f":"ROW()","v":571}]
[{"$f":"ROW()","v":572}]
[{"$f":"ROW()","v":573}]
[{"$f":"ROW()","v":574}]
[{"$f":"ROW()","v":575}]
[{"$f":"ROW()","v":576}]
[{"$f":"ROW()","v":577}]
[{"$f":"ROW()","v":578}]
[{"$f":"ROW()","v":579}]
[{"$f":"ROW()","v":580}]
[{"$f":"ROW()","v":581}]
[{"$f":"ROW()","v":582}]
[{"$f":"ROW()","v":583}]
[{"$f":"ROW()","v":584}]
[{"$f":"ROW()","v":585}]
[{"$f":"ROW()","v":586}]
[{"$f":"ROW()","v":587}]
[{"$f":"ROW()","v":588}]
[{"$f":"ROW()","v":589}]
[{"$f":"ROW()","v":590}]
[{"$f":"ROW()","v":591}]
[{"$f":"ROW()","v":592}]
[{"$f":"ROW()","v":593}]
[{"$f":"ROW()","v":594}]
[{"$f":"ROW()","v":595}]
[{"$f":"ROW()","v":596}]
[{"$f":"ROW()","v":597}]
[{"$f":"ROW()","v":598}]
[{"$f":"ROW()","v":599}]
[{"$f":"ROW()","v":600}]
[{"$f":"ROW()","v":601}]
[{"$f":"ROW()","v":602}]
[{"$f":"ROW()","v":603}]
[{"$f":"ROW()","v":604}]
[{"$f":"ROW()","v":605}]
[{"$f":"ROW()","v":606}]
[{"$f":"ROW()","v":607}]
[{"$f":"ROW()","v":608}]
[{"$f":"ROW()","v":609}]
[{"$f":"ROW()","v":610}]
[{"$f":"ROW()","v":611}]
[{"$f":"ROW()","v":612}]
[{"$f":"ROW()","v":613}]
[{"$f":"ROW()","v":614}]
[{"$f":"ROW()","v":615}]
[{"$f":"ROW()","v":616}]
[{"$f":"ROW()","v":617}]
[{"$f":"ROW()","v":618}]
[{"$f":"ROW()","v":619}]
[{"$f":"ROW()","v":620}]
[{"$f":"ROW()","v":621}]
[{"$f":"ROW()","v":622}]
[{"$f":"ROW()","v":623}]
[{"$f":"ROW()","v":624}]
[{"$f":"ROW()","v":625}]
[{"$f":"ROW()","v":626}]
[{"$f":"ROW()","v":627}]
[{"$f":"ROW()","v":628}]
[{"$f":"ROW()","v":629}]
[{"$f":"ROW()","v":630}]
[{"$f":"ROW()","v":631}]
[{"$f":"ROW()","v":632}]
[{"$f":"ROW()","v":633}]
[{"$f":"ROW()","v":634}]
[{"$f":"ROW()","v":635}]
[{"$f":"ROW()","v":636}]
[{"$f":"ROW()","v":637}]
[{"$f":"ROW()","v":638}]
[{"$f":"ROW()","v":639}]
[{"$f":"ROW()","v":640}]
[{"$f":"ROW()","v":641}]
[{"$f":"ROW()","v":642}]
[{"$f":"ROW()","v":643}]
[{"$f":"ROW()","v":644}]
[{"$f":"ROW()","v":645}]
[{"$f":"ROW()","v":646}]
[{"$f":"ROW()","v":647}]
[{"$f":"ROW()","v":648}]
[{"$f":"ROW()","v":649}]
[{"$f":"ROW()","v":650}]
[{"$f":"ROW()","v":651}]
[{"$f":"ROW()","v":652}]
[{"$f":"ROW()","v":653}]
[{"$f":"ROW()","v":654}]
[{"$f":"ROW()","v":655}]
[{"$f":"ROW()","v":656}]
[{"$f":"ROW()","v":657}]
[{"$f":"ROW()","v":658}]
[{"$f":"ROW()","v":659}]
[{"$f":"ROW()","v":660}]
[{"$f":"ROW()","v":661}]
[{"$f":"ROW()","v":662}]
[{"$f":"ROW()","v":663}]
[{"$f":"ROW()","v":664}]
[{"$f":"ROW()","v":665}]
[{"$f":"ROW()","v":666}]
[{"$f":"ROW()","v":667}]
[{"$f":"ROW()","v":668}]
[{"$f":"ROW()","v":669}]
[{"$f":"ROW()","v":670}]
[{"$f":"ROW()","v":671}]
[{"$f":"ROW()","v":672}]
[{"$f":"ROW()","v":673}]
[{"$f":"ROW()","v":674}]
[{"$f":"ROW()","v":675}]
[{"$f":"ROW()","v":676}]
[{"$f":"ROW()","v":677}]
[{"$f":"ROW()","v":678}]
[{"$f":"ROW()","v":679}]
[{"$f":"ROW()","v":680}]
[{"$f":"ROW()","v":681}]
[{"$f":"ROW()","v":682}]
[{"$f":"ROW()","v":683}]
[{"$f":"ROW()","v":684}]
[{"$f":"ROW()","v":685}]
[{"$f":"ROW()","v":686}]
[{"$f":"ROW()","v":687}]
[{"$f":"ROW()","v":688}]
[{"$f":"ROW()","v":689}]
[{"$f":"ROW()","v":690}]
[{"$f":"ROW()","v":691}]
[{"$f":"ROW()","v":692}]
[{"$f":"ROW()","v":693}]
[{"$f":"ROW()","v":694}]
[{"$f":"ROW()","v":695}]
[{"$f":"ROW()","v":696}]
[{"$f":"ROW()","v":697}]
[{"$f":"ROW()","v":698}]
[{"$f":"ROW()","v":699}]
[{"$f":"ROW()","v":700}]
[{"$f":"ROW()","v":701}]
[{"$f":"ROW()","v":702}]
[{"$f":"ROW()","v":703}]
[{"$f":"ROW()","v":704}]
[{"$f":"ROW()","v":705}]
[{"$f":"ROW()","v":706}]
[{"$f":"ROW()","v":707}]
[{"$f":"ROW()","v":708}]
[{"$f":"ROW()","v":709}]
[{"$f":"ROW()","v":710}]
[{"$f":"ROW()","v":711}]
[{"$f":"ROW()","v":712}]
[{"$f":"ROW()","v":713}]
[{"$f":"ROW()","v":714}]
[{"$f":"ROW()","v":715}]
[{"$f":"ROW()","v":716}]
[{"$f":"ROW()","v":717}]
[{"$f":"ROW()","v":718}]
[{"$f":"ROW()","v":719}]
[{"$f":"ROW()","v":720}]
[{"$f":"ROW()","v":721}]
[{"$f":"ROW()","v":722}]
[{"$f":"ROW()","v":723}]
[{"$f":"ROW()","v":724}]
[{"$f":"ROW()","v":725}]
[{"$f":"ROW()","v":726}]
[{"$f":"ROW()","v":727}]
[{"$f":"ROW()","v":728}]
[{"$f":"ROW()","v":729}]
[{"$f":"ROW()","v":730}]
[{"$f":"ROW()","v":731}]
[{"$f":"ROW()","v":732}]
[{"$f":"ROW()","v":733}]
[{"$f":"ROW()","v":734}]
[{"$f":"ROW()","v":735}]
[{"$f":"ROW()","v":736}]
[{"$f":"ROW()","v":737}]
[{"$f":"ROW()","v":738}]
[{"$f":"ROW()","v":739}]
[{"$f":"ROW()","v":740}]
[{"$f":"ROW()","v":741}]
[{"$f":"ROW()","v":742}]
[{"$f":"ROW()","v":743}]
[{"$f":"ROW()","v":744}]
[{"$f":"ROW()","v":745}]
[{"$f":"ROW()","v":746}]
[{"$f":"ROW()","v":747}]
[{"$f":"ROW()","v":748}]
[{"$f":"ROW()","v":749}]
[{"$f":"ROW()","v":750}]
[{"$f":"ROW()","v":751}]
[{"$f":"ROW()","v":752}]
[{"$f":"ROW()","v":753}]
[{"$f":"ROW()","v":754}]
[{"$f":"ROW()","v":755}]
[{"$f":"ROW()","v":756}]
[{"$f":"ROW()","v":757}]
[{"$f":"ROW()","v":758}]
[{"$f":"ROW()","v":759}]
[{"$f":"ROW()","v":760}]
[{"$f":"ROW()","v":761}]
[{"$f":"ROW()","v":762}]
[{"$f":"ROW()","v":763}]
[{"$f":"ROW()","v":764}]
[{"$f":"ROW()","v":765}]
[{"$f":"ROW()","v":766}]
[{"$f":"ROW()","v":767}]
[{"$f":"ROW()","v":768}]
[{"$f":"ROW()","v":769}]
[{"$f":"ROW()","v":770}]
[{"$f":"ROW()","v":771}]
[{"$f":"ROW()","v":772}]
[{"$f":"ROW()","v":773}]
[{"$f":"ROW()","v":774}]
[{"$f":"ROW()","v":775}]
[{"$f":"ROW()","v":776}]
[{"$f":"ROW()","v":777}]
[{"$f":"ROW()","v":778}]
[{"$f":"ROW()","v":779}]
[{"$f":"ROW()","v":780}]
[{"$f":"ROW()","v":781}]
[{"$f":"ROW()","v":782}]
[{"$f":"ROW()","v":783}]
[{"$f":"ROW()","v":784}]
[{"$f":"ROW()","v":785}]
[{"$f":"ROW()","v":786}]
[{"$f":"ROW()","v":787}]
[{"$f":"ROW()","v":788}]
[{"$f":"ROW()","v":789}]
[{"$f":"ROW()","v":790}]
[{"$f":"ROW()","v":791}]
[{"$f":"ROW()","v":792}]
[{"$f":"ROW()","v":793}]
[{"$f":"ROW()","v":794}]
[{"$f":"ROW()","v":795}]
[{"$f":"ROW()","v":796}]
[{"$f":"ROW()","v":797}]
[{"$f":"ROW()","v":798}]
[{"$f":"ROW()","v":799}]
[{"$f":"ROW()","v":800}]
[{"$f":"ROW()","v":801}]
[{"$f":"ROW()","v":802}]
[{"$f":"ROW()","v":803}]
[{"$f":"ROW()","v":804}]
[{"$f":"ROW()","v":805}]
[{"$f":"ROW()","v":806}]
[{"$f":"ROW()","v":807}]
[{"$f":"ROW()","v":808}]
[{"$f":"ROW()","v":809}]
[{"$f":"ROW()","v":810}]
[{"$f":"ROW()","v":811}]
[{"$f":"ROW()","v":812}]
[{"$f":"ROW()","v":813}]
[{"$f":"ROW()","v":814}]
[{"$f":"ROW()","v":815}]
[{"$f":"ROW()","v":816}]
[{"$f":"ROW()","v":817}]
[{"$f":"ROW()","v":818}]
[{"$f":"ROW()","v":819}]
[{"$f":"ROW()","v":820}]
[{"$f":"ROW()","v":821}]
[{"$f":"ROW()","v":822}]
[{"$f":"ROW()","v":823}]
[{"$f":"ROW()","v":824}]
[{"$f":"ROW()","v":825}]
[{"$f":"ROW()","v":826}]
[{"$f":"ROW()","v":827}]
[{"$f":"ROW()","v":828}]
[{"$f":"ROW()","v":829}]
[{"$f":"ROW()","v":830}]
[{"$f":"ROW()","v":831}]
[{"$f":"ROW()","v":832}]
[{"$f":"ROW()","v":833}]
[{"$f":"ROW()","v":834}]
[{"$f":"ROW()","v":835}]
[{"$f":"ROW()","v":836}]
[{"$f":"ROW()","v":837}]
[{"$f":"ROW()","v":838}]
[{"$f":"ROW()","v":839}]
[{"$f":"ROW()","v":840}]
[{"$f":"ROW()","v":841}]
[{"$f":"ROW()","v":842}]
[{"$f":"ROW()","v":843}]
[{"$f":"ROW()","v":844}]
[{"$f":"ROW()","v":845}]
[{"$f":"ROW()","v":846}]
[{"$f":"ROW()","v":847}]
[{"$f":"ROW()","v":848}]
[{"$f":"ROW()","v":849}]
[{"$f":"ROW()","v":850}]
[{"$f":"ROW()","v":851}]
[{"$f":"ROW()","v":852}]
[{"$f":"ROW()","v":853}]
[{"$f":"ROW()","v":854}]
[{"$f":"ROW()","v":855}]
[{"$f":"ROW()","v":856}]
[{"$f":"ROW()","v":857}]
[{"$f":"ROW()","v":858}]
[{"$f":"ROW()","v":859}]
[{"$f":"ROW()","v":860}]
[{"$f":"ROW()","v":861}]
[{"$f":"ROW()","v":862}]
[{"$f":"ROW()","v":863}]
[{"$f":"ROW()","v":864}]
[{"$f":"ROW()","v":865}]
[{"$f":"ROW()","v":866}]
[{"$f":"ROW()","v":867}]
[{"$f":"ROW()","v":868}]
[{"$f":"ROW()","v":869}]
[{"$f":"ROW()","v":870}]
[{"$f":"ROW()","v":871}]
[{"$f":"ROW()","v":872}]
[{"$f":"ROW()","v":873}]
[{"$f":"ROW()","v":874}]
[{"$f":"ROW()","v":875}]
[{"$f":"ROW()","v":876}]
[{"$f":"ROW()","v":877}]
[{"$f":"ROW()","v":878}]
[{"$f":"ROW()","v":879}]
[{"$f":"ROW()","v":880}]
[{"$f":"ROW()","v":881}]
[{"$f":"ROW()","v":882}]
[{"$f":"ROW()","v":883}]
[{"$f":"ROW()","v":884}]
[{"$f":"ROW()","v":885}]
[{"$f":"ROW()","v":886}]
[{"$f":"ROW()","v":887}]
[{"$f":"ROW()","v":888}]
[{"$f":"ROW()","v":889}]
[{"$f":"ROW()","v":890}]
[{"$f":"ROW()","v":891}]
[{"$f":"ROW()","v":892}]
[{"$f":"ROW()","v":893}]
[{"$f":"ROW()","v":894}]
[{"$f":"ROW()","v":895}]
[{"$f":"ROW()","v":896}]
[{"$f":"ROW()","v":897}]
[{"$f":"ROW()","v":898}]
[{"$f":"ROW()","v":899}]
[{"$f":"ROW()","v":900}]
[{"$f":"ROW()","v":901}]
[{"$f":"ROW()","v":902}]
[{"$f":"ROW()","v":903}]
[{"$f":"ROW()","v":904}]
[{"$f":"ROW()","v":905}]
[{"$f":"ROW()","v":906}]
[{"$f":"ROW()","v":907}]
[{"$f":"ROW()","v":908}]
[{"$f":"ROW()","v":909}]
[{"$f":"ROW()","v":910}]
[{"$f":"ROW()","v":911}]
[{"$f":"ROW()","v":912}]
[{"$f":"ROW()","v":913}]
[{"$f":"ROW()","v":914}]
[{"$f":"ROW()","v":915}]
[{"$f":"ROW()","v":916}]
[{"$f":"ROW()","v":917}]
[{"$f":"ROW()","v":918}]
[{"$f":"ROW()","v":919}]
[{"$f":"ROW()","v":920}]
[{"$f":"ROW()","v":921}]
[{"$f":"ROW()","v":922}]
[{"$f":"ROW()","v":923}]
[{"$f":"ROW()","v":924}]
[{"$f":"ROW()","v":925}]
[{"$f":"ROW()","v":926}]
[{"$f":"ROW()","v":927}]
[{"$f":"ROW()","v":928}]
[{"$f":"ROW()","v":929}]
[{"$f":"ROW()","v":930}]
[{"$f":"ROW()","v":931}]
[{"$f":"ROW()","v":932}]
[{"$f":"ROW()","v":933}]
[{"$f":"ROW()","v":934}]
[{"$f":"ROW()","v":935}]
[{"$f":"ROW()","v":936}]
[{"$f":"ROW()","v":937}]
[{"$f":"ROW()","v":938}]
[{"$f":"ROW()","v":939}]
[{"$f":"ROW()","v":940}]
[{"$f":"ROW()","v":941}]
[{"$f":"ROW()","v":942}]
[{"$f":"ROW()","v":943}]
[{"$f":"ROW()","v":944}]
[{"$f":"ROW()","v":945}]
[{"$f":"ROW()","v":946}]
[{"$f":"ROW()","v":947}]
[{"$f":"ROW()","v":948}]
[{"$f":"ROW()","v":949}]
[{"$f":"ROW()","v":950}]
[{"$f":"ROW()","v":951}]
[{"$f":"ROW()","v":952}]
[{"$f":"ROW()","v":953}]
[{"$f":"ROW()","v":954}]
[{"$f":"ROW()","v":955}]
[{"$f":"ROW()","v":956}]
[{"$f":"ROW()","v":957}]
[{"$f":"ROW()","v":958}]
[{"$f":"ROW()","v":959}]
[{"$f":"ROW()","v":960}]
[{"$f":"ROW()","v":961}]
[{"$f":"ROW()","v":962}]
[{"$f":"ROW()","v":963}]
[{"$f":"ROW()","v":964}]
[{"$f":"ROW()","v":965}]
[{"$f":"ROW()","v":966}]
[{"$f":"ROW()","v":967}]
[{"$f":"ROW()","v":968}]
[{"$f":"ROW()","v":969}]
[{"$f":"ROW()","v":970}]
[{"$f":"ROW()","v":971}]
[{"$f":"ROW()","v":972}]
[{"$f":"ROW()","v":973}]
[{"$f":"ROW()","v":974}]
[{"$f":"ROW()","v":975}]
[{"$f":"ROW()","v":976}]
[{"$f":"ROW()","v":977}]
[{"$f":"ROW()","v":978}]
[{"$f":"ROW()","v":979}]
[{"$f":"ROW()","v":980}]
[{"$f":"ROW()","v":981}]
[{"$f":"ROW()","v":982}]
[{"$f":"ROW()","v":983}]
[{"$f":"ROW()","v":984}]
[{"$f":"ROW()","v":985}]
[{"$f":"ROW()","v":986}]
[{"$f":"ROW()","v":987}]
[{"$f":"ROW()","v":988}]
[{"$f":"ROW()","v":989}]
[{"$f":"ROW()","v":990}]
[{"$f":"ROW()","v":991}]
[{"$f":"ROW()","v":992}]
[{"$f":"ROW()","v":993}]
[{"$f":"ROW()","v":994}]
[{"$f":"ROW()","v":995}]
[{"$f":"ROW()","v":996}]
[{"$f":"ROW()","v":997}]
[{"$f":"ROW()","v":998}]
[{"$f":"ROW()","v":999}]

{"sheet":"PvT","index":4,"n_rows":1000,"n_cols":4,"rows_kept":1000,"cut":false,"hidden":false,"merged":[]}
[{"$f":"ROW()","v":1},null,"Названия строк"]
[{"$f":"ROW()","v":2},null,"Общий итог"]
[{"$f":"ROW()","v":3}]
[{"$f":"ROW()","v":4}]
[{"$f":"ROW()","v":5},null,"ID",1]
[{"$f":"ROW()","v":6}]
[{"$f":"ROW()","v":7},{"$f":"IF(OR(C7=$C$1,C7=$C$2,C7=$C$3,C7=0),0,MAX(B$1:B6)+1)","v":0},"Названия строк"]
[{"$f":"ROW()","v":8},{"$f":"IF(OR(C8=$C$1,C8=$C$2,C8=$C$3,C8=0),0,MAX(B$1:B7)+1)","v":1},"Зак / дог. №2 от 15.9.2019г. / ТН №5 от 2.10.2019г. / сумма отгр. 1000000"]
[{"$f":"ROW()","v":9},{"$f":"IF(OR(C9=$C$1,C9=$C$2,C9=$C$3,C9=0),0,MAX(B$1:B8)+1)","v":2},"Зак-2 / дог. №76-в от 23.9.2019г. / АКТ №786 от 1.10.2019г. / сумма отгр. 3000000"]
[{"$f":"ROW()","v":10},{"$f":"IF(OR(C10=$C$1,C10=$C$2,C10=$C$3,C10=0),0,MAX(B$1:B9)+1)","v":3},"Зак-2 / дог. №555 от 1.10.2019г. / ТН №777 от 1.10.2019г. / сумма отгр. 1000000"]
[{"$f":"ROW()","v":11},{"$f":"IF(OR(C11=$C$1,C11=$C$2,C11=$C$3,C11=0),0,MAX(B$1:B10)+1)","v":4},"зак-4 / дог. №444 от 1.10.2019г. / Акт №444/1 от 10.10.2019г. / сумма отгр. 1000000"]
[{"$f":"ROW()","v":12},{"$f":"IF(OR(C12=$C$1,C12=$C$2,C12=$C$3,C12=0),0,MAX(B$1:B11)+1)","v":5},"Зак / дог. №1172 от 4.10.2019г. / ТН №1172/тн от 10.10.2019г. / сумма отгр. 200000"]
[{"$f":"ROW()","v":13},{"$f":"IF(OR(C13=$C$1,C13=$C$2,C13=$C$3,C13=0),0,MAX(B$1:B12)+1)","v":6},"Зак / дог. №1172 от 4.10.2019г. / ТН №1172/тн-2 от 23.10.2019г. / сумма отгр. 500000"]
[{"$f":"ROW()","v":14},{"$f":"IF(OR(C14=$C$1,C14=$C$2,C14=$C$3,C14=0),0,MAX(B$1:B13)+1)","v":7},"зак-4 / дог. №8823 от 15.10.2019г. / АКТ №45 от 31.10.2019г. / сумма отгр. 1600000"]
[{"$f":"ROW()","v":15},{"$f":"IF(OR(C15=$C$1,C15=$C$2,C15=$C$3,C15=0),0,MAX(B$1:B14)+1)","v":8},"зак-4 / дог. №12-3 от 1.10.2019г. / АКТ №12-3/акт от 12.10.2019г. / сумма отгр. 700000"]
[{"$f":"ROW()","v":16},{"$f":"IF(OR(C16=$C$1,C16=$C$2,C16=$C$3,C16=0),0,MAX(B$1:B15)+1)","v":0},"Общий итог"]
[{"$f":"ROW()","v":17},{"$f":"IF(OR(C17=$C$1,C17=$C$2,C17=$C$3,C17=0),0,MAX(B$1:B16)+1)","v":0}]
[{"$f":"ROW()","v":18},{"$f":"IF(OR(C18=$C$1,C18=$C$2,C18=$C$3,C18=0),0,MAX(B$1:B17)+1)","v":0}]
[{"$f":"ROW()","v":19},{"$f":"IF(OR(C19=$C$1,C19=$C$2,C19=$C$3,C19=0),0,MAX(B$1:B18)+1)","v":0}]
[{"$f":"ROW()","v":20},{"$f":"IF(OR(C20=$C$1,C20=$C$2,C20=$C$3,C20=0),0,MAX(B$1:B19)+1)","v":0}]
[{"$f":"ROW()","v":21},{"$f":"IF(OR(C21=$C$1,C21=$C$2,C21=$C$3,C21=0),0,MAX(B$1:B20)+1)","v":0}]
[{"$f":"ROW()","v":22},{"$f":"IF(OR(C22=$C$1,C22=$C$2,C22=$C$3,C22=0),0,MAX(B$1:B21)+1)","v":0}]
[{"$f":"ROW()","v":23},{"$f":"IF(OR(C23=$C$1,C23=$C$2,C23=$C$3,C23=0),0,MAX(B$1:B22)+1)","v":0}]
[{"$f":"ROW()","v":24},{"$f":"IF(OR(C24=$C$1,C24=$C$2,C24=$C$3,C24=0),0,MAX(B$1:B23)+1)","v":0}]
[{"$f":"ROW()","v":25},{"$f":"IF(OR(C25=$C$1,C25=$C$2,C25=$C$3,C25=0),0,MAX(B$1:B24)+1)","v":0}]
[{"$f":"ROW()","v":26},{"$f":"IF(OR(C26=$C$1,C26=$C$2,C26=$C$3,C26=0),0,MAX(B$1:B25)+1)","v":0}]
[{"$f":"ROW()","v":27},{"$f":"IF(OR(C27=$C$1,C27=$C$2,C27=$C$3,C27=0),0,MAX(B$1:B26)+1)","v":0}]
[{"$f":"ROW()","v":28},{"$f":"IF(OR(C28=$C$1,C28=$C$2,C28=$C$3,C28=0),0,MAX(B$1:B27)+1)","v":0}]
[{"$f":"ROW()","v":29},{"$f":"IF(OR(C29=$C$1,C29=$C$2,C29=$C$3,C29=0),0,MAX(B$1:B28)+1)","v":0}]
[{"$f":"ROW()","v":30},{"$f":"IF(OR(C30=$C$1,C30=$C$2,C30=$C$3,C30=0),0,MAX(B$1:B29)+1)","v":0}]
[{"$f":"ROW()","v":31},{"$f":"IF(OR(C31=$C$1,C31=$C$2,C31=$C$3,C31=0),0,MAX(B$1:B30)+1)","v":0}]
[{"$f":"ROW()","v":32},{"$f":"IF(OR(C32=$C$1,C32=$C$2,C32=$C$3,C32=0),0,MAX(B$1:B31)+1)","v":0}]
[{"$f":"ROW()","v":33},{"$f":"IF(OR(C33=$C$1,C33=$C$2,C33=$C$3,C33=0),0,MAX(B$1:B32)+1)","v":0}]
[{"$f":"ROW()","v":34},{"$f":"IF(OR(C34=$C$1,C34=$C$2,C34=$C$3,C34=0),0,MAX(B$1:B33)+1)","v":0}]
[{"$f":"ROW()","v":35},{"$f":"IF(OR(C35=$C$1,C35=$C$2,C35=$C$3,C35=0),0,MAX(B$1:B34)+1)","v":0}]
[{"$f":"ROW()","v":36},{"$f":"IF(OR(C36=$C$1,C36=$C$2,C36=$C$3,C36=0),0,MAX(B$1:B35)+1)","v":0}]
[{"$f":"ROW()","v":37},{"$f":"IF(OR(C37=$C$1,C37=$C$2,C37=$C$3,C37=0),0,MAX(B$1:B36)+1)","v":0}]
[{"$f":"ROW()","v":38},{"$f":"IF(OR(C38=$C$1,C38=$C$2,C38=$C$3,C38=0),0,MAX(B$1:B37)+1)","v":0}]
[{"$f":"ROW()","v":39},{"$f":"IF(OR(C39=$C$1,C39=$C$2,C39=$C$3,C39=0),0,MAX(B$1:B38)+1)","v":0}]
[{"$f":"ROW()","v":40},{"$f":"IF(OR(C40=$C$1,C40=$C$2,C40=$C$3,C40=0),0,MAX(B$1:B39)+1)","v":0}]
[{"$f":"ROW()","v":41},{"$f":"IF(OR(C41=$C$1,C41=$C$2,C41=$C$3,C41=0),0,MAX(B$1:B40)+1)","v":0}]
[{"$f":"ROW()","v":42},{"$f":"IF(OR(C42=$C$1,C42=$C$2,C42=$C$3,C42=0),0,MAX(B$1:B41)+1)","v":0}]
[{"$f":"ROW()","v":43},{"$f":"IF(OR(C43=$C$1,C43=$C$2,C43=$C$3,C43=0),0,MAX(B$1:B42)+1)","v":0}]
[{"$f":"ROW()","v":44},{"$f":"IF(OR(C44=$C$1,C44=$C$2,C44=$C$3,C44=0),0,MAX(B$1:B43)+1)","v":0}]
[{"$f":"ROW()","v":45},{"$f":"IF(OR(C45=$C$1,C45=$C$2,C45=$C$3,C45=0),0,MAX(B$1:B44)+1)","v":0}]
[{"$f":"ROW()","v":46},{"$f":"IF(OR(C46=$C$1,C46=$C$2,C46=$C$3,C46=0),0,MAX(B$1:B45)+1)","v":0}]
[{"$f":"ROW()","v":47},{"$f":"IF(OR(C47=$C$1,C47=$C$2,C47=$C$3,C47=0),0,MAX(B$1:B46)+1)","v":0}]
[{"$f":"ROW()","v":48},{"$f":"IF(OR(C48=$C$1,C48=$C$2,C48=$C$3,C48=0),0,MAX(B$1:B47)+1)","v":0}]
[{"$f":"ROW()","v":49},{"$f":"IF(OR(C49=$C$1,C49=$C$2,C49=$C$3,C49=0),0,MAX(B$1:B48)+1)","v":0}]
[{"$f":"ROW()","v":50},{"$f":"IF(OR(C50=$C$1,C50=$C$2,C50=$C$3,C50=0),0,MAX(B$1:B49)+1)","v":0}]
[{"$f":"ROW()","v":51},{"$f":"IF(OR(C51=$C$1,C51=$C$2,C51=$C$3,C51=0),0,MAX(B$1:B50)+1)","v":0}]
[{"$f":"ROW()","v":52},{"$f":"IF(OR(C52=$C$1,C52=$C$2,C52=$C$3,C52=0),0,MAX(B$1:B51)+1)","v":0}]
[{"$f":"ROW()","v":53},{"$f":"IF(OR(C53=$C$1,C53=$C$2,C53=$C$3,C53=0),0,MAX(B$1:B52)+1)","v":0}]
[{"$f":"ROW()","v":54},{"$f":"IF(OR(C54=$C$1,C54=$C$2,C54=$C$3,C54=0),0,MAX(B$1:B53)+1)","v":0}]
[{"$f":"ROW()","v":55},{"$f":"IF(OR(C55=$C$1,C55=$C$2,C55=$C$3,C55=0),0,MAX(B$1:B54)+1)","v":0}]
[{"$f":"ROW()","v":56},{"$f":"IF(OR(C56=$C$1,C56=$C$2,C56=$C$3,C56=0),0,MAX(B$1:B55)+1)","v":0}]
[{"$f":"ROW()","v":57},{"$f":"IF(OR(C57=$C$1,C57=$C$2,C57=$C$3,C57=0),0,MAX(B$1:B56)+1)","v":0}]
[{"$f":"ROW()","v":58},{"$f":"IF(OR(C58=$C$1,C58=$C$2,C58=$C$3,C58=0),0,MAX(B$1:B57)+1)","v":0}]
[{"$f":"ROW()","v":59},{"$f":"IF(OR(C59=$C$1,C59=$C$2,C59=$C$3,C59=0),0,MAX(B$1:B58)+1)","v":0}]
[{"$f":"ROW()","v":60},{"$f":"IF(OR(C60=$C$1,C60=$C$2,C60=$C$3,C60=0),0,MAX(B$1:B59)+1)","v":0}]
[{"$f":"ROW()","v":61},{"$f":"IF(OR(C61=$C$1,C61=$C$2,C61=$C$3,C61=0),0,MAX(B$1:B60)+1)","v":0}]
[{"$f":"ROW()","v":62},{"$f":"IF(OR(C62=$C$1,C62=$C$2,C62=$C$3,C62=0),0,MAX(B$1:B61)+1)","v":0}]
[{"$f":"ROW()","v":63},{"$f":"IF(OR(C63=$C$1,C63=$C$2,C63=$C$3,C63=0),0,MAX(B$1:B62)+1)","v":0}]
[{"$f":"ROW()","v":64},{"$f":"IF(OR(C64=$C$1,C64=$C$2,C64=$C$3,C64=0),0,MAX(B$1:B63)+1)","v":0}]
[{"$f":"ROW()","v":65},{"$f":"IF(OR(C65=$C$1,C65=$C$2,C65=$C$3,C65=0),0,MAX(B$1:B64)+1)","v":0}]
[{"$f":"ROW()","v":66},{"$f":"IF(OR(C66=$C$1,C66=$C$2,C66=$C$3,C66=0),0,MAX(B$1:B65)+1)","v":0}]
[{"$f":"ROW()","v":67},{"$f":"IF(OR(C67=$C$1,C67=$C$2,C67=$C$3,C67=0),0,MAX(B$1:B66)+1)","v":0}]
[{"$f":"ROW()","v":68},{"$f":"IF(OR(C68=$C$1,C68=$C$2,C68=$C$3,C68=0),0,MAX(B$1:B67)+1)","v":0}]
[{"$f":"ROW()","v":69},{"$f":"IF(OR(C69=$C$1,C69=$C$2,C69=$C$3,C69=0),0,MAX(B$1:B68)+1)","v":0}]
[{"$f":"ROW()","v":70},{"$f":"IF(OR(C70=$C$1,C70=$C$2,C70=$C$3,C70=0),0,MAX(B$1:B69)+1)","v":0}]
[{"$f":"ROW()","v":71},{"$f":"IF(OR(C71=$C$1,C71=$C$2,C71=$C$3,C71=0),0,MAX(B$1:B70)+1)","v":0}]
[{"$f":"ROW()","v":72},{"$f":"IF(OR(C72=$C$1,C72=$C$2,C72=$C$3,C72=0),0,MAX(B$1:B71)+1)","v":0}]
[{"$f":"ROW()","v":73},{"$f":"IF(OR(C73=$C$1,C73=$C$2,C73=$C$3,C73=0),0,MAX(B$1:B72)+1)","v":0}]
[{"$f":"ROW()","v":74},{"$f":"IF(OR(C74=$C$1,C74=$C$2,C74=$C$3,C74=0),0,MAX(B$1:B73)+1)","v":0}]
[{"$f":"ROW()","v":75},{"$f":"IF(OR(C75=$C$1,C75=$C$2,C75=$C$3,C75=0),0,MAX(B$1:B74)+1)","v":0}]
[{"$f":"ROW()","v":76},{"$f":"IF(OR(C76=$C$1,C76=$C$2,C76=$C$3,C76=0),0,MAX(B$1:B75)+1)","v":0}]
[{"$f":"ROW()","v":77},{"$f":"IF(OR(C77=$C$1,C77=$C$2,C77=$C$3,C77=0),0,MAX(B$1:B76)+1)","v":0}]
[{"$f":"ROW()","v":78},{"$f":"IF(OR(C78=$C$1,C78=$C$2,C78=$C$3,C78=0),0,MAX(B$1:B77)+1)","v":0}]
[{"$f":"ROW()","v":79},{"$f":"IF(OR(C79=$C$1,C79=$C$2,C79=$C$3,C79=0),0,MAX(B$1:B78)+1)","v":0}]
[{"$f":"ROW()","v":80},{"$f":"IF(OR(C80=$C$1,C80=$C$2,C80=$C$3,C80=0),0,MAX(B$1:B79)+1)","v":0}]
[{"$f":"ROW()","v":81},{"$f":"IF(OR(C81=$C$1,C81=$C$2,C81=$C$3,C81=0),0,MAX(B$1:B80)+1)","v":0}]
[{"$f":"ROW()","v":82},{"$f":"IF(OR(C82=$C$1,C82=$C$2,C82=$C$3,C82=0),0,MAX(B$1:B81)+1)","v":0}]
[{"$f":"ROW()","v":83},{"$f":"IF(OR(C83=$C$1,C83=$C$2,C83=$C$3,C83=0),0,MAX(B$1:B82)+1)","v":0}]
[{"$f":"ROW()","v":84},{"$f":"IF(OR(C84=$C$1,C84=$C$2,C84=$C$3,C84=0),0,MAX(B$1:B83)+1)","v":0}]
[{"$f":"ROW()","v":85},{"$f":"IF(OR(C85=$C$1,C85=$C$2,C85=$C$3,C85=0),0,MAX(B$1:B84)+1)","v":0}]
[{"$f":"ROW()","v":86},{"$f":"IF(OR(C86=$C$1,C86=$C$2,C86=$C$3,C86=0),0,MAX(B$1:B85)+1)","v":0}]
[{"$f":"ROW()","v":87},{"$f":"IF(OR(C87=$C$1,C87=$C$2,C87=$C$3,C87=0),0,MAX(B$1:B86)+1)","v":0}]
[{"$f":"ROW()","v":88},{"$f":"IF(OR(C88=$C$1,C88=$C$2,C88=$C$3,C88=0),0,MAX(B$1:B87)+1)","v":0}]
[{"$f":"ROW()","v":89},{"$f":"IF(OR(C89=$C$1,C89=$C$2,C89=$C$3,C89=0),0,MAX(B$1:B88)+1)","v":0}]
[{"$f":"ROW()","v":90},{"$f":"IF(OR(C90=$C$1,C90=$C$2,C90=$C$3,C90=0),0,MAX(B$1:B89)+1)","v":0}]
[{"$f":"ROW()","v":91},{"$f":"IF(OR(C91=$C$1,C91=$C$2,C91=$C$3,C91=0),0,MAX(B$1:B90)+1)","v":0}]
[{"$f":"ROW()","v":92},{"$f":"IF(OR(C92=$C$1,C92=$C$2,C92=$C$3,C92=0),0,MAX(B$1:B91)+1)","v":0}]
[{"$f":"ROW()","v":93},{"$f":"IF(OR(C93=$C$1,C93=$C$2,C93=$C$3,C93=0),0,MAX(B$1:B92)+1)","v":0}]
[{"$f":"ROW()","v":94},{"$f":"IF(OR(C94=$C$1,C94=$C$2,C94=$C$3,C94=0),0,MAX(B$1:B93)+1)","v":0}]
[{"$f":"ROW()","v":95},{"$f":"IF(OR(C95=$C$1,C95=$C$2,C95=$C$3,C95=0),0,MAX(B$1:B94)+1)","v":0}]
[{"$f":"ROW()","v":96},{"$f":"IF(OR(C96=$C$1,C96=$C$2,C96=$C$3,C96=0),0,MAX(B$1:B95)+1)","v":0}]
[{"$f":"ROW()","v":97},{"$f":"IF(OR(C97=$C$1,C97=$C$2,C97=$C$3,C97=0),0,MAX(B$1:B96)+1)","v":0}]
[{"$f":"ROW()","v":98},{"$f":"IF(OR(C98=$C$1,C98=$C$2,C98=$C$3,C98=0),0,MAX(B$1:B97)+1)","v":0}]
[{"$f":"ROW()","v":99},{"$f":"IF(OR(C99=$C$1,C99=$C$2,C99=$C$3,C99=0),0,MAX(B$1:B98)+1)","v":0}]
[{"$f":"ROW()","v":100},{"$f":"IF(OR(C100=$C$1,C100=$C$2,C100=$C$3,C100=0),0,MAX(B$1:B99)+1)","v":0}]
[{"$f":"ROW()","v":101},{"$f":"IF(OR(C101=$C$1,C101=$C$2,C101=$C$3,C101=0),0,MAX(B$1:B100)+1)","v":0}]
[{"$f":"ROW()","v":102},{"$f":"IF(OR(C102=$C$1,C102=$C$2,C102=$C$3,C102=0),0,MAX(B$1:B101)+1)","v":0}]
[{"$f":"ROW()","v":103},{"$f":"IF(OR(C103=$C$1,C103=$C$2,C103=$C$3,C103=0),0,MAX(B$1:B102)+1)","v":0}]
[{"$f":"ROW()","v":104},{"$f":"IF(OR(C104=$C$1,C104=$C$2,C104=$C$3,C104=0),0,MAX(B$1:B103)+1)","v":0}]
[{"$f":"ROW()","v":105},{"$f":"IF(OR(C105=$C$1,C105=$C$2,C105=$C$3,C105=0),0,MAX(B$1:B104)+1)","v":0}]
[{"$f":"ROW()","v":106},{"$f":"IF(OR(C106=$C$1,C106=$C$2,C106=$C$3,C106=0),0,MAX(B$1:B105)+1)","v":0}]
[{"$f":"ROW()","v":107},{"$f":"IF(OR(C107=$C$1,C107=$C$2,C107=$C$3,C107=0),0,MAX(B$1:B106)+1)","v":0}]
[{"$f":"ROW()","v":108},{"$f":"IF(OR(C108=$C$1,C108=$C$2,C108=$C$3,C108=0),0,MAX(B$1:B107)+1)","v":0}]
[{"$f":"ROW()","v":109},{"$f":"IF(OR(C109=$C$1,C109=$C$2,C109=$C$3,C109=0),0,MAX(B$1:B108)+1)","v":0}]
[{"$f":"ROW()","v":110},{"$f":"IF(OR(C110=$C$1,C110=$C$2,C110=$C$3,C110=0),0,MAX(B$1:B109)+1)","v":0}]
[{"$f":"ROW()","v":111},{"$f":"IF(OR(C111=$C$1,C111=$C$2,C111=$C$3,C111=0),0,MAX(B$1:B110)+1)","v":0}]
[{"$f":"ROW()","v":112},{"$f":"IF(OR(C112=$C$1,C112=$C$2,C112=$C$3,C112=0),0,MAX(B$1:B111)+1)","v":0}]
[{"$f":"ROW()","v":113},{"$f":"IF(OR(C113=$C$1,C113=$C$2,C113=$C$3,C113=0),0,MAX(B$1:B112)+1)","v":0}]
[{"$f":"ROW()","v":114},{"$f":"IF(OR(C114=$C$1,C114=$C$2,C114=$C$3,C114=0),0,MAX(B$1:B113)+1)","v":0}]
[{"$f":"ROW()","v":115},{"$f":"IF(OR(C115=$C$1,C115=$C$2,C115=$C$3,C115=0),0,MAX(B$1:B114)+1)","v":0}]
[{"$f":"ROW()","v":116},{"$f":"IF(OR(C116=$C$1,C116=$C$2,C116=$C$3,C116=0),0,MAX(B$1:B115)+1)","v":0}]
[{"$f":"ROW()","v":117},{"$f":"IF(OR(C117=$C$1,C117=$C$2,C117=$C$3,C117=0),0,MAX(B$1:B116)+1)","v":0}]
[{"$f":"ROW()","v":118},{"$f":"IF(OR(C118=$C$1,C118=$C$2,C118=$C$3,C118=0),0,MAX(B$1:B117)+1)","v":0}]
[{"$f":"ROW()","v":119},{"$f":"IF(OR(C119=$C$1,C119=$C$2,C119=$C$3,C119=0),0,MAX(B$1:B118)+1)","v":0}]
[{"$f":"ROW()","v":120},{"$f":"IF(OR(C120=$C$1,C120=$C$2,C120=$C$3,C120=0),0,MAX(B$1:B119)+1)","v":0}]
[{"$f":"ROW()","v":121},{"$f":"IF(OR(C121=$C$1,C121=$C$2,C121=$C$3,C121=0),0,MAX(B$1:B120)+1)","v":0}]
[{"$f":"ROW()","v":122},{"$f":"IF(OR(C122=$C$1,C122=$C$2,C122=$C$3,C122=0),0,MAX(B$1:B121)+1)","v":0}]
[{"$f":"ROW()","v":123},{"$f":"IF(OR(C123=$C$1,C123=$C$2,C123=$C$3,C123=0),0,MAX(B$1:B122)+1)","v":0}]
[{"$f":"ROW()","v":124},{"$f":"IF(OR(C124=$C$1,C124=$C$2,C124=$C$3,C124=0),0,MAX(B$1:B123)+1)","v":0}]
[{"$f":"ROW()","v":125},{"$f":"IF(OR(C125=$C$1,C125=$C$2,C125=$C$3,C125=0),0,MAX(B$1:B124)+1)","v":0}]
[{"$f":"ROW()","v":126},{"$f":"IF(OR(C126=$C$1,C126=$C$2,C126=$C$3,C126=0),0,MAX(B$1:B125)+1)","v":0}]
[{"$f":"ROW()","v":127},{"$f":"IF(OR(C127=$C$1,C127=$C$2,C127=$C$3,C127=0),0,MAX(B$1:B126)+1)","v":0}]
[{"$f":"ROW()","v":128},{"$f":"IF(OR(C128=$C$1,C128=$C$2,C128=$C$3,C128=0),0,MAX(B$1:B127)+1)","v":0}]
[{"$f":"ROW()","v":129},{"$f":"IF(OR(C129=$C$1,C129=$C$2,C129=$C$3,C129=0),0,MAX(B$1:B128)+1)","v":0}]
[{"$f":"ROW()","v":130},{"$f":"IF(OR(C130=$C$1,C130=$C$2,C130=$C$3,C130=0),0,MAX(B$1:B129)+1)","v":0}]
[{"$f":"ROW()","v":131},{"$f":"IF(OR(C131=$C$1,C131=$C$2,C131=$C$3,C131=0),0,MAX(B$1:B130)+1)","v":0}]
[{"$f":"ROW()","v":132},{"$f":"IF(OR(C132=$C$1,C132=$C$2,C132=$C$3,C132=0),0,MAX(B$1:B131)+1)","v":0}]
[{"$f":"ROW()","v":133},{"$f":"IF(OR(C133=$C$1,C133=$C$2,C133=$C$3,C133=0),0,MAX(B$1:B132)+1)","v":0}]
[{"$f":"ROW()","v":134},{"$f":"IF(OR(C134=$C$1,C134=$C$2,C134=$C$3,C134=0),0,MAX(B$1:B133)+1)","v":0}]
[{"$f":"ROW()","v":135},{"$f":"IF(OR(C135=$C$1,C135=$C$2,C135=$C$3,C135=0),0,MAX(B$1:B134)+1)","v":0}]
[{"$f":"ROW()","v":136},{"$f":"IF(OR(C136=$C$1,C136=$C$2,C136=$C$3,C136=0),0,MAX(B$1:B135)+1)","v":0}]
[{"$f":"ROW()","v":137},{"$f":"IF(OR(C137=$C$1,C137=$C$2,C137=$C$3,C137=0),0,MAX(B$1:B136)+1)","v":0}]
[{"$f":"ROW()","v":138},{"$f":"IF(OR(C138=$C$1,C138=$C$2,C138=$C$3,C138=0),0,MAX(B$1:B137)+1)","v":0}]
[{"$f":"ROW()","v":139},{"$f":"IF(OR(C139=$C$1,C139=$C$2,C139=$C$3,C139=0),0,MAX(B$1:B138)+1)","v":0}]
[{"$f":"ROW()","v":140},{"$f":"IF(OR(C140=$C$1,C140=$C$2,C140=$C$3,C140=0),0,MAX(B$1:B139)+1)","v":0}]
[{"$f":"ROW()","v":141},{"$f":"IF(OR(C141=$C$1,C141=$C$2,C141=$C$3,C141=0),0,MAX(B$1:B140)+1)","v":0}]
[{"$f":"ROW()","v":142},{"$f":"IF(OR(C142=$C$1,C142=$C$2,C142=$C$3,C142=0),0,MAX(B$1:B141)+1)","v":0}]
[{"$f":"ROW()","v":143},{"$f":"IF(OR(C143=$C$1,C143=$C$2,C143=$C$3,C143=0),0,MAX(B$1:B142)+1)","v":0}]
[{"$f":"ROW()","v":144},{"$f":"IF(OR(C144=$C$1,C144=$C$2,C144=$C$3,C144=0),0,MAX(B$1:B143)+1)","v":0}]
[{"$f":"ROW()","v":145},{"$f":"IF(OR(C145=$C$1,C145=$C$2,C145=$C$3,C145=0),0,MAX(B$1:B144)+1)","v":0}]
[{"$f":"ROW()","v":146},{"$f":"IF(OR(C146=$C$1,C146=$C$2,C146=$C$3,C146=0),0,MAX(B$1:B145)+1)","v":0}]
[{"$f":"ROW()","v":147},{"$f":"IF(OR(C147=$C$1,C147=$C$2,C147=$C$3,C147=0),0,MAX(B$1:B146)+1)","v":0}]
[{"$f":"ROW()","v":148},{"$f":"IF(OR(C148=$C$1,C148=$C$2,C148=$C$3,C148=0),0,MAX(B$1:B147)+1)","v":0}]
[{"$f":"ROW()","v":149},{"$f":"IF(OR(C149=$C$1,C149=$C$2,C149=$C$3,C149=0),0,MAX(B$1:B148)+1)","v":0}]
[{"$f":"ROW()","v":150},{"$f":"IF(OR(C150=$C$1,C150=$C$2,C150=$C$3,C150=0),0,MAX(B$1:B149)+1)","v":0}]
[{"$f":"ROW()","v":151},{"$f":"IF(OR(C151=$C$1,C151=$C$2,C151=$C$3,C151=0),0,MAX(B$1:B150)+1)","v":0}]
[{"$f":"ROW()","v":152},{"$f":"IF(OR(C152=$C$1,C152=$C$2,C152=$C$3,C152=0),0,MAX(B$1:B151)+1)","v":0}]
[{"$f":"ROW()","v":153},{"$f":"IF(OR(C153=$C$1,C153=$C$2,C153=$C$3,C153=0),0,MAX(B$1:B152)+1)","v":0}]
[{"$f":"ROW()","v":154},{"$f":"IF(OR(C154=$C$1,C154=$C$2,C154=$C$3,C154=0),0,MAX(B$1:B153)+1)","v":0}]
[{"$f":"ROW()","v":155},{"$f":"IF(OR(C155=$C$1,C155=$C$2,C155=$C$3,C155=0),0,MAX(B$1:B154)+1)","v":0}]
[{"$f":"ROW()","v":156},{"$f":"IF(OR(C156=$C$1,C156=$C$2,C156=$C$3,C156=0),0,MAX(B$1:B155)+1)","v":0}]
[{"$f":"ROW()","v":157},{"$f":"IF(OR(C157=$C$1,C157=$C$2,C157=$C$3,C157=0),0,MAX(B$1:B156)+1)","v":0}]
[{"$f":"ROW()","v":158},{"$f":"IF(OR(C158=$C$1,C158=$C$2,C158=$C$3,C158=0),0,MAX(B$1:B157)+1)","v":0}]
[{"$f":"ROW()","v":159},{"$f":"IF(OR(C159=$C$1,C159=$C$2,C159=$C$3,C159=0),0,MAX(B$1:B158)+1)","v":0}]
[{"$f":"ROW()","v":160},{"$f":"IF(OR(C160=$C$1,C160=$C$2,C160=$C$3,C160=0),0,MAX(B$1:B159)+1)","v":0}]
[{"$f":"ROW()","v":161},{"$f":"IF(OR(C161=$C$1,C161=$C$2,C161=$C$3,C161=0),0,MAX(B$1:B160)+1)","v":0}]
[{"$f":"ROW()","v":162},{"$f":"IF(OR(C162=$C$1,C162=$C$2,C162=$C$3,C162=0),0,MAX(B$1:B161)+1)","v":0}]
[{"$f":"ROW()","v":163},{"$f":"IF(OR(C163=$C$1,C163=$C$2,C163=$C$3,C163=0),0,MAX(B$1:B162)+1)","v":0}]
[{"$f":"ROW()","v":164},{"$f":"IF(OR(C164=$C$1,C164=$C$2,C164=$C$3,C164=0),0,MAX(B$1:B163)+1)","v":0}]
[{"$f":"ROW()","v":165},{"$f":"IF(OR(C165=$C$1,C165=$C$2,C165=$C$3,C165=0),0,MAX(B$1:B164)+1)","v":0}]
[{"$f":"ROW()","v":166},{"$f":"IF(OR(C166=$C$1,C166=$C$2,C166=$C$3,C166=0),0,MAX(B$1:B165)+1)","v":0}]
[{"$f":"ROW()","v":167},{"$f":"IF(OR(C167=$C$1,C167=$C$2,C167=$C$3,C167=0),0,MAX(B$1:B166)+1)","v":0}]
[{"$f":"ROW()","v":168},{"$f":"IF(OR(C168=$C$1,C168=$C$2,C168=$C$3,C168=0),0,MAX(B$1:B167)+1)","v":0}]
[{"$f":"ROW()","v":169},{"$f":"IF(OR(C169=$C$1,C169=$C$2,C169=$C$3,C169=0),0,MAX(B$1:B168)+1)","v":0}]
[{"$f":"ROW()","v":170},{"$f":"IF(OR(C170=$C$1,C170=$C$2,C170=$C$3,C170=0),0,MAX(B$1:B169)+1)","v":0}]
[{"$f":"ROW()","v":171},{"$f":"IF(OR(C171=$C$1,C171=$C$2,C171=$C$3,C171=0),0,MAX(B$1:B170)+1)","v":0}]
[{"$f":"ROW()","v":172},{"$f":"IF(OR(C172=$C$1,C172=$C$2,C172=$C$3,C172=0),0,MAX(B$1:B171)+1)","v":0}]
[{"$f":"ROW()","v":173},{"$f":"IF(OR(C173=$C$1,C173=$C$2,C173=$C$3,C173=0),0,MAX(B$1:B172)+1)","v":0}]
[{"$f":"ROW()","v":174},{"$f":"IF(OR(C174=$C$1,C174=$C$2,C174=$C$3,C174=0),0,MAX(B$1:B173)+1)","v":0}]
[{"$f":"ROW()","v":175},{"$f":"IF(OR(C175=$C$1,C175=$C$2,C175=$C$3,C175=0),0,MAX(B$1:B174)+1)","v":0}]
[{"$f":"ROW()","v":176},{"$f":"IF(OR(C176=$C$1,C176=$C$2,C176=$C$3,C176=0),0,MAX(B$1:B175)+1)","v":0}]
[{"$f":"ROW()","v":177},{"$f":"IF(OR(C177=$C$1,C177=$C$2,C177=$C$3,C177=0),0,MAX(B$1:B176)+1)","v":0}]
[{"$f":"ROW()","v":178},{"$f":"IF(OR(C178=$C$1,C178=$C$2,C178=$C$3,C178=0),0,MAX(B$1:B177)+1)","v":0}]
[{"$f":"ROW()","v":179},{"$f":"IF(OR(C179=$C$1,C179=$C$2,C179=$C$3,C179=0),0,MAX(B$1:B178)+1)","v":0}]
[{"$f":"ROW()","v":180},{"$f":"IF(OR(C180=$C$1,C180=$C$2,C180=$C$3,C180=0),0,MAX(B$1:B179)+1)","v":0}]
[{"$f":"ROW()","v":181},{"$f":"IF(OR(C181=$C$1,C181=$C$2,C181=$C$3,C181=0),0,MAX(B$1:B180)+1)","v":0}]
[{"$f":"ROW()","v":182},{"$f":"IF(OR(C182=$C$1,C182=$C$2,C182=$C$3,C182=0),0,MAX(B$1:B181)+1)","v":0}]
[{"$f":"ROW()","v":183},{"$f":"IF(OR(C183=$C$1,C183=$C$2,C183=$C$3,C183=0),0,MAX(B$1:B182)+1)","v":0}]
[{"$f":"ROW()","v":184},{"$f":"IF(OR(C184=$C$1,C184=$C$2,C184=$C$3,C184=0),0,MAX(B$1:B183)+1)","v":0}]
[{"$f":"ROW()","v":185},{"$f":"IF(OR(C185=$C$1,C185=$C$2,C185=$C$3,C185=0),0,MAX(B$1:B184)+1)","v":0}]
[{"$f":"ROW()","v":186},{"$f":"IF(OR(C186=$C$1,C186=$C$2,C186=$C$3,C186=0),0,MAX(B$1:B185)+1)","v":0}]
[{"$f":"ROW()","v":187},{"$f":"IF(OR(C187=$C$1,C187=$C$2,C187=$C$3,C187=0),0,MAX(B$1:B186)+1)","v":0}]
[{"$f":"ROW()","v":188},{"$f":"IF(OR(C188=$C$1,C188=$C$2,C188=$C$3,C188=0),0,MAX(B$1:B187)+1)","v":0}]
[{"$f":"ROW()","v":189},{"$f":"IF(OR(C189=$C$1,C189=$C$2,C189=$C$3,C189=0),0,MAX(B$1:B188)+1)","v":0}]
[{"$f":"ROW()","v":190},{"$f":"IF(OR(C190=$C$1,C190=$C$2,C190=$C$3,C190=0),0,MAX(B$1:B189)+1)","v":0}]
[{"$f":"ROW()","v":191},{"$f":"IF(OR(C191=$C$1,C191=$C$2,C191=$C$3,C191=0),0,MAX(B$1:B190)+1)","v":0}]
[{"$f":"ROW()","v":192},{"$f":"IF(OR(C192=$C$1,C192=$C$2,C192=$C$3,C192=0),0,MAX(B$1:B191)+1)","v":0}]
[{"$f":"ROW()","v":193},{"$f":"IF(OR(C193=$C$1,C193=$C$2,C193=$C$3,C193=0),0,MAX(B$1:B192)+1)","v":0}]
[{"$f":"ROW()","v":194},{"$f":"IF(OR(C194=$C$1,C194=$C$2,C194=$C$3,C194=0),0,MAX(B$1:B193)+1)","v":0}]
[{"$f":"ROW()","v":195},{"$f":"IF(OR(C195=$C$1,C195=$C$2,C195=$C$3,C195=0),0,MAX(B$1:B194)+1)","v":0}]
[{"$f":"ROW()","v":196},{"$f":"IF(OR(C196=$C$1,C196=$C$2,C196=$C$3,C196=0),0,MAX(B$1:B195)+1)","v":0}]
[{"$f":"ROW()","v":197},{"$f":"IF(OR(C197=$C$1,C197=$C$2,C197=$C$3,C197=0),0,MAX(B$1:B196)+1)","v":0}]
[{"$f":"ROW()","v":198},{"$f":"IF(OR(C198=$C$1,C198=$C$2,C198=$C$3,C198=0),0,MAX(B$1:B197)+1)","v":0}]
[{"$f":"ROW()","v":199},{"$f":"IF(OR(C199=$C$1,C199=$C$2,C199=$C$3,C199=0),0,MAX(B$1:B198)+1)","v":0}]
[{"$f":"ROW()","v":200},{"$f":"IF(OR(C200=$C$1,C200=$C$2,C200=$C$3,C200=0),0,MAX(B$1:B199)+1)","v":0}]
[{"$f":"ROW()","v":201},{"$f":"IF(OR(C201=$C$1,C201=$C$2,C201=$C$3,C201=0),0,MAX(B$1:B200)+1)","v":0}]
[{"$f":"ROW()","v":202},{"$f":"IF(OR(C202=$C$1,C202=$C$2,C202=$C$3,C202=0),0,MAX(B$1:B201)+1)","v":0}]
[{"$f":"ROW()","v":203},{"$f":"IF(OR(C203=$C$1,C203=$C$2,C203=$C$3,C203=0),0,MAX(B$1:B202)+1)","v":0}]
[{"$f":"ROW()","v":204},{"$f":"IF(OR(C204=$C$1,C204=$C$2,C204=$C$3,C204=0),0,MAX(B$1:B203)+1)","v":0}]
[{"$f":"ROW()","v":205},{"$f":"IF(OR(C205=$C$1,C205=$C$2,C205=$C$3,C205=0),0,MAX(B$1:B204)+1)","v":0}]
[{"$f":"ROW()","v":206},{"$f":"IF(OR(C206=$C$1,C206=$C$2,C206=$C$3,C206=0),0,MAX(B$1:B205)+1)","v":0}]
[{"$f":"ROW()","v":207},{"$f":"IF(OR(C207=$C$1,C207=$C$2,C207=$C$3,C207=0),0,MAX(B$1:B206)+1)","v":0}]
[{"$f":"ROW()","v":208},{"$f":"IF(OR(C208=$C$1,C208=$C$2,C208=$C$3,C208=0),0,MAX(B$1:B207)+1)","v":0}]
[{"$f":"ROW()","v":209},{"$f":"IF(OR(C209=$C$1,C209=$C$2,C209=$C$3,C209=0),0,MAX(B$1:B208)+1)","v":0}]
[{"$f":"ROW()","v":210},{"$f":"IF(OR(C210=$C$1,C210=$C$2,C210=$C$3,C210=0),0,MAX(B$1:B209)+1)","v":0}]
[{"$f":"ROW()","v":211},{"$f":"IF(OR(C211=$C$1,C211=$C$2,C211=$C$3,C211=0),0,MAX(B$1:B210)+1)","v":0}]
[{"$f":"ROW()","v":212},{"$f":"IF(OR(C212=$C$1,C212=$C$2,C212=$C$3,C212=0),0,MAX(B$1:B211)+1)","v":0}]
[{"$f":"ROW()","v":213},{"$f":"IF(OR(C213=$C$1,C213=$C$2,C213=$C$3,C213=0),0,MAX(B$1:B212)+1)","v":0}]
[{"$f":"ROW()","v":214},{"$f":"IF(OR(C214=$C$1,C214=$C$2,C214=$C$3,C214=0),0,MAX(B$1:B213)+1)","v":0}]
[{"$f":"ROW()","v":215},{"$f":"IF(OR(C215=$C$1,C215=$C$2,C215=$C$3,C215=0),0,MAX(B$1:B214)+1)","v":0}]
[{"$f":"ROW()","v":216},{"$f":"IF(OR(C216=$C$1,C216=$C$2,C216=$C$3,C216=0),0,MAX(B$1:B215)+1)","v":0}]
[{"$f":"ROW()","v":217},{"$f":"IF(OR(C217=$C$1,C217=$C$2,C217=$C$3,C217=0),0,MAX(B$1:B216)+1)","v":0}]
[{"$f":"ROW()","v":218},{"$f":"IF(OR(C218=$C$1,C218=$C$2,C218=$C$3,C218=0),0,MAX(B$1:B217)+1)","v":0}]
[{"$f":"ROW()","v":219},{"$f":"IF(OR(C219=$C$1,C219=$C$2,C219=$C$3,C219=0),0,MAX(B$1:B218)+1)","v":0}]
[{"$f":"ROW()","v":220},{"$f":"IF(OR(C220=$C$1,C220=$C$2,C220=$C$3,C220=0),0,MAX(B$1:B219)+1)","v":0}]
[{"$f":"ROW()","v":221},{"$f":"IF(OR(C221=$C$1,C221=$C$2,C221=$C$3,C221=0),0,MAX(B$1:B220)+1)","v":0}]
[{"$f":"ROW()","v":222},{"$f":"IF(OR(C222=$C$1,C222=$C$2,C222=$C$3,C222=0),0,MAX(B$1:B221)+1)","v":0}]
[{"$f":"ROW()","v":223},{"$f":"IF(OR(C223=$C$1,C223=$C$2,C223=$C$3,C223=0),0,MAX(B$1:B222)+1)","v":0}]
[{"$f":"ROW()","v":224},{"$f":"IF(OR(C224=$C$1,C224=$C$2,C224=$C$3,C224=0),0,MAX(B$1:B223)+1)","v":0}]
[{"$f":"ROW()","v":225},{"$f":"IF(OR(C225=$C$1,C225=$C$2,C225=$C$3,C225=0),0,MAX(B$1:B224)+1)","v":0}]
[{"$f":"ROW()","v":226},{"$f":"IF(OR(C226=$C$1,C226=$C$2,C226=$C$3,C226=0),0,MAX(B$1:B225)+1)","v":0}]
[{"$f":"ROW()","v":227},{"$f":"IF(OR(C227=$C$1,C227=$C$2,C227=$C$3,C227=0),0,MAX(B$1:B226)+1)","v":0}]
[{"$f":"ROW()","v":228},{"$f":"IF(OR(C228=$C$1,C228=$C$2,C228=$C$3,C228=0),0,MAX(B$1:B227)+1)","v":0}]
[{"$f":"ROW()","v":229},{"$f":"IF(OR(C229=$C$1,C229=$C$2,C229=$C$3,C229=0),0,MAX(B$1:B228)+1)","v":0}]
[{"$f":"ROW()","v":230},{"$f":"IF(OR(C230=$C$1,C230=$C$2,C230=$C$3,C230=0),0,MAX(B$1:B229)+1)","v":0}]
[{"$f":"ROW()","v":231},{"$f":"IF(OR(C231=$C$1,C231=$C$2,C231=$C$3,C231=0),0,MAX(B$1:B230)+1)","v":0}]
[{"$f":"ROW()","v":232},{"$f":"IF(OR(C232=$C$1,C232=$C$2,C232=$C$3,C232=0),0,MAX(B$1:B231)+1)","v":0}]
[{"$f":"ROW()","v":233},{"$f":"IF(OR(C233=$C$1,C233=$C$2,C233=$C$3,C233=0),0,MAX(B$1:B232)+1)","v":0}]
[{"$f":"ROW()","v":234},{"$f":"IF(OR(C234=$C$1,C234=$C$2,C234=$C$3,C234=0),0,MAX(B$1:B233)+1)","v":0}]
[{"$f":"ROW()","v":235},{"$f":"IF(OR(C235=$C$1,C235=$C$2,C235=$C$3,C235=0),0,MAX(B$1:B234)+1)","v":0}]
[{"$f":"ROW()","v":236},{"$f":"IF(OR(C236=$C$1,C236=$C$2,C236=$C$3,C236=0),0,MAX(B$1:B235)+1)","v":0}]
[{"$f":"ROW()","v":237},{"$f":"IF(OR(C237=$C$1,C237=$C$2,C237=$C$3,C237=0),0,MAX(B$1:B236)+1)","v":0}]
[{"$f":"ROW()","v":238},{"$f":"IF(OR(C238=$C$1,C238=$C$2,C238=$C$3,C238=0),0,MAX(B$1:B237)+1)","v":0}]
[{"$f":"ROW()","v":239},{"$f":"IF(OR(C239=$C$1,C239=$C$2,C239=$C$3,C239=0),0,MAX(B$1:B238)+1)","v":0}]
[{"$f":"ROW()","v":240},{"$f":"IF(OR(C240=$C$1,C240=$C$2,C240=$C$3,C240=0),0,MAX(B$1:B239)+1)","v":0}]
[{"$f":"ROW()","v":241},{"$f":"IF(OR(C241=$C$1,C241=$C$2,C241=$C$3,C241=0),0,MAX(B$1:B240)+1)","v":0}]
[{"$f":"ROW()","v":242},{"$f":"IF(OR(C242=$C$1,C242=$C$2,C242=$C$3,C242=0),0,MAX(B$1:B241)+1)","v":0}]
[{"$f":"ROW()","v":243},{"$f":"IF(OR(C243=$C$1,C243=$C$2,C243=$C$3,C243=0),0,MAX(B$1:B242)+1)","v":0}]
[{"$f":"ROW()","v":244},{"$f":"IF(OR(C244=$C$1,C244=$C$2,C244=$C$3,C244=0),0,MAX(B$1:B243)+1)","v":0}]
[{"$f":"ROW()","v":245},{"$f":"IF(OR(C245=$C$1,C245=$C$2,C245=$C$3,C245=0),0,MAX(B$1:B244)+1)","v":0}]
[{"$f":"ROW()","v":246},{"$f":"IF(OR(C246=$C$1,C246=$C$2,C246=$C$3,C246=0),0,MAX(B$1:B245)+1)","v":0}]
[{"$f":"ROW()","v":247},{"$f":"IF(OR(C247=$C$1,C247=$C$2,C247=$C$3,C247=0),0,MAX(B$1:B246)+1)","v":0}]
[{"$f":"ROW()","v":248},{"$f":"IF(OR(C248=$C$1,C248=$C$2,C248=$C$3,C248=0),0,MAX(B$1:B247)+1)","v":0}]
[{"$f":"ROW()","v":249},{"$f":"IF(OR(C249=$C$1,C249=$C$2,C249=$C$3,C249=0),0,MAX(B$1:B248)+1)","v":0}]
[{"$f":"ROW()","v":250},{"$f":"IF(OR(C250=$C$1,C250=$C$2,C250=$C$3,C250=0),0,MAX(B$1:B249)+1)","v":0}]
[{"$f":"ROW()","v":251},{"$f":"IF(OR(C251=$C$1,C251=$C$2,C251=$C$3,C251=0),0,MAX(B$1:B250)+1)","v":0}]
[{"$f":"ROW()","v":252},{"$f":"IF(OR(C252=$C$1,C252=$C$2,C252=$C$3,C252=0),0,MAX(B$1:B251)+1)","v":0}]
[{"$f":"ROW()","v":253},{"$f":"IF(OR(C253=$C$1,C253=$C$2,C253=$C$3,C253=0),0,MAX(B$1:B252)+1)","v":0}]
[{"$f":"ROW()","v":254},{"$f":"IF(OR(C254=$C$1,C254=$C$2,C254=$C$3,C254=0),0,MAX(B$1:B253)+1)","v":0}]
[{"$f":"ROW()","v":255},{"$f":"IF(OR(C255=$C$1,C255=$C$2,C255=$C$3,C255=0),0,MAX(B$1:B254)+1)","v":0}]
[{"$f":"ROW()","v":256},{"$f":"IF(OR(C256=$C$1,C256=$C$2,C256=$C$3,C256=0),0,MAX(B$1:B255)+1)","v":0}]
[{"$f":"ROW()","v":257},{"$f":"IF(OR(C257=$C$1,C257=$C$2,C257=$C$3,C257=0),0,MAX(B$1:B256)+1)","v":0}]
[{"$f":"ROW()","v":258},{"$f":"IF(OR(C258=$C$1,C258=$C$2,C258=$C$3,C258=0),0,MAX(B$1:B257)+1)","v":0}]
[{"$f":"ROW()","v":259},{"$f":"IF(OR(C259=$C$1,C259=$C$2,C259=$C$3,C259=0),0,MAX(B$1:B258)+1)","v":0}]
[{"$f":"ROW()","v":260},{"$f":"IF(OR(C260=$C$1,C260=$C$2,C260=$C$3,C260=0),0,MAX(B$1:B259)+1)","v":0}]
[{"$f":"ROW()","v":261},{"$f":"IF(OR(C261=$C$1,C261=$C$2,C261=$C$3,C261=0),0,MAX(B$1:B260)+1)","v":0}]
[{"$f":"ROW()","v":262},{"$f":"IF(OR(C262=$C$1,C262=$C$2,C262=$C$3,C262=0),0,MAX(B$1:B261)+1)","v":0}]
[{"$f":"ROW()","v":263},{"$f":"IF(OR(C263=$C$1,C263=$C$2,C263=$C$3,C263=0),0,MAX(B$1:B262)+1)","v":0}]
[{"$f":"ROW()","v":264},{"$f":"IF(OR(C264=$C$1,C264=$C$2,C264=$C$3,C264=0),0,MAX(B$1:B263)+1)","v":0}]
[{"$f":"ROW()","v":265},{"$f":"IF(OR(C265=$C$1,C265=$C$2,C265=$C$3,C265=0),0,MAX(B$1:B264)+1)","v":0}]
[{"$f":"ROW()","v":266},{"$f":"IF(OR(C266=$C$1,C266=$C$2,C266=$C$3,C266=0),0,MAX(B$1:B265)+1)","v":0}]
[{"$f":"ROW()","v":267},{"$f":"IF(OR(C267=$C$1,C267=$C$2,C267=$C$3,C267=0),0,MAX(B$1:B266)+1)","v":0}]
[{"$f":"ROW()","v":268},{"$f":"IF(OR(C268=$C$1,C268=$C$2,C268=$C$3,C268=0),0,MAX(B$1:B267)+1)","v":0}]
[{"$f":"ROW()","v":269},{"$f":"IF(OR(C269=$C$1,C269=$C$2,C269=$C$3,C269=0),0,MAX(B$1:B268)+1)","v":0}]
[{"$f":"ROW()","v":270},{"$f":"IF(OR(C270=$C$1,C270=$C$2,C270=$C$3,C270=0),0,MAX(B$1:B269)+1)","v":0}]
[{"$f":"ROW()","v":271},{"$f":"IF(OR(C271=$C$1,C271=$C$2,C271=$C$3,C271=0),0,MAX(B$1:B270)+1)","v":0}]
[{"$f":"ROW()","v":272},{"$f":"IF(OR(C272=$C$1,C272=$C$2,C272=$C$3,C272=0),0,MAX(B$1:B271)+1)","v":0}]
[{"$f":"ROW()","v":273},{"$f":"IF(OR(C273=$C$1,C273=$C$2,C273=$C$3,C273=0),0,MAX(B$1:B272)+1)","v":0}]
[{"$f":"ROW()","v":274},{"$f":"IF(OR(C274=$C$1,C274=$C$2,C274=$C$3,C274=0),0,MAX(B$1:B273)+1)","v":0}]
[{"$f":"ROW()","v":275},{"$f":"IF(OR(C275=$C$1,C275=$C$2,C275=$C$3,C275=0),0,MAX(B$1:B274)+1)","v":0}]
[{"$f":"ROW()","v":276},{"$f":"IF(OR(C276=$C$1,C276=$C$2,C276=$C$3,C276=0),0,MAX(B$1:B275)+1)","v":0}]
[{"$f":"ROW()","v":277},{"$f":"IF(OR(C277=$C$1,C277=$C$2,C277=$C$3,C277=0),0,MAX(B$1:B276)+1)","v":0}]
[{"$f":"ROW()","v":278},{"$f":"IF(OR(C278=$C$1,C278=$C$2,C278=$C$3,C278=0),0,MAX(B$1:B277)+1)","v":0}]
[{"$f":"ROW()","v":279},{"$f":"IF(OR(C279=$C$1,C279=$C$2,C279=$C$3,C279=0),0,MAX(B$1:B278)+1)","v":0}]
[{"$f":"ROW()","v":280},{"$f":"IF(OR(C280=$C$1,C280=$C$2,C280=$C$3,C280=0),0,MAX(B$1:B279)+1)","v":0}]
[{"$f":"ROW()","v":281},{"$f":"IF(OR(C281=$C$1,C281=$C$2,C281=$C$3,C281=0),0,MAX(B$1:B280)+1)","v":0}]
[{"$f":"ROW()","v":282},{"$f":"IF(OR(C282=$C$1,C282=$C$2,C282=$C$3,C282=0),0,MAX(B$1:B281)+1)","v":0}]
[{"$f":"ROW()","v":283},{"$f":"IF(OR(C283=$C$1,C283=$C$2,C283=$C$3,C283=0),0,MAX(B$1:B282)+1)","v":0}]
[{"$f":"ROW()","v":284},{"$f":"IF(OR(C284=$C$1,C284=$C$2,C284=$C$3,C284=0),0,MAX(B$1:B283)+1)","v":0}]
[{"$f":"ROW()","v":285},{"$f":"IF(OR(C285=$C$1,C285=$C$2,C285=$C$3,C285=0),0,MAX(B$1:B284)+1)","v":0}]
[{"$f":"ROW()","v":286},{"$f":"IF(OR(C286=$C$1,C286=$C$2,C286=$C$3,C286=0),0,MAX(B$1:B285)+1)","v":0}]
[{"$f":"ROW()","v":287},{"$f":"IF(OR(C287=$C$1,C287=$C$2,C287=$C$3,C287=0),0,MAX(B$1:B286)+1)","v":0}]
[{"$f":"ROW()","v":288},{"$f":"IF(OR(C288=$C$1,C288=$C$2,C288=$C$3,C288=0),0,MAX(B$1:B287)+1)","v":0}]
[{"$f":"ROW()","v":289},{"$f":"IF(OR(C289=$C$1,C289=$C$2,C289=$C$3,C289=0),0,MAX(B$1:B288)+1)","v":0}]
[{"$f":"ROW()","v":290},{"$f":"IF(OR(C290=$C$1,C290=$C$2,C290=$C$3,C290=0),0,MAX(B$1:B289)+1)","v":0}]
[{"$f":"ROW()","v":291},{"$f":"IF(OR(C291=$C$1,C291=$C$2,C291=$C$3,C291=0),0,MAX(B$1:B290)+1)","v":0}]
[{"$f":"ROW()","v":292},{"$f":"IF(OR(C292=$C$1,C292=$C$2,C292=$C$3,C292=0),0,MAX(B$1:B291)+1)","v":0}]
[{"$f":"ROW()","v":293},{"$f":"IF(OR(C293=$C$1,C293=$C$2,C293=$C$3,C293=0),0,MAX(B$1:B292)+1)","v":0}]
[{"$f":"ROW()","v":294},{"$f":"IF(OR(C294=$C$1,C294=$C$2,C294=$C$3,C294=0),0,MAX(B$1:B293)+1)","v":0}]
[{"$f":"ROW()","v":295},{"$f":"IF(OR(C295=$C$1,C295=$C$2,C295=$C$3,C295=0),0,MAX(B$1:B294)+1)","v":0}]
[{"$f":"ROW()","v":296},{"$f":"IF(OR(C296=$C$1,C296=$C$2,C296=$C$3,C296=0),0,MAX(B$1:B295)+1)","v":0}]
[{"$f":"ROW()","v":297},{"$f":"IF(OR(C297=$C$1,C297=$C$2,C297=$C$3,C297=0),0,MAX(B$1:B296)+1)","v":0}]
[{"$f":"ROW()","v":298},{"$f":"IF(OR(C298=$C$1,C298=$C$2,C298=$C$3,C298=0),0,MAX(B$1:B297)+1)","v":0}]
[{"$f":"ROW()","v":299},{"$f":"IF(OR(C299=$C$1,C299=$C$2,C299=$C$3,C299=0),0,MAX(B$1:B298)+1)","v":0}]
[{"$f":"ROW()","v":300},{"$f":"IF(OR(C300=$C$1,C300=$C$2,C300=$C$3,C300=0),0,MAX(B$1:B299)+1)","v":0}]
[{"$f":"ROW()","v":301},{"$f":"IF(OR(C301=$C$1,C301=$C$2,C301=$C$3,C301=0),0,MAX(B$1:B300)+1)","v":0}]
[{"$f":"ROW()","v":302},{"$f":"IF(OR(C302=$C$1,C302=$C$2,C302=$C$3,C302=0),0,MAX(B$1:B301)+1)","v":0}]
[{"$f":"ROW()","v":303},{"$f":"IF(OR(C303=$C$1,C303=$C$2,C303=$C$3,C303=0),0,MAX(B$1:B302)+1)","v":0}]
[{"$f":"ROW()","v":304},{"$f":"IF(OR(C304=$C$1,C304=$C$2,C304=$C$3,C304=0),0,MAX(B$1:B303)+1)","v":0}]
[{"$f":"ROW()","v":305},{"$f":"IF(OR(C305=$C$1,C305=$C$2,C305=$C$3,C305=0),0,MAX(B$1:B304)+1)","v":0}]
[{"$f":"ROW()","v":306},{"$f":"IF(OR(C306=$C$1,C306=$C$2,C306=$C$3,C306=0),0,MAX(B$1:B305)+1)","v":0}]
[{"$f":"ROW()","v":307},{"$f":"IF(OR(C307=$C$1,C307=$C$2,C307=$C$3,C307=0),0,MAX(B$1:B306)+1)","v":0}]
[{"$f":"ROW()","v":308},{"$f":"IF(OR(C308=$C$1,C308=$C$2,C308=$C$3,C308=0),0,MAX(B$1:B307)+1)","v":0}]
[{"$f":"ROW()","v":309},{"$f":"IF(OR(C309=$C$1,C309=$C$2,C309=$C$3,C309=0),0,MAX(B$1:B308)+1)","v":0}]
[{"$f":"ROW()","v":310},{"$f":"IF(OR(C310=$C$1,C310=$C$2,C310=$C$3,C310=0),0,MAX(B$1:B309)+1)","v":0}]
[{"$f":"ROW()","v":311},{"$f":"IF(OR(C311=$C$1,C311=$C$2,C311=$C$3,C311=0),0,MAX(B$1:B310)+1)","v":0}]
[{"$f":"ROW()","v":312},{"$f":"IF(OR(C312=$C$1,C312=$C$2,C312=$C$3,C312=0),0,MAX(B$1:B311)+1)","v":0}]
[{"$f":"ROW()","v":313},{"$f":"IF(OR(C313=$C$1,C313=$C$2,C313=$C$3,C313=0),0,MAX(B$1:B312)+1)","v":0}]
[{"$f":"ROW()","v":314},{"$f":"IF(OR(C314=$C$1,C314=$C$2,C314=$C$3,C314=0),0,MAX(B$1:B313)+1)","v":0}]
[{"$f":"ROW()","v":315},{"$f":"IF(OR(C315=$C$1,C315=$C$2,C315=$C$3,C315=0),0,MAX(B$1:B314)+1)","v":0}]
[{"$f":"ROW()","v":316},{"$f":"IF(OR(C316=$C$1,C316=$C$2,C316=$C$3,C316=0),0,MAX(B$1:B315)+1)","v":0}]
[{"$f":"ROW()","v":317},{"$f":"IF(OR(C317=$C$1,C317=$C$2,C317=$C$3,C317=0),0,MAX(B$1:B316)+1)","v":0}]
[{"$f":"ROW()","v":318},{"$f":"IF(OR(C318=$C$1,C318=$C$2,C318=$C$3,C318=0),0,MAX(B$1:B317)+1)","v":0}]
[{"$f":"ROW()","v":319},{"$f":"IF(OR(C319=$C$1,C319=$C$2,C319=$C$3,C319=0),0,MAX(B$1:B318)+1)","v":0}]
[{"$f":"ROW()","v":320},{"$f":"IF(OR(C320=$C$1,C320=$C$2,C320=$C$3,C320=0),0,MAX(B$1:B319)+1)","v":0}]
[{"$f":"ROW()","v":321},{"$f":"IF(OR(C321=$C$1,C321=$C$2,C321=$C$3,C321=0),0,MAX(B$1:B320)+1)","v":0}]
[{"$f":"ROW()","v":322},{"$f":"IF(OR(C322=$C$1,C322=$C$2,C322=$C$3,C322=0),0,MAX(B$1:B321)+1)","v":0}]
[{"$f":"ROW()","v":323},{"$f":"IF(OR(C323=$C$1,C323=$C$2,C323=$C$3,C323=0),0,MAX(B$1:B322)+1)","v":0}]
[{"$f":"ROW()","v":324},{"$f":"IF(OR(C324=$C$1,C324=$C$2,C324=$C$3,C324=0),0,MAX(B$1:B323)+1)","v":0}]
[{"$f":"ROW()","v":325},{"$f":"IF(OR(C325=$C$1,C325=$C$2,C325=$C$3,C325=0),0,MAX(B$1:B324)+1)","v":0}]
[{"$f":"ROW()","v":326},{"$f":"IF(OR(C326=$C$1,C326=$C$2,C326=$C$3,C326=0),0,MAX(B$1:B325)+1)","v":0}]
[{"$f":"ROW()","v":327},{"$f":"IF(OR(C327=$C$1,C327=$C$2,C327=$C$3,C327=0),0,MAX(B$1:B326)+1)","v":0}]
[{"$f":"ROW()","v":328},{"$f":"IF(OR(C328=$C$1,C328=$C$2,C328=$C$3,C328=0),0,MAX(B$1:B327)+1)","v":0}]
[{"$f":"ROW()","v":329},{"$f":"IF(OR(C329=$C$1,C329=$C$2,C329=$C$3,C329=0),0,MAX(B$1:B328)+1)","v":0}]
[{"$f":"ROW()","v":330},{"$f":"IF(OR(C330=$C$1,C330=$C$2,C330=$C$3,C330=0),0,MAX(B$1:B329)+1)","v":0}]
[{"$f":"ROW()","v":331},{"$f":"IF(OR(C331=$C$1,C331=$C$2,C331=$C$3,C331=0),0,MAX(B$1:B330)+1)","v":0}]
[{"$f":"ROW()","v":332},{"$f":"IF(OR(C332=$C$1,C332=$C$2,C332=$C$3,C332=0),0,MAX(B$1:B331)+1)","v":0}]
[{"$f":"ROW()","v":333},{"$f":"IF(OR(C333=$C$1,C333=$C$2,C333=$C$3,C333=0),0,MAX(B$1:B332)+1)","v":0}]
[{"$f":"ROW()","v":334},{"$f":"IF(OR(C334=$C$1,C334=$C$2,C334=$C$3,C334=0),0,MAX(B$1:B333)+1)","v":0}]
[{"$f":"ROW()","v":335},{"$f":"IF(OR(C335=$C$1,C335=$C$2,C335=$C$3,C335=0),0,MAX(B$1:B334)+1)","v":0}]
[{"$f":"ROW()","v":336},{"$f":"IF(OR(C336=$C$1,C336=$C$2,C336=$C$3,C336=0),0,MAX(B$1:B335)+1)","v":0}]
[{"$f":"ROW()","v":337},{"$f":"IF(OR(C337=$C$1,C337=$C$2,C337=$C$3,C337=0),0,MAX(B$1:B336)+1)","v":0}]
[{"$f":"ROW()","v":338},{"$f":"IF(OR(C338=$C$1,C338=$C$2,C338=$C$3,C338=0),0,MAX(B$1:B337)+1)","v":0}]
[{"$f":"ROW()","v":339},{"$f":"IF(OR(C339=$C$1,C339=$C$2,C339=$C$3,C339=0),0,MAX(B$1:B338)+1)","v":0}]
[{"$f":"ROW()","v":340},{"$f":"IF(OR(C340=$C$1,C340=$C$2,C340=$C$3,C340=0),0,MAX(B$1:B339)+1)","v":0}]
[{"$f":"ROW()","v":341},{"$f":"IF(OR(C341=$C$1,C341=$C$2,C341=$C$3,C341=0),0,MAX(B$1:B340)+1)","v":0}]
[{"$f":"ROW()","v":342},{"$f":"IF(OR(C342=$C$1,C342=$C$2,C342=$C$3,C342=0),0,MAX(B$1:B341)+1)","v":0}]
[{"$f":"ROW()","v":343},{"$f":"IF(OR(C343=$C$1,C343=$C$2,C343=$C$3,C343=0),0,MAX(B$1:B342)+1)","v":0}]
[{"$f":"ROW()","v":344},{"$f":"IF(OR(C344=$C$1,C344=$C$2,C344=$C$3,C344=0),0,MAX(B$1:B343)+1)","v":0}]
[{"$f":"ROW()","v":345},{"$f":"IF(OR(C345=$C$1,C345=$C$2,C345=$C$3,C345=0),0,MAX(B$1:B344)+1)","v":0}]
[{"$f":"ROW()","v":346},{"$f":"IF(OR(C346=$C$1,C346=$C$2,C346=$C$3,C346=0),0,MAX(B$1:B345)+1)","v":0}]
[{"$f":"ROW()","v":347},{"$f":"IF(OR(C347=$C$1,C347=$C$2,C347=$C$3,C347=0),0,MAX(B$1:B346)+1)","v":0}]
[{"$f":"ROW()","v":348},{"$f":"IF(OR(C348=$C$1,C348=$C$2,C348=$C$3,C348=0),0,MAX(B$1:B347)+1)","v":0}]
[{"$f":"ROW()","v":349},{"$f":"IF(OR(C349=$C$1,C349=$C$2,C349=$C$3,C349=0),0,MAX(B$1:B348)+1)","v":0}]
[{"$f":"ROW()","v":350},{"$f":"IF(OR(C350=$C$1,C350=$C$2,C350=$C$3,C350=0),0,MAX(B$1:B349)+1)","v":0}]
[{"$f":"ROW()","v":351},{"$f":"IF(OR(C351=$C$1,C351=$C$2,C351=$C$3,C351=0),0,MAX(B$1:B350)+1)","v":0}]
[{"$f":"ROW()","v":352},{"$f":"IF(OR(C352=$C$1,C352=$C$2,C352=$C$3,C352=0),0,MAX(B$1:B351)+1)","v":0}]
[{"$f":"ROW()","v":353},{"$f":"IF(OR(C353=$C$1,C353=$C$2,C353=$C$3,C353=0),0,MAX(B$1:B352)+1)","v":0}]
[{"$f":"ROW()","v":354},{"$f":"IF(OR(C354=$C$1,C354=$C$2,C354=$C$3,C354=0),0,MAX(B$1:B353)+1)","v":0}]
[{"$f":"ROW()","v":355},{"$f":"IF(OR(C355=$C$1,C355=$C$2,C355=$C$3,C355=0),0,MAX(B$1:B354)+1)","v":0}]
[{"$f":"ROW()","v":356},{"$f":"IF(OR(C356=$C$1,C356=$C$2,C356=$C$3,C356=0),0,MAX(B$1:B355)+1)","v":0}]
[{"$f":"ROW()","v":357},{"$f":"IF(OR(C357=$C$1,C357=$C$2,C357=$C$3,C357=0),0,MAX(B$1:B356)+1)","v":0}]
[{"$f":"ROW()","v":358},{"$f":"IF(OR(C358=$C$1,C358=$C$2,C358=$C$3,C358=0),0,MAX(B$1:B357)+1)","v":0}]
[{"$f":"ROW()","v":359},{"$f":"IF(OR(C359=$C$1,C359=$C$2,C359=$C$3,C359=0),0,MAX(B$1:B358)+1)","v":0}]
[{"$f":"ROW()","v":360},{"$f":"IF(OR(C360=$C$1,C360=$C$2,C360=$C$3,C360=0),0,MAX(B$1:B359)+1)","v":0}]
[{"$f":"ROW()","v":361},{"$f":"IF(OR(C361=$C$1,C361=$C$2,C361=$C$3,C361=0),0,MAX(B$1:B360)+1)","v":0}]
[{"$f":"ROW()","v":362},{"$f":"IF(OR(C362=$C$1,C362=$C$2,C362=$C$3,C362=0),0,MAX(B$1:B361)+1)","v":0}]
[{"$f":"ROW()","v":363},{"$f":"IF(OR(C363=$C$1,C363=$C$2,C363=$C$3,C363=0),0,MAX(B$1:B362)+1)","v":0}]
[{"$f":"ROW()","v":364},{"$f":"IF(OR(C364=$C$1,C364=$C$2,C364=$C$3,C364=0),0,MAX(B$1:B363)+1)","v":0}]
[{"$f":"ROW()","v":365},{"$f":"IF(OR(C365=$C$1,C365=$C$2,C365=$C$3,C365=0),0,MAX(B$1:B364)+1)","v":0}]
[{"$f":"ROW()","v":366},{"$f":"IF(OR(C366=$C$1,C366=$C$2,C366=$C$3,C366=0),0,MAX(B$1:B365)+1)","v":0}]
[{"$f":"ROW()","v":367},{"$f":"IF(OR(C367=$C$1,C367=$C$2,C367=$C$3,C367=0),0,MAX(B$1:B366)+1)","v":0}]
[{"$f":"ROW()","v":368},{"$f":"IF(OR(C368=$C$1,C368=$C$2,C368=$C$3,C368=0),0,MAX(B$1:B367)+1)","v":0}]
[{"$f":"ROW()","v":369},{"$f":"IF(OR(C369=$C$1,C369=$C$2,C369=$C$3,C369=0),0,MAX(B$1:B368)+1)","v":0}]
[{"$f":"ROW()","v":370},{"$f":"IF(OR(C370=$C$1,C370=$C$2,C370=$C$3,C370=0),0,MAX(B$1:B369)+1)","v":0}]
[{"$f":"ROW()","v":371},{"$f":"IF(OR(C371=$C$1,C371=$C$2,C371=$C$3,C371=0),0,MAX(B$1:B370)+1)","v":0}]
[{"$f":"ROW()","v":372},{"$f":"IF(OR(C372=$C$1,C372=$C$2,C372=$C$3,C372=0),0,MAX(B$1:B371)+1)","v":0}]
[{"$f":"ROW()","v":373},{"$f":"IF(OR(C373=$C$1,C373=$C$2,C373=$C$3,C373=0),0,MAX(B$1:B372)+1)","v":0}]
[{"$f":"ROW()","v":374},{"$f":"IF(OR(C374=$C$1,C374=$C$2,C374=$C$3,C374=0),0,MAX(B$1:B373)+1)","v":0}]
[{"$f":"ROW()","v":375},{"$f":"IF(OR(C375=$C$1,C375=$C$2,C375=$C$3,C375=0),0,MAX(B$1:B374)+1)","v":0}]
[{"$f":"ROW()","v":376},{"$f":"IF(OR(C376=$C$1,C376=$C$2,C376=$C$3,C376=0),0,MAX(B$1:B375)+1)","v":0}]
[{"$f":"ROW()","v":377},{"$f":"IF(OR(C377=$C$1,C377=$C$2,C377=$C$3,C377=0),0,MAX(B$1:B376)+1)","v":0}]
[{"$f":"ROW()","v":378},{"$f":"IF(OR(C378=$C$1,C378=$C$2,C378=$C$3,C378=0),0,MAX(B$1:B377)+1)","v":0}]
[{"$f":"ROW()","v":379},{"$f":"IF(OR(C379=$C$1,C379=$C$2,C379=$C$3,C379=0),0,MAX(B$1:B378)+1)","v":0}]
[{"$f":"ROW()","v":380},{"$f":"IF(OR(C380=$C$1,C380=$C$2,C380=$C$3,C380=0),0,MAX(B$1:B379)+1)","v":0}]
[{"$f":"ROW()","v":381},{"$f":"IF(OR(C381=$C$1,C381=$C$2,C381=$C$3,C381=0),0,MAX(B$1:B380)+1)","v":0}]
[{"$f":"ROW()","v":382},{"$f":"IF(OR(C382=$C$1,C382=$C$2,C382=$C$3,C382=0),0,MAX(B$1:B381)+1)","v":0}]
[{"$f":"ROW()","v":383},{"$f":"IF(OR(C383=$C$1,C383=$C$2,C383=$C$3,C383=0),0,MAX(B$1:B382)+1)","v":0}]
[{"$f":"ROW()","v":384},{"$f":"IF(OR(C384=$C$1,C384=$C$2,C384=$C$3,C384=0),0,MAX(B$1:B383)+1)","v":0}]
[{"$f":"ROW()","v":385},{"$f":"IF(OR(C385=$C$1,C385=$C$2,C385=$C$3,C385=0),0,MAX(B$1:B384)+1)","v":0}]
[{"$f":"ROW()","v":386},{"$f":"IF(OR(C386=$C$1,C386=$C$2,C386=$C$3,C386=0),0,MAX(B$1:B385)+1)","v":0}]
[{"$f":"ROW()","v":387},{"$f":"IF(OR(C387=$C$1,C387=$C$2,C387=$C$3,C387=0),0,MAX(B$1:B386)+1)","v":0}]
[{"$f":"ROW()","v":388},{"$f":"IF(OR(C388=$C$1,C388=$C$2,C388=$C$3,C388=0),0,MAX(B$1:B387)+1)","v":0}]
[{"$f":"ROW()","v":389},{"$f":"IF(OR(C389=$C$1,C389=$C$2,C389=$C$3,C389=0),0,MAX(B$1:B388)+1)","v":0}]
[{"$f":"ROW()","v":390},{"$f":"IF(OR(C390=$C$1,C390=$C$2,C390=$C$3,C390=0),0,MAX(B$1:B389)+1)","v":0}]
[{"$f":"ROW()","v":391},{"$f":"IF(OR(C391=$C$1,C391=$C$2,C391=$C$3,C391=0),0,MAX(B$1:B390)+1)","v":0}]
[{"$f":"ROW()","v":392},{"$f":"IF(OR(C392=$C$1,C392=$C$2,C392=$C$3,C392=0),0,MAX(B$1:B391)+1)","v":0}]
[{"$f":"ROW()","v":393},{"$f":"IF(OR(C393=$C$1,C393=$C$2,C393=$C$3,C393=0),0,MAX(B$1:B392)+1)","v":0}]
[{"$f":"ROW()","v":394},{"$f":"IF(OR(C394=$C$1,C394=$C$2,C394=$C$3,C394=0),0,MAX(B$1:B393)+1)","v":0}]
[{"$f":"ROW()","v":395},{"$f":"IF(OR(C395=$C$1,C395=$C$2,C395=$C$3,C395=0),0,MAX(B$1:B394)+1)","v":0}]
[{"$f":"ROW()","v":396},{"$f":"IF(OR(C396=$C$1,C396=$C$2,C396=$C$3,C396=0),0,MAX(B$1:B395)+1)","v":0}]
[{"$f":"ROW()","v":397},{"$f":"IF(OR(C397=$C$1,C397=$C$2,C397=$C$3,C397=0),0,MAX(B$1:B396)+1)","v":0}]
[{"$f":"ROW()","v":398},{"$f":"IF(OR(C398=$C$1,C398=$C$2,C398=$C$3,C398=0),0,MAX(B$1:B397)+1)","v":0}]
[{"$f":"ROW()","v":399},{"$f":"IF(OR(C399=$C$1,C399=$C$2,C399=$C$3,C399=0),0,MAX(B$1:B398)+1)","v":0}]
[{"$f":"ROW()","v":400},{"$f":"IF(OR(C400=$C$1,C400=$C$2,C400=$C$3,C400=0),0,MAX(B$1:B399)+1)","v":0}]
[{"$f":"ROW()","v":401},{"$f":"IF(OR(C401=$C$1,C401=$C$2,C401=$C$3,C401=0),0,MAX(B$1:B400)+1)","v":0}]
[{"$f":"ROW()","v":402},{"$f":"IF(OR(C402=$C$1,C402=$C$2,C402=$C$3,C402=0),0,MAX(B$1:B401)+1)","v":0}]
[{"$f":"ROW()","v":403},{"$f":"IF(OR(C403=$C$1,C403=$C$2,C403=$C$3,C403=0),0,MAX(B$1:B402)+1)","v":0}]
[{"$f":"ROW()","v":404},{"$f":"IF(OR(C404=$C$1,C404=$C$2,C404=$C$3,C404=0),0,MAX(B$1:B403)+1)","v":0}]
[{"$f":"ROW()","v":405},{"$f":"IF(OR(C405=$C$1,C405=$C$2,C405=$C$3,C405=0),0,MAX(B$1:B404)+1)","v":0}]
[{"$f":"ROW()","v":406},{"$f":"IF(OR(C406=$C$1,C406=$C$2,C406=$C$3,C406=0),0,MAX(B$1:B405)+1)","v":0}]
[{"$f":"ROW()","v":407},{"$f":"IF(OR(C407=$C$1,C407=$C$2,C407=$C$3,C407=0),0,MAX(B$1:B406)+1)","v":0}]
[{"$f":"ROW()","v":408},{"$f":"IF(OR(C408=$C$1,C408=$C$2,C408=$C$3,C408=0),0,MAX(B$1:B407)+1)","v":0}]
[{"$f":"ROW()","v":409},{"$f":"IF(OR(C409=$C$1,C409=$C$2,C409=$C$3,C409=0),0,MAX(B$1:B408)+1)","v":0}]
[{"$f":"ROW()","v":410},{"$f":"IF(OR(C410=$C$1,C410=$C$2,C410=$C$3,C410=0),0,MAX(B$1:B409)+1)","v":0}]
[{"$f":"ROW()","v":411},{"$f":"IF(OR(C411=$C$1,C411=$C$2,C411=$C$3,C411=0),0,MAX(B$1:B410)+1)","v":0}]
[{"$f":"ROW()","v":412},{"$f":"IF(OR(C412=$C$1,C412=$C$2,C412=$C$3,C412=0),0,MAX(B$1:B411)+1)","v":0}]
[{"$f":"ROW()","v":413},{"$f":"IF(OR(C413=$C$1,C413=$C$2,C413=$C$3,C413=0),0,MAX(B$1:B412)+1)","v":0}]
[{"$f":"ROW()","v":414},{"$f":"IF(OR(C414=$C$1,C414=$C$2,C414=$C$3,C414=0),0,MAX(B$1:B413)+1)","v":0}]
[{"$f":"ROW()","v":415},{"$f":"IF(OR(C415=$C$1,C415=$C$2,C415=$C$3,C415=0),0,MAX(B$1:B414)+1)","v":0}]
[{"$f":"ROW()","v":416},{"$f":"IF(OR(C416=$C$1,C416=$C$2,C416=$C$3,C416=0),0,MAX(B$1:B415)+1)","v":0}]
[{"$f":"ROW()","v":417},{"$f":"IF(OR(C417=$C$1,C417=$C$2,C417=$C$3,C417=0),0,MAX(B$1:B416)+1)","v":0}]
[{"$f":"ROW()","v":418},{"$f":"IF(OR(C418=$C$1,C418=$C$2,C418=$C$3,C418=0),0,MAX(B$1:B417)+1)","v":0}]
[{"$f":"ROW()","v":419},{"$f":"IF(OR(C419=$C$1,C419=$C$2,C419=$C$3,C419=0),0,MAX(B$1:B418)+1)","v":0}]
[{"$f":"ROW()","v":420},{"$f":"IF(OR(C420=$C$1,C420=$C$2,C420=$C$3,C420=0),0,MAX(B$1:B419)+1)","v":0}]
[{"$f":"ROW()","v":421},{"$f":"IF(OR(C421=$C$1,C421=$C$2,C421=$C$3,C421=0),0,MAX(B$1:B420)+1)","v":0}]
[{"$f":"ROW()","v":422},{"$f":"IF(OR(C422=$C$1,C422=$C$2,C422=$C$3,C422=0),0,MAX(B$1:B421)+1)","v":0}]
[{"$f":"ROW()","v":423},{"$f":"IF(OR(C423=$C$1,C423=$C$2,C423=$C$3,C423=0),0,MAX(B$1:B422)+1)","v":0}]
[{"$f":"ROW()","v":424},{"$f":"IF(OR(C424=$C$1,C424=$C$2,C424=$C$3,C424=0),0,MAX(B$1:B423)+1)","v":0}]
[{"$f":"ROW()","v":425},{"$f":"IF(OR(C425=$C$1,C425=$C$2,C425=$C$3,C425=0),0,MAX(B$1:B424)+1)","v":0}]
[{"$f":"ROW()","v":426},{"$f":"IF(OR(C426=$C$1,C426=$C$2,C426=$C$3,C426=0),0,MAX(B$1:B425)+1)","v":0}]
[{"$f":"ROW()","v":427},{"$f":"IF(OR(C427=$C$1,C427=$C$2,C427=$C$3,C427=0),0,MAX(B$1:B426)+1)","v":0}]
[{"$f":"ROW()","v":428},{"$f":"IF(OR(C428=$C$1,C428=$C$2,C428=$C$3,C428=0),0,MAX(B$1:B427)+1)","v":0}]
[{"$f":"ROW()","v":429},{"$f":"IF(OR(C429=$C$1,C429=$C$2,C429=$C$3,C429=0),0,MAX(B$1:B428)+1)","v":0}]
[{"$f":"ROW()","v":430},{"$f":"IF(OR(C430=$C$1,C430=$C$2,C430=$C$3,C430=0),0,MAX(B$1:B429)+1)","v":0}]
[{"$f":"ROW()","v":431},{"$f":"IF(OR(C431=$C$1,C431=$C$2,C431=$C$3,C431=0),0,MAX(B$1:B430)+1)","v":0}]
[{"$f":"ROW()","v":432},{"$f":"IF(OR(C432=$C$1,C432=$C$2,C432=$C$3,C432=0),0,MAX(B$1:B431)+1)","v":0}]
[{"$f":"ROW()","v":433},{"$f":"IF(OR(C433=$C$1,C433=$C$2,C433=$C$3,C433=0),0,MAX(B$1:B432)+1)","v":0}]
[{"$f":"ROW()","v":434},{"$f":"IF(OR(C434=$C$1,C434=$C$2,C434=$C$3,C434=0),0,MAX(B$1:B433)+1)","v":0}]
[{"$f":"ROW()","v":435},{"$f":"IF(OR(C435=$C$1,C435=$C$2,C435=$C$3,C435=0),0,MAX(B$1:B434)+1)","v":0}]
[{"$f":"ROW()","v":436},{"$f":"IF(OR(C436=$C$1,C436=$C$2,C436=$C$3,C436=0),0,MAX(B$1:B435)+1)","v":0}]
[{"$f":"ROW()","v":437},{"$f":"IF(OR(C437=$C$1,C437=$C$2,C437=$C$3,C437=0),0,MAX(B$1:B436)+1)","v":0}]
[{"$f":"ROW()","v":438},{"$f":"IF(OR(C438=$C$1,C438=$C$2,C438=$C$3,C438=0),0,MAX(B$1:B437)+1)","v":0}]
[{"$f":"ROW()","v":439},{"$f":"IF(OR(C439=$C$1,C439=$C$2,C439=$C$3,C439=0),0,MAX(B$1:B438)+1)","v":0}]
[{"$f":"ROW()","v":440},{"$f":"IF(OR(C440=$C$1,C440=$C$2,C440=$C$3,C440=0),0,MAX(B$1:B439)+1)","v":0}]
[{"$f":"ROW()","v":441},{"$f":"IF(OR(C441=$C$1,C441=$C$2,C441=$C$3,C441=0),0,MAX(B$1:B440)+1)","v":0}]
[{"$f":"ROW()","v":442},{"$f":"IF(OR(C442=$C$1,C442=$C$2,C442=$C$3,C442=0),0,MAX(B$1:B441)+1)","v":0}]
[{"$f":"ROW()","v":443},{"$f":"IF(OR(C443=$C$1,C443=$C$2,C443=$C$3,C443=0),0,MAX(B$1:B442)+1)","v":0}]
[{"$f":"ROW()","v":444},{"$f":"IF(OR(C444=$C$1,C444=$C$2,C444=$C$3,C444=0),0,MAX(B$1:B443)+1)","v":0}]
[{"$f":"ROW()","v":445},{"$f":"IF(OR(C445=$C$1,C445=$C$2,C445=$C$3,C445=0),0,MAX(B$1:B444)+1)","v":0}]
[{"$f":"ROW()","v":446},{"$f":"IF(OR(C446=$C$1,C446=$C$2,C446=$C$3,C446=0),0,MAX(B$1:B445)+1)","v":0}]
[{"$f":"ROW()","v":447},{"$f":"IF(OR(C447=$C$1,C447=$C$2,C447=$C$3,C447=0),0,MAX(B$1:B446)+1)","v":0}]
[{"$f":"ROW()","v":448},{"$f":"IF(OR(C448=$C$1,C448=$C$2,C448=$C$3,C448=0),0,MAX(B$1:B447)+1)","v":0}]
[{"$f":"ROW()","v":449},{"$f":"IF(OR(C449=$C$1,C449=$C$2,C449=$C$3,C449=0),0,MAX(B$1:B448)+1)","v":0}]
[{"$f":"ROW()","v":450},{"$f":"IF(OR(C450=$C$1,C450=$C$2,C450=$C$3,C450=0),0,MAX(B$1:B449)+1)","v":0}]
[{"$f":"ROW()","v":451},{"$f":"IF(OR(C451=$C$1,C451=$C$2,C451=$C$3,C451=0),0,MAX(B$1:B450)+1)","v":0}]
[{"$f":"ROW()","v":452},{"$f":"IF(OR(C452=$C$1,C452=$C$2,C452=$C$3,C452=0),0,MAX(B$1:B451)+1)","v":0}]
[{"$f":"ROW()","v":453},{"$f":"IF(OR(C453=$C$1,C453=$C$2,C453=$C$3,C453=0),0,MAX(B$1:B452)+1)","v":0}]
[{"$f":"ROW()","v":454},{"$f":"IF(OR(C454=$C$1,C454=$C$2,C454=$C$3,C454=0),0,MAX(B$1:B453)+1)","v":0}]
[{"$f":"ROW()","v":455},{"$f":"IF(OR(C455=$C$1,C455=$C$2,C455=$C$3,C455=0),0,MAX(B$1:B454)+1)","v":0}]
[{"$f":"ROW()","v":456},{"$f":"IF(OR(C456=$C$1,C456=$C$2,C456=$C$3,C456=0),0,MAX(B$1:B455)+1)","v":0}]
[{"$f":"ROW()","v":457},{"$f":"IF(OR(C457=$C$1,C457=$C$2,C457=$C$3,C457=0),0,MAX(B$1:B456)+1)","v":0}]
[{"$f":"ROW()","v":458},{"$f":"IF(OR(C458=$C$1,C458=$C$2,C458=$C$3,C458=0),0,MAX(B$1:B457)+1)","v":0}]
[{"$f":"ROW()","v":459},{"$f":"IF(OR(C459=$C$1,C459=$C$2,C459=$C$3,C459=0),0,MAX(B$1:B458)+1)","v":0}]
[{"$f":"ROW()","v":460},{"$f":"IF(OR(C460=$C$1,C460=$C$2,C460=$C$3,C460=0),0,MAX(B$1:B459)+1)","v":0}]
[{"$f":"ROW()","v":461},{"$f":"IF(OR(C461=$C$1,C461=$C$2,C461=$C$3,C461=0),0,MAX(B$1:B460)+1)","v":0}]
[{"$f":"ROW()","v":462},{"$f":"IF(OR(C462=$C$1,C462=$C$2,C462=$C$3,C462=0),0,MAX(B$1:B461)+1)","v":0}]
[{"$f":"ROW()","v":463},{"$f":"IF(OR(C463=$C$1,C463=$C$2,C463=$C$3,C463=0),0,MAX(B$1:B462)+1)","v":0}]
[{"$f":"ROW()","v":464},{"$f":"IF(OR(C464=$C$1,C464=$C$2,C464=$C$3,C464=0),0,MAX(B$1:B463)+1)","v":0}]
[{"$f":"ROW()","v":465},{"$f":"IF(OR(C465=$C$1,C465=$C$2,C465=$C$3,C465=0),0,MAX(B$1:B464)+1)","v":0}]
[{"$f":"ROW()","v":466},{"$f":"IF(OR(C466=$C$1,C466=$C$2,C466=$C$3,C466=0),0,MAX(B$1:B465)+1)","v":0}]
[{"$f":"ROW()","v":467},{"$f":"IF(OR(C467=$C$1,C467=$C$2,C467=$C$3,C467=0),0,MAX(B$1:B466)+1)","v":0}]
[{"$f":"ROW()","v":468},{"$f":"IF(OR(C468=$C$1,C468=$C$2,C468=$C$3,C468=0),0,MAX(B$1:B467)+1)","v":0}]
[{"$f":"ROW()","v":469},{"$f":"IF(OR(C469=$C$1,C469=$C$2,C469=$C$3,C469=0),0,MAX(B$1:B468)+1)","v":0}]
[{"$f":"ROW()","v":470},{"$f":"IF(OR(C470=$C$1,C470=$C$2,C470=$C$3,C470=0),0,MAX(B$1:B469)+1)","v":0}]
[{"$f":"ROW()","v":471},{"$f":"IF(OR(C471=$C$1,C471=$C$2,C471=$C$3,C471=0),0,MAX(B$1:B470)+1)","v":0}]
[{"$f":"ROW()","v":472},{"$f":"IF(OR(C472=$C$1,C472=$C$2,C472=$C$3,C472=0),0,MAX(B$1:B471)+1)","v":0}]
[{"$f":"ROW()","v":473},{"$f":"IF(OR(C473=$C$1,C473=$C$2,C473=$C$3,C473=0),0,MAX(B$1:B472)+1)","v":0}]
[{"$f":"ROW()","v":474},{"$f":"IF(OR(C474=$C$1,C474=$C$2,C474=$C$3,C474=0),0,MAX(B$1:B473)+1)","v":0}]
[{"$f":"ROW()","v":475},{"$f":"IF(OR(C475=$C$1,C475=$C$2,C475=$C$3,C475=0),0,MAX(B$1:B474)+1)","v":0}]
[{"$f":"ROW()","v":476},{"$f":"IF(OR(C476=$C$1,C476=$C$2,C476=$C$3,C476=0),0,MAX(B$1:B475)+1)","v":0}]
[{"$f":"ROW()","v":477},{"$f":"IF(OR(C477=$C$1,C477=$C$2,C477=$C$3,C477=0),0,MAX(B$1:B476)+1)","v":0}]
[{"$f":"ROW()","v":478},{"$f":"IF(OR(C478=$C$1,C478=$C$2,C478=$C$3,C478=0),0,MAX(B$1:B477)+1)","v":0}]
[{"$f":"ROW()","v":479},{"$f":"IF(OR(C479=$C$1,C479=$C$2,C479=$C$3,C479=0),0,MAX(B$1:B478)+1)","v":0}]
[{"$f":"ROW()","v":480},{"$f":"IF(OR(C480=$C$1,C480=$C$2,C480=$C$3,C480=0),0,MAX(B$1:B479)+1)","v":0}]
[{"$f":"ROW()","v":481},{"$f":"IF(OR(C481=$C$1,C481=$C$2,C481=$C$3,C481=0),0,MAX(B$1:B480)+1)","v":0}]
[{"$f":"ROW()","v":482},{"$f":"IF(OR(C482=$C$1,C482=$C$2,C482=$C$3,C482=0),0,MAX(B$1:B481)+1)","v":0}]
[{"$f":"ROW()","v":483},{"$f":"IF(OR(C483=$C$1,C483=$C$2,C483=$C$3,C483=0),0,MAX(B$1:B482)+1)","v":0}]
[{"$f":"ROW()","v":484},{"$f":"IF(OR(C484=$C$1,C484=$C$2,C484=$C$3,C484=0),0,MAX(B$1:B483)+1)","v":0}]
[{"$f":"ROW()","v":485},{"$f":"IF(OR(C485=$C$1,C485=$C$2,C485=$C$3,C485=0),0,MAX(B$1:B484)+1)","v":0}]
[{"$f":"ROW()","v":486},{"$f":"IF(OR(C486=$C$1,C486=$C$2,C486=$C$3,C486=0),0,MAX(B$1:B485)+1)","v":0}]
[{"$f":"ROW()","v":487},{"$f":"IF(OR(C487=$C$1,C487=$C$2,C487=$C$3,C487=0),0,MAX(B$1:B486)+1)","v":0}]
[{"$f":"ROW()","v":488},{"$f":"IF(OR(C488=$C$1,C488=$C$2,C488=$C$3,C488=0),0,MAX(B$1:B487)+1)","v":0}]
[{"$f":"ROW()","v":489},{"$f":"IF(OR(C489=$C$1,C489=$C$2,C489=$C$3,C489=0),0,MAX(B$1:B488)+1)","v":0}]
[{"$f":"ROW()","v":490},{"$f":"IF(OR(C490=$C$1,C490=$C$2,C490=$C$3,C490=0),0,MAX(B$1:B489)+1)","v":0}]
[{"$f":"ROW()","v":491},{"$f":"IF(OR(C491=$C$1,C491=$C$2,C491=$C$3,C491=0),0,MAX(B$1:B490)+1)","v":0}]
[{"$f":"ROW()","v":492},{"$f":"IF(OR(C492=$C$1,C492=$C$2,C492=$C$3,C492=0),0,MAX(B$1:B491)+1)","v":0}]
[{"$f":"ROW()","v":493},{"$f":"IF(OR(C493=$C$1,C493=$C$2,C493=$C$3,C493=0),0,MAX(B$1:B492)+1)","v":0}]
[{"$f":"ROW()","v":494},{"$f":"IF(OR(C494=$C$1,C494=$C$2,C494=$C$3,C494=0),0,MAX(B$1:B493)+1)","v":0}]
[{"$f":"ROW()","v":495},{"$f":"IF(OR(C495=$C$1,C495=$C$2,C495=$C$3,C495=0),0,MAX(B$1:B494)+1)","v":0}]
[{"$f":"ROW()","v":496},{"$f":"IF(OR(C496=$C$1,C496=$C$2,C496=$C$3,C496=0),0,MAX(B$1:B495)+1)","v":0}]
[{"$f":"ROW()","v":497},{"$f":"IF(OR(C497=$C$1,C497=$C$2,C497=$C$3,C497=0),0,MAX(B$1:B496)+1)","v":0}]
[{"$f":"ROW()","v":498},{"$f":"IF(OR(C498=$C$1,C498=$C$2,C498=$C$3,C498=0),0,MAX(B$1:B497)+1)","v":0}]
[{"$f":"ROW()","v":499},{"$f":"IF(OR(C499=$C$1,C499=$C$2,C499=$C$3,C499=0),0,MAX(B$1:B498)+1)","v":0}]
[{"$f":"ROW()","v":500},{"$f":"IF(OR(C500=$C$1,C500=$C$2,C500=$C$3,C500=0),0,MAX(B$1:B499)+1)","v":0}]
[{"$f":"ROW()","v":501},{"$f":"IF(OR(C501=$C$1,C501=$C$2,C501=$C$3,C501=0),0,MAX(B$1:B500)+1)","v":0}]
[{"$f":"ROW()","v":502},{"$f":"IF(OR(C502=$C$1,C502=$C$2,C502=$C$3,C502=0),0,MAX(B$1:B501)+1)","v":0}]
[{"$f":"ROW()","v":503},{"$f":"IF(OR(C503=$C$1,C503=$C$2,C503=$C$3,C503=0),0,MAX(B$1:B502)+1)","v":0}]
[{"$f":"ROW()","v":504},{"$f":"IF(OR(C504=$C$1,C504=$C$2,C504=$C$3,C504=0),0,MAX(B$1:B503)+1)","v":0}]
[{"$f":"ROW()","v":505},{"$f":"IF(OR(C505=$C$1,C505=$C$2,C505=$C$3,C505=0),0,MAX(B$1:B504)+1)","v":0}]
[{"$f":"ROW()","v":506},{"$f":"IF(OR(C506=$C$1,C506=$C$2,C506=$C$3,C506=0),0,MAX(B$1:B505)+1)","v":0}]
[{"$f":"ROW()","v":507},{"$f":"IF(OR(C507=$C$1,C507=$C$2,C507=$C$3,C507=0),0,MAX(B$1:B506)+1)","v":0}]
[{"$f":"ROW()","v":508},{"$f":"IF(OR(C508=$C$1,C508=$C$2,C508=$C$3,C508=0),0,MAX(B$1:B507)+1)","v":0}]
[{"$f":"ROW()","v":509},{"$f":"IF(OR(C509=$C$1,C509=$C$2,C509=$C$3,C509=0),0,MAX(B$1:B508)+1)","v":0}]
[{"$f":"ROW()","v":510},{"$f":"IF(OR(C510=$C$1,C510=$C$2,C510=$C$3,C510=0),0,MAX(B$1:B509)+1)","v":0}]
[{"$f":"ROW()","v":511},{"$f":"IF(OR(C511=$C$1,C511=$C$2,C511=$C$3,C511=0),0,MAX(B$1:B510)+1)","v":0}]
[{"$f":"ROW()","v":512},{"$f":"IF(OR(C512=$C$1,C512=$C$2,C512=$C$3,C512=0),0,MAX(B$1:B511)+1)","v":0}]
[{"$f":"ROW()","v":513},{"$f":"IF(OR(C513=$C$1,C513=$C$2,C513=$C$3,C513=0),0,MAX(B$1:B512)+1)","v":0}]
[{"$f":"ROW()","v":514},{"$f":"IF(OR(C514=$C$1,C514=$C$2,C514=$C$3,C514=0),0,MAX(B$1:B513)+1)","v":0}]
[{"$f":"ROW()","v":515},{"$f":"IF(OR(C515=$C$1,C515=$C$2,C515=$C$3,C515=0),0,MAX(B$1:B514)+1)","v":0}]
[{"$f":"ROW()","v":516},{"$f":"IF(OR(C516=$C$1,C516=$C$2,C516=$C$3,C516=0),0,MAX(B$1:B515)+1)","v":0}]
[{"$f":"ROW()","v":517},{"$f":"IF(OR(C517=$C$1,C517=$C$2,C517=$C$3,C517=0),0,MAX(B$1:B516)+1)","v":0}]
[{"$f":"ROW()","v":518},{"$f":"IF(OR(C518=$C$1,C518=$C$2,C518=$C$3,C518=0),0,MAX(B$1:B517)+1)","v":0}]
[{"$f":"ROW()","v":519},{"$f":"IF(OR(C519=$C$1,C519=$C$2,C519=$C$3,C519=0),0,MAX(B$1:B518)+1)","v":0}]
[{"$f":"ROW()","v":520},{"$f":"IF(OR(C520=$C$1,C520=$C$2,C520=$C$3,C520=0),0,MAX(B$1:B519)+1)","v":0}]
[{"$f":"ROW()","v":521},{"$f":"IF(OR(C521=$C$1,C521=$C$2,C521=$C$3,C521=0),0,MAX(B$1:B520)+1)","v":0}]
[{"$f":"ROW()","v":522},{"$f":"IF(OR(C522=$C$1,C522=$C$2,C522=$C$3,C522=0),0,MAX(B$1:B521)+1)","v":0}]
[{"$f":"ROW()","v":523},{"$f":"IF(OR(C523=$C$1,C523=$C$2,C523=$C$3,C523=0),0,MAX(B$1:B522)+1)","v":0}]
[{"$f":"ROW()","v":524},{"$f":"IF(OR(C524=$C$1,C524=$C$2,C524=$C$3,C524=0),0,MAX(B$1:B523)+1)","v":0}]
[{"$f":"ROW()","v":525},{"$f":"IF(OR(C525=$C$1,C525=$C$2,C525=$C$3,C525=0),0,MAX(B$1:B524)+1)","v":0}]
[{"$f":"ROW()","v":526},{"$f":"IF(OR(C526=$C$1,C526=$C$2,C526=$C$3,C526=0),0,MAX(B$1:B525)+1)","v":0}]
[{"$f":"ROW()","v":527},{"$f":"IF(OR(C527=$C$1,C527=$C$2,C527=$C$3,C527=0),0,MAX(B$1:B526)+1)","v":0}]
[{"$f":"ROW()","v":528},{"$f":"IF(OR(C528=$C$1,C528=$C$2,C528=$C$3,C528=0),0,MAX(B$1:B527)+1)","v":0}]
[{"$f":"ROW()","v":529},{"$f":"IF(OR(C529=$C$1,C529=$C$2,C529=$C$3,C529=0),0,MAX(B$1:B528)+1)","v":0}]
[{"$f":"ROW()","v":530},{"$f":"IF(OR(C530=$C$1,C530=$C$2,C530=$C$3,C530=0),0,MAX(B$1:B529)+1)","v":0}]
[{"$f":"ROW()","v":531},{"$f":"IF(OR(C531=$C$1,C531=$C$2,C531=$C$3,C531=0),0,MAX(B$1:B530)+1)","v":0}]
[{"$f":"ROW()","v":532},{"$f":"IF(OR(C532=$C$1,C532=$C$2,C532=$C$3,C532=0),0,MAX(B$1:B531)+1)","v":0}]
[{"$f":"ROW()","v":533},{"$f":"IF(OR(C533=$C$1,C533=$C$2,C533=$C$3,C533=0),0,MAX(B$1:B532)+1)","v":0}]
[{"$f":"ROW()","v":534},{"$f":"IF(OR(C534=$C$1,C534=$C$2,C534=$C$3,C534=0),0,MAX(B$1:B533)+1)","v":0}]
[{"$f":"ROW()","v":535},{"$f":"IF(OR(C535=$C$1,C535=$C$2,C535=$C$3,C535=0),0,MAX(B$1:B534)+1)","v":0}]
[{"$f":"ROW()","v":536},{"$f":"IF(OR(C536=$C$1,C536=$C$2,C536=$C$3,C536=0),0,MAX(B$1:B535)+1)","v":0}]
[{"$f":"ROW()","v":537},{"$f":"IF(OR(C537=$C$1,C537=$C$2,C537=$C$3,C537=0),0,MAX(B$1:B536)+1)","v":0}]
[{"$f":"ROW()","v":538},{"$f":"IF(OR(C538=$C$1,C538=$C$2,C538=$C$3,C538=0),0,MAX(B$1:B537)+1)","v":0}]
[{"$f":"ROW()","v":539},{"$f":"IF(OR(C539=$C$1,C539=$C$2,C539=$C$3,C539=0),0,MAX(B$1:B538)+1)","v":0}]
[{"$f":"ROW()","v":540},{"$f":"IF(OR(C540=$C$1,C540=$C$2,C540=$C$3,C540=0),0,MAX(B$1:B539)+1)","v":0}]
[{"$f":"ROW()","v":541},{"$f":"IF(OR(C541=$C$1,C541=$C$2,C541=$C$3,C541=0),0,MAX(B$1:B540)+1)","v":0}]
[{"$f":"ROW()","v":542},{"$f":"IF(OR(C542=$C$1,C542=$C$2,C542=$C$3,C542=0),0,MAX(B$1:B541)+1)","v":0}]
[{"$f":"ROW()","v":543},{"$f":"IF(OR(C543=$C$1,C543=$C$2,C543=$C$3,C543=0),0,MAX(B$1:B542)+1)","v":0}]
[{"$f":"ROW()","v":544},{"$f":"IF(OR(C544=$C$1,C544=$C$2,C544=$C$3,C544=0),0,MAX(B$1:B543)+1)","v":0}]
[{"$f":"ROW()","v":545},{"$f":"IF(OR(C545=$C$1,C545=$C$2,C545=$C$3,C545=0),0,MAX(B$1:B544)+1)","v":0}]
[{"$f":"ROW()","v":546},{"$f":"IF(OR(C546=$C$1,C546=$C$2,C546=$C$3,C546=0),0,MAX(B$1:B545)+1)","v":0}]
[{"$f":"ROW()","v":547},{"$f":"IF(OR(C547=$C$1,C547=$C$2,C547=$C$3,C547=0),0,MAX(B$1:B546)+1)","v":0}]
[{"$f":"ROW()","v":548},{"$f":"IF(OR(C548=$C$1,C548=$C$2,C548=$C$3,C548=0),0,MAX(B$1:B547)+1)","v":0}]
[{"$f":"ROW()","v":549},{"$f":"IF(OR(C549=$C$1,C549=$C$2,C549=$C$3,C549=0),0,MAX(B$1:B548)+1)","v":0}]
[{"$f":"ROW()","v":550},{"$f":"IF(OR(C550=$C$1,C550=$C$2,C550=$C$3,C550=0),0,MAX(B$1:B549)+1)","v":0}]
[{"$f":"ROW()","v":551},{"$f":"IF(OR(C551=$C$1,C551=$C$2,C551=$C$3,C551=0),0,MAX(B$1:B550)+1)","v":0}]
[{"$f":"ROW()","v":552},{"$f":"IF(OR(C552=$C$1,C552=$C$2,C552=$C$3,C552=0),0,MAX(B$1:B551)+1)","v":0}]
[{"$f":"ROW()","v":553},{"$f":"IF(OR(C553=$C$1,C553=$C$2,C553=$C$3,C553=0),0,MAX(B$1:B552)+1)","v":0}]
[{"$f":"ROW()","v":554},{"$f":"IF(OR(C554=$C$1,C554=$C$2,C554=$C$3,C554=0),0,MAX(B$1:B553)+1)","v":0}]
[{"$f":"ROW()","v":555},{"$f":"IF(OR(C555=$C$1,C555=$C$2,C555=$C$3,C555=0),0,MAX(B$1:B554)+1)","v":0}]
[{"$f":"ROW()","v":556},{"$f":"IF(OR(C556=$C$1,C556=$C$2,C556=$C$3,C556=0),0,MAX(B$1:B555)+1)","v":0}]
[{"$f":"ROW()","v":557},{"$f":"IF(OR(C557=$C$1,C557=$C$2,C557=$C$3,C557=0),0,MAX(B$1:B556)+1)","v":0}]
[{"$f":"ROW()","v":558},{"$f":"IF(OR(C558=$C$1,C558=$C$2,C558=$C$3,C558=0),0,MAX(B$1:B557)+1)","v":0}]
[{"$f":"ROW()","v":559},{"$f":"IF(OR(C559=$C$1,C559=$C$2,C559=$C$3,C559=0),0,MAX(B$1:B558)+1)","v":0}]
[{"$f":"ROW()","v":560},{"$f":"IF(OR(C560=$C$1,C560=$C$2,C560=$C$3,C560=0),0,MAX(B$1:B559)+1)","v":0}]
[{"$f":"ROW()","v":561},{"$f":"IF(OR(C561=$C$1,C561=$C$2,C561=$C$3,C561=0),0,MAX(B$1:B560)+1)","v":0}]
[{"$f":"ROW()","v":562},{"$f":"IF(OR(C562=$C$1,C562=$C$2,C562=$C$3,C562=0),0,MAX(B$1:B561)+1)","v":0}]
[{"$f":"ROW()","v":563},{"$f":"IF(OR(C563=$C$1,C563=$C$2,C563=$C$3,C563=0),0,MAX(B$1:B562)+1)","v":0}]
[{"$f":"ROW()","v":564},{"$f":"IF(OR(C564=$C$1,C564=$C$2,C564=$C$3,C564=0),0,MAX(B$1:B563)+1)","v":0}]
[{"$f":"ROW()","v":565},{"$f":"IF(OR(C565=$C$1,C565=$C$2,C565=$C$3,C565=0),0,MAX(B$1:B564)+1)","v":0}]
[{"$f":"ROW()","v":566},{"$f":"IF(OR(C566=$C$1,C566=$C$2,C566=$C$3,C566=0),0,MAX(B$1:B565)+1)","v":0}]
[{"$f":"ROW()","v":567},{"$f":"IF(OR(C567=$C$1,C567=$C$2,C567=$C$3,C567=0),0,MAX(B$1:B566)+1)","v":0}]
[{"$f":"ROW()","v":568},{"$f":"IF(OR(C568=$C$1,C568=$C$2,C568=$C$3,C568=0),0,MAX(B$1:B567)+1)","v":0}]
[{"$f":"ROW()","v":569},{"$f":"IF(OR(C569=$C$1,C569=$C$2,C569=$C$3,C569=0),0,MAX(B$1:B568)+1)","v":0}]
[{"$f":"ROW()","v":570},{"$f":"IF(OR(C570=$C$1,C570=$C$2,C570=$C$3,C570=0),0,MAX(B$1:B569)+1)","v":0}]
[{"$f":"ROW()","v":571},{"$f":"IF(OR(C571=$C$1,C571=$C$2,C571=$C$3,C571=0),0,MAX(B$1:B570)+1)","v":0}]
[{"$f":"ROW()","v":572},{"$f":"IF(OR(C572=$C$1,C572=$C$2,C572=$C$3,C572=0),0,MAX(B$1:B571)+1)","v":0}]
[{"$f":"ROW()","v":573},{"$f":"IF(OR(C573=$C$1,C573=$C$2,C573=$C$3,C573=0),0,MAX(B$1:B572)+1)","v":0}]
[{"$f":"ROW()","v":574},{"$f":"IF(OR(C574=$C$1,C574=$C$2,C574=$C$3,C574=0),0,MAX(B$1:B573)+1)","v":0}]
[{"$f":"ROW()","v":575},{"$f":"IF(OR(C575=$C$1,C575=$C$2,C575=$C$3,C575=0),0,MAX(B$1:B574)+1)","v":0}]
[{"$f":"ROW()","v":576},{"$f":"IF(OR(C576=$C$1,C576=$C$2,C576=$C$3,C576=0),0,MAX(B$1:B575)+1)","v":0}]
[{"$f":"ROW()","v":577},{"$f":"IF(OR(C577=$C$1,C577=$C$2,C577=$C$3,C577=0),0,MAX(B$1:B576)+1)","v":0}]
[{"$f":"ROW()","v":578},{"$f":"IF(OR(C578=$C$1,C578=$C$2,C578=$C$3,C578=0),0,MAX(B$1:B577)+1)","v":0}]
[{"$f":"ROW()","v":579},{"$f":"IF(OR(C579=$C$1,C579=$C$2,C579=$C$3,C579=0),0,MAX(B$1:B578)+1)","v":0}]
[{"$f":"ROW()","v":580},{"$f":"IF(OR(C580=$C$1,C580=$C$2,C580=$C$3,C580=0),0,MAX(B$1:B579)+1)","v":0}]
[{"$f":"ROW()","v":581},{"$f":"IF(OR(C581=$C$1,C581=$C$2,C581=$C$3,C581=0),0,MAX(B$1:B580)+1)","v":0}]
[{"$f":"ROW()","v":582},{"$f":"IF(OR(C582=$C$1,C582=$C$2,C582=$C$3,C582=0),0,MAX(B$1:B581)+1)","v":0}]
[{"$f":"ROW()","v":583},{"$f":"IF(OR(C583=$C$1,C583=$C$2,C583=$C$3,C583=0),0,MAX(B$1:B582)+1)","v":0}]
[{"$f":"ROW()","v":584},{"$f":"IF(OR(C584=$C$1,C584=$C$2,C584=$C$3,C584=0),0,MAX(B$1:B583)+1)","v":0}]
[{"$f":"ROW()","v":585},{"$f":"IF(OR(C585=$C$1,C585=$C$2,C585=$C$3,C585=0),0,MAX(B$1:B584)+1)","v":0}]
[{"$f":"ROW()","v":586},{"$f":"IF(OR(C586=$C$1,C586=$C$2,C586=$C$3,C586=0),0,MAX(B$1:B585)+1)","v":0}]
[{"$f":"ROW()","v":587},{"$f":"IF(OR(C587=$C$1,C587=$C$2,C587=$C$3,C587=0),0,MAX(B$1:B586)+1)","v":0}]
[{"$f":"ROW()","v":588},{"$f":"IF(OR(C588=$C$1,C588=$C$2,C588=$C$3,C588=0),0,MAX(B$1:B587)+1)","v":0}]
[{"$f":"ROW()","v":589},{"$f":"IF(OR(C589=$C$1,C589=$C$2,C589=$C$3,C589=0),0,MAX(B$1:B588)+1)","v":0}]
[{"$f":"ROW()","v":590},{"$f":"IF(OR(C590=$C$1,C590=$C$2,C590=$C$3,C590=0),0,MAX(B$1:B589)+1)","v":0}]
[{"$f":"ROW()","v":591},{"$f":"IF(OR(C591=$C$1,C591=$C$2,C591=$C$3,C591=0),0,MAX(B$1:B590)+1)","v":0}]
[{"$f":"ROW()","v":592},{"$f":"IF(OR(C592=$C$1,C592=$C$2,C592=$C$3,C592=0),0,MAX(B$1:B591)+1)","v":0}]
[{"$f":"ROW()","v":593},{"$f":"IF(OR(C593=$C$1,C593=$C$2,C593=$C$3,C593=0),0,MAX(B$1:B592)+1)","v":0}]
[{"$f":"ROW()","v":594},{"$f":"IF(OR(C594=$C$1,C594=$C$2,C594=$C$3,C594=0),0,MAX(B$1:B593)+1)","v":0}]
[{"$f":"ROW()","v":595},{"$f":"IF(OR(C595=$C$1,C595=$C$2,C595=$C$3,C595=0),0,MAX(B$1:B594)+1)","v":0}]
[{"$f":"ROW()","v":596},{"$f":"IF(OR(C596=$C$1,C596=$C$2,C596=$C$3,C596=0),0,MAX(B$1:B595)+1)","v":0}]
[{"$f":"ROW()","v":597},{"$f":"IF(OR(C597=$C$1,C597=$C$2,C597=$C$3,C597=0),0,MAX(B$1:B596)+1)","v":0}]
[{"$f":"ROW()","v":598},{"$f":"IF(OR(C598=$C$1,C598=$C$2,C598=$C$3,C598=0),0,MAX(B$1:B597)+1)","v":0}]
[{"$f":"ROW()","v":599},{"$f":"IF(OR(C599=$C$1,C599=$C$2,C599=$C$3,C599=0),0,MAX(B$1:B598)+1)","v":0}]
[{"$f":"ROW()","v":600},{"$f":"IF(OR(C600=$C$1,C600=$C$2,C600=$C$3,C600=0),0,MAX(B$1:B599)+1)","v":0}]
[{"$f":"ROW()","v":601},{"$f":"IF(OR(C601=$C$1,C601=$C$2,C601=$C$3,C601=0),0,MAX(B$1:B600)+1)","v":0}]
[{"$f":"ROW()","v":602},{"$f":"IF(OR(C602=$C$1,C602=$C$2,C602=$C$3,C602=0),0,MAX(B$1:B601)+1)","v":0}]
[{"$f":"ROW()","v":603},{"$f":"IF(OR(C603=$C$1,C603=$C$2,C603=$C$3,C603=0),0,MAX(B$1:B602)+1)","v":0}]
[{"$f":"ROW()","v":604},{"$f":"IF(OR(C604=$C$1,C604=$C$2,C604=$C$3,C604=0),0,MAX(B$1:B603)+1)","v":0}]
[{"$f":"ROW()","v":605},{"$f":"IF(OR(C605=$C$1,C605=$C$2,C605=$C$3,C605=0),0,MAX(B$1:B604)+1)","v":0}]
[{"$f":"ROW()","v":606},{"$f":"IF(OR(C606=$C$1,C606=$C$2,C606=$C$3,C606=0),0,MAX(B$1:B605)+1)","v":0}]
[{"$f":"ROW()","v":607},{"$f":"IF(OR(C607=$C$1,C607=$C$2,C607=$C$3,C607=0),0,MAX(B$1:B606)+1)","v":0}]
[{"$f":"ROW()","v":608},{"$f":"IF(OR(C608=$C$1,C608=$C$2,C608=$C$3,C608=0),0,MAX(B$1:B607)+1)","v":0}]
[{"$f":"ROW()","v":609},{"$f":"IF(OR(C609=$C$1,C609=$C$2,C609=$C$3,C609=0),0,MAX(B$1:B608)+1)","v":0}]
[{"$f":"ROW()","v":610},{"$f":"IF(OR(C610=$C$1,C610=$C$2,C610=$C$3,C610=0),0,MAX(B$1:B609)+1)","v":0}]
[{"$f":"ROW()","v":611},{"$f":"IF(OR(C611=$C$1,C611=$C$2,C611=$C$3,C611=0),0,MAX(B$1:B610)+1)","v":0}]
[{"$f":"ROW()","v":612},{"$f":"IF(OR(C612=$C$1,C612=$C$2,C612=$C$3,C612=0),0,MAX(B$1:B611)+1)","v":0}]
[{"$f":"ROW()","v":613},{"$f":"IF(OR(C613=$C$1,C613=$C$2,C613=$C$3,C613=0),0,MAX(B$1:B612)+1)","v":0}]
[{"$f":"ROW()","v":614},{"$f":"IF(OR(C614=$C$1,C614=$C$2,C614=$C$3,C614=0),0,MAX(B$1:B613)+1)","v":0}]
[{"$f":"ROW()","v":615},{"$f":"IF(OR(C615=$C$1,C615=$C$2,C615=$C$3,C615=0),0,MAX(B$1:B614)+1)","v":0}]
[{"$f":"ROW()","v":616},{"$f":"IF(OR(C616=$C$1,C616=$C$2,C616=$C$3,C616=0),0,MAX(B$1:B615)+1)","v":0}]
[{"$f":"ROW()","v":617},{"$f":"IF(OR(C617=$C$1,C617=$C$2,C617=$C$3,C617=0),0,MAX(B$1:B616)+1)","v":0}]
[{"$f":"ROW()","v":618},{"$f":"IF(OR(C618=$C$1,C618=$C$2,C618=$C$3,C618=0),0,MAX(B$1:B617)+1)","v":0}]
[{"$f":"ROW()","v":619},{"$f":"IF(OR(C619=$C$1,C619=$C$2,C619=$C$3,C619=0),0,MAX(B$1:B618)+1)","v":0}]
[{"$f":"ROW()","v":620},{"$f":"IF(OR(C620=$C$1,C620=$C$2,C620=$C$3,C620=0),0,MAX(B$1:B619)+1)","v":0}]
[{"$f":"ROW()","v":621},{"$f":"IF(OR(C621=$C$1,C621=$C$2,C621=$C$3,C621=0),0,MAX(B$1:B620)+1)","v":0}]
[{"$f":"ROW()","v":622},{"$f":"IF(OR(C622=$C$1,C622=$C$2,C622=$C$3,C622=0),0,MAX(B$1:B621)+1)","v":0}]
[{"$f":"ROW()","v":623},{"$f":"IF(OR(C623=$C$1,C623=$C$2,C623=$C$3,C623=0),0,MAX(B$1:B622)+1)","v":0}]
[{"$f":"ROW()","v":624},{"$f":"IF(OR(C624=$C$1,C624=$C$2,C624=$C$3,C624=0),0,MAX(B$1:B623)+1)","v":0}]
[{"$f":"ROW()","v":625},{"$f":"IF(OR(C625=$C$1,C625=$C$2,C625=$C$3,C625=0),0,MAX(B$1:B624)+1)","v":0}]
[{"$f":"ROW()","v":626},{"$f":"IF(OR(C626=$C$1,C626=$C$2,C626=$C$3,C626=0),0,MAX(B$1:B625)+1)","v":0}]
[{"$f":"ROW()","v":627},{"$f":"IF(OR(C627=$C$1,C627=$C$2,C627=$C$3,C627=0),0,MAX(B$1:B626)+1)","v":0}]
[{"$f":"ROW()","v":628},{"$f":"IF(OR(C628=$C$1,C628=$C$2,C628=$C$3,C628=0),0,MAX(B$1:B627)+1)","v":0}]
[{"$f":"ROW()","v":629},{"$f":"IF(OR(C629=$C$1,C629=$C$2,C629=$C$3,C629=0),0,MAX(B$1:B628)+1)","v":0}]
[{"$f":"ROW()","v":630},{"$f":"IF(OR(C630=$C$1,C630=$C$2,C630=$C$3,C630=0),0,MAX(B$1:B629)+1)","v":0}]
[{"$f":"ROW()","v":631},{"$f":"IF(OR(C631=$C$1,C631=$C$2,C631=$C$3,C631=0),0,MAX(B$1:B630)+1)","v":0}]
[{"$f":"ROW()","v":632},{"$f":"IF(OR(C632=$C$1,C632=$C$2,C632=$C$3,C632=0),0,MAX(B$1:B631)+1)","v":0}]
[{"$f":"ROW()","v":633},{"$f":"IF(OR(C633=$C$1,C633=$C$2,C633=$C$3,C633=0),0,MAX(B$1:B632)+1)","v":0}]
[{"$f":"ROW()","v":634},{"$f":"IF(OR(C634=$C$1,C634=$C$2,C634=$C$3,C634=0),0,MAX(B$1:B633)+1)","v":0}]
[{"$f":"ROW()","v":635},{"$f":"IF(OR(C635=$C$1,C635=$C$2,C635=$C$3,C635=0),0,MAX(B$1:B634)+1)","v":0}]
[{"$f":"ROW()","v":636},{"$f":"IF(OR(C636=$C$1,C636=$C$2,C636=$C$3,C636=0),0,MAX(B$1:B635)+1)","v":0}]
[{"$f":"ROW()","v":637},{"$f":"IF(OR(C637=$C$1,C637=$C$2,C637=$C$3,C637=0),0,MAX(B$1:B636)+1)","v":0}]
[{"$f":"ROW()","v":638},{"$f":"IF(OR(C638=$C$1,C638=$C$2,C638=$C$3,C638=0),0,MAX(B$1:B637)+1)","v":0}]
[{"$f":"ROW()","v":639},{"$f":"IF(OR(C639=$C$1,C639=$C$2,C639=$C$3,C639=0),0,MAX(B$1:B638)+1)","v":0}]
[{"$f":"ROW()","v":640},{"$f":"IF(OR(C640=$C$1,C640=$C$2,C640=$C$3,C640=0),0,MAX(B$1:B639)+1)","v":0}]
[{"$f":"ROW()","v":641},{"$f":"IF(OR(C641=$C$1,C641=$C$2,C641=$C$3,C641=0),0,MAX(B$1:B640)+1)","v":0}]
[{"$f":"ROW()","v":642},{"$f":"IF(OR(C642=$C$1,C642=$C$2,C642=$C$3,C642=0),0,MAX(B$1:B641)+1)","v":0}]
[{"$f":"ROW()","v":643},{"$f":"IF(OR(C643=$C$1,C643=$C$2,C643=$C$3,C643=0),0,MAX(B$1:B642)+1)","v":0}]
[{"$f":"ROW()","v":644},{"$f":"IF(OR(C644=$C$1,C644=$C$2,C644=$C$3,C644=0),0,MAX(B$1:B643)+1)","v":0}]
[{"$f":"ROW()","v":645},{"$f":"IF(OR(C645=$C$1,C645=$C$2,C645=$C$3,C645=0),0,MAX(B$1:B644)+1)","v":0}]
[{"$f":"ROW()","v":646},{"$f":"IF(OR(C646=$C$1,C646=$C$2,C646=$C$3,C646=0),0,MAX(B$1:B645)+1)","v":0}]
[{"$f":"ROW()","v":647},{"$f":"IF(OR(C647=$C$1,C647=$C$2,C647=$C$3,C647=0),0,MAX(B$1:B646)+1)","v":0}]
[{"$f":"ROW()","v":648},{"$f":"IF(OR(C648=$C$1,C648=$C$2,C648=$C$3,C648=0),0,MAX(B$1:B647)+1)","v":0}]
[{"$f":"ROW()","v":649},{"$f":"IF(OR(C649=$C$1,C649=$C$2,C649=$C$3,C649=0),0,MAX(B$1:B648)+1)","v":0}]
[{"$f":"ROW()","v":650},{"$f":"IF(OR(C650=$C$1,C650=$C$2,C650=$C$3,C650=0),0,MAX(B$1:B649)+1)","v":0}]
[{"$f":"ROW()","v":651},{"$f":"IF(OR(C651=$C$1,C651=$C$2,C651=$C$3,C651=0),0,MAX(B$1:B650)+1)","v":0}]
[{"$f":"ROW()","v":652},{"$f":"IF(OR(C652=$C$1,C652=$C$2,C652=$C$3,C652=0),0,MAX(B$1:B651)+1)","v":0}]
[{"$f":"ROW()","v":653},{"$f":"IF(OR(C653=$C$1,C653=$C$2,C653=$C$3,C653=0),0,MAX(B$1:B652)+1)","v":0}]
[{"$f":"ROW()","v":654},{"$f":"IF(OR(C654=$C$1,C654=$C$2,C654=$C$3,C654=0),0,MAX(B$1:B653)+1)","v":0}]
[{"$f":"ROW()","v":655},{"$f":"IF(OR(C655=$C$1,C655=$C$2,C655=$C$3,C655=0),0,MAX(B$1:B654)+1)","v":0}]
[{"$f":"ROW()","v":656},{"$f":"IF(OR(C656=$C$1,C656=$C$2,C656=$C$3,C656=0),0,MAX(B$1:B655)+1)","v":0}]
[{"$f":"ROW()","v":657},{"$f":"IF(OR(C657=$C$1,C657=$C$2,C657=$C$3,C657=0),0,MAX(B$1:B656)+1)","v":0}]
[{"$f":"ROW()","v":658},{"$f":"IF(OR(C658=$C$1,C658=$C$2,C658=$C$3,C658=0),0,MAX(B$1:B657)+1)","v":0}]
[{"$f":"ROW()","v":659},{"$f":"IF(OR(C659=$C$1,C659=$C$2,C659=$C$3,C659=0),0,MAX(B$1:B658)+1)","v":0}]
[{"$f":"ROW()","v":660},{"$f":"IF(OR(C660=$C$1,C660=$C$2,C660=$C$3,C660=0),0,MAX(B$1:B659)+1)","v":0}]
[{"$f":"ROW()","v":661},{"$f":"IF(OR(C661=$C$1,C661=$C$2,C661=$C$3,C661=0),0,MAX(B$1:B660)+1)","v":0}]
[{"$f":"ROW()","v":662},{"$f":"IF(OR(C662=$C$1,C662=$C$2,C662=$C$3,C662=0),0,MAX(B$1:B661)+1)","v":0}]
[{"$f":"ROW()","v":663},{"$f":"IF(OR(C663=$C$1,C663=$C$2,C663=$C$3,C663=0),0,MAX(B$1:B662)+1)","v":0}]
[{"$f":"ROW()","v":664},{"$f":"IF(OR(C664=$C$1,C664=$C$2,C664=$C$3,C664=0),0,MAX(B$1:B663)+1)","v":0}]
[{"$f":"ROW()","v":665},{"$f":"IF(OR(C665=$C$1,C665=$C$2,C665=$C$3,C665=0),0,MAX(B$1:B664)+1)","v":0}]
[{"$f":"ROW()","v":666},{"$f":"IF(OR(C666=$C$1,C666=$C$2,C666=$C$3,C666=0),0,MAX(B$1:B665)+1)","v":0}]
[{"$f":"ROW()","v":667},{"$f":"IF(OR(C667=$C$1,C667=$C$2,C667=$C$3,C667=0),0,MAX(B$1:B666)+1)","v":0}]
[{"$f":"ROW()","v":668},{"$f":"IF(OR(C668=$C$1,C668=$C$2,C668=$C$3,C668=0),0,MAX(B$1:B667)+1)","v":0}]
[{"$f":"ROW()","v":669},{"$f":"IF(OR(C669=$C$1,C669=$C$2,C669=$C$3,C669=0),0,MAX(B$1:B668)+1)","v":0}]
[{"$f":"ROW()","v":670},{"$f":"IF(OR(C670=$C$1,C670=$C$2,C670=$C$3,C670=0),0,MAX(B$1:B669)+1)","v":0}]
[{"$f":"ROW()","v":671},{"$f":"IF(OR(C671=$C$1,C671=$C$2,C671=$C$3,C671=0),0,MAX(B$1:B670)+1)","v":0}]
[{"$f":"ROW()","v":672},{"$f":"IF(OR(C672=$C$1,C672=$C$2,C672=$C$3,C672=0),0,MAX(B$1:B671)+1)","v":0}]
[{"$f":"ROW()","v":673},{"$f":"IF(OR(C673=$C$1,C673=$C$2,C673=$C$3,C673=0),0,MAX(B$1:B672)+1)","v":0}]
[{"$f":"ROW()","v":674},{"$f":"IF(OR(C674=$C$1,C674=$C$2,C674=$C$3,C674=0),0,MAX(B$1:B673)+1)","v":0}]
[{"$f":"ROW()","v":675},{"$f":"IF(OR(C675=$C$1,C675=$C$2,C675=$C$3,C675=0),0,MAX(B$1:B674)+1)","v":0}]
[{"$f":"ROW()","v":676},{"$f":"IF(OR(C676=$C$1,C676=$C$2,C676=$C$3,C676=0),0,MAX(B$1:B675)+1)","v":0}]
[{"$f":"ROW()","v":677},{"$f":"IF(OR(C677=$C$1,C677=$C$2,C677=$C$3,C677=0),0,MAX(B$1:B676)+1)","v":0}]
[{"$f":"ROW()","v":678},{"$f":"IF(OR(C678=$C$1,C678=$C$2,C678=$C$3,C678=0),0,MAX(B$1:B677)+1)","v":0}]
[{"$f":"ROW()","v":679},{"$f":"IF(OR(C679=$C$1,C679=$C$2,C679=$C$3,C679=0),0,MAX(B$1:B678)+1)","v":0}]
[{"$f":"ROW()","v":680},{"$f":"IF(OR(C680=$C$1,C680=$C$2,C680=$C$3,C680=0),0,MAX(B$1:B679)+1)","v":0}]
[{"$f":"ROW()","v":681},{"$f":"IF(OR(C681=$C$1,C681=$C$2,C681=$C$3,C681=0),0,MAX(B$1:B680)+1)","v":0}]
[{"$f":"ROW()","v":682},{"$f":"IF(OR(C682=$C$1,C682=$C$2,C682=$C$3,C682=0),0,MAX(B$1:B681)+1)","v":0}]
[{"$f":"ROW()","v":683},{"$f":"IF(OR(C683=$C$1,C683=$C$2,C683=$C$3,C683=0),0,MAX(B$1:B682)+1)","v":0}]
[{"$f":"ROW()","v":684},{"$f":"IF(OR(C684=$C$1,C684=$C$2,C684=$C$3,C684=0),0,MAX(B$1:B683)+1)","v":0}]
[{"$f":"ROW()","v":685},{"$f":"IF(OR(C685=$C$1,C685=$C$2,C685=$C$3,C685=0),0,MAX(B$1:B684)+1)","v":0}]
[{"$f":"ROW()","v":686},{"$f":"IF(OR(C686=$C$1,C686=$C$2,C686=$C$3,C686=0),0,MAX(B$1:B685)+1)","v":0}]
[{"$f":"ROW()","v":687},{"$f":"IF(OR(C687=$C$1,C687=$C$2,C687=$C$3,C687=0),0,MAX(B$1:B686)+1)","v":0}]
[{"$f":"ROW()","v":688},{"$f":"IF(OR(C688=$C$1,C688=$C$2,C688=$C$3,C688=0),0,MAX(B$1:B687)+1)","v":0}]
[{"$f":"ROW()","v":689},{"$f":"IF(OR(C689=$C$1,C689=$C$2,C689=$C$3,C689=0),0,MAX(B$1:B688)+1)","v":0}]
[{"$f":"ROW()","v":690},{"$f":"IF(OR(C690=$C$1,C690=$C$2,C690=$C$3,C690=0),0,MAX(B$1:B689)+1)","v":0}]
[{"$f":"ROW()","v":691},{"$f":"IF(OR(C691=$C$1,C691=$C$2,C691=$C$3,C691=0),0,MAX(B$1:B690)+1)","v":0}]
[{"$f":"ROW()","v":692},{"$f":"IF(OR(C692=$C$1,C692=$C$2,C692=$C$3,C692=0),0,MAX(B$1:B691)+1)","v":0}]
[{"$f":"ROW()","v":693},{"$f":"IF(OR(C693=$C$1,C693=$C$2,C693=$C$3,C693=0),0,MAX(B$1:B692)+1)","v":0}]
[{"$f":"ROW()","v":694},{"$f":"IF(OR(C694=$C$1,C694=$C$2,C694=$C$3,C694=0),0,MAX(B$1:B693)+1)","v":0}]
[{"$f":"ROW()","v":695},{"$f":"IF(OR(C695=$C$1,C695=$C$2,C695=$C$3,C695=0),0,MAX(B$1:B694)+1)","v":0}]
[{"$f":"ROW()","v":696},{"$f":"IF(OR(C696=$C$1,C696=$C$2,C696=$C$3,C696=0),0,MAX(B$1:B695)+1)","v":0}]
[{"$f":"ROW()","v":697},{"$f":"IF(OR(C697=$C$1,C697=$C$2,C697=$C$3,C697=0),0,MAX(B$1:B696)+1)","v":0}]
[{"$f":"ROW()","v":698},{"$f":"IF(OR(C698=$C$1,C698=$C$2,C698=$C$3,C698=0),0,MAX(B$1:B697)+1)","v":0}]
[{"$f":"ROW()","v":699},{"$f":"IF(OR(C699=$C$1,C699=$C$2,C699=$C$3,C699=0),0,MAX(B$1:B698)+1)","v":0}]
[{"$f":"ROW()","v":700},{"$f":"IF(OR(C700=$C$1,C700=$C$2,C700=$C$3,C700=0),0,MAX(B$1:B699)+1)","v":0}]
[{"$f":"ROW()","v":701},{"$f":"IF(OR(C701=$C$1,C701=$C$2,C701=$C$3,C701=0),0,MAX(B$1:B700)+1)","v":0}]
[{"$f":"ROW()","v":702},{"$f":"IF(OR(C702=$C$1,C702=$C$2,C702=$C$3,C702=0),0,MAX(B$1:B701)+1)","v":0}]
[{"$f":"ROW()","v":703},{"$f":"IF(OR(C703=$C$1,C703=$C$2,C703=$C$3,C703=0),0,MAX(B$1:B702)+1)","v":0}]
[{"$f":"ROW()","v":704},{"$f":"IF(OR(C704=$C$1,C704=$C$2,C704=$C$3,C704=0),0,MAX(B$1:B703)+1)","v":0}]
[{"$f":"ROW()","v":705},{"$f":"IF(OR(C705=$C$1,C705=$C$2,C705=$C$3,C705=0),0,MAX(B$1:B704)+1)","v":0}]
[{"$f":"ROW()","v":706},{"$f":"IF(OR(C706=$C$1,C706=$C$2,C706=$C$3,C706=0),0,MAX(B$1:B705)+1)","v":0}]
[{"$f":"ROW()","v":707},{"$f":"IF(OR(C707=$C$1,C707=$C$2,C707=$C$3,C707=0),0,MAX(B$1:B706)+1)","v":0}]
[{"$f":"ROW()","v":708},{"$f":"IF(OR(C708=$C$1,C708=$C$2,C708=$C$3,C708=0),0,MAX(B$1:B707)+1)","v":0}]
[{"$f":"ROW()","v":709},{"$f":"IF(OR(C709=$C$1,C709=$C$2,C709=$C$3,C709=0),0,MAX(B$1:B708)+1)","v":0}]
[{"$f":"ROW()","v":710},{"$f":"IF(OR(C710=$C$1,C710=$C$2,C710=$C$3,C710=0),0,MAX(B$1:B709)+1)","v":0}]
[{"$f":"ROW()","v":711},{"$f":"IF(OR(C711=$C$1,C711=$C$2,C711=$C$3,C711=0),0,MAX(B$1:B710)+1)","v":0}]
[{"$f":"ROW()","v":712},{"$f":"IF(OR(C712=$C$1,C712=$C$2,C712=$C$3,C712=0),0,MAX(B$1:B711)+1)","v":0}]
[{"$f":"ROW()","v":713},{"$f":"IF(OR(C713=$C$1,C713=$C$2,C713=$C$3,C713=0),0,MAX(B$1:B712)+1)","v":0}]
[{"$f":"ROW()","v":714},{"$f":"IF(OR(C714=$C$1,C714=$C$2,C714=$C$3,C714=0),0,MAX(B$1:B713)+1)","v":0}]
[{"$f":"ROW()","v":715},{"$f":"IF(OR(C715=$C$1,C715=$C$2,C715=$C$3,C715=0),0,MAX(B$1:B714)+1)","v":0}]
[{"$f":"ROW()","v":716},{"$f":"IF(OR(C716=$C$1,C716=$C$2,C716=$C$3,C716=0),0,MAX(B$1:B715)+1)","v":0}]
[{"$f":"ROW()","v":717},{"$f":"IF(OR(C717=$C$1,C717=$C$2,C717=$C$3,C717=0),0,MAX(B$1:B716)+1)","v":0}]
[{"$f":"ROW()","v":718},{"$f":"IF(OR(C718=$C$1,C718=$C$2,C718=$C$3,C718=0),0,MAX(B$1:B717)+1)","v":0}]
[{"$f":"ROW()","v":719},{"$f":"IF(OR(C719=$C$1,C719=$C$2,C719=$C$3,C719=0),0,MAX(B$1:B718)+1)","v":0}]
[{"$f":"ROW()","v":720},{"$f":"IF(OR(C720=$C$1,C720=$C$2,C720=$C$3,C720=0),0,MAX(B$1:B719)+1)","v":0}]
[{"$f":"ROW()","v":721},{"$f":"IF(OR(C721=$C$1,C721=$C$2,C721=$C$3,C721=0),0,MAX(B$1:B720)+1)","v":0}]
[{"$f":"ROW()","v":722},{"$f":"IF(OR(C722=$C$1,C722=$C$2,C722=$C$3,C722=0),0,MAX(B$1:B721)+1)","v":0}]
[{"$f":"ROW()","v":723},{"$f":"IF(OR(C723=$C$1,C723=$C$2,C723=$C$3,C723=0),0,MAX(B$1:B722)+1)","v":0}]
[{"$f":"ROW()","v":724},{"$f":"IF(OR(C724=$C$1,C724=$C$2,C724=$C$3,C724=0),0,MAX(B$1:B723)+1)","v":0}]
[{"$f":"ROW()","v":725},{"$f":"IF(OR(C725=$C$1,C725=$C$2,C725=$C$3,C725=0),0,MAX(B$1:B724)+1)","v":0}]
[{"$f":"ROW()","v":726},{"$f":"IF(OR(C726=$C$1,C726=$C$2,C726=$C$3,C726=0),0,MAX(B$1:B725)+1)","v":0}]
[{"$f":"ROW()","v":727},{"$f":"IF(OR(C727=$C$1,C727=$C$2,C727=$C$3,C727=0),0,MAX(B$1:B726)+1)","v":0}]
[{"$f":"ROW()","v":728},{"$f":"IF(OR(C728=$C$1,C728=$C$2,C728=$C$3,C728=0),0,MAX(B$1:B727)+1)","v":0}]
[{"$f":"ROW()","v":729},{"$f":"IF(OR(C729=$C$1,C729=$C$2,C729=$C$3,C729=0),0,MAX(B$1:B728)+1)","v":0}]
[{"$f":"ROW()","v":730},{"$f":"IF(OR(C730=$C$1,C730=$C$2,C730=$C$3,C730=0),0,MAX(B$1:B729)+1)","v":0}]
[{"$f":"ROW()","v":731},{"$f":"IF(OR(C731=$C$1,C731=$C$2,C731=$C$3,C731=0),0,MAX(B$1:B730)+1)","v":0}]
[{"$f":"ROW()","v":732},{"$f":"IF(OR(C732=$C$1,C732=$C$2,C732=$C$3,C732=0),0,MAX(B$1:B731)+1)","v":0}]
[{"$f":"ROW()","v":733},{"$f":"IF(OR(C733=$C$1,C733=$C$2,C733=$C$3,C733=0),0,MAX(B$1:B732)+1)","v":0}]
[{"$f":"ROW()","v":734},{"$f":"IF(OR(C734=$C$1,C734=$C$2,C734=$C$3,C734=0),0,MAX(B$1:B733)+1)","v":0}]
[{"$f":"ROW()","v":735},{"$f":"IF(OR(C735=$C$1,C735=$C$2,C735=$C$3,C735=0),0,MAX(B$1:B734)+1)","v":0}]
[{"$f":"ROW()","v":736},{"$f":"IF(OR(C736=$C$1,C736=$C$2,C736=$C$3,C736=0),0,MAX(B$1:B735)+1)","v":0}]
[{"$f":"ROW()","v":737},{"$f":"IF(OR(C737=$C$1,C737=$C$2,C737=$C$3,C737=0),0,MAX(B$1:B736)+1)","v":0}]
[{"$f":"ROW()","v":738},{"$f":"IF(OR(C738=$C$1,C738=$C$2,C738=$C$3,C738=0),0,MAX(B$1:B737)+1)","v":0}]
[{"$f":"ROW()","v":739},{"$f":"IF(OR(C739=$C$1,C739=$C$2,C739=$C$3,C739=0),0,MAX(B$1:B738)+1)","v":0}]
[{"$f":"ROW()","v":740},{"$f":"IF(OR(C740=$C$1,C740=$C$2,C740=$C$3,C740=0),0,MAX(B$1:B739)+1)","v":0}]
[{"$f":"ROW()","v":741},{"$f":"IF(OR(C741=$C$1,C741=$C$2,C741=$C$3,C741=0),0,MAX(B$1:B740)+1)","v":0}]
[{"$f":"ROW()","v":742},{"$f":"IF(OR(C742=$C$1,C742=$C$2,C742=$C$3,C742=0),0,MAX(B$1:B741)+1)","v":0}]
[{"$f":"ROW()","v":743},{"$f":"IF(OR(C743=$C$1,C743=$C$2,C743=$C$3,C743=0),0,MAX(B$1:B742)+1)","v":0}]
[{"$f":"ROW()","v":744},{"$f":"IF(OR(C744=$C$1,C744=$C$2,C744=$C$3,C744=0),0,MAX(B$1:B743)+1)","v":0}]
[{"$f":"ROW()","v":745},{"$f":"IF(OR(C745=$C$1,C745=$C$2,C745=$C$3,C745=0),0,MAX(B$1:B744)+1)","v":0}]
[{"$f":"ROW()","v":746},{"$f":"IF(OR(C746=$C$1,C746=$C$2,C746=$C$3,C746=0),0,MAX(B$1:B745)+1)","v":0}]
[{"$f":"ROW()","v":747},{"$f":"IF(OR(C747=$C$1,C747=$C$2,C747=$C$3,C747=0),0,MAX(B$1:B746)+1)","v":0}]
[{"$f":"ROW()","v":748},{"$f":"IF(OR(C748=$C$1,C748=$C$2,C748=$C$3,C748=0),0,MAX(B$1:B747)+1)","v":0}]
[{"$f":"ROW()","v":749},{"$f":"IF(OR(C749=$C$1,C749=$C$2,C749=$C$3,C749=0),0,MAX(B$1:B748)+1)","v":0}]
[{"$f":"ROW()","v":750},{"$f":"IF(OR(C750=$C$1,C750=$C$2,C750=$C$3,C750=0),0,MAX(B$1:B749)+1)","v":0}]
[{"$f":"ROW()","v":751},{"$f":"IF(OR(C751=$C$1,C751=$C$2,C751=$C$3,C751=0),0,MAX(B$1:B750)+1)","v":0}]
[{"$f":"ROW()","v":752},{"$f":"IF(OR(C752=$C$1,C752=$C$2,C752=$C$3,C752=0),0,MAX(B$1:B751)+1)","v":0}]
[{"$f":"ROW()","v":753},{"$f":"IF(OR(C753=$C$1,C753=$C$2,C753=$C$3,C753=0),0,MAX(B$1:B752)+1)","v":0}]
[{"$f":"ROW()","v":754},{"$f":"IF(OR(C754=$C$1,C754=$C$2,C754=$C$3,C754=0),0,MAX(B$1:B753)+1)","v":0}]
[{"$f":"ROW()","v":755},{"$f":"IF(OR(C755=$C$1,C755=$C$2,C755=$C$3,C755=0),0,MAX(B$1:B754)+1)","v":0}]
[{"$f":"ROW()","v":756},{"$f":"IF(OR(C756=$C$1,C756=$C$2,C756=$C$3,C756=0),0,MAX(B$1:B755)+1)","v":0}]
[{"$f":"ROW()","v":757},{"$f":"IF(OR(C757=$C$1,C757=$C$2,C757=$C$3,C757=0),0,MAX(B$1:B756)+1)","v":0}]
[{"$f":"ROW()","v":758},{"$f":"IF(OR(C758=$C$1,C758=$C$2,C758=$C$3,C758=0),0,MAX(B$1:B757)+1)","v":0}]
[{"$f":"ROW()","v":759},{"$f":"IF(OR(C759=$C$1,C759=$C$2,C759=$C$3,C759=0),0,MAX(B$1:B758)+1)","v":0}]
[{"$f":"ROW()","v":760},{"$f":"IF(OR(C760=$C$1,C760=$C$2,C760=$C$3,C760=0),0,MAX(B$1:B759)+1)","v":0}]
[{"$f":"ROW()","v":761},{"$f":"IF(OR(C761=$C$1,C761=$C$2,C761=$C$3,C761=0),0,MAX(B$1:B760)+1)","v":0}]
[{"$f":"ROW()","v":762},{"$f":"IF(OR(C762=$C$1,C762=$C$2,C762=$C$3,C762=0),0,MAX(B$1:B761)+1)","v":0}]
[{"$f":"ROW()","v":763},{"$f":"IF(OR(C763=$C$1,C763=$C$2,C763=$C$3,C763=0),0,MAX(B$1:B762)+1)","v":0}]
[{"$f":"ROW()","v":764},{"$f":"IF(OR(C764=$C$1,C764=$C$2,C764=$C$3,C764=0),0,MAX(B$1:B763)+1)","v":0}]
[{"$f":"ROW()","v":765},{"$f":"IF(OR(C765=$C$1,C765=$C$2,C765=$C$3,C765=0),0,MAX(B$1:B764)+1)","v":0}]
[{"$f":"ROW()","v":766},{"$f":"IF(OR(C766=$C$1,C766=$C$2,C766=$C$3,C766=0),0,MAX(B$1:B765)+1)","v":0}]
[{"$f":"ROW()","v":767},{"$f":"IF(OR(C767=$C$1,C767=$C$2,C767=$C$3,C767=0),0,MAX(B$1:B766)+1)","v":0}]
[{"$f":"ROW()","v":768},{"$f":"IF(OR(C768=$C$1,C768=$C$2,C768=$C$3,C768=0),0,MAX(B$1:B767)+1)","v":0}]
[{"$f":"ROW()","v":769},{"$f":"IF(OR(C769=$C$1,C769=$C$2,C769=$C$3,C769=0),0,MAX(B$1:B768)+1)","v":0}]
[{"$f":"ROW()","v":770},{"$f":"IF(OR(C770=$C$1,C770=$C$2,C770=$C$3,C770=0),0,MAX(B$1:B769)+1)","v":0}]
[{"$f":"ROW()","v":771},{"$f":"IF(OR(C771=$C$1,C771=$C$2,C771=$C$3,C771=0),0,MAX(B$1:B770)+1)","v":0}]
[{"$f":"ROW()","v":772},{"$f":"IF(OR(C772=$C$1,C772=$C$2,C772=$C$3,C772=0),0,MAX(B$1:B771)+1)","v":0}]
[{"$f":"ROW()","v":773},{"$f":"IF(OR(C773=$C$1,C773=$C$2,C773=$C$3,C773=0),0,MAX(B$1:B772)+1)","v":0}]
[{"$f":"ROW()","v":774},{"$f":"IF(OR(C774=$C$1,C774=$C$2,C774=$C$3,C774=0),0,MAX(B$1:B773)+1)","v":0}]
[{"$f":"ROW()","v":775},{"$f":"IF(OR(C775=$C$1,C775=$C$2,C775=$C$3,C775=0),0,MAX(B$1:B774)+1)","v":0}]
[{"$f":"ROW()","v":776},{"$f":"IF(OR(C776=$C$1,C776=$C$2,C776=$C$3,C776=0),0,MAX(B$1:B775)+1)","v":0}]
[{"$f":"ROW()","v":777},{"$f":"IF(OR(C777=$C$1,C777=$C$2,C777=$C$3,C777=0),0,MAX(B$1:B776)+1)","v":0}]
[{"$f":"ROW()","v":778},{"$f":"IF(OR(C778=$C$1,C778=$C$2,C778=$C$3,C778=0),0,MAX(B$1:B777)+1)","v":0}]
[{"$f":"ROW()","v":779},{"$f":"IF(OR(C779=$C$1,C779=$C$2,C779=$C$3,C779=0),0,MAX(B$1:B778)+1)","v":0}]
[{"$f":"ROW()","v":780},{"$f":"IF(OR(C780=$C$1,C780=$C$2,C780=$C$3,C780=0),0,MAX(B$1:B779)+1)","v":0}]
[{"$f":"ROW()","v":781},{"$f":"IF(OR(C781=$C$1,C781=$C$2,C781=$C$3,C781=0),0,MAX(B$1:B780)+1)","v":0}]
[{"$f":"ROW()","v":782},{"$f":"IF(OR(C782=$C$1,C782=$C$2,C782=$C$3,C782=0),0,MAX(B$1:B781)+1)","v":0}]
[{"$f":"ROW()","v":783},{"$f":"IF(OR(C783=$C$1,C783=$C$2,C783=$C$3,C783=0),0,MAX(B$1:B782)+1)","v":0}]
[{"$f":"ROW()","v":784},{"$f":"IF(OR(C784=$C$1,C784=$C$2,C784=$C$3,C784=0),0,MAX(B$1:B783)+1)","v":0}]
[{"$f":"ROW()","v":785},{"$f":"IF(OR(C785=$C$1,C785=$C$2,C785=$C$3,C785=0),0,MAX(B$1:B784)+1)","v":0}]
[{"$f":"ROW()","v":786},{"$f":"IF(OR(C786=$C$1,C786=$C$2,C786=$C$3,C786=0),0,MAX(B$1:B785)+1)","v":0}]
[{"$f":"ROW()","v":787},{"$f":"IF(OR(C787=$C$1,C787=$C$2,C787=$C$3,C787=0),0,MAX(B$1:B786)+1)","v":0}]
[{"$f":"ROW()","v":788},{"$f":"IF(OR(C788=$C$1,C788=$C$2,C788=$C$3,C788=0),0,MAX(B$1:B787)+1)","v":0}]
[{"$f":"ROW()","v":789},{"$f":"IF(OR(C789=$C$1,C789=$C$2,C789=$C$3,C789=0),0,MAX(B$1:B788)+1)","v":0}]
[{"$f":"ROW()","v":790},{"$f":"IF(OR(C790=$C$1,C790=$C$2,C790=$C$3,C790=0),0,MAX(B$1:B789)+1)","v":0}]
[{"$f":"ROW()","v":791},{"$f":"IF(OR(C791=$C$1,C791=$C$2,C791=$C$3,C791=0),0,MAX(B$1:B790)+1)","v":0}]
[{"$f":"ROW()","v":792},{"$f":"IF(OR(C792=$C$1,C792=$C$2,C792=$C$3,C792=0),0,MAX(B$1:B791)+1)","v":0}]
[{"$f":"ROW()","v":793},{"$f":"IF(OR(C793=$C$1,C793=$C$2,C793=$C$3,C793=0),0,MAX(B$1:B792)+1)","v":0}]
[{"$f":"ROW()","v":794},{"$f":"IF(OR(C794=$C$1,C794=$C$2,C794=$C$3,C794=0),0,MAX(B$1:B793)+1)","v":0}]
[{"$f":"ROW()","v":795},{"$f":"IF(OR(C795=$C$1,C795=$C$2,C795=$C$3,C795=0),0,MAX(B$1:B794)+1)","v":0}]
[{"$f":"ROW()","v":796},{"$f":"IF(OR(C796=$C$1,C796=$C$2,C796=$C$3,C796=0),0,MAX(B$1:B795)+1)","v":0}]
[{"$f":"ROW()","v":797},{"$f":"IF(OR(C797=$C$1,C797=$C$2,C797=$C$3,C797=0),0,MAX(B$1:B796)+1)","v":0}]
[{"$f":"ROW()","v":798},{"$f":"IF(OR(C798=$C$1,C798=$C$2,C798=$C$3,C798=0),0,MAX(B$1:B797)+1)","v":0}]
[{"$f":"ROW()","v":799},{"$f":"IF(OR(C799=$C$1,C799=$C$2,C799=$C$3,C799=0),0,MAX(B$1:B798)+1)","v":0}]
[{"$f":"ROW()","v":800},{"$f":"IF(OR(C800=$C$1,C800=$C$2,C800=$C$3,C800=0),0,MAX(B$1:B799)+1)","v":0}]
[{"$f":"ROW()","v":801},{"$f":"IF(OR(C801=$C$1,C801=$C$2,C801=$C$3,C801=0),0,MAX(B$1:B800)+1)","v":0}]
[{"$f":"ROW()","v":802},{"$f":"IF(OR(C802=$C$1,C802=$C$2,C802=$C$3,C802=0),0,MAX(B$1:B801)+1)","v":0}]
[{"$f":"ROW()","v":803},{"$f":"IF(OR(C803=$C$1,C803=$C$2,C803=$C$3,C803=0),0,MAX(B$1:B802)+1)","v":0}]
[{"$f":"ROW()","v":804},{"$f":"IF(OR(C804=$C$1,C804=$C$2,C804=$C$3,C804=0),0,MAX(B$1:B803)+1)","v":0}]
[{"$f":"ROW()","v":805},{"$f":"IF(OR(C805=$C$1,C805=$C$2,C805=$C$3,C805=0),0,MAX(B$1:B804)+1)","v":0}]
[{"$f":"ROW()","v":806},{"$f":"IF(OR(C806=$C$1,C806=$C$2,C806=$C$3,C806=0),0,MAX(B$1:B805)+1)","v":0}]
[{"$f":"ROW()","v":807},{"$f":"IF(OR(C807=$C$1,C807=$C$2,C807=$C$3,C807=0),0,MAX(B$1:B806)+1)","v":0}]
[{"$f":"ROW()","v":808},{"$f":"IF(OR(C808=$C$1,C808=$C$2,C808=$C$3,C808=0),0,MAX(B$1:B807)+1)","v":0}]
[{"$f":"ROW()","v":809},{"$f":"IF(OR(C809=$C$1,C809=$C$2,C809=$C$3,C809=0),0,MAX(B$1:B808)+1)","v":0}]
[{"$f":"ROW()","v":810},{"$f":"IF(OR(C810=$C$1,C810=$C$2,C810=$C$3,C810=0),0,MAX(B$1:B809)+1)","v":0}]
[{"$f":"ROW()","v":811},{"$f":"IF(OR(C811=$C$1,C811=$C$2,C811=$C$3,C811=0),0,MAX(B$1:B810)+1)","v":0}]
[{"$f":"ROW()","v":812},{"$f":"IF(OR(C812=$C$1,C812=$C$2,C812=$C$3,C812=0),0,MAX(B$1:B811)+1)","v":0}]
[{"$f":"ROW()","v":813},{"$f":"IF(OR(C813=$C$1,C813=$C$2,C813=$C$3,C813=0),0,MAX(B$1:B812)+1)","v":0}]
[{"$f":"ROW()","v":814},{"$f":"IF(OR(C814=$C$1,C814=$C$2,C814=$C$3,C814=0),0,MAX(B$1:B813)+1)","v":0}]
[{"$f":"ROW()","v":815},{"$f":"IF(OR(C815=$C$1,C815=$C$2,C815=$C$3,C815=0),0,MAX(B$1:B814)+1)","v":0}]
[{"$f":"ROW()","v":816},{"$f":"IF(OR(C816=$C$1,C816=$C$2,C816=$C$3,C816=0),0,MAX(B$1:B815)+1)","v":0}]
[{"$f":"ROW()","v":817},{"$f":"IF(OR(C817=$C$1,C817=$C$2,C817=$C$3,C817=0),0,MAX(B$1:B816)+1)","v":0}]
[{"$f":"ROW()","v":818},{"$f":"IF(OR(C818=$C$1,C818=$C$2,C818=$C$3,C818=0),0,MAX(B$1:B817)+1)","v":0}]
[{"$f":"ROW()","v":819},{"$f":"IF(OR(C819=$C$1,C819=$C$2,C819=$C$3,C819=0),0,MAX(B$1:B818)+1)","v":0}]
[{"$f":"ROW()","v":820},{"$f":"IF(OR(C820=$C$1,C820=$C$2,C820=$C$3,C820=0),0,MAX(B$1:B819)+1)","v":0}]
[{"$f":"ROW()","v":821},{"$f":"IF(OR(C821=$C$1,C821=$C$2,C821=$C$3,C821=0),0,MAX(B$1:B820)+1)","v":0}]
[{"$f":"ROW()","v":822},{"$f":"IF(OR(C822=$C$1,C822=$C$2,C822=$C$3,C822=0),0,MAX(B$1:B821)+1)","v":0}]
[{"$f":"ROW()","v":823},{"$f":"IF(OR(C823=$C$1,C823=$C$2,C823=$C$3,C823=0),0,MAX(B$1:B822)+1)","v":0}]
[{"$f":"ROW()","v":824},{"$f":"IF(OR(C824=$C$1,C824=$C$2,C824=$C$3,C824=0),0,MAX(B$1:B823)+1)","v":0}]
[{"$f":"ROW()","v":825},{"$f":"IF(OR(C825=$C$1,C825=$C$2,C825=$C$3,C825=0),0,MAX(B$1:B824)+1)","v":0}]
[{"$f":"ROW()","v":826},{"$f":"IF(OR(C826=$C$1,C826=$C$2,C826=$C$3,C826=0),0,MAX(B$1:B825)+1)","v":0}]
[{"$f":"ROW()","v":827},{"$f":"IF(OR(C827=$C$1,C827=$C$2,C827=$C$3,C827=0),0,MAX(B$1:B826)+1)","v":0}]
[{"$f":"ROW()","v":828},{"$f":"IF(OR(C828=$C$1,C828=$C$2,C828=$C$3,C828=0),0,MAX(B$1:B827)+1)","v":0}]
[{"$f":"ROW()","v":829},{"$f":"IF(OR(C829=$C$1,C829=$C$2,C829=$C$3,C829=0),0,MAX(B$1:B828)+1)","v":0}]
[{"$f":"ROW()","v":830},{"$f":"IF(OR(C830=$C$1,C830=$C$2,C830=$C$3,C830=0),0,MAX(B$1:B829)+1)","v":0}]
[{"$f":"ROW()","v":831},{"$f":"IF(OR(C831=$C$1,C831=$C$2,C831=$C$3,C831=0),0,MAX(B$1:B830)+1)","v":0}]
[{"$f":"ROW()","v":832},{"$f":"IF(OR(C832=$C$1,C832=$C$2,C832=$C$3,C832=0),0,MAX(B$1:B831)+1)","v":0}]
[{"$f":"ROW()","v":833},{"$f":"IF(OR(C833=$C$1,C833=$C$2,C833=$C$3,C833=0),0,MAX(B$1:B832)+1)","v":0}]
[{"$f":"ROW()","v":834},{"$f":"IF(OR(C834=$C$1,C834=$C$2,C834=$C$3,C834=0),0,MAX(B$1:B833)+1)","v":0}]
[{"$f":"ROW()","v":835},{"$f":"IF(OR(C835=$C$1,C835=$C$2,C835=$C$3,C835=0),0,MAX(B$1:B834)+1)","v":0}]
[{"$f":"ROW()","v":836},{"$f":"IF(OR(C836=$C$1,C836=$C$2,C836=$C$3,C836=0),0,MAX(B$1:B835)+1)","v":0}]
[{"$f":"ROW()","v":837},{"$f":"IF(OR(C837=$C$1,C837=$C$2,C837=$C$3,C837=0),0,MAX(B$1:B836)+1)","v":0}]
[{"$f":"ROW()","v":838},{"$f":"IF(OR(C838=$C$1,C838=$C$2,C838=$C$3,C838=0),0,MAX(B$1:B837)+1)","v":0}]
[{"$f":"ROW()","v":839},{"$f":"IF(OR(C839=$C$1,C839=$C$2,C839=$C$3,C839=0),0,MAX(B$1:B838)+1)","v":0}]
[{"$f":"ROW()","v":840},{"$f":"IF(OR(C840=$C$1,C840=$C$2,C840=$C$3,C840=0),0,MAX(B$1:B839)+1)","v":0}]
[{"$f":"ROW()","v":841},{"$f":"IF(OR(C841=$C$1,C841=$C$2,C841=$C$3,C841=0),0,MAX(B$1:B840)+1)","v":0}]
[{"$f":"ROW()","v":842},{"$f":"IF(OR(C842=$C$1,C842=$C$2,C842=$C$3,C842=0),0,MAX(B$1:B841)+1)","v":0}]
[{"$f":"ROW()","v":843},{"$f":"IF(OR(C843=$C$1,C843=$C$2,C843=$C$3,C843=0),0,MAX(B$1:B842)+1)","v":0}]
[{"$f":"ROW()","v":844},{"$f":"IF(OR(C844=$C$1,C844=$C$2,C844=$C$3,C844=0),0,MAX(B$1:B843)+1)","v":0}]
[{"$f":"ROW()","v":845},{"$f":"IF(OR(C845=$C$1,C845=$C$2,C845=$C$3,C845=0),0,MAX(B$1:B844)+1)","v":0}]
[{"$f":"ROW()","v":846},{"$f":"IF(OR(C846=$C$1,C846=$C$2,C846=$C$3,C846=0),0,MAX(B$1:B845)+1)","v":0}]
[{"$f":"ROW()","v":847},{"$f":"IF(OR(C847=$C$1,C847=$C$2,C847=$C$3,C847=0),0,MAX(B$1:B846)+1)","v":0}]
[{"$f":"ROW()","v":848},{"$f":"IF(OR(C848=$C$1,C848=$C$2,C848=$C$3,C848=0),0,MAX(B$1:B847)+1)","v":0}]
[{"$f":"ROW()","v":849},{"$f":"IF(OR(C849=$C$1,C849=$C$2,C849=$C$3,C849=0),0,MAX(B$1:B848)+1)","v":0}]
[{"$f":"ROW()","v":850},{"$f":"IF(OR(C850=$C$1,C850=$C$2,C850=$C$3,C850=0),0,MAX(B$1:B849)+1)","v":0}]
[{"$f":"ROW()","v":851},{"$f":"IF(OR(C851=$C$1,C851=$C$2,C851=$C$3,C851=0),0,MAX(B$1:B850)+1)","v":0}]
[{"$f":"ROW()","v":852},{"$f":"IF(OR(C852=$C$1,C852=$C$2,C852=$C$3,C852=0),0,MAX(B$1:B851)+1)","v":0}]
[{"$f":"ROW()","v":853},{"$f":"IF(OR(C853=$C$1,C853=$C$2,C853=$C$3,C853=0),0,MAX(B$1:B852)+1)","v":0}]
[{"$f":"ROW()","v":854},{"$f":"IF(OR(C854=$C$1,C854=$C$2,C854=$C$3,C854=0),0,MAX(B$1:B853)+1)","v":0}]
[{"$f":"ROW()","v":855},{"$f":"IF(OR(C855=$C$1,C855=$C$2,C855=$C$3,C855=0),0,MAX(B$1:B854)+1)","v":0}]
[{"$f":"ROW()","v":856},{"$f":"IF(OR(C856=$C$1,C856=$C$2,C856=$C$3,C856=0),0,MAX(B$1:B855)+1)","v":0}]
[{"$f":"ROW()","v":857},{"$f":"IF(OR(C857=$C$1,C857=$C$2,C857=$C$3,C857=0),0,MAX(B$1:B856)+1)","v":0}]
[{"$f":"ROW()","v":858},{"$f":"IF(OR(C858=$C$1,C858=$C$2,C858=$C$3,C858=0),0,MAX(B$1:B857)+1)","v":0}]
[{"$f":"ROW()","v":859},{"$f":"IF(OR(C859=$C$1,C859=$C$2,C859=$C$3,C859=0),0,MAX(B$1:B858)+1)","v":0}]
[{"$f":"ROW()","v":860},{"$f":"IF(OR(C860=$C$1,C860=$C$2,C860=$C$3,C860=0),0,MAX(B$1:B859)+1)","v":0}]
[{"$f":"ROW()","v":861},{"$f":"IF(OR(C861=$C$1,C861=$C$2,C861=$C$3,C861=0),0,MAX(B$1:B860)+1)","v":0}]
[{"$f":"ROW()","v":862},{"$f":"IF(OR(C862=$C$1,C862=$C$2,C862=$C$3,C862=0),0,MAX(B$1:B861)+1)","v":0}]
[{"$f":"ROW()","v":863},{"$f":"IF(OR(C863=$C$1,C863=$C$2,C863=$C$3,C863=0),0,MAX(B$1:B862)+1)","v":0}]
[{"$f":"ROW()","v":864},{"$f":"IF(OR(C864=$C$1,C864=$C$2,C864=$C$3,C864=0),0,MAX(B$1:B863)+1)","v":0}]
[{"$f":"ROW()","v":865},{"$f":"IF(OR(C865=$C$1,C865=$C$2,C865=$C$3,C865=0),0,MAX(B$1:B864)+1)","v":0}]
[{"$f":"ROW()","v":866},{"$f":"IF(OR(C866=$C$1,C866=$C$2,C866=$C$3,C866=0),0,MAX(B$1:B865)+1)","v":0}]
[{"$f":"ROW()","v":867},{"$f":"IF(OR(C867=$C$1,C867=$C$2,C867=$C$3,C867=0),0,MAX(B$1:B866)+1)","v":0}]
[{"$f":"ROW()","v":868},{"$f":"IF(OR(C868=$C$1,C868=$C$2,C868=$C$3,C868=0),0,MAX(B$1:B867)+1)","v":0}]
[{"$f":"ROW()","v":869},{"$f":"IF(OR(C869=$C$1,C869=$C$2,C869=$C$3,C869=0),0,MAX(B$1:B868)+1)","v":0}]
[{"$f":"ROW()","v":870},{"$f":"IF(OR(C870=$C$1,C870=$C$2,C870=$C$3,C870=0),0,MAX(B$1:B869)+1)","v":0}]
[{"$f":"ROW()","v":871},{"$f":"IF(OR(C871=$C$1,C871=$C$2,C871=$C$3,C871=0),0,MAX(B$1:B870)+1)","v":0}]
[{"$f":"ROW()","v":872},{"$f":"IF(OR(C872=$C$1,C872=$C$2,C872=$C$3,C872=0),0,MAX(B$1:B871)+1)","v":0}]
[{"$f":"ROW()","v":873},{"$f":"IF(OR(C873=$C$1,C873=$C$2,C873=$C$3,C873=0),0,MAX(B$1:B872)+1)","v":0}]
[{"$f":"ROW()","v":874},{"$f":"IF(OR(C874=$C$1,C874=$C$2,C874=$C$3,C874=0),0,MAX(B$1:B873)+1)","v":0}]
[{"$f":"ROW()","v":875},{"$f":"IF(OR(C875=$C$1,C875=$C$2,C875=$C$3,C875=0),0,MAX(B$1:B874)+1)","v":0}]
[{"$f":"ROW()","v":876},{"$f":"IF(OR(C876=$C$1,C876=$C$2,C876=$C$3,C876=0),0,MAX(B$1:B875)+1)","v":0}]
[{"$f":"ROW()","v":877},{"$f":"IF(OR(C877=$C$1,C877=$C$2,C877=$C$3,C877=0),0,MAX(B$1:B876)+1)","v":0}]
[{"$f":"ROW()","v":878},{"$f":"IF(OR(C878=$C$1,C878=$C$2,C878=$C$3,C878=0),0,MAX(B$1:B877)+1)","v":0}]
[{"$f":"ROW()","v":879},{"$f":"IF(OR(C879=$C$1,C879=$C$2,C879=$C$3,C879=0),0,MAX(B$1:B878)+1)","v":0}]
[{"$f":"ROW()","v":880},{"$f":"IF(OR(C880=$C$1,C880=$C$2,C880=$C$3,C880=0),0,MAX(B$1:B879)+1)","v":0}]
[{"$f":"ROW()","v":881},{"$f":"IF(OR(C881=$C$1,C881=$C$2,C881=$C$3,C881=0),0,MAX(B$1:B880)+1)","v":0}]
[{"$f":"ROW()","v":882},{"$f":"IF(OR(C882=$C$1,C882=$C$2,C882=$C$3,C882=0),0,MAX(B$1:B881)+1)","v":0}]
[{"$f":"ROW()","v":883},{"$f":"IF(OR(C883=$C$1,C883=$C$2,C883=$C$3,C883=0),0,MAX(B$1:B882)+1)","v":0}]
[{"$f":"ROW()","v":884},{"$f":"IF(OR(C884=$C$1,C884=$C$2,C884=$C$3,C884=0),0,MAX(B$1:B883)+1)","v":0}]
[{"$f":"ROW()","v":885},{"$f":"IF(OR(C885=$C$1,C885=$C$2,C885=$C$3,C885=0),0,MAX(B$1:B884)+1)","v":0}]
[{"$f":"ROW()","v":886},{"$f":"IF(OR(C886=$C$1,C886=$C$2,C886=$C$3,C886=0),0,MAX(B$1:B885)+1)","v":0}]
[{"$f":"ROW()","v":887},{"$f":"IF(OR(C887=$C$1,C887=$C$2,C887=$C$3,C887=0),0,MAX(B$1:B886)+1)","v":0}]
[{"$f":"ROW()","v":888},{"$f":"IF(OR(C888=$C$1,C888=$C$2,C888=$C$3,C888=0),0,MAX(B$1:B887)+1)","v":0}]
[{"$f":"ROW()","v":889},{"$f":"IF(OR(C889=$C$1,C889=$C$2,C889=$C$3,C889=0),0,MAX(B$1:B888)+1)","v":0}]
[{"$f":"ROW()","v":890},{"$f":"IF(OR(C890=$C$1,C890=$C$2,C890=$C$3,C890=0),0,MAX(B$1:B889)+1)","v":0}]
[{"$f":"ROW()","v":891},{"$f":"IF(OR(C891=$C$1,C891=$C$2,C891=$C$3,C891=0),0,MAX(B$1:B890)+1)","v":0}]
[{"$f":"ROW()","v":892},{"$f":"IF(OR(C892=$C$1,C892=$C$2,C892=$C$3,C892=0),0,MAX(B$1:B891)+1)","v":0}]
[{"$f":"ROW()","v":893},{"$f":"IF(OR(C893=$C$1,C893=$C$2,C893=$C$3,C893=0),0,MAX(B$1:B892)+1)","v":0}]
[{"$f":"ROW()","v":894},{"$f":"IF(OR(C894=$C$1,C894=$C$2,C894=$C$3,C894=0),0,MAX(B$1:B893)+1)","v":0}]
[{"$f":"ROW()","v":895},{"$f":"IF(OR(C895=$C$1,C895=$C$2,C895=$C$3,C895=0),0,MAX(B$1:B894)+1)","v":0}]
[{"$f":"ROW()","v":896},{"$f":"IF(OR(C896=$C$1,C896=$C$2,C896=$C$3,C896=0),0,MAX(B$1:B895)+1)","v":0}]
[{"$f":"ROW()","v":897},{"$f":"IF(OR(C897=$C$1,C897=$C$2,C897=$C$3,C897=0),0,MAX(B$1:B896)+1)","v":0}]
[{"$f":"ROW()","v":898},{"$f":"IF(OR(C898=$C$1,C898=$C$2,C898=$C$3,C898=0),0,MAX(B$1:B897)+1)","v":0}]
[{"$f":"ROW()","v":899},{"$f":"IF(OR(C899=$C$1,C899=$C$2,C899=$C$3,C899=0),0,MAX(B$1:B898)+1)","v":0}]
[{"$f":"ROW()","v":900},{"$f":"IF(OR(C900=$C$1,C900=$C$2,C900=$C$3,C900=0),0,MAX(B$1:B899)+1)","v":0}]
[{"$f":"ROW()","v":901},{"$f":"IF(OR(C901=$C$1,C901=$C$2,C901=$C$3,C901=0),0,MAX(B$1:B900)+1)","v":0}]
[{"$f":"ROW()","v":902},{"$f":"IF(OR(C902=$C$1,C902=$C$2,C902=$C$3,C902=0),0,MAX(B$1:B901)+1)","v":0}]
[{"$f":"ROW()","v":903},{"$f":"IF(OR(C903=$C$1,C903=$C$2,C903=$C$3,C903=0),0,MAX(B$1:B902)+1)","v":0}]
[{"$f":"ROW()","v":904},{"$f":"IF(OR(C904=$C$1,C904=$C$2,C904=$C$3,C904=0),0,MAX(B$1:B903)+1)","v":0}]
[{"$f":"ROW()","v":905},{"$f":"IF(OR(C905=$C$1,C905=$C$2,C905=$C$3,C905=0),0,MAX(B$1:B904)+1)","v":0}]
[{"$f":"ROW()","v":906},{"$f":"IF(OR(C906=$C$1,C906=$C$2,C906=$C$3,C906=0),0,MAX(B$1:B905)+1)","v":0}]
[{"$f":"ROW()","v":907},{"$f":"IF(OR(C907=$C$1,C907=$C$2,C907=$C$3,C907=0),0,MAX(B$1:B906)+1)","v":0}]
[{"$f":"ROW()","v":908},{"$f":"IF(OR(C908=$C$1,C908=$C$2,C908=$C$3,C908=0),0,MAX(B$1:B907)+1)","v":0}]
[{"$f":"ROW()","v":909},{"$f":"IF(OR(C909=$C$1,C909=$C$2,C909=$C$3,C909=0),0,MAX(B$1:B908)+1)","v":0}]
[{"$f":"ROW()","v":910},{"$f":"IF(OR(C910=$C$1,C910=$C$2,C910=$C$3,C910=0),0,MAX(B$1:B909)+1)","v":0}]
[{"$f":"ROW()","v":911},{"$f":"IF(OR(C911=$C$1,C911=$C$2,C911=$C$3,C911=0),0,MAX(B$1:B910)+1)","v":0}]
[{"$f":"ROW()","v":912},{"$f":"IF(OR(C912=$C$1,C912=$C$2,C912=$C$3,C912=0),0,MAX(B$1:B911)+1)","v":0}]
[{"$f":"ROW()","v":913},{"$f":"IF(OR(C913=$C$1,C913=$C$2,C913=$C$3,C913=0),0,MAX(B$1:B912)+1)","v":0}]
[{"$f":"ROW()","v":914},{"$f":"IF(OR(C914=$C$1,C914=$C$2,C914=$C$3,C914=0),0,MAX(B$1:B913)+1)","v":0}]
[{"$f":"ROW()","v":915},{"$f":"IF(OR(C915=$C$1,C915=$C$2,C915=$C$3,C915=0),0,MAX(B$1:B914)+1)","v":0}]
[{"$f":"ROW()","v":916},{"$f":"IF(OR(C916=$C$1,C916=$C$2,C916=$C$3,C916=0),0,MAX(B$1:B915)+1)","v":0}]
[{"$f":"ROW()","v":917},{"$f":"IF(OR(C917=$C$1,C917=$C$2,C917=$C$3,C917=0),0,MAX(B$1:B916)+1)","v":0}]
[{"$f":"ROW()","v":918},{"$f":"IF(OR(C918=$C$1,C918=$C$2,C918=$C$3,C918=0),0,MAX(B$1:B917)+1)","v":0}]
[{"$f":"ROW()","v":919},{"$f":"IF(OR(C919=$C$1,C919=$C$2,C919=$C$3,C919=0),0,MAX(B$1:B918)+1)","v":0}]
[{"$f":"ROW()","v":920},{"$f":"IF(OR(C920=$C$1,C920=$C$2,C920=$C$3,C920=0),0,MAX(B$1:B919)+1)","v":0}]
[{"$f":"ROW()","v":921},{"$f":"IF(OR(C921=$C$1,C921=$C$2,C921=$C$3,C921=0),0,MAX(B$1:B920)+1)","v":0}]
[{"$f":"ROW()","v":922},{"$f":"IF(OR(C922=$C$1,C922=$C$2,C922=$C$3,C922=0),0,MAX(B$1:B921)+1)","v":0}]
[{"$f":"ROW()","v":923},{"$f":"IF(OR(C923=$C$1,C923=$C$2,C923=$C$3,C923=0),0,MAX(B$1:B922)+1)","v":0}]
[{"$f":"ROW()","v":924},{"$f":"IF(OR(C924=$C$1,C924=$C$2,C924=$C$3,C924=0),0,MAX(B$1:B923)+1)","v":0}]
[{"$f":"ROW()","v":925},{"$f":"IF(OR(C925=$C$1,C925=$C$2,C925=$C$3,C925=0),0,MAX(B$1:B924)+1)","v":0}]
[{"$f":"ROW()","v":926},{"$f":"IF(OR(C926=$C$1,C926=$C$2,C926=$C$3,C926=0),0,MAX(B$1:B925)+1)","v":0}]
[{"$f":"ROW()","v":927},{"$f":"IF(OR(C927=$C$1,C927=$C$2,C927=$C$3,C927=0),0,MAX(B$1:B926)+1)","v":0}]
[{"$f":"ROW()","v":928},{"$f":"IF(OR(C928=$C$1,C928=$C$2,C928=$C$3,C928=0),0,MAX(B$1:B927)+1)","v":0}]
[{"$f":"ROW()","v":929},{"$f":"IF(OR(C929=$C$1,C929=$C$2,C929=$C$3,C929=0),0,MAX(B$1:B928)+1)","v":0}]
[{"$f":"ROW()","v":930},{"$f":"IF(OR(C930=$C$1,C930=$C$2,C930=$C$3,C930=0),0,MAX(B$1:B929)+1)","v":0}]
[{"$f":"ROW()","v":931},{"$f":"IF(OR(C931=$C$1,C931=$C$2,C931=$C$3,C931=0),0,MAX(B$1:B930)+1)","v":0}]
[{"$f":"ROW()","v":932},{"$f":"IF(OR(C932=$C$1,C932=$C$2,C932=$C$3,C932=0),0,MAX(B$1:B931)+1)","v":0}]
[{"$f":"ROW()","v":933},{"$f":"IF(OR(C933=$C$1,C933=$C$2,C933=$C$3,C933=0),0,MAX(B$1:B932)+1)","v":0}]
[{"$f":"ROW()","v":934},{"$f":"IF(OR(C934=$C$1,C934=$C$2,C934=$C$3,C934=0),0,MAX(B$1:B933)+1)","v":0}]
[{"$f":"ROW()","v":935},{"$f":"IF(OR(C935=$C$1,C935=$C$2,C935=$C$3,C935=0),0,MAX(B$1:B934)+1)","v":0}]
[{"$f":"ROW()","v":936},{"$f":"IF(OR(C936=$C$1,C936=$C$2,C936=$C$3,C936=0),0,MAX(B$1:B935)+1)","v":0}]
[{"$f":"ROW()","v":937},{"$f":"IF(OR(C937=$C$1,C937=$C$2,C937=$C$3,C937=0),0,MAX(B$1:B936)+1)","v":0}]
[{"$f":"ROW()","v":938},{"$f":"IF(OR(C938=$C$1,C938=$C$2,C938=$C$3,C938=0),0,MAX(B$1:B937)+1)","v":0}]
[{"$f":"ROW()","v":939},{"$f":"IF(OR(C939=$C$1,C939=$C$2,C939=$C$3,C939=0),0,MAX(B$1:B938)+1)","v":0}]
[{"$f":"ROW()","v":940},{"$f":"IF(OR(C940=$C$1,C940=$C$2,C940=$C$3,C940=0),0,MAX(B$1:B939)+1)","v":0}]
[{"$f":"ROW()","v":941},{"$f":"IF(OR(C941=$C$1,C941=$C$2,C941=$C$3,C941=0),0,MAX(B$1:B940)+1)","v":0}]
[{"$f":"ROW()","v":942},{"$f":"IF(OR(C942=$C$1,C942=$C$2,C942=$C$3,C942=0),0,MAX(B$1:B941)+1)","v":0}]
[{"$f":"ROW()","v":943},{"$f":"IF(OR(C943=$C$1,C943=$C$2,C943=$C$3,C943=0),0,MAX(B$1:B942)+1)","v":0}]
[{"$f":"ROW()","v":944},{"$f":"IF(OR(C944=$C$1,C944=$C$2,C944=$C$3,C944=0),0,MAX(B$1:B943)+1)","v":0}]
[{"$f":"ROW()","v":945},{"$f":"IF(OR(C945=$C$1,C945=$C$2,C945=$C$3,C945=0),0,MAX(B$1:B944)+1)","v":0}]
[{"$f":"ROW()","v":946},{"$f":"IF(OR(C946=$C$1,C946=$C$2,C946=$C$3,C946=0),0,MAX(B$1:B945)+1)","v":0}]
[{"$f":"ROW()","v":947},{"$f":"IF(OR(C947=$C$1,C947=$C$2,C947=$C$3,C947=0),0,MAX(B$1:B946)+1)","v":0}]
[{"$f":"ROW()","v":948},{"$f":"IF(OR(C948=$C$1,C948=$C$2,C948=$C$3,C948=0),0,MAX(B$1:B947)+1)","v":0}]
[{"$f":"ROW()","v":949},{"$f":"IF(OR(C949=$C$1,C949=$C$2,C949=$C$3,C949=0),0,MAX(B$1:B948)+1)","v":0}]
[{"$f":"ROW()","v":950},{"$f":"IF(OR(C950=$C$1,C950=$C$2,C950=$C$3,C950=0),0,MAX(B$1:B949)+1)","v":0}]
[{"$f":"ROW()","v":951},{"$f":"IF(OR(C951=$C$1,C951=$C$2,C951=$C$3,C951=0),0,MAX(B$1:B950)+1)","v":0}]
[{"$f":"ROW()","v":952},{"$f":"IF(OR(C952=$C$1,C952=$C$2,C952=$C$3,C952=0),0,MAX(B$1:B951)+1)","v":0}]
[{"$f":"ROW()","v":953},{"$f":"IF(OR(C953=$C$1,C953=$C$2,C953=$C$3,C953=0),0,MAX(B$1:B952)+1)","v":0}]
[{"$f":"ROW()","v":954},{"$f":"IF(OR(C954=$C$1,C954=$C$2,C954=$C$3,C954=0),0,MAX(B$1:B953)+1)","v":0}]
[{"$f":"ROW()","v":955},{"$f":"IF(OR(C955=$C$1,C955=$C$2,C955=$C$3,C955=0),0,MAX(B$1:B954)+1)","v":0}]
[{"$f":"ROW()","v":956},{"$f":"IF(OR(C956=$C$1,C956=$C$2,C956=$C$3,C956=0),0,MAX(B$1:B955)+1)","v":0}]
[{"$f":"ROW()","v":957},{"$f":"IF(OR(C957=$C$1,C957=$C$2,C957=$C$3,C957=0),0,MAX(B$1:B956)+1)","v":0}]
[{"$f":"ROW()","v":958},{"$f":"IF(OR(C958=$C$1,C958=$C$2,C958=$C$3,C958=0),0,MAX(B$1:B957)+1)","v":0}]
[{"$f":"ROW()","v":959},{"$f":"IF(OR(C959=$C$1,C959=$C$2,C959=$C$3,C959=0),0,MAX(B$1:B958)+1)","v":0}]
[{"$f":"ROW()","v":960},{"$f":"IF(OR(C960=$C$1,C960=$C$2,C960=$C$3,C960=0),0,MAX(B$1:B959)+1)","v":0}]
[{"$f":"ROW()","v":961},{"$f":"IF(OR(C961=$C$1,C961=$C$2,C961=$C$3,C961=0),0,MAX(B$1:B960)+1)","v":0}]
[{"$f":"ROW()","v":962},{"$f":"IF(OR(C962=$C$1,C962=$C$2,C962=$C$3,C962=0),0,MAX(B$1:B961)+1)","v":0}]
[{"$f":"ROW()","v":963},{"$f":"IF(OR(C963=$C$1,C963=$C$2,C963=$C$3,C963=0),0,MAX(B$1:B962)+1)","v":0}]
[{"$f":"ROW()","v":964},{"$f":"IF(OR(C964=$C$1,C964=$C$2,C964=$C$3,C964=0),0,MAX(B$1:B963)+1)","v":0}]
[{"$f":"ROW()","v":965},{"$f":"IF(OR(C965=$C$1,C965=$C$2,C965=$C$3,C965=0),0,MAX(B$1:B964)+1)","v":0}]
[{"$f":"ROW()","v":966},{"$f":"IF(OR(C966=$C$1,C966=$C$2,C966=$C$3,C966=0),0,MAX(B$1:B965)+1)","v":0}]
[{"$f":"ROW()","v":967},{"$f":"IF(OR(C967=$C$1,C967=$C$2,C967=$C$3,C967=0),0,MAX(B$1:B966)+1)","v":0}]
[{"$f":"ROW()","v":968},{"$f":"IF(OR(C968=$C$1,C968=$C$2,C968=$C$3,C968=0),0,MAX(B$1:B967)+1)","v":0}]
[{"$f":"ROW()","v":969},{"$f":"IF(OR(C969=$C$1,C969=$C$2,C969=$C$3,C969=0),0,MAX(B$1:B968)+1)","v":0}]
[{"$f":"ROW()","v":970},{"$f":"IF(OR(C970=$C$1,C970=$C$2,C970=$C$3,C970=0),0,MAX(B$1:B969)+1)","v":0}]
[{"$f":"ROW()","v":971},{"$f":"IF(OR(C971=$C$1,C971=$C$2,C971=$C$3,C971=0),0,MAX(B$1:B970)+1)","v":0}]
[{"$f":"ROW()","v":972},{"$f":"IF(OR(C972=$C$1,C972=$C$2,C972=$C$3,C972=0),0,MAX(B$1:B971)+1)","v":0}]
[{"$f":"ROW()","v":973},{"$f":"IF(OR(C973=$C$1,C973=$C$2,C973=$C$3,C973=0),0,MAX(B$1:B972)+1)","v":0}]
[{"$f":"ROW()","v":974},{"$f":"IF(OR(C974=$C$1,C974=$C$2,C974=$C$3,C974=0),0,MAX(B$1:B973)+1)","v":0}]
[{"$f":"ROW()","v":975},{"$f":"IF(OR(C975=$C$1,C975=$C$2,C975=$C$3,C975=0),0,MAX(B$1:B974)+1)","v":0}]
[{"$f":"ROW()","v":976},{"$f":"IF(OR(C976=$C$1,C976=$C$2,C976=$C$3,C976=0),0,MAX(B$1:B975)+1)","v":0}]
[{"$f":"ROW()","v":977},{"$f":"IF(OR(C977=$C$1,C977=$C$2,C977=$C$3,C977=0),0,MAX(B$1:B976)+1)","v":0}]
[{"$f":"ROW()","v":978},{"$f":"IF(OR(C978=$C$1,C978=$C$2,C978=$C$3,C978=0),0,MAX(B$1:B977)+1)","v":0}]
[{"$f":"ROW()","v":979},{"$f":"IF(OR(C979=$C$1,C979=$C$2,C979=$C$3,C979=0),0,MAX(B$1:B978)+1)","v":0}]
[{"$f":"ROW()","v":980},{"$f":"IF(OR(C980=$C$1,C980=$C$2,C980=$C$3,C980=0),0,MAX(B$1:B979)+1)","v":0}]
[{"$f":"ROW()","v":981},{"$f":"IF(OR(C981=$C$1,C981=$C$2,C981=$C$3,C981=0),0,MAX(B$1:B980)+1)","v":0}]
[{"$f":"ROW()","v":982},{"$f":"IF(OR(C982=$C$1,C982=$C$2,C982=$C$3,C982=0),0,MAX(B$1:B981)+1)","v":0}]
[{"$f":"ROW()","v":983},{"$f":"IF(OR(C983=$C$1,C983=$C$2,C983=$C$3,C983=0),0,MAX(B$1:B982)+1)","v":0}]
[{"$f":"ROW()","v":984},{"$f":"IF(OR(C984=$C$1,C984=$C$2,C984=$C$3,C984=0),0,MAX(B$1:B983)+1)","v":0}]
[{"$f":"ROW()","v":985},{"$f":"IF(OR(C985=$C$1,C985=$C$2,C985=$C$3,C985=0),0,MAX(B$1:B984)+1)","v":0}]
[{"$f":"ROW()","v":986},{"$f":"IF(OR(C986=$C$1,C986=$C$2,C986=$C$3,C986=0),0,MAX(B$1:B985)+1)","v":0}]
[{"$f":"ROW()","v":987},{"$f":"IF(OR(C987=$C$1,C987=$C$2,C987=$C$3,C987=0),0,MAX(B$1:B986)+1)","v":0}]
[{"$f":"ROW()","v":988},{"$f":"IF(OR(C988=$C$1,C988=$C$2,C988=$C$3,C988=0),0,MAX(B$1:B987)+1)","v":0}]
[{"$f":"ROW()","v":989},{"$f":"IF(OR(C989=$C$1,C989=$C$2,C989=$C$3,C989=0),0,MAX(B$1:B988)+1)","v":0}]
[{"$f":"ROW()","v":990},{"$f":"IF(OR(C990=$C$1,C990=$C$2,C990=$C$3,C990=0),0,MAX(B$1:B989)+1)","v":0}]
[{"$f":"ROW()","v":991},{"$f":"IF(OR(C991=$C$1,C991=$C$2,C991=$C$3,C991=0),0,MAX(B$1:B990)+1)","v":0}]
[{"$f":"ROW()","v":992},{"$f":"IF(OR(C992=$C$1,C992=$C$2,C992=$C$3,C992=0),0,MAX(B$1:B991)+1)","v":0}]
[{"$f":"ROW()","v":993},{"$f":"IF(OR(C993=$C$1,C993=$C$2,C993=$C$3,C993=0),0,MAX(B$1:B992)+1)","v":0}]
[{"$f":"ROW()","v":994},{"$f":"IF(OR(C994=$C$1,C994=$C$2,C994=$C$3,C994=0),0,MAX(B$1:B993)+1)","v":0}]
[{"$f":"ROW()","v":995},{"$f":"IF(OR(C995=$C$1,C995=$C$2,C995=$C$3,C995=0),0,MAX(B$1:B994)+1)","v":0}]
[{"$f":"ROW()","v":996},{"$f":"IF(OR(C996=$C$1,C996=$C$2,C996=$C$3,C996=0),0,MAX(B$1:B995)+1)","v":0}]
[{"$f":"ROW()","v":997},{"$f":"IF(OR(C997=$C$1,C997=$C$2,C997=$C$3,C997=0),0,MAX(B$1:B996)+1)","v":0}]
[{"$f":"ROW()","v":998},{"$f":"IF(OR(C998=$C$1,C998=$C$2,C998=$C$3,C998=0),0,MAX(B$1:B997)+1)","v":0}]
[{"$f":"ROW()","v":999},{"$f":"IF(OR(C999=$C$1,C999=$C$2,C999=$C$3,C999=0),0,MAX(B$1:B998)+1)","v":0}]
[{"$f":"ROW()","v":1000},{"$f":"IF(OR(C1000=$C$1,C1000=$C$2,C1000=$C$3,C1000=0),0,MAX(B$1:B999)+1)","v":0}]

{"sheet":"conditions","index":5,"n_rows":10,"n_cols":10,"rows_kept":10,"cut":false,"hidden":false,"merged":[]}
[]
[]
[]
[]
[]
[]
[]
[]
[]
[null,null,null,null,"критерий несущественности долга",null,null,null,null,10000]